{"text_format":"1","workbook":"xlsx","n_sheets":7,"sheets":["Spans","Poles","Trees","FEA Tables","PolesCSV","SpansCSV","TReesCSV"],"not_rendered":{"charts":0,"images":0,"macros":1,"external_links":0,"defined_names":48,"comments":0,"pivot_tables":0},"unopened":[],"bounds":{"document_bytes":16777216,"sheet_cells":100000,"rows_first":2000,"rows_last":500,"rows_between":2000,"halvings":0,"cell_chars":16384,"cell_head_chars":4096},"cells_cut":0,"cells_raw":0,"read":"whole","date_system":"1900"}

{"sheet":"Spans","index":0,"n_rows":186,"n_cols":42,"rows_kept":186,"cut":false,"hidden":false,"merged":[[0,18,0,23],[2,7,2,8],[0,6,0,7]]}
["File:",{"$f":"Poles!J3","v":"WYANDOTTE 1105"},null,null,null,null,{"$f":"Poles!I3","v":102911105},null,{"$f":"Trees!N3","v":"2019-12-19T12:17:11"},null,null,null,null,null,null,null,null,"User Inputs","Formula",null,null,null,null,null,"Long 1","Lat 1","Elev 1",null,"Long 2","Lat 2","Elev 2",null,"Elev 1","Elev 2","Pole1 Height","Pole2 Height"]
["Threat Level","# Spans","(miles)","Weight Factor","Risk Score","Tree≤6ft",null,"Table Group:",9,"objectid","latitude","longitude","HFTD","bst_tag","ast_tag","span_tag","span_lgth","Span Shape","Span ID","Tree Fails","Strike Threat","Wind Factor","Tree≤6ft Count","≤6ft Threat","(°)","(°)","(m)",null,"(°)","(°)","(m)",null,"(ft)","(ft)","(ft)","(ft)",null,"\"ft\" to \"m\":",0.30480000000000002,null,"\"ft\" to \"mile\":",{"$f":"1/5280","v":1.8939393939393939E-4}]
[3,{"$f":"COUNTIFS(U$3:U$100000,A3)","v":0},{"$f":"SUMIF(U$3:U$100000,A3,Q$3:Q$100000)/5280","v":0},1,{"$f":"B3/B$7*D3","v":0},{"$f":"COUNTIFS(X$3:X$100000,A3)","v":0},null,"Span Shape",null,1,39.575240000000001,-121.529799999999,"Tier 2-3","W12153001N3957527","W12152960N3957520","W12153001N3957527-W12152960N3957520",118.599999999999,2,{"$f":"J3","v":1},{"$f":"COUNTIFS(TreeRange,S3,TreeFail,\"Yes\")*V3","v":0},{"$f":"IF(Q3<1,0,_xlfn.IFS(T3>15,3,T3>5,2,T3>0,1,T3=0,0))","v":0},{"$f":"Chk_wind($C$8,Y3,Z3,AC3,AD3)","v":1},{"$f":"COUNTIFS(TreeRange,S3,TreeOffset,\"Yes\")","v":0},{"$f":"IF(Q3<1,0,_xlfn.IFS(W3>15,3,W3>5,2,W3>0,1,W3=0,0))","v":0},{"$f":"IFERROR(VLOOKUP($N3,PoleRange,3,FALSE),0)","v":0},{"$f":"IFERROR(VLOOKUP($N3,PoleRange,2,FALSE),0)","v":0},{"$f":"(AG3+AI3-1)*0.3048","v":-0.30480000000000002},null,{"$f":"IFERROR(VLOOKUP($O3,PoleRange,3,FALSE),0)","v":0},{"$f":"IFERROR(VLOOKUP($O3,PoleRange,2,FALSE),0)","v":0},{"$f":"(AH3+AJ3-1)*0.3048","v":-0.30480000000000002},null,{"$f":"IFERROR(VLOOKUP($N3,PoleRange,6,FALSE),0)","v":0},{"$f":"IFERROR(VLOOKUP($O3,PoleRange,6,FALSE),0)","v":0},{"$f":"IFERROR(VLOOKUP($N3,PoleRange,7,FALSE),0)","v":0},{"$f":"IFERROR(VLOOKUP($O3,PoleRange,7,FALSE),0)","v":0}]
[2,{"$f":"COUNTIFS(U$3:U$100000,A4)","v":5},{"$f":"SUMIF(U$3:U$100000,A4,Q$3:Q$100000)/5280","v":0.22704545454545455},0.75,{"$f":"B4/B$7*D4","v":2.0380434782608696E-2},{"$f":"COUNTIFS(X$3:X$100000,A4)","v":0},null,2,"Tangent",2,39.585999999999899,-121.52543,"Tier 2-3","W12152491N3958582","W12152594N3958619","W12152491N3958582-W12152594N3958619",319.3,2,{"$f":"J4","v":2},{"$f":"COUNTIFS(TreeRange,S4,TreeFail,\"Yes\")*V4","v":0},{"$f":"IF(Q4<1,0,_xlfn.IFS(T4>15,3,T4>5,2,T4>0,1,T4=0,0))","v":0},{"$f":"Chk_wind($C$8,Y4,Z4,AC4,AD4)","v":1},{"$f":"COUNTIFS(TreeRange,S4,TreeOffset,\"Yes\")","v":0},{"$f":"IF(Q4<1,0,_xlfn.IFS(W4>15,3,W4>5,2,W4>0,1,W4=0,0))","v":0},{"$f":"IFERROR(VLOOKUP($N4,PoleRange,3,FALSE),0)","v":0},{"$f":"IFERROR(VLOOKUP($N4,PoleRange,2,FALSE),0)","v":0},{"$f":"(AG4+AI4-1)*0.3048","v":-0.30480000000000002},null,{"$f":"IFERROR(VLOOKUP($O4,PoleRange,3,FALSE),0)","v":-121.52594000000001},{"$f":"IFERROR(VLOOKUP($O4,PoleRange,2,FALSE),0)","v":39.586190000000002},{"$f":"(AH4+AJ4-1)*0.3048","v":377.73864000000003},null,{"$f":"IFERROR(VLOOKUP($N4,PoleRange,6,FALSE),0)","v":0},{"$f":"IFERROR(VLOOKUP($O4,PoleRange,6,FALSE),0)","v":1211.7},{"$f":"IFERROR(VLOOKUP($N4,PoleRange,7,FALSE),0)","v":0},{"$f":"IFERROR(VLOOKUP($O4,PoleRange,7,FALSE),0)","v":28.6}]
[1,{"$f":"COUNTIFS(U$3:U$100000,A5)","v":39},{"$f":"SUMIF(U$3:U$100000,A5,Q$3:Q$100000)/5280","v":1.5415340909090878},0.5,{"$f":"B5/B$7*D5","v":0.10597826086956522},{"$f":"COUNTIFS(X$3:X$100000,A5)","v":5},null,3,"45° Turn",3,39.58643,-121.52624,"Tier 2-3","W12152594N3958619","W12152653N3958667","W12152594N3958619-W12152653N3958667",242.8,2,3,{"$f":"COUNTIFS(TreeRange,S5,TreeFail,\"Yes\")*V5","v":0},0,1,{"$f":"COUNTIFS(TreeRange,S5,TreeOffset,\"Yes\")","v":0},0,{"$f":"IFERROR(VLOOKUP($N5,PoleRange,3,FALSE),0)","v":-121.52594000000001},{"$f":"IFERROR(VLOOKUP($N5,PoleRange,2,FALSE),0)","v":39.586190000000002},377.73864000000003,null,{"$f":"IFERROR(VLOOKUP($O5,PoleRange,3,FALSE),0)","v":0},{"$f":"IFERROR(VLOOKUP($O5,PoleRange,2,FALSE),0)","v":0},-0.30480000000000002,null,{"$f":"IFERROR(VLOOKUP($N5,PoleRange,6,FALSE),0)","v":1211.7},{"$f":"IFERROR(VLOOKUP($O5,PoleRange,6,FALSE),0)","v":0},{"$f":"IFERROR(VLOOKUP($N5,PoleRange,7,FALSE),0)","v":28.6},{"$f":"IFERROR(VLOOKUP($O5,PoleRange,7,FALSE),0)","v":0}]
[0,{"$f":"COUNTIFS(U$3:U$100000,A6)","v":140},{"$f":"SUMIF(U$3:U$100000,A6,Q$3:Q$100000)/5280","v":6.3398106060605928},0,{"$f":"B6/B$7*D6","v":0},{"$f":"COUNTIFS(X$3:X$100000,A6)","v":179},null,4,"90° Turn",4,39.550060000000002,-121.537779999999,"Tier 2-3","W12153773N3955024","W12153784N3954988","W12153773N3955024-W12153784N3954988",135.5,2,4,{"$f":"COUNTIFS(TreeRange,S6,TreeFail,\"Yes\")*V6","v":0},0,1,{"$f":"COUNTIFS(TreeRange,S6,TreeOffset,\"Yes\")","v":0},0,{"$f":"IFERROR(VLOOKUP($N6,PoleRange,3,FALSE),0)","v":-121.537729999999},{"$f":"IFERROR(VLOOKUP($N6,PoleRange,2,FALSE),0)","v":39.550240000000002},112.65408000000001,null,{"$f":"IFERROR(VLOOKUP($O6,PoleRange,3,FALSE),0)","v":-121.53784},{"$f":"IFERROR(VLOOKUP($O6,PoleRange,2,FALSE),0)","v":39.549880000000002},115.97639999999998,null,{"$f":"IFERROR(VLOOKUP($N6,PoleRange,6,FALSE),0)","v":336.5},{"$f":"IFERROR(VLOOKUP($O6,PoleRange,6,FALSE),0)","v":344.1},{"$f":"IFERROR(VLOOKUP($N6,PoleRange,7,FALSE),0)","v":34.1},{"$f":"IFERROR(VLOOKUP($O6,PoleRange,7,FALSE),0)","v":37.399999999999899}]
["Total:",{"$f":"SUM(B3:B6)","v":184},{"$f":"SUM(C3:C6)","v":8.1083901515151346},null,{"$f":"SUM(E3:E6)","v":0.12635869565217392},null,null,5,"T-Tap",5,39.550420000000003,-121.53767000000001,"Tier 2-3","W12153773N3955024","W12153762N3955060","W12153773N3955024-W12153762N3955060",134.30000000000001,2,5,{"$f":"COUNTIFS(TreeRange,S7,TreeFail,\"Yes\")*V7","v":0},0,1,{"$f":"COUNTIFS(TreeRange,S7,TreeOffset,\"Yes\")","v":0},0,{"$f":"IFERROR(VLOOKUP($N7,PoleRange,3,FALSE),0)","v":-121.537729999999},{"$f":"IFERROR(VLOOKUP($N7,PoleRange,2,FALSE),0)","v":39.550240000000002},112.65408000000001,null,{"$f":"IFERROR(VLOOKUP($O7,PoleRange,3,FALSE),0)","v":-121.53762},{"$f":"IFERROR(VLOOKUP($O7,PoleRange,2,FALSE),0)","v":39.550600000000003},110.55095999999971,null,{"$f":"IFERROR(VLOOKUP($N7,PoleRange,6,FALSE),0)","v":336.5},{"$f":"IFERROR(VLOOKUP($O7,PoleRange,6,FALSE),0)","v":330.19999999999902},{"$f":"IFERROR(VLOOKUP($N7,PoleRange,7,FALSE),0)","v":34.1},{"$f":"IFERROR(VLOOKUP($O7,PoleRange,7,FALSE),0)","v":33.5}]
[null,"Dominant Wind Dir:",-1,"deg (-1 = Ignore wind effect)",null,null,null,6,"X-Tap",6,39.550890000000003,-121.53753,"Tier 2-3","W12153744N3955118","W12153762N3955060","W12153744N3955118-W12153762N3955060",218.599999999999,2,6,{"$f":"COUNTIFS(TreeRange,S8,TreeFail,\"Yes\")*V8","v":0},0,1,{"$f":"COUNTIFS(TreeRange,S8,TreeOffset,\"Yes\")","v":0},0,{"$f":"IFERROR(VLOOKUP($N8,PoleRange,3,FALSE),0)","v":0},{"$f":"IFERROR(VLOOKUP($N8,PoleRange,2,FALSE),0)","v":0},-0.30480000000000002,null,{"$f":"IFERROR(VLOOKUP($O8,PoleRange,3,FALSE),0)","v":-121.53762},{"$f":"IFERROR(VLOOKUP($O8,PoleRange,2,FALSE),0)","v":39.550600000000003},110.55095999999971,null,{"$f":"IFERROR(VLOOKUP($N8,PoleRange,6,FALSE),0)","v":0},{"$f":"IFERROR(VLOOKUP($O8,PoleRange,6,FALSE),0)","v":330.19999999999902},{"$f":"IFERROR(VLOOKUP($N8,PoleRange,7,FALSE),0)","v":0},{"$f":"IFERROR(VLOOKUP($O8,PoleRange,7,FALSE),0)","v":33.5}]
[null,"KML Elevation:",-1,"(-1 = Use GL, # = Add to LiDAR)",null,null,null,null,null,7,39.550910000000002,-121.537109999999,"Tier 2-3","W12153679N3955065","W12153744N3955118","W12153679N3955065-W12153744N3955118",265.8,2,7,{"$f":"COUNTIFS(TreeRange,S9,TreeFail,\"Yes\")*V9","v":0},0,1,{"$f":"COUNTIFS(TreeRange,S9,TreeOffset,\"Yes\")","v":0},0,{"$f":"IFERROR(VLOOKUP($N9,PoleRange,3,FALSE),0)","v":0},{"$f":"IFERROR(VLOOKUP($N9,PoleRange,2,FALSE),0)","v":0},-0.30480000000000002,null,{"$f":"IFERROR(VLOOKUP($O9,PoleRange,3,FALSE),0)","v":0},{"$f":"IFERROR(VLOOKUP($O9,PoleRange,2,FALSE),0)","v":0},-0.30480000000000002,null,{"$f":"IFERROR(VLOOKUP($N9,PoleRange,6,FALSE),0)","v":0},{"$f":"IFERROR(VLOOKUP($O9,PoleRange,6,FALSE),0)","v":0},{"$f":"IFERROR(VLOOKUP($N9,PoleRange,7,FALSE),0)","v":0},{"$f":"IFERROR(VLOOKUP($O9,PoleRange,7,FALSE),0)","v":0}]
[null,"Pole Height Adj:",0,"ft (to raise allowable)",null,null,null,null,null,14,39.51914,-121.54022000000001,"Tier 2-3","W12154021N3951938","W12154022N3951889","W12154021N3951938-W12154022N3951889",176.8,2,14,{"$f":"COUNTIFS(TreeRange,S10,TreeFail,\"Yes\")*V10","v":0},0,1,{"$f":"COUNTIFS(TreeRange,S10,TreeOffset,\"Yes\")","v":0},0,{"$f":"IFERROR(VLOOKUP($N10,PoleRange,3,FALSE),0)","v":-121.54021},{"$f":"IFERROR(VLOOKUP($N10,PoleRange,2,FALSE),0)","v":39.519379999999899},108.11255999999968,null,{"$f":"IFERROR(VLOOKUP($O10,PoleRange,3,FALSE),0)","v":-121.54022000000001},{"$f":"IFERROR(VLOOKUP($O10,PoleRange,2,FALSE),0)","v":39.518889999999899},107.44200000000001,null,{"$f":"IFERROR(VLOOKUP($N10,PoleRange,6,FALSE),0)","v":316.89999999999901},{"$f":"IFERROR(VLOOKUP($O10,PoleRange,6,FALSE),0)","v":307.5},{"$f":"IFERROR(VLOOKUP($N10,PoleRange,7,FALSE),0)","v":38.799999999999898},{"$f":"IFERROR(VLOOKUP($O10,PoleRange,7,FALSE),0)","v":46}]
[null,"Tier 2-3 Only?",1,"(1=Yes, 0=No)",null,null,null,null,null,15,39.519530000000003,-121.54017,"Tier 2-3","W12154021N3951938","W12154012N3951968","W12154021N3951938-W12154012N3951968",113,2,15,{"$f":"COUNTIFS(TreeRange,S11,TreeFail,\"Yes\")*V11","v":0},0,1,{"$f":"COUNTIFS(TreeRange,S11,TreeOffset,\"Yes\")","v":0},0,{"$f":"IFERROR(VLOOKUP($N11,PoleRange,3,FALSE),0)","v":-121.54021},{"$f":"IFERROR(VLOOKUP($N11,PoleRange,2,FALSE),0)","v":39.519379999999899},108.11255999999968,null,{"$f":"IFERROR(VLOOKUP($O11,PoleRange,3,FALSE),0)","v":-121.54012},{"$f":"IFERROR(VLOOKUP($O11,PoleRange,2,FALSE),0)","v":39.519680000000001},109.36223999999967,null,{"$f":"IFERROR(VLOOKUP($N11,PoleRange,6,FALSE),0)","v":316.89999999999901},{"$f":"IFERROR(VLOOKUP($O11,PoleRange,6,FALSE),0)","v":324.89999999999901},{"$f":"IFERROR(VLOOKUP($N11,PoleRange,7,FALSE),0)","v":38.799999999999898},{"$f":"IFERROR(VLOOKUP($O11,PoleRange,7,FALSE),0)","v":34.899999999999899}]
["FEA Tables:",null,null,null,null,null,null,null,null,16,39.519840000000002,-121.539779999999,"Tier 2-3","W12154012N3951968","W12153944N3952000","W12154012N3951968-W12153944N3952000",224.5,2,16,{"$f":"COUNTIFS(TreeRange,S12,TreeFail,\"Yes\")*V12","v":0},0,1,{"$f":"COUNTIFS(TreeRange,S12,TreeOffset,\"Yes\")","v":0},0,{"$f":"IFERROR(VLOOKUP($N12,PoleRange,3,FALSE),0)","v":-121.54012},{"$f":"IFERROR(VLOOKUP($N12,PoleRange,2,FALSE),0)","v":39.519680000000001},109.36223999999967,null,{"$f":"IFERROR(VLOOKUP($O12,PoleRange,3,FALSE),0)","v":-121.539439999999},{"$f":"IFERROR(VLOOKUP($O12,PoleRange,2,FALSE),0)","v":39.520000000000003},116.22023999999998,null,{"$f":"IFERROR(VLOOKUP($N12,PoleRange,6,FALSE),0)","v":324.89999999999901},{"$f":"IFERROR(VLOOKUP($O12,PoleRange,6,FALSE),0)","v":337.5},{"$f":"IFERROR(VLOOKUP($N12,PoleRange,7,FALSE),0)","v":34.899999999999899},{"$f":"IFERROR(VLOOKUP($O12,PoleRange,7,FALSE),0)","v":44.799999999999898}]
[0,"Zero Allowable",null,null,null,null,null,null,null,17,39.520220000000002,-121.53919,"Tier 2-3","W12153944N3952000","W12153893N3952044","W12153944N3952000-W12153893N3952044",214.099999999999,2,17,{"$f":"COUNTIFS(TreeRange,S13,TreeFail,\"Yes\")*V13","v":0},0,1,{"$f":"COUNTIFS(TreeRange,S13,TreeOffset,\"Yes\")","v":0},0,{"$f":"IFERROR(VLOOKUP($N13,PoleRange,3,FALSE),0)","v":-121.539439999999},{"$f":"IFERROR(VLOOKUP($N13,PoleRange,2,FALSE),0)","v":39.520000000000003},116.22023999999998,null,{"$f":"IFERROR(VLOOKUP($O13,PoleRange,3,FALSE),0)","v":-121.538929999999},{"$f":"IFERROR(VLOOKUP($O13,PoleRange,2,FALSE),0)","v":39.520440000000001},117.5004,null,{"$f":"IFERROR(VLOOKUP($N13,PoleRange,6,FALSE),0)","v":337.5},{"$f":"IFERROR(VLOOKUP($O13,PoleRange,6,FALSE),0)","v":348},{"$f":"IFERROR(VLOOKUP($N13,PoleRange,7,FALSE),0)","v":44.799999999999898},{"$f":"IFERROR(VLOOKUP($O13,PoleRange,7,FALSE),0)","v":38.5}]
[1,{"$f":"'FEA Tables'!C2","v":0},null,null,null,null,null,null,null,18,39.520690000000002,-121.538749999999,"Tier 2-3","W12153893N3952044","W12153857N3952094","W12153893N3952044-W12153857N3952094",211.3,2,18,{"$f":"COUNTIFS(TreeRange,S14,TreeFail,\"Yes\")*V14","v":0},0,1,{"$f":"COUNTIFS(TreeRange,S14,TreeOffset,\"Yes\")","v":0},0,{"$f":"IFERROR(VLOOKUP($N14,PoleRange,3,FALSE),0)","v":-121.538929999999},{"$f":"IFERROR(VLOOKUP($N14,PoleRange,2,FALSE),0)","v":39.520440000000001},117.5004,null,{"$f":"IFERROR(VLOOKUP($O14,PoleRange,3,FALSE),0)","v":-121.53857000000001},{"$f":"IFERROR(VLOOKUP($O14,PoleRange,2,FALSE),0)","v":39.520940000000003},120.30455999999998,null,{"$f":"IFERROR(VLOOKUP($N14,PoleRange,6,FALSE),0)","v":348},{"$f":"IFERROR(VLOOKUP($O14,PoleRange,6,FALSE),0)","v":356.3},{"$f":"IFERROR(VLOOKUP($N14,PoleRange,7,FALSE),0)","v":38.5},{"$f":"IFERROR(VLOOKUP($O14,PoleRange,7,FALSE),0)","v":39.399999999999899}]
[2,{"$f":"'FEA Tables'!C16","v":0},null,null,null,null,null,null,null,19,39.521210000000004,-121.538449999999,"Tier 2-3","W12153857N3952094","W12153833N3952149","W12153857N3952094-W12153833N3952149",208,2,19,{"$f":"COUNTIFS(TreeRange,S15,TreeFail,\"Yes\")*V15","v":0},0,1,{"$f":"COUNTIFS(TreeRange,S15,TreeOffset,\"Yes\")","v":0},0,{"$f":"IFERROR(VLOOKUP($N15,PoleRange,3,FALSE),0)","v":-121.53857000000001},{"$f":"IFERROR(VLOOKUP($N15,PoleRange,2,FALSE),0)","v":39.520940000000003},120.30455999999998,null,{"$f":"IFERROR(VLOOKUP($O15,PoleRange,3,FALSE),0)","v":-121.53833},{"$f":"IFERROR(VLOOKUP($O15,PoleRange,2,FALSE),0)","v":39.52149},122.4076799999997,null,{"$f":"IFERROR(VLOOKUP($N15,PoleRange,6,FALSE),0)","v":356.3},{"$f":"IFERROR(VLOOKUP($O15,PoleRange,6,FALSE),0)","v":363.39999999999901},{"$f":"IFERROR(VLOOKUP($N15,PoleRange,7,FALSE),0)","v":39.399999999999899},{"$f":"IFERROR(VLOOKUP($O15,PoleRange,7,FALSE),0)","v":39.200000000000003}]
[3,{"$f":"'FEA Tables'!C30","v":0},null,null,null,null,null,null,null,20,39.521769999999897,-121.538229999999,"Tier 2-3","W12153833N3952149","W12153812N3952205","W12153833N3952149-W12153812N3952205",215.3,2,20,{"$f":"COUNTIFS(TreeRange,S16,TreeFail,\"Yes\")*V16","v":0},0,1,{"$f":"COUNTIFS(TreeRange,S16,TreeOffset,\"Yes\")","v":0},0,{"$f":"IFERROR(VLOOKUP($N16,PoleRange,3,FALSE),0)","v":-121.53833},{"$f":"IFERROR(VLOOKUP($N16,PoleRange,2,FALSE),0)","v":39.52149},122.4076799999997,null,{"$f":"IFERROR(VLOOKUP($O16,PoleRange,3,FALSE),0)","v":-121.53812000000001},{"$f":"IFERROR(VLOOKUP($O16,PoleRange,2,FALSE),0)","v":39.52205},124.81559999999971,null,{"$f":"IFERROR(VLOOKUP($N16,PoleRange,6,FALSE),0)","v":363.39999999999901},{"$f":"IFERROR(VLOOKUP($O16,PoleRange,6,FALSE),0)","v":370.89999999999901},{"$f":"IFERROR(VLOOKUP($N16,PoleRange,7,FALSE),0)","v":39.200000000000003},{"$f":"IFERROR(VLOOKUP($O16,PoleRange,7,FALSE),0)","v":39.6}]
[4,{"$f":"'FEA Tables'!C44","v":0},null,null,null,null,null,null,null,21,39.521999999999899,-121.53852000000001,"Tier 2-3","W12153891N3952195","W12153812N3952205","W12153891N3952195-W12153812N3952205",226.3,2,21,{"$f":"COUNTIFS(TreeRange,S17,TreeFail,\"Yes\")*V17","v":0},0,1,{"$f":"COUNTIFS(TreeRange,S17,TreeOffset,\"Yes\")","v":0},0,{"$f":"IFERROR(VLOOKUP($N17,PoleRange,3,FALSE),0)","v":-121.53891},{"$f":"IFERROR(VLOOKUP($N17,PoleRange,2,FALSE),0)","v":39.521949999999897},135.66647999999998,null,{"$f":"IFERROR(VLOOKUP($O17,PoleRange,3,FALSE),0)","v":-121.53812000000001},{"$f":"IFERROR(VLOOKUP($O17,PoleRange,2,FALSE),0)","v":39.52205},124.81559999999971,null,{"$f":"IFERROR(VLOOKUP($N17,PoleRange,6,FALSE),0)","v":411.3},{"$f":"IFERROR(VLOOKUP($O17,PoleRange,6,FALSE),0)","v":370.89999999999901},{"$f":"IFERROR(VLOOKUP($N17,PoleRange,7,FALSE),0)","v":34.799999999999898},{"$f":"IFERROR(VLOOKUP($O17,PoleRange,7,FALSE),0)","v":39.6}]
[5,{"$f":"'FEA Tables'!C58","v":"Composite, 1/0 ACSR XLPE, Douglas Fir"},null,null,null,null,null,null,null,22,39.522269999999899,-121.53802,"Tier 2-3","W12153812N3952205","W12153791N3952249","W12153812N3952205-W12153791N3952249",168.9,2,22,{"$f":"COUNTIFS(TreeRange,S18,TreeFail,\"Yes\")*V18","v":0},0,1,{"$f":"COUNTIFS(TreeRange,S18,TreeOffset,\"Yes\")","v":0},0,{"$f":"IFERROR(VLOOKUP($N18,PoleRange,3,FALSE),0)","v":-121.53812000000001},{"$f":"IFERROR(VLOOKUP($N18,PoleRange,2,FALSE),0)","v":39.52205},124.81559999999971,null,{"$f":"IFERROR(VLOOKUP($O18,PoleRange,3,FALSE),0)","v":0},{"$f":"IFERROR(VLOOKUP($O18,PoleRange,2,FALSE),0)","v":0},-0.30480000000000002,null,{"$f":"IFERROR(VLOOKUP($N18,PoleRange,6,FALSE),0)","v":370.89999999999901},{"$f":"IFERROR(VLOOKUP($O18,PoleRange,6,FALSE),0)","v":0},{"$f":"IFERROR(VLOOKUP($N18,PoleRange,7,FALSE),0)","v":39.6},{"$f":"IFERROR(VLOOKUP($O18,PoleRange,7,FALSE),0)","v":0}]
[6,{"$f":"'FEA Tables'!C72","v":"Composite, 1/0 ACSR XLPE, Pine"},null,null,null,null,null,null,null,42,39.524209999999897,-121.53734,"Tier 2-3","W12153751N3952386","W12153716N3952455","W12153751N3952386-W12153716N3952455",271.10000000000002,2,42,{"$f":"COUNTIFS(TreeRange,S19,TreeFail,\"Yes\")*V19","v":0},0,1,{"$f":"COUNTIFS(TreeRange,S19,TreeOffset,\"Yes\")","v":0},0,{"$f":"IFERROR(VLOOKUP($N19,PoleRange,3,FALSE),0)","v":-121.537509999999},{"$f":"IFERROR(VLOOKUP($N19,PoleRange,2,FALSE),0)","v":39.5238599999999},128.62559999999968,null,{"$f":"IFERROR(VLOOKUP($O19,PoleRange,3,FALSE),0)","v":-121.53716},{"$f":"IFERROR(VLOOKUP($O19,PoleRange,2,FALSE),0)","v":39.524549999999898},127.58928000000002,null,{"$f":"IFERROR(VLOOKUP($N19,PoleRange,6,FALSE),0)","v":384.19999999999902},{"$f":"IFERROR(VLOOKUP($O19,PoleRange,6,FALSE),0)","v":380},{"$f":"IFERROR(VLOOKUP($N19,PoleRange,7,FALSE),0)","v":38.799999999999898},{"$f":"IFERROR(VLOOKUP($O19,PoleRange,7,FALSE),0)","v":39.6}]
[7,{"$f":"'FEA Tables'!C86","v":"Composite, 1/0 ACSR XLPE, Oak"},null,null,null,null,null,null,null,46,39.524540000000002,-121.51457000000001,"Tier 2-3","W12151456N3952437","W12151459N3952471","W12151456N3952437-W12151459N3952471",123.799999999999,2,46,{"$f":"COUNTIFS(TreeRange,S20,TreeFail,\"Yes\")*V20","v":0},0,1,{"$f":"COUNTIFS(TreeRange,S20,TreeOffset,\"Yes\")","v":0},0,{"$f":"IFERROR(VLOOKUP($N20,PoleRange,3,FALSE),0)","v":-121.51456},{"$f":"IFERROR(VLOOKUP($N20,PoleRange,2,FALSE),0)","v":39.524369999999898},160.14191999999997,null,{"$f":"IFERROR(VLOOKUP($O20,PoleRange,3,FALSE),0)","v":-121.514589999999},{"$f":"IFERROR(VLOOKUP($O20,PoleRange,2,FALSE),0)","v":39.524709999999899},160.87344000000002,null,{"$f":"IFERROR(VLOOKUP($N20,PoleRange,6,FALSE),0)","v":488.1},{"$f":"IFERROR(VLOOKUP($O20,PoleRange,6,FALSE),0)","v":490.6},{"$f":"IFERROR(VLOOKUP($N20,PoleRange,7,FALSE),0)","v":38.299999999999898},{"$f":"IFERROR(VLOOKUP($O20,PoleRange,7,FALSE),0)","v":38.200000000000003}]
[8,{"$f":"'FEA Tables'!C100","v":"Composite, 1/0 ACSR XLPE, Blue Gum / Eucalyptus"},null,null,null,null,null,null,null,48,39.524630000000002,-121.5373,"Tier 2-3","W12153745N3952470","W12153716N3952455","W12153745N3952470-W12153716N3952455",97.099999999999895,2,48,{"$f":"COUNTIFS(TreeRange,S21,TreeFail,\"Yes\")*V21","v":0},0,1,{"$f":"COUNTIFS(TreeRange,S21,TreeOffset,\"Yes\")","v":0},0,{"$f":"IFERROR(VLOOKUP($N21,PoleRange,3,FALSE),0)","v":-121.53745000000001},{"$f":"IFERROR(VLOOKUP($N21,PoleRange,2,FALSE),0)","v":39.524700000000003},121.64567999999998,null,{"$f":"IFERROR(VLOOKUP($O21,PoleRange,3,FALSE),0)","v":-121.53716},{"$f":"IFERROR(VLOOKUP($O21,PoleRange,2,FALSE),0)","v":39.524549999999898},127.58928000000002,null,{"$f":"IFERROR(VLOOKUP($N21,PoleRange,6,FALSE),0)","v":364.8},{"$f":"IFERROR(VLOOKUP($O21,PoleRange,6,FALSE),0)","v":380},{"$f":"IFERROR(VLOOKUP($N21,PoleRange,7,FALSE),0)","v":35.299999999999898},{"$f":"IFERROR(VLOOKUP($O21,PoleRange,7,FALSE),0)","v":39.6}]
[9,{"$f":"'FEA Tables'!C114","v":"Composite, 397.5 AAC XLPE, Douglas Fir"},null,null,null,null,null,null,null,49,39.524709999999899,-121.53699,"Tier 2-3","W12153716N3952455","W12153682N3952487","W12153716N3952455-W12153682N3952487",150.69999999999899,2,49,{"$f":"COUNTIFS(TreeRange,S22,TreeFail,\"Yes\")*V22","v":0},0,1,{"$f":"COUNTIFS(TreeRange,S22,TreeOffset,\"Yes\")","v":0},0,{"$f":"IFERROR(VLOOKUP($N22,PoleRange,3,FALSE),0)","v":-121.53716},{"$f":"IFERROR(VLOOKUP($N22,PoleRange,2,FALSE),0)","v":39.524549999999898},127.58928000000002,null,{"$f":"IFERROR(VLOOKUP($O22,PoleRange,3,FALSE),0)","v":-121.53682000000001},{"$f":"IFERROR(VLOOKUP($O22,PoleRange,2,FALSE),0)","v":39.52487},126.43103999999998,null,{"$f":"IFERROR(VLOOKUP($N22,PoleRange,6,FALSE),0)","v":380},{"$f":"IFERROR(VLOOKUP($O22,PoleRange,6,FALSE),0)","v":380},{"$f":"IFERROR(VLOOKUP($N22,PoleRange,7,FALSE),0)","v":39.6},{"$f":"IFERROR(VLOOKUP($O22,PoleRange,7,FALSE),0)","v":35.799999999999898}]
[10,{"$f":"'FEA Tables'!C128","v":"Composite, 397.5 AAC XLPE, Pine"},null,null,null,null,null,null,null,50,39.52487,-121.537769999999,"Tier 2-3","W12153809N3952504","W12153745N3952470","W12153809N3952504-W12153745N3952470",218.599999999999,2,50,{"$f":"COUNTIFS(TreeRange,S23,TreeFail,\"Yes\")*V23","v":0},0,1,{"$f":"COUNTIFS(TreeRange,S23,TreeOffset,\"Yes\")","v":0},0,{"$f":"IFERROR(VLOOKUP($N23,PoleRange,3,FALSE),0)","v":-121.538089999999},{"$f":"IFERROR(VLOOKUP($N23,PoleRange,2,FALSE),0)","v":39.525039999999898},115.27535999999968,null,{"$f":"IFERROR(VLOOKUP($O23,PoleRange,3,FALSE),0)","v":-121.53745000000001},{"$f":"IFERROR(VLOOKUP($O23,PoleRange,2,FALSE),0)","v":39.524700000000003},121.64567999999998,null,{"$f":"IFERROR(VLOOKUP($N23,PoleRange,6,FALSE),0)","v":344.39999999999901},{"$f":"IFERROR(VLOOKUP($O23,PoleRange,6,FALSE),0)","v":364.8},{"$f":"IFERROR(VLOOKUP($N23,PoleRange,7,FALSE),0)","v":34.799999999999898},{"$f":"IFERROR(VLOOKUP($O23,PoleRange,7,FALSE),0)","v":35.299999999999898}]
[11,{"$f":"'FEA Tables'!C142","v":"Composite, 397.5 AAC XLPE, Oak"},null,null,null,null,null,null,null,51,39.524990000000003,-121.536959999999,"Tier 2-3","W12153709N3952512","W12153682N3952487","W12153709N3952512-W12153682N3952487",115.2,2,51,{"$f":"COUNTIFS(TreeRange,S24,TreeFail,\"Yes\")*V24","v":0},0,1,{"$f":"COUNTIFS(TreeRange,S24,TreeOffset,\"Yes\")","v":0},0,{"$f":"IFERROR(VLOOKUP($N24,PoleRange,3,FALSE),0)","v":-121.53709000000001},{"$f":"IFERROR(VLOOKUP($N24,PoleRange,2,FALSE),0)","v":39.525120000000001},122.07239999999967,null,{"$f":"IFERROR(VLOOKUP($O24,PoleRange,3,FALSE),0)","v":-121.53682000000001},{"$f":"IFERROR(VLOOKUP($O24,PoleRange,2,FALSE),0)","v":39.52487},126.43103999999998,null,{"$f":"IFERROR(VLOOKUP($N24,PoleRange,6,FALSE),0)","v":366.69999999999902},{"$f":"IFERROR(VLOOKUP($O24,PoleRange,6,FALSE),0)","v":380},{"$f":"IFERROR(VLOOKUP($N24,PoleRange,7,FALSE),0)","v":34.799999999999898},{"$f":"IFERROR(VLOOKUP($O24,PoleRange,7,FALSE),0)","v":35.799999999999898}]
[12,{"$f":"'FEA Tables'!C156","v":"Composite, 397.5 AAC XLPE, Blue Gum / Eucalyptus"},null,null,null,null,null,null,null,53,39.525030000000001,-121.52122,"Tier 2-3","W12152123N3952539","W12152121N3952468","W12152123N3952539-W12152121N3952468",258.89999999999901,2,53,{"$f":"COUNTIFS(TreeRange,S25,TreeFail,\"Yes\")*V25","v":0},0,1,{"$f":"COUNTIFS(TreeRange,S25,TreeOffset,\"Yes\")","v":0},0,{"$f":"IFERROR(VLOOKUP($N25,PoleRange,3,FALSE),0)","v":-121.52123},{"$f":"IFERROR(VLOOKUP($N25,PoleRange,2,FALSE),0)","v":39.525390000000002},155.23464000000001,null,{"$f":"IFERROR(VLOOKUP($O25,PoleRange,3,FALSE),0)","v":0},{"$f":"IFERROR(VLOOKUP($O25,PoleRange,2,FALSE),0)","v":0},-0.30480000000000002,null,{"$f":"IFERROR(VLOOKUP($N25,PoleRange,6,FALSE),0)","v":477.3},{"$f":"IFERROR(VLOOKUP($O25,PoleRange,6,FALSE),0)","v":0},{"$f":"IFERROR(VLOOKUP($N25,PoleRange,7,FALSE),0)","v":33},{"$f":"IFERROR(VLOOKUP($O25,PoleRange,7,FALSE),0)","v":0}]
[13,{"$f":"'FEA Tables'!C170","v":0},null,null,null,null,null,null,null,54,39.525149999999897,-121.5146,"Tier 2-3","W12151461N3952559","W12151459N3952471","W12151461N3952559-W12151459N3952471",322.60000000000002,2,54,{"$f":"COUNTIFS(TreeRange,S26,TreeFail,\"Yes\")*V26","v":0},0,1,{"$f":"COUNTIFS(TreeRange,S26,TreeOffset,\"Yes\")","v":0},0,{"$f":"IFERROR(VLOOKUP($N26,PoleRange,3,FALSE),0)","v":-121.51461},{"$f":"IFERROR(VLOOKUP($N26,PoleRange,2,FALSE),0)","v":39.525590000000001},157.67303999999967,null,{"$f":"IFERROR(VLOOKUP($O26,PoleRange,3,FALSE),0)","v":-121.514589999999},{"$f":"IFERROR(VLOOKUP($O26,PoleRange,2,FALSE),0)","v":39.524709999999899},160.87344000000002,null,{"$f":"IFERROR(VLOOKUP($N26,PoleRange,6,FALSE),0)","v":480.89999999999901},{"$f":"IFERROR(VLOOKUP($O26,PoleRange,6,FALSE),0)","v":490.6},{"$f":"IFERROR(VLOOKUP($N26,PoleRange,7,FALSE),0)","v":37.399999999999899},{"$f":"IFERROR(VLOOKUP($O26,PoleRange,7,FALSE),0)","v":38.200000000000003}]
[14,{"$f":"'FEA Tables'!C184","v":0},null,null,null,null,null,null,null,58,39.525399999999898,-121.53725,"Tier 2-3","W12153709N3952512","W12153742N3952569","W12153709N3952512-W12153742N3952569",227.69999999999899,2,58,{"$f":"COUNTIFS(TreeRange,S27,TreeFail,\"Yes\")*V27","v":0},0,1,{"$f":"COUNTIFS(TreeRange,S27,TreeOffset,\"Yes\")","v":0},0,{"$f":"IFERROR(VLOOKUP($N27,PoleRange,3,FALSE),0)","v":-121.53709000000001},{"$f":"IFERROR(VLOOKUP($N27,PoleRange,2,FALSE),0)","v":39.525120000000001},122.07239999999967,null,{"$f":"IFERROR(VLOOKUP($O27,PoleRange,3,FALSE),0)","v":-121.537419999999},{"$f":"IFERROR(VLOOKUP($O27,PoleRange,2,FALSE),0)","v":39.525689999999898},117.25655999999998,null,{"$f":"IFERROR(VLOOKUP($N27,PoleRange,6,FALSE),0)","v":366.69999999999902},{"$f":"IFERROR(VLOOKUP($O27,PoleRange,6,FALSE),0)","v":351.3},{"$f":"IFERROR(VLOOKUP($N27,PoleRange,7,FALSE),0)","v":34.799999999999898},{"$f":"IFERROR(VLOOKUP($O27,PoleRange,7,FALSE),0)","v":34.399999999999899}]
[15,{"$f":"'FEA Tables'!C198","v":"Composite, 715.5 AAC XLPE, Oak"},null,null,null,null,null,null,null,64,39.525759999999899,-121.52123,"Tier 2-3","W12152124N3952614","W12152123N3952539","W12152124N3952614-W12152123N3952539",274.60000000000002,2,64,{"$f":"COUNTIFS(TreeRange,S28,TreeFail,\"Yes\")*V28","v":0},0,1,{"$f":"COUNTIFS(TreeRange,S28,TreeOffset,\"Yes\")","v":0},0,{"$f":"IFERROR(VLOOKUP($N28,PoleRange,3,FALSE),0)","v":-121.52124000000001},{"$f":"IFERROR(VLOOKUP($N28,PoleRange,2,FALSE),0)","v":39.526139999999899},157.49015999999966,null,{"$f":"IFERROR(VLOOKUP($O28,PoleRange,3,FALSE),0)","v":-121.52123},{"$f":"IFERROR(VLOOKUP($O28,PoleRange,2,FALSE),0)","v":39.525390000000002},155.23464000000001,null,{"$f":"IFERROR(VLOOKUP($N28,PoleRange,6,FALSE),0)","v":482.89999999999901},{"$f":"IFERROR(VLOOKUP($O28,PoleRange,6,FALSE),0)","v":477.3},{"$f":"IFERROR(VLOOKUP($N28,PoleRange,7,FALSE),0)","v":34.799999999999898},{"$f":"IFERROR(VLOOKUP($O28,PoleRange,7,FALSE),0)","v":33}]
[16,{"$f":"'FEA Tables'!C212","v":0},null,null,null,null,null,null,null,65,39.5259,-121.53754000000001,"Tier 2-3","W12153767N3952612","W12153742N3952569","W12153767N3952612-W12153742N3952569",172.4,2,65,{"$f":"COUNTIFS(TreeRange,S29,TreeFail,\"Yes\")*V29","v":1},1,1,{"$f":"COUNTIFS(TreeRange,S29,TreeOffset,\"Yes\")","v":0},0,{"$f":"IFERROR(VLOOKUP($N29,PoleRange,3,FALSE),0)","v":-121.53767000000001},{"$f":"IFERROR(VLOOKUP($N29,PoleRange,2,FALSE),0)","v":39.526119999999899},116.18975999999998,null,{"$f":"IFERROR(VLOOKUP($O29,PoleRange,3,FALSE),0)","v":-121.537419999999},{"$f":"IFERROR(VLOOKUP($O29,PoleRange,2,FALSE),0)","v":39.525689999999898},117.25655999999998,null,{"$f":"IFERROR(VLOOKUP($N29,PoleRange,6,FALSE),0)","v":344.3},{"$f":"IFERROR(VLOOKUP($O29,PoleRange,6,FALSE),0)","v":351.3},{"$f":"IFERROR(VLOOKUP($N29,PoleRange,7,FALSE),0)","v":37.899999999999899},{"$f":"IFERROR(VLOOKUP($O29,PoleRange,7,FALSE),0)","v":34.399999999999899}]
[17,{"$f":"'FEA Tables'!C226","v":0},null,null,null,null,null,null,null,66,39.526000000000003,-121.533199999999,"Tier 2-3","W12153345N3952585","W12153295N3952615","W12153345N3952585-W12153295N3952615",177.9,2,66,{"$f":"COUNTIFS(TreeRange,S30,TreeFail,\"Yes\")*V30","v":2},1,1,{"$f":"COUNTIFS(TreeRange,S30,TreeOffset,\"Yes\")","v":0},0,{"$f":"IFERROR(VLOOKUP($N30,PoleRange,3,FALSE),0)","v":0},{"$f":"IFERROR(VLOOKUP($N30,PoleRange,2,FALSE),0)","v":0},-0.30480000000000002,null,{"$f":"IFERROR(VLOOKUP($O30,PoleRange,3,FALSE),0)","v":-121.53295},{"$f":"IFERROR(VLOOKUP($O30,PoleRange,2,FALSE),0)","v":39.526150000000001},132.16127999999969,null,{"$f":"IFERROR(VLOOKUP($N30,PoleRange,6,FALSE),0)","v":0},{"$f":"IFERROR(VLOOKUP($O30,PoleRange,6,FALSE),0)","v":396.39999999999901},{"$f":"IFERROR(VLOOKUP($N30,PoleRange,7,FALSE),0)","v":0},{"$f":"IFERROR(VLOOKUP($O30,PoleRange,7,FALSE),0)","v":38.200000000000003}]
[18,{"$f":"'FEA Tables'!C240","v":0},null,null,null,null,null,null,null,67,39.5260099999999,-121.514619999999,"Tier 2-3","W12151461N3952559","W12151463N3952642","W12151461N3952559-W12151463N3952642",301.39999999999901,2,67,{"$f":"COUNTIFS(TreeRange,S31,TreeFail,\"Yes\")*V31","v":0},0,1,{"$f":"COUNTIFS(TreeRange,S31,TreeOffset,\"Yes\")","v":0},0,{"$f":"IFERROR(VLOOKUP($N31,PoleRange,3,FALSE),0)","v":-121.51461},{"$f":"IFERROR(VLOOKUP($N31,PoleRange,2,FALSE),0)","v":39.525590000000001},157.67303999999967,null,{"$f":"IFERROR(VLOOKUP($O31,PoleRange,3,FALSE),0)","v":-121.514629999999},{"$f":"IFERROR(VLOOKUP($O31,PoleRange,2,FALSE),0)","v":39.526420000000002},154.86888000000002,null,{"$f":"IFERROR(VLOOKUP($N31,PoleRange,6,FALSE),0)","v":480.89999999999901},{"$f":"IFERROR(VLOOKUP($O31,PoleRange,6,FALSE),0)","v":472.1},{"$f":"IFERROR(VLOOKUP($N31,PoleRange,7,FALSE),0)","v":37.399999999999899},{"$f":"IFERROR(VLOOKUP($O31,PoleRange,7,FALSE),0)","v":37}]
[19,{"$f":"'FEA Tables'!C254","v":0},null,null,null,null,null,null,null,68,39.526139999999899,-121.520939999999,"Tier 2-3","W12152124N3952614","W12152064N3952615","W12152124N3952614-W12152064N3952615",171,2,68,{"$f":"COUNTIFS(TreeRange,S32,TreeFail,\"Yes\")*V32","v":0},0,1,{"$f":"COUNTIFS(TreeRange,S32,TreeOffset,\"Yes\")","v":0},0,{"$f":"IFERROR(VLOOKUP($N32,PoleRange,3,FALSE),0)","v":-121.52124000000001},{"$f":"IFERROR(VLOOKUP($N32,PoleRange,2,FALSE),0)","v":39.526139999999899},157.49015999999966,null,{"$f":"IFERROR(VLOOKUP($O32,PoleRange,3,FALSE),0)","v":-121.52064},{"$f":"IFERROR(VLOOKUP($O32,PoleRange,2,FALSE),0)","v":39.526150000000001},156.02711999999997,null,{"$f":"IFERROR(VLOOKUP($N32,PoleRange,6,FALSE),0)","v":482.89999999999901},{"$f":"IFERROR(VLOOKUP($O32,PoleRange,6,FALSE),0)","v":478.6},{"$f":"IFERROR(VLOOKUP($N32,PoleRange,7,FALSE),0)","v":34.799999999999898},{"$f":"IFERROR(VLOOKUP($O32,PoleRange,7,FALSE),0)","v":34.299999999999898}]
[20,{"$f":"'FEA Tables'!C268","v":0},null,null,null,null,null,null,null,70,39.526319999999899,-121.53807,"Tier 2-3","W12153767N3952612","W12153848N3952653","W12153767N3952612-W12153848N3952653",273,2,70,{"$f":"COUNTIFS(TreeRange,S33,TreeFail,\"Yes\")*V33","v":0},0,1,{"$f":"COUNTIFS(TreeRange,S33,TreeOffset,\"Yes\")","v":0},0,{"$f":"IFERROR(VLOOKUP($N33,PoleRange,3,FALSE),0)","v":-121.53767000000001},{"$f":"IFERROR(VLOOKUP($N33,PoleRange,2,FALSE),0)","v":39.526119999999899},116.18975999999998,null,{"$f":"IFERROR(VLOOKUP($O33,PoleRange,3,FALSE),0)","v":-121.53848000000001},{"$f":"IFERROR(VLOOKUP($O33,PoleRange,2,FALSE),0)","v":39.526530000000001},109.5451199999997,null,{"$f":"IFERROR(VLOOKUP($N33,PoleRange,6,FALSE),0)","v":344.3},{"$f":"IFERROR(VLOOKUP($O33,PoleRange,6,FALSE),0)","v":321.39999999999901},{"$f":"IFERROR(VLOOKUP($N33,PoleRange,7,FALSE),0)","v":37.899999999999899},{"$f":"IFERROR(VLOOKUP($O33,PoleRange,7,FALSE),0)","v":39}]
[21,{"$f":"'FEA Tables'!C282","v":"Wood, #6 Cu, Douglas Fir"},null,null,null,null,null,null,null,71,39.526350000000001,-121.532589999999,"Tier 2-3","W12153295N3952615","W12153224N3952655","W12153295N3952615-W12153224N3952655",249.099999999999,2,71,{"$f":"COUNTIFS(TreeRange,S34,TreeFail,\"Yes\")*V34","v":0},0,1,{"$f":"COUNTIFS(TreeRange,S34,TreeOffset,\"Yes\")","v":0},0,{"$f":"IFERROR(VLOOKUP($N34,PoleRange,3,FALSE),0)","v":-121.53295},{"$f":"IFERROR(VLOOKUP($N34,PoleRange,2,FALSE),0)","v":39.526150000000001},132.16127999999969,null,{"$f":"IFERROR(VLOOKUP($O34,PoleRange,3,FALSE),0)","v":-121.53224},{"$f":"IFERROR(VLOOKUP($O34,PoleRange,2,FALSE),0)","v":39.52655},134.59967999999998,null,{"$f":"IFERROR(VLOOKUP($N34,PoleRange,6,FALSE),0)","v":396.39999999999901},{"$f":"IFERROR(VLOOKUP($O34,PoleRange,6,FALSE),0)","v":399.3},{"$f":"IFERROR(VLOOKUP($N34,PoleRange,7,FALSE),0)","v":38.200000000000003},{"$f":"IFERROR(VLOOKUP($O34,PoleRange,7,FALSE),0)","v":43.299999999999898}]
[22,{"$f":"'FEA Tables'!C296","v":"Wood, #6 Cu, Pine"},null,null,null,null,null,null,null,72,39.526519999999898,-121.53888000000001,"Tier 2-3","W12153928N3952652","W12153848N3952653","W12153928N3952652-W12153848N3952653",226.19999999999899,2,72,{"$f":"COUNTIFS(TreeRange,S35,TreeFail,\"Yes\")*V35","v":0},0,1,{"$f":"COUNTIFS(TreeRange,S35,TreeOffset,\"Yes\")","v":0},0,{"$f":"IFERROR(VLOOKUP($N35,PoleRange,3,FALSE),0)","v":-121.53928000000001},{"$f":"IFERROR(VLOOKUP($N35,PoleRange,2,FALSE),0)","v":39.526519999999898},104.72927999999968,null,{"$f":"IFERROR(VLOOKUP($O35,PoleRange,3,FALSE),0)","v":-121.53848000000001},{"$f":"IFERROR(VLOOKUP($O35,PoleRange,2,FALSE),0)","v":39.526530000000001},109.5451199999997,null,{"$f":"IFERROR(VLOOKUP($N35,PoleRange,6,FALSE),0)","v":306.19999999999902},{"$f":"IFERROR(VLOOKUP($O35,PoleRange,6,FALSE),0)","v":321.39999999999901},{"$f":"IFERROR(VLOOKUP($N35,PoleRange,7,FALSE),0)","v":38.399999999999899},{"$f":"IFERROR(VLOOKUP($O35,PoleRange,7,FALSE),0)","v":39}]
[23,{"$f":"'FEA Tables'!C310","v":"Wood, #6 Cu, Oak"},null,null,null,null,null,null,null,73,39.52666,-121.51448000000001,"Tier 2-3","W12151433N3952690","W12151463N3952642","W12151433N3952690-W12151463N3952642",191.5,2,73,{"$f":"COUNTIFS(TreeRange,S36,TreeFail,\"Yes\")*V36","v":0},0,1,{"$f":"COUNTIFS(TreeRange,S36,TreeOffset,\"Yes\")","v":0},0,{"$f":"IFERROR(VLOOKUP($N36,PoleRange,3,FALSE),0)","v":-121.51433},{"$f":"IFERROR(VLOOKUP($N36,PoleRange,2,FALSE),0)","v":39.526899999999898},155.72232,null,{"$f":"IFERROR(VLOOKUP($O36,PoleRange,3,FALSE),0)","v":-121.514629999999},{"$f":"IFERROR(VLOOKUP($O36,PoleRange,2,FALSE),0)","v":39.526420000000002},154.86888000000002,null,{"$f":"IFERROR(VLOOKUP($N36,PoleRange,6,FALSE),0)","v":474.1},{"$f":"IFERROR(VLOOKUP($O36,PoleRange,6,FALSE),0)","v":472.1},{"$f":"IFERROR(VLOOKUP($N36,PoleRange,7,FALSE),0)","v":37.799999999999898},{"$f":"IFERROR(VLOOKUP($O36,PoleRange,7,FALSE),0)","v":37}]
[24,{"$f":"'FEA Tables'!C324","v":"Wood, #6 Cu, Blue Gum / Eucalyptus"},null,null,null,null,null,null,null,74,39.526719999999898,-121.535359999999,"Tier 2-3","W12153536N3952706","W12153535N3952637","W12153536N3952706-W12153535N3952637",252.3,2,74,{"$f":"COUNTIFS(TreeRange,S37,TreeFail,\"Yes\")*V37","v":2},1,1,{"$f":"COUNTIFS(TreeRange,S37,TreeOffset,\"Yes\")","v":1},1,{"$f":"IFERROR(VLOOKUP($N37,PoleRange,3,FALSE),0)","v":-121.535359999999},{"$f":"IFERROR(VLOOKUP($N37,PoleRange,2,FALSE),0)","v":39.527059999999899},117.16511999999999,null,{"$f":"IFERROR(VLOOKUP($O37,PoleRange,3,FALSE),0)","v":-121.535349999999},{"$f":"IFERROR(VLOOKUP($O37,PoleRange,2,FALSE),0)","v":39.52637},119.20727999999998,null,{"$f":"IFERROR(VLOOKUP($N37,PoleRange,6,FALSE),0)","v":356},{"$f":"IFERROR(VLOOKUP($O37,PoleRange,6,FALSE),0)","v":356.8},{"$f":"IFERROR(VLOOKUP($N37,PoleRange,7,FALSE),0)","v":29.399999999999899},{"$f":"IFERROR(VLOOKUP($O37,PoleRange,7,FALSE),0)","v":35.299999999999898}]
[25,{"$f":"'FEA Tables'!C338","v":"Wood, 4 (6/1) ACSR, Douglas Fir"},null,null,null,null,null,null,null,75,39.5267699999999,-121.53188,"Tier 2-3","W12153224N3952655","W12153152N3952699","W12153224N3952655-W12153152N3952699",257.60000000000002,2,75,{"$f":"COUNTIFS(TreeRange,S38,TreeFail,\"Yes\")*V38","v":0},0,1,{"$f":"COUNTIFS(TreeRange,S38,TreeOffset,\"Yes\")","v":0},0,{"$f":"IFERROR(VLOOKUP($N38,PoleRange,3,FALSE),0)","v":-121.53224},{"$f":"IFERROR(VLOOKUP($N38,PoleRange,2,FALSE),0)","v":39.52655},134.59967999999998,null,{"$f":"IFERROR(VLOOKUP($O38,PoleRange,3,FALSE),0)","v":-121.53152},{"$f":"IFERROR(VLOOKUP($O38,PoleRange,2,FALSE),0)","v":39.526989999999898},132.95376000000002,null,{"$f":"IFERROR(VLOOKUP($N38,PoleRange,6,FALSE),0)","v":399.3},{"$f":"IFERROR(VLOOKUP($O38,PoleRange,6,FALSE),0)","v":396.1},{"$f":"IFERROR(VLOOKUP($N38,PoleRange,7,FALSE),0)","v":43.299999999999898},{"$f":"IFERROR(VLOOKUP($O38,PoleRange,7,FALSE),0)","v":41.1}]
[26,{"$f":"'FEA Tables'!C352","v":"Wood, 4 (6/1) ACSR, Pine"},null,null,null,null,null,null,null,76,39.527119999999897,-121.53134,"Tier 2-3","W12153152N3952699","W12153116N3952725","W12153152N3952699-W12153116N3952725",139.69999999999899,2,76,{"$f":"COUNTIFS(TreeRange,S39,TreeFail,\"Yes\")*V39","v":0},0,1,{"$f":"COUNTIFS(TreeRange,S39,TreeOffset,\"Yes\")","v":0},0,{"$f":"IFERROR(VLOOKUP($N39,PoleRange,3,FALSE),0)","v":-121.53152},{"$f":"IFERROR(VLOOKUP($N39,PoleRange,2,FALSE),0)","v":39.526989999999898},132.95376000000002,null,{"$f":"IFERROR(VLOOKUP($O39,PoleRange,3,FALSE),0)","v":-121.53116},{"$f":"IFERROR(VLOOKUP($O39,PoleRange,2,FALSE),0)","v":39.527250000000002},130.11911999999998,null,{"$f":"IFERROR(VLOOKUP($N39,PoleRange,6,FALSE),0)","v":396.1},{"$f":"IFERROR(VLOOKUP($O39,PoleRange,6,FALSE),0)","v":389},{"$f":"IFERROR(VLOOKUP($N39,PoleRange,7,FALSE),0)","v":41.1},{"$f":"IFERROR(VLOOKUP($O39,PoleRange,7,FALSE),0)","v":38.899999999999899}]
[27,{"$f":"'FEA Tables'!C366","v":"Wood, 4 (6/1) ACSR, Oak"},null,null,null,null,null,null,null,77,39.527169999999899,-121.514349999999,"Tier 2-3","W12151437N3952744","W12151433N3952690","W12151437N3952744-W12151433N3952690",198.099999999999,2,77,{"$f":"COUNTIFS(TreeRange,S40,TreeFail,\"Yes\")*V40","v":0},0,1,{"$f":"COUNTIFS(TreeRange,S40,TreeOffset,\"Yes\")","v":0},0,{"$f":"IFERROR(VLOOKUP($N40,PoleRange,3,FALSE),0)","v":-121.51437},{"$f":"IFERROR(VLOOKUP($N40,PoleRange,2,FALSE),0)","v":39.527439999999899},157.30727999999971,null,{"$f":"IFERROR(VLOOKUP($O40,PoleRange,3,FALSE),0)","v":-121.51433},{"$f":"IFERROR(VLOOKUP($O40,PoleRange,2,FALSE),0)","v":39.526899999999898},155.72232,null,{"$f":"IFERROR(VLOOKUP($N40,PoleRange,6,FALSE),0)","v":479.39999999999901},{"$f":"IFERROR(VLOOKUP($O40,PoleRange,6,FALSE),0)","v":474.1},{"$f":"IFERROR(VLOOKUP($N40,PoleRange,7,FALSE),0)","v":37.700000000000003},{"$f":"IFERROR(VLOOKUP($O40,PoleRange,7,FALSE),0)","v":37.799999999999898}]
[28,{"$f":"'FEA Tables'!C380","v":"Wood, 4 (6/1) ACSR, Blue Gum / Eucalyptus"},null,null,null,null,null,null,null,78,39.527189999999898,-121.53176000000001,"Tier 2-3","W12153200N3952739","W12153152N3952699","W12153200N3952739-W12153152N3952699",197.19999999999899,2,78,{"$f":"COUNTIFS(TreeRange,S41,TreeFail,\"Yes\")*V41","v":0},0,1,{"$f":"COUNTIFS(TreeRange,S41,TreeOffset,\"Yes\")","v":0},0,{"$f":"IFERROR(VLOOKUP($N41,PoleRange,3,FALSE),0)","v":-121.531999999999},{"$f":"IFERROR(VLOOKUP($N41,PoleRange,2,FALSE),0)","v":39.527389999999897},129.78383999999969,null,{"$f":"IFERROR(VLOOKUP($O41,PoleRange,3,FALSE),0)","v":-121.53152},{"$f":"IFERROR(VLOOKUP($O41,PoleRange,2,FALSE),0)","v":39.526989999999898},132.95376000000002,null,{"$f":"IFERROR(VLOOKUP($N41,PoleRange,6,FALSE),0)","v":392.39999999999901},{"$f":"IFERROR(VLOOKUP($O41,PoleRange,6,FALSE),0)","v":396.1},{"$f":"IFERROR(VLOOKUP($N41,PoleRange,7,FALSE),0)","v":34.399999999999899},{"$f":"IFERROR(VLOOKUP($O41,PoleRange,7,FALSE),0)","v":41.1}]
[29,{"$f":"'FEA Tables'!C394","v":"Wood, 2 (7/1) ACSR, Douglas Fir"},null,null,null,null,null,null,null,79,39.527209999999897,-121.52939000000001,"Tier 2-3","W12152971N3952716","W12152907N3952726","W12152971N3952716-W12152907N3952726",184.9,2,79,{"$f":"COUNTIFS(TreeRange,S42,TreeFail,\"Yes\")*V42","v":4},1,1,{"$f":"COUNTIFS(TreeRange,S42,TreeOffset,\"Yes\")","v":0},0,{"$f":"IFERROR(VLOOKUP($N42,PoleRange,3,FALSE),0)","v":-121.529709999999},{"$f":"IFERROR(VLOOKUP($N42,PoleRange,2,FALSE),0)","v":39.527160000000002},123.96216,null,{"$f":"IFERROR(VLOOKUP($O42,PoleRange,3,FALSE),0)","v":-121.52907},{"$f":"IFERROR(VLOOKUP($O42,PoleRange,2,FALSE),0)","v":39.527259999999899},126.18719999999999,null,{"$f":"IFERROR(VLOOKUP($N42,PoleRange,6,FALSE),0)","v":373.5},{"$f":"IFERROR(VLOOKUP($O42,PoleRange,6,FALSE),0)","v":374.6},{"$f":"IFERROR(VLOOKUP($N42,PoleRange,7,FALSE),0)","v":34.200000000000003},{"$f":"IFERROR(VLOOKUP($O42,PoleRange,7,FALSE),0)","v":40.399999999999899}]
[30,{"$f":"'FEA Tables'!C408","v":"Wood, 2 (7/1) ACSR, Pine"},null,null,null,null,null,null,null,80,39.5272399999999,-121.530119999999,"Tier 2-3","W12153054N3952731","W12152971N3952716","W12153054N3952731-W12152971N3952716",238.5,2,80,{"$f":"COUNTIFS(TreeRange,S43,TreeFail,\"Yes\")*V43","v":0},0,1,{"$f":"COUNTIFS(TreeRange,S43,TreeOffset,\"Yes\")","v":0},0,{"$f":"IFERROR(VLOOKUP($N43,PoleRange,3,FALSE),0)","v":-121.53054},{"$f":"IFERROR(VLOOKUP($N43,PoleRange,2,FALSE),0)","v":39.52731},127.22351999999971,null,{"$f":"IFERROR(VLOOKUP($O43,PoleRange,3,FALSE),0)","v":-121.529709999999},{"$f":"IFERROR(VLOOKUP($O43,PoleRange,2,FALSE),0)","v":39.527160000000002},123.96216,null,{"$f":"IFERROR(VLOOKUP($N43,PoleRange,6,FALSE),0)","v":377.89999999999901},{"$f":"IFERROR(VLOOKUP($O43,PoleRange,6,FALSE),0)","v":373.5},{"$f":"IFERROR(VLOOKUP($N43,PoleRange,7,FALSE),0)","v":40.5},{"$f":"IFERROR(VLOOKUP($O43,PoleRange,7,FALSE),0)","v":34.200000000000003}]
[31,{"$f":"'FEA Tables'!C422","v":"Wood, 2 (7/1) ACSR, Oak"},null,null,null,null,null,null,null,81,39.527279999999898,-121.53085,"Tier 2-3","W12153116N3952725","W12153054N3952731","W12153116N3952725-W12153054N3952731",176.3,2,81,{"$f":"COUNTIFS(TreeRange,S44,TreeFail,\"Yes\")*V44","v":0},0,1,{"$f":"COUNTIFS(TreeRange,S44,TreeOffset,\"Yes\")","v":0},0,{"$f":"IFERROR(VLOOKUP($N44,PoleRange,3,FALSE),0)","v":-121.53116},{"$f":"IFERROR(VLOOKUP($N44,PoleRange,2,FALSE),0)","v":39.527250000000002},130.11911999999998,null,{"$f":"IFERROR(VLOOKUP($O44,PoleRange,3,FALSE),0)","v":-121.53054},{"$f":"IFERROR(VLOOKUP($O44,PoleRange,2,FALSE),0)","v":39.52731},127.22351999999971,null,{"$f":"IFERROR(VLOOKUP($N44,PoleRange,6,FALSE),0)","v":389},{"$f":"IFERROR(VLOOKUP($O44,PoleRange,6,FALSE),0)","v":377.89999999999901},{"$f":"IFERROR(VLOOKUP($N44,PoleRange,7,FALSE),0)","v":38.899999999999899},{"$f":"IFERROR(VLOOKUP($O44,PoleRange,7,FALSE),0)","v":40.5}]
[32,{"$f":"'FEA Tables'!C436","v":"Wood, 2 (7/1) ACSR, Blue Gum / Eucalyptus"},null,null,null,null,null,null,null,82,39.5274,-121.535349999999,"Tier 2-3","W12153536N3952706","W12153535N3952774","W12153536N3952706-W12153535N3952774",246.599999999999,2,82,{"$f":"COUNTIFS(TreeRange,S45,TreeFail,\"Yes\")*V45","v":3},1,1,{"$f":"COUNTIFS(TreeRange,S45,TreeOffset,\"Yes\")","v":0},0,{"$f":"IFERROR(VLOOKUP($N45,PoleRange,3,FALSE),0)","v":-121.535359999999},{"$f":"IFERROR(VLOOKUP($N45,PoleRange,2,FALSE),0)","v":39.527059999999899},117.16511999999999,null,{"$f":"IFERROR(VLOOKUP($O45,PoleRange,3,FALSE),0)","v":-121.535349999999},{"$f":"IFERROR(VLOOKUP($O45,PoleRange,2,FALSE),0)","v":39.527740000000001},124.78511999999971,null,{"$f":"IFERROR(VLOOKUP($N45,PoleRange,6,FALSE),0)","v":356},{"$f":"IFERROR(VLOOKUP($O45,PoleRange,6,FALSE),0)","v":374.89999999999901},{"$f":"IFERROR(VLOOKUP($N45,PoleRange,7,FALSE),0)","v":29.399999999999899},{"$f":"IFERROR(VLOOKUP($O45,PoleRange,7,FALSE),0)","v":35.5}]
[33,{"$f":"'FEA Tables'!C450","v":0},null,null,null,null,null,null,null,83,39.5274,-121.530529999999,"Tier 2-3","W12153052N3952749","W12153054N3952731","W12153052N3952749-W12153054N3952731",64.400000000000006,2,83,{"$f":"COUNTIFS(TreeRange,S46,TreeFail,\"Yes\")*V46","v":0},0,1,{"$f":"COUNTIFS(TreeRange,S46,TreeOffset,\"Yes\")","v":0},0,{"$f":"IFERROR(VLOOKUP($N46,PoleRange,3,FALSE),0)","v":-121.530519999999},{"$f":"IFERROR(VLOOKUP($N46,PoleRange,2,FALSE),0)","v":39.52749},124.32791999999998,null,{"$f":"IFERROR(VLOOKUP($O46,PoleRange,3,FALSE),0)","v":-121.53054},{"$f":"IFERROR(VLOOKUP($O46,PoleRange,2,FALSE),0)","v":39.52731},127.22351999999971,null,{"$f":"IFERROR(VLOOKUP($N46,PoleRange,6,FALSE),0)","v":374.6},{"$f":"IFERROR(VLOOKUP($O46,PoleRange,6,FALSE),0)","v":377.89999999999901},{"$f":"IFERROR(VLOOKUP($N46,PoleRange,7,FALSE),0)","v":34.299999999999898},{"$f":"IFERROR(VLOOKUP($O46,PoleRange,7,FALSE),0)","v":40.5}]
[34,{"$f":"'FEA Tables'!C464","v":0},null,null,null,null,null,null,null,84,39.527500000000003,-121.52853,"Tier 2-3","W12152907N3952726","W12152800N3952774","W12152907N3952726-W12152800N3952774",349.69999999999902,2,84,{"$f":"COUNTIFS(TreeRange,S47,TreeFail,\"Yes\")*V47","v":0},0,1,{"$f":"COUNTIFS(TreeRange,S47,TreeOffset,\"Yes\")","v":0},0,{"$f":"IFERROR(VLOOKUP($N47,PoleRange,3,FALSE),0)","v":-121.52907},{"$f":"IFERROR(VLOOKUP($N47,PoleRange,2,FALSE),0)","v":39.527259999999899},126.18719999999999,null,{"$f":"IFERROR(VLOOKUP($O47,PoleRange,3,FALSE),0)","v":-121.52800000000001},{"$f":"IFERROR(VLOOKUP($O47,PoleRange,2,FALSE),0)","v":39.527740000000001},129.17424,null,{"$f":"IFERROR(VLOOKUP($N47,PoleRange,6,FALSE),0)","v":374.6},{"$f":"IFERROR(VLOOKUP($O47,PoleRange,6,FALSE),0)","v":384.1},{"$f":"IFERROR(VLOOKUP($N47,PoleRange,7,FALSE),0)","v":40.399999999999899},{"$f":"IFERROR(VLOOKUP($O47,PoleRange,7,FALSE),0)","v":40.700000000000003}]
[35,{"$f":"'FEA Tables'!C478","v":0},null,null,null,null,null,null,null,85,39.527639999999899,-121.53202,"Tier 2-3","W12153200N3952739","W12153203N3952790","W12153200N3952739-W12153203N3952790",186.19999999999899,2,85,{"$f":"COUNTIFS(TreeRange,S48,TreeFail,\"Yes\")*V48","v":0},0,1,{"$f":"COUNTIFS(TreeRange,S48,TreeOffset,\"Yes\")","v":0},0,{"$f":"IFERROR(VLOOKUP($N48,PoleRange,3,FALSE),0)","v":-121.531999999999},{"$f":"IFERROR(VLOOKUP($N48,PoleRange,2,FALSE),0)","v":39.527389999999897},129.78383999999969,null,{"$f":"IFERROR(VLOOKUP($O48,PoleRange,3,FALSE),0)","v":-121.53203000000001},{"$f":"IFERROR(VLOOKUP($O48,PoleRange,2,FALSE),0)","v":39.527900000000002},136.30656000000002,null,{"$f":"IFERROR(VLOOKUP($N48,PoleRange,6,FALSE),0)","v":392.39999999999901},{"$f":"IFERROR(VLOOKUP($O48,PoleRange,6,FALSE),0)","v":414.6},{"$f":"IFERROR(VLOOKUP($N48,PoleRange,7,FALSE),0)","v":34.399999999999899},{"$f":"IFERROR(VLOOKUP($O48,PoleRange,7,FALSE),0)","v":33.6}]
[36,{"$f":"'FEA Tables'!C492","v":0},null,null,null,null,null,null,null,86,39.5277099999999,-121.51439000000001,"Tier 2-3","W12151441N3952799","W12151437N3952744","W12151441N3952799-W12151437N3952744",199.3,2,86,{"$f":"COUNTIFS(TreeRange,S49,TreeFail,\"Yes\")*V49","v":0},0,1,{"$f":"COUNTIFS(TreeRange,S49,TreeOffset,\"Yes\")","v":0},0,{"$f":"IFERROR(VLOOKUP($N49,PoleRange,3,FALSE),0)","v":-121.514409999999},{"$f":"IFERROR(VLOOKUP($N49,PoleRange,2,FALSE),0)","v":39.527990000000003},160.08095999999966,null,{"$f":"IFERROR(VLOOKUP($O49,PoleRange,3,FALSE),0)","v":-121.51437},{"$f":"IFERROR(VLOOKUP($O49,PoleRange,2,FALSE),0)","v":39.527439999999899},157.30727999999971,null,{"$f":"IFERROR(VLOOKUP($N49,PoleRange,6,FALSE),0)","v":487.39999999999901},{"$f":"IFERROR(VLOOKUP($O49,PoleRange,6,FALSE),0)","v":479.39999999999901},{"$f":"IFERROR(VLOOKUP($N49,PoleRange,7,FALSE),0)","v":38.799999999999898},{"$f":"IFERROR(VLOOKUP($O49,PoleRange,7,FALSE),0)","v":37.700000000000003}]
[37,{"$f":"'FEA Tables'!C506","v":0},null,null,null,null,null,null,null,87,39.527819999999899,-121.530529999999,"Tier 2-3","W12153052N3952749","W12153054N3952815","W12153052N3952749-W12153054N3952815",243.599999999999,2,87,{"$f":"COUNTIFS(TreeRange,S50,TreeFail,\"Yes\")*V50","v":0},0,1,{"$f":"COUNTIFS(TreeRange,S50,TreeOffset,\"Yes\")","v":0},0,{"$f":"IFERROR(VLOOKUP($N50,PoleRange,3,FALSE),0)","v":-121.530519999999},{"$f":"IFERROR(VLOOKUP($N50,PoleRange,2,FALSE),0)","v":39.52749},124.32791999999998,null,{"$f":"IFERROR(VLOOKUP($O50,PoleRange,3,FALSE),0)","v":-121.53054},{"$f":"IFERROR(VLOOKUP($O50,PoleRange,2,FALSE),0)","v":39.528149999999897},132.80136000000002,null,{"$f":"IFERROR(VLOOKUP($N50,PoleRange,6,FALSE),0)","v":374.6},{"$f":"IFERROR(VLOOKUP($O50,PoleRange,6,FALSE),0)","v":398},{"$f":"IFERROR(VLOOKUP($N50,PoleRange,7,FALSE),0)","v":34.299999999999898},{"$f":"IFERROR(VLOOKUP($O50,PoleRange,7,FALSE),0)","v":38.700000000000003}]
[38,{"$f":"'FEA Tables'!C520","v":0},null,null,null,null,null,null,null,88,39.527900000000002,-121.53328,"Tier 2-3","W12153385N3952791","W12153270N3952789","W12153385N3952791-W12153270N3952789",324.19999999999902,2,88,{"$f":"COUNTIFS(TreeRange,S51,TreeFail,\"Yes\")*V51","v":0},0,1,{"$f":"COUNTIFS(TreeRange,S51,TreeOffset,\"Yes\")","v":0},0,{"$f":"IFERROR(VLOOKUP($N51,PoleRange,3,FALSE),0)","v":-121.53385},{"$f":"IFERROR(VLOOKUP($N51,PoleRange,2,FALSE),0)","v":39.527909999999899},133.62432000000001,null,{"$f":"IFERROR(VLOOKUP($O51,PoleRange,3,FALSE),0)","v":-121.53270000000001},{"$f":"IFERROR(VLOOKUP($O51,PoleRange,2,FALSE),0)","v":39.5278899999999},135.81887999999998,null,{"$f":"IFERROR(VLOOKUP($N51,PoleRange,6,FALSE),0)","v":401.8},{"$f":"IFERROR(VLOOKUP($O51,PoleRange,6,FALSE),0)","v":408.3},{"$f":"IFERROR(VLOOKUP($N51,PoleRange,7,FALSE),0)","v":37.6},{"$f":"IFERROR(VLOOKUP($O51,PoleRange,7,FALSE),0)","v":38.299999999999898}]
[39,{"$f":"'FEA Tables'!C534","v":"Wood, 715.5 AAC, Oak"},null,null,null,null,null,null,null,89,39.527900000000002,-121.53237,"Tier 2-3","W12153203N3952790","W12153270N3952789","W12153203N3952790-W12153270N3952789",189.099999999999,2,89,{"$f":"COUNTIFS(TreeRange,S52,TreeFail,\"Yes\")*V52","v":2},1,1,{"$f":"COUNTIFS(TreeRange,S52,TreeOffset,\"Yes\")","v":0},0,{"$f":"IFERROR(VLOOKUP($N52,PoleRange,3,FALSE),0)","v":-121.53203000000001},{"$f":"IFERROR(VLOOKUP($N52,PoleRange,2,FALSE),0)","v":39.527900000000002},136.30656000000002,null,{"$f":"IFERROR(VLOOKUP($O52,PoleRange,3,FALSE),0)","v":-121.53270000000001},{"$f":"IFERROR(VLOOKUP($O52,PoleRange,2,FALSE),0)","v":39.5278899999999},135.81887999999998,null,{"$f":"IFERROR(VLOOKUP($N52,PoleRange,6,FALSE),0)","v":414.6},{"$f":"IFERROR(VLOOKUP($O52,PoleRange,6,FALSE),0)","v":408.3},{"$f":"IFERROR(VLOOKUP($N52,PoleRange,7,FALSE),0)","v":33.6},{"$f":"IFERROR(VLOOKUP($O52,PoleRange,7,FALSE),0)","v":38.299999999999898}]
[40,{"$f":"'FEA Tables'!C548","v":"Wood, 715.5 AAC, Blue Gum / Eucalyptus"},null,null,null,null,null,null,null,90,39.527999999999899,-121.527749999999,"Tier 2-3","W12152800N3952774","W12152750N3952825","W12152800N3952774-W12152750N3952825",233.599999999999,2,90,{"$f":"COUNTIFS(TreeRange,S53,TreeFail,\"Yes\")*V53","v":0},0,1,{"$f":"COUNTIFS(TreeRange,S53,TreeOffset,\"Yes\")","v":0},0,{"$f":"IFERROR(VLOOKUP($N53,PoleRange,3,FALSE),0)","v":-121.52800000000001},{"$f":"IFERROR(VLOOKUP($N53,PoleRange,2,FALSE),0)","v":39.527740000000001},129.17424,null,{"$f":"IFERROR(VLOOKUP($O53,PoleRange,3,FALSE),0)","v":-121.5275},{"$f":"IFERROR(VLOOKUP($O53,PoleRange,2,FALSE),0)","v":39.52825},127.55880000000001,null,{"$f":"IFERROR(VLOOKUP($N53,PoleRange,6,FALSE),0)","v":384.1},{"$f":"IFERROR(VLOOKUP($O53,PoleRange,6,FALSE),0)","v":384.3},{"$f":"IFERROR(VLOOKUP($N53,PoleRange,7,FALSE),0)","v":40.700000000000003},{"$f":"IFERROR(VLOOKUP($O53,PoleRange,7,FALSE),0)","v":35.200000000000003}]
[null,null,null,null,null,null,null,null,null,91,39.528019999999898,-121.53534000000001,"Tier 2-3","W12153534N3952830","W12153535N3952774","W12153534N3952830-W12153535N3952774",203.19999999999899,2,91,{"$f":"COUNTIFS(TreeRange,S54,TreeFail,\"Yes\")*V54","v":0},0,1,{"$f":"COUNTIFS(TreeRange,S54,TreeOffset,\"Yes\")","v":0},0,{"$f":"IFERROR(VLOOKUP($N54,PoleRange,3,FALSE),0)","v":-121.53534000000001},{"$f":"IFERROR(VLOOKUP($N54,PoleRange,2,FALSE),0)","v":39.528300000000002},132.28319999999999,null,{"$f":"IFERROR(VLOOKUP($O54,PoleRange,3,FALSE),0)","v":-121.535349999999},{"$f":"IFERROR(VLOOKUP($O54,PoleRange,2,FALSE),0)","v":39.527740000000001},124.78511999999971,null,{"$f":"IFERROR(VLOOKUP($N54,PoleRange,6,FALSE),0)","v":399},{"$f":"IFERROR(VLOOKUP($O54,PoleRange,6,FALSE),0)","v":374.89999999999901},{"$f":"IFERROR(VLOOKUP($N54,PoleRange,7,FALSE),0)","v":36},{"$f":"IFERROR(VLOOKUP($O54,PoleRange,7,FALSE),0)","v":35.5}]
[null,null,null,null,null,null,null,null,null,92,39.5281799999999,-121.532039999999,"Tier 2-3","W12153203N3952790","W12153205N3952846","W12153203N3952790-W12153205N3952846",203.9,2,92,{"$f":"COUNTIFS(TreeRange,S55,TreeFail,\"Yes\")*V55","v":0},0,1,{"$f":"COUNTIFS(TreeRange,S55,TreeOffset,\"Yes\")","v":0},0,{"$f":"IFERROR(VLOOKUP($N55,PoleRange,3,FALSE),0)","v":-121.53203000000001},{"$f":"IFERROR(VLOOKUP($N55,PoleRange,2,FALSE),0)","v":39.527900000000002},136.30656000000002,null,{"$f":"IFERROR(VLOOKUP($O55,PoleRange,3,FALSE),0)","v":-121.532049999999},{"$f":"IFERROR(VLOOKUP($O55,PoleRange,2,FALSE),0)","v":39.528460000000003},148.52904000000001,null,{"$f":"IFERROR(VLOOKUP($N55,PoleRange,6,FALSE),0)","v":414.6},{"$f":"IFERROR(VLOOKUP($O55,PoleRange,6,FALSE),0)","v":453.8},{"$f":"IFERROR(VLOOKUP($N55,PoleRange,7,FALSE),0)","v":33.6},{"$f":"IFERROR(VLOOKUP($O55,PoleRange,7,FALSE),0)","v":34.5}]
[null,null,null,null,null,null,null,null,null,93,39.528289999999899,-121.51421000000001,"Tier 2-3","W12151401N3952860","W12151441N3952799","W12151401N3952860-W12151441N3952799",250.8,2,93,{"$f":"COUNTIFS(TreeRange,S56,TreeFail,\"Yes\")*V56","v":0},0,1,{"$f":"COUNTIFS(TreeRange,S56,TreeOffset,\"Yes\")","v":0},0,{"$f":"IFERROR(VLOOKUP($N56,PoleRange,3,FALSE),0)","v":-121.514009999999},{"$f":"IFERROR(VLOOKUP($N56,PoleRange,2,FALSE),0)","v":39.528599999999898},159.65423999999999,null,{"$f":"IFERROR(VLOOKUP($O56,PoleRange,3,FALSE),0)","v":-121.514409999999},{"$f":"IFERROR(VLOOKUP($O56,PoleRange,2,FALSE),0)","v":39.527990000000003},160.08095999999966,null,{"$f":"IFERROR(VLOOKUP($N56,PoleRange,6,FALSE),0)","v":487.5},{"$f":"IFERROR(VLOOKUP($O56,PoleRange,6,FALSE),0)","v":487.39999999999901},{"$f":"IFERROR(VLOOKUP($N56,PoleRange,7,FALSE),0)","v":37.299999999999898},{"$f":"IFERROR(VLOOKUP($O56,PoleRange,7,FALSE),0)","v":38.799999999999898}]
[null,null,null,null,null,null,null,null,null,94,39.528300000000002,-121.53515,"Tier 2-3","W12153534N3952830","W12153496N3952831","W12153534N3952830-W12153496N3952831",105.4,2,94,{"$f":"COUNTIFS(TreeRange,S57,TreeFail,\"Yes\")*V57","v":0},0,1,{"$f":"COUNTIFS(TreeRange,S57,TreeOffset,\"Yes\")","v":0},0,{"$f":"IFERROR(VLOOKUP($N57,PoleRange,3,FALSE),0)","v":-121.53534000000001},{"$f":"IFERROR(VLOOKUP($N57,PoleRange,2,FALSE),0)","v":39.528300000000002},132.28319999999999,null,{"$f":"IFERROR(VLOOKUP($O57,PoleRange,3,FALSE),0)","v":-121.534959999999},{"$f":"IFERROR(VLOOKUP($O57,PoleRange,2,FALSE),0)","v":39.528309999999898},132.55751999999998,null,{"$f":"IFERROR(VLOOKUP($N57,PoleRange,6,FALSE),0)","v":399},{"$f":"IFERROR(VLOOKUP($O57,PoleRange,6,FALSE),0)","v":402.1},{"$f":"IFERROR(VLOOKUP($N57,PoleRange,7,FALSE),0)","v":36},{"$f":"IFERROR(VLOOKUP($O57,PoleRange,7,FALSE),0)","v":33.799999999999898}]
[null,null,null,null,null,null,null,null,null,95,39.528309999999898,-121.53462,"Tier 2-3","W12153427N3952831","W12153496N3952831","W12153427N3952831-W12153496N3952831",196.599999999999,2,95,{"$f":"COUNTIFS(TreeRange,S58,TreeFail,\"Yes\")*V58","v":0},0,1,{"$f":"COUNTIFS(TreeRange,S58,TreeOffset,\"Yes\")","v":0},0,{"$f":"IFERROR(VLOOKUP($N58,PoleRange,3,FALSE),0)","v":-121.53427000000001},{"$f":"IFERROR(VLOOKUP($N58,PoleRange,2,FALSE),0)","v":39.528309999999898},135.91032000000001,null,{"$f":"IFERROR(VLOOKUP($O58,PoleRange,3,FALSE),0)","v":-121.534959999999},{"$f":"IFERROR(VLOOKUP($O58,PoleRange,2,FALSE),0)","v":39.528309999999898},132.55751999999998,null,{"$f":"IFERROR(VLOOKUP($N58,PoleRange,6,FALSE),0)","v":413.8},{"$f":"IFERROR(VLOOKUP($O58,PoleRange,6,FALSE),0)","v":402.1},{"$f":"IFERROR(VLOOKUP($N58,PoleRange,7,FALSE),0)","v":33.1},{"$f":"IFERROR(VLOOKUP($O58,PoleRange,7,FALSE),0)","v":33.799999999999898}]
[null,null,null,null,null,null,null,null,null,96,39.528309999999898,-121.53403,"Tier 2-3","W12153379N3952832","W12153427N3952831","W12153379N3952832-W12153427N3952831",134,2,96,{"$f":"COUNTIFS(TreeRange,S59,TreeFail,\"Yes\")*V59","v":0},0,1,{"$f":"COUNTIFS(TreeRange,S59,TreeOffset,\"Yes\")","v":0},0,{"$f":"IFERROR(VLOOKUP($N59,PoleRange,3,FALSE),0)","v":-121.533789999999},{"$f":"IFERROR(VLOOKUP($N59,PoleRange,2,FALSE),0)","v":39.528320000000001},137.86104,null,{"$f":"IFERROR(VLOOKUP($O59,PoleRange,3,FALSE),0)","v":-121.53427000000001},{"$f":"IFERROR(VLOOKUP($O59,PoleRange,2,FALSE),0)","v":39.528309999999898},135.91032000000001,null,{"$f":"IFERROR(VLOOKUP($N59,PoleRange,6,FALSE),0)","v":419.8},{"$f":"IFERROR(VLOOKUP($O59,PoleRange,6,FALSE),0)","v":413.8},{"$f":"IFERROR(VLOOKUP($N59,PoleRange,7,FALSE),0)","v":33.5},{"$f":"IFERROR(VLOOKUP($O59,PoleRange,7,FALSE),0)","v":33.1}]
[null,null,null,null,null,null,null,null,null,97,39.528460000000003,-121.53054,"Tier 2-3","W12153054N3952815","W12153053N3952876","W12153054N3952815-W12153053N3952876",221.19999999999899,2,97,{"$f":"COUNTIFS(TreeRange,S60,TreeFail,\"Yes\")*V60","v":0},0,1,{"$f":"COUNTIFS(TreeRange,S60,TreeOffset,\"Yes\")","v":0},0,{"$f":"IFERROR(VLOOKUP($N60,PoleRange,3,FALSE),0)","v":-121.53054},{"$f":"IFERROR(VLOOKUP($N60,PoleRange,2,FALSE),0)","v":39.528149999999897},132.80136000000002,null,{"$f":"IFERROR(VLOOKUP($O60,PoleRange,3,FALSE),0)","v":-121.530529999999},{"$f":"IFERROR(VLOOKUP($O60,PoleRange,2,FALSE),0)","v":39.528759999999899},139.1107199999997,null,{"$f":"IFERROR(VLOOKUP($N60,PoleRange,6,FALSE),0)","v":398},{"$f":"IFERROR(VLOOKUP($O60,PoleRange,6,FALSE),0)","v":424.19999999999902},{"$f":"IFERROR(VLOOKUP($N60,PoleRange,7,FALSE),0)","v":38.700000000000003},{"$f":"IFERROR(VLOOKUP($O60,PoleRange,7,FALSE),0)","v":33.200000000000003}]
[null,null,null,null,null,null,null,null,null,98,39.528500000000001,-121.52715000000001,"Tier 2-3","W12152750N3952825","W12152680N3952875","W12152750N3952825-W12152680N3952875",268.39999999999901,2,98,{"$f":"COUNTIFS(TreeRange,S61,TreeFail,\"Yes\")*V61","v":0},0,1,{"$f":"COUNTIFS(TreeRange,S61,TreeOffset,\"Yes\")","v":0},0,{"$f":"IFERROR(VLOOKUP($N61,PoleRange,3,FALSE),0)","v":-121.5275},{"$f":"IFERROR(VLOOKUP($N61,PoleRange,2,FALSE),0)","v":39.52825},127.55880000000001,null,{"$f":"IFERROR(VLOOKUP($O61,PoleRange,3,FALSE),0)","v":-121.526799999999},{"$f":"IFERROR(VLOOKUP($O61,PoleRange,2,FALSE),0)","v":39.528750000000002},132.03935999999999,null,{"$f":"IFERROR(VLOOKUP($N61,PoleRange,6,FALSE),0)","v":384.3},{"$f":"IFERROR(VLOOKUP($O61,PoleRange,6,FALSE),0)","v":398.8},{"$f":"IFERROR(VLOOKUP($N61,PoleRange,7,FALSE),0)","v":35.200000000000003},{"$f":"IFERROR(VLOOKUP($O61,PoleRange,7,FALSE),0)","v":35.399999999999899}]
[null,null,null,null,null,null,null,null,null,99,39.528559999999899,-121.535349999999,"Tier 2-3","W12153534N3952830","W12153534N3952830","W12153534N3952830-W12153534N3952830",189.9,2,99,{"$f":"COUNTIFS(TreeRange,S62,TreeFail,\"Yes\")*V62","v":0},0,1,{"$f":"COUNTIFS(TreeRange,S62,TreeOffset,\"Yes\")","v":0},0,{"$f":"IFERROR(VLOOKUP($N62,PoleRange,3,FALSE),0)","v":-121.53534000000001},{"$f":"IFERROR(VLOOKUP($N62,PoleRange,2,FALSE),0)","v":39.528300000000002},132.28319999999999,null,{"$f":"IFERROR(VLOOKUP($O62,PoleRange,3,FALSE),0)","v":-121.53534000000001},{"$f":"IFERROR(VLOOKUP($O62,PoleRange,2,FALSE),0)","v":39.528300000000002},132.28319999999999,null,{"$f":"IFERROR(VLOOKUP($N62,PoleRange,6,FALSE),0)","v":399},{"$f":"IFERROR(VLOOKUP($O62,PoleRange,6,FALSE),0)","v":399},{"$f":"IFERROR(VLOOKUP($N62,PoleRange,7,FALSE),0)","v":36},{"$f":"IFERROR(VLOOKUP($O62,PoleRange,7,FALSE),0)","v":36}]
[null,null,null,null,null,null,null,null,null,100,39.52861,-121.51863,"Tier 2-3","W12151852N3952834","W12151873N3952887","W12151852N3952834-W12151873N3952887",200.8,2,100,{"$f":"COUNTIFS(TreeRange,S63,TreeFail,\"Yes\")*V63","v":0},0,1,{"$f":"COUNTIFS(TreeRange,S63,TreeOffset,\"Yes\")","v":0},0,{"$f":"IFERROR(VLOOKUP($N63,PoleRange,3,FALSE),0)","v":-121.518519999999},{"$f":"IFERROR(VLOOKUP($N63,PoleRange,2,FALSE),0)","v":39.52834},150.08351999999971,null,{"$f":"IFERROR(VLOOKUP($O63,PoleRange,3,FALSE),0)","v":-121.51873000000001},{"$f":"IFERROR(VLOOKUP($O63,PoleRange,2,FALSE),0)","v":39.528869999999898},150.99791999999999,null,{"$f":"IFERROR(VLOOKUP($N63,PoleRange,6,FALSE),0)","v":451.19999999999902},{"$f":"IFERROR(VLOOKUP($O63,PoleRange,6,FALSE),0)","v":457.6},{"$f":"IFERROR(VLOOKUP($N63,PoleRange,7,FALSE),0)","v":42.2},{"$f":"IFERROR(VLOOKUP($O63,PoleRange,7,FALSE),0)","v":38.799999999999898}]
[null,null,null,null,null,null,null,null,null,101,39.528640000000003,-121.532049999999,"Tier 2-3","W12153205N3952846","W12153206N3952881","W12153205N3952846-W12153206N3952881",129.099999999999,2,101,{"$f":"COUNTIFS(TreeRange,S64,TreeFail,\"Yes\")*V64","v":0},0,1,{"$f":"COUNTIFS(TreeRange,S64,TreeOffset,\"Yes\")","v":0},0,{"$f":"IFERROR(VLOOKUP($N64,PoleRange,3,FALSE),0)","v":-121.532049999999},{"$f":"IFERROR(VLOOKUP($N64,PoleRange,2,FALSE),0)","v":39.528460000000003},148.52904000000001,null,{"$f":"IFERROR(VLOOKUP($O64,PoleRange,3,FALSE),0)","v":-121.53206},{"$f":"IFERROR(VLOOKUP($O64,PoleRange,2,FALSE),0)","v":39.52881},158.95319999999967,null,{"$f":"IFERROR(VLOOKUP($N64,PoleRange,6,FALSE),0)","v":453.8},{"$f":"IFERROR(VLOOKUP($O64,PoleRange,6,FALSE),0)","v":485.19999999999902},{"$f":"IFERROR(VLOOKUP($N64,PoleRange,7,FALSE),0)","v":34.5},{"$f":"IFERROR(VLOOKUP($O64,PoleRange,7,FALSE),0)","v":37.299999999999898}]
[null,null,null,null,null,null,null,null,null,102,39.528820000000003,-121.5348,"Tier 2-3","W12153537N3952882","W12153422N3952882","W12153537N3952882-W12153422N3952882",324.39999999999901,2,102,{"$f":"COUNTIFS(TreeRange,S65,TreeFail,\"Yes\")*V65","v":0},0,1,{"$f":"COUNTIFS(TreeRange,S65,TreeOffset,\"Yes\")","v":0},0,{"$f":"IFERROR(VLOOKUP($N65,PoleRange,3,FALSE),0)","v":-121.53537},{"$f":"IFERROR(VLOOKUP($N65,PoleRange,2,FALSE),0)","v":39.528820000000003},132.46608000000001,null,{"$f":"IFERROR(VLOOKUP($O65,PoleRange,3,FALSE),0)","v":-121.53422},{"$f":"IFERROR(VLOOKUP($O65,PoleRange,2,FALSE),0)","v":39.528820000000003},139.93367999999998,null,{"$f":"IFERROR(VLOOKUP($N65,PoleRange,6,FALSE),0)","v":400},{"$f":"IFERROR(VLOOKUP($O65,PoleRange,6,FALSE),0)","v":421.3},{"$f":"IFERROR(VLOOKUP($N65,PoleRange,7,FALSE),0)","v":35.6},{"$f":"IFERROR(VLOOKUP($O65,PoleRange,7,FALSE),0)","v":38.799999999999898}]
[null,null,null,null,null,null,null,null,null,103,39.528820000000003,-121.533929999999,"Tier 2-3","W12153363N3952882","W12153422N3952882","W12153363N3952882-W12153422N3952882",165.4,2,103,{"$f":"COUNTIFS(TreeRange,S66,TreeFail,\"Yes\")*V66","v":0},0,1,{"$f":"COUNTIFS(TreeRange,S66,TreeOffset,\"Yes\")","v":0},0,{"$f":"IFERROR(VLOOKUP($N66,PoleRange,3,FALSE),0)","v":-121.53363},{"$f":"IFERROR(VLOOKUP($N66,PoleRange,2,FALSE),0)","v":39.528820000000003},142.89023999999972,null,{"$f":"IFERROR(VLOOKUP($O66,PoleRange,3,FALSE),0)","v":-121.53422},{"$f":"IFERROR(VLOOKUP($O66,PoleRange,2,FALSE),0)","v":39.528820000000003},139.93367999999998,null,{"$f":"IFERROR(VLOOKUP($N66,PoleRange,6,FALSE),0)","v":431.69999999999902},{"$f":"IFERROR(VLOOKUP($O66,PoleRange,6,FALSE),0)","v":421.3},{"$f":"IFERROR(VLOOKUP($N66,PoleRange,7,FALSE),0)","v":38.1},{"$f":"IFERROR(VLOOKUP($O66,PoleRange,7,FALSE),0)","v":38.799999999999898}]
[null,null,null,null,null,null,null,null,null,104,39.5289,-121.518919999999,"Tier 2-3","W12151873N3952887","W12151911N3952893","W12151873N3952887-W12151911N3952893",108.299999999999,2,104,{"$f":"COUNTIFS(TreeRange,S67,TreeFail,\"Yes\")*V67","v":0},0,1,{"$f":"COUNTIFS(TreeRange,S67,TreeOffset,\"Yes\")","v":0},0,{"$f":"IFERROR(VLOOKUP($N67,PoleRange,3,FALSE),0)","v":-121.51873000000001},{"$f":"IFERROR(VLOOKUP($N67,PoleRange,2,FALSE),0)","v":39.528869999999898},150.99791999999999,null,{"$f":"IFERROR(VLOOKUP($O67,PoleRange,3,FALSE),0)","v":-121.519109999999},{"$f":"IFERROR(VLOOKUP($O67,PoleRange,2,FALSE),0)","v":39.528930000000003},153.61920000000001,null,{"$f":"IFERROR(VLOOKUP($N67,PoleRange,6,FALSE),0)","v":457.6},{"$f":"IFERROR(VLOOKUP($O67,PoleRange,6,FALSE),0)","v":461.8},{"$f":"IFERROR(VLOOKUP($N67,PoleRange,7,FALSE),0)","v":38.799999999999898},{"$f":"IFERROR(VLOOKUP($O67,PoleRange,7,FALSE),0)","v":43.2}]
[null,null,null,null,null,null,null,null,null,105,39.528959999999898,-121.52638,"Tier 2-3","W12152680N3952875","W12152596N3952916","W12152680N3952875-W12152596N3952916",281,2,{"$f":"J68","v":105},{"$f":"COUNTIFS(TreeRange,S68,TreeFail,\"Yes\")*V68","v":0},{"$f":"IF(Q68<1,0,_xlfn.IFS(T68>15,3,T68>5,2,T68>0,1,T68=0,0))","v":0},{"$f":"Chk_wind($C$8,Y68,Z68,AC68,AD68)","v":1},{"$f":"COUNTIFS(TreeRange,S68,TreeOffset,\"Yes\")","v":0},{"$f":"IF(Q68<1,0,_xlfn.IFS(W68>15,3,W68>5,2,W68>0,1,W68=0,0))","v":0},{"$f":"IFERROR(VLOOKUP($N68,PoleRange,3,FALSE),0)","v":-121.526799999999},{"$f":"IFERROR(VLOOKUP($N68,PoleRange,2,FALSE),0)","v":39.528750000000002},{"$f":"(AG68+AI68-1)*0.3048","v":132.03935999999999},null,{"$f":"IFERROR(VLOOKUP($O68,PoleRange,3,FALSE),0)","v":-121.525959999999},{"$f":"IFERROR(VLOOKUP($O68,PoleRange,2,FALSE),0)","v":39.529159999999898},{"$f":"(AH68+AJ68-1)*0.3048","v":137.73911999999999},null,{"$f":"IFERROR(VLOOKUP($N68,PoleRange,6,FALSE),0)","v":398.8},{"$f":"IFERROR(VLOOKUP($O68,PoleRange,6,FALSE),0)","v":413},{"$f":"IFERROR(VLOOKUP($N68,PoleRange,7,FALSE),0)","v":35.399999999999899},{"$f":"IFERROR(VLOOKUP($O68,PoleRange,7,FALSE),0)","v":39.899999999999899}]
[null,null,null,null,null,null,null,null,null,106,39.528959999999898,-121.52033,"Tier 2-3","W12152053N3952877","W12152014N3952914","W12152053N3952877-W12152014N3952914",171.9,2,106,{"$f":"COUNTIFS(TreeRange,S69,TreeFail,\"Yes\")*V69","v":7},2,1,{"$f":"COUNTIFS(TreeRange,S69,TreeOffset,\"Yes\")","v":0},0,{"$f":"IFERROR(VLOOKUP($N69,PoleRange,3,FALSE),0)","v":-121.520529999999},{"$f":"IFERROR(VLOOKUP($N69,PoleRange,2,FALSE),0)","v":39.528770000000002},133.16712000000001,null,{"$f":"IFERROR(VLOOKUP($O69,PoleRange,3,FALSE),0)","v":-121.520139999999},{"$f":"IFERROR(VLOOKUP($O69,PoleRange,2,FALSE),0)","v":39.529139999999899},130.97256000000002,null,{"$f":"IFERROR(VLOOKUP($N69,PoleRange,6,FALSE),0)","v":400.3},{"$f":"IFERROR(VLOOKUP($O69,PoleRange,6,FALSE),0)","v":394.1},{"$f":"IFERROR(VLOOKUP($N69,PoleRange,7,FALSE),0)","v":37.6},{"$f":"IFERROR(VLOOKUP($O69,PoleRange,7,FALSE),0)","v":36.6}]
[null,null,null,null,null,null,null,null,null,107,39.529089999999897,-121.519229999999,"Tier 2-3","W12151936N3952926","W12151911N3952893","W12151936N3952926-W12151911N3952893",141.4,2,107,{"$f":"COUNTIFS(TreeRange,S70,TreeFail,\"Yes\")*V70","v":1},1,1,{"$f":"COUNTIFS(TreeRange,S70,TreeOffset,\"Yes\")","v":0},0,{"$f":"IFERROR(VLOOKUP($N70,PoleRange,3,FALSE),0)","v":-121.51936000000001},{"$f":"IFERROR(VLOOKUP($N70,PoleRange,2,FALSE),0)","v":39.529260000000001},145.96872000000002,null,{"$f":"IFERROR(VLOOKUP($O70,PoleRange,3,FALSE),0)","v":-121.519109999999},{"$f":"IFERROR(VLOOKUP($O70,PoleRange,2,FALSE),0)","v":39.528930000000003},153.61920000000001,null,{"$f":"IFERROR(VLOOKUP($N70,PoleRange,6,FALSE),0)","v":441.3},{"$f":"IFERROR(VLOOKUP($O70,PoleRange,6,FALSE),0)","v":461.8},{"$f":"IFERROR(VLOOKUP($N70,PoleRange,7,FALSE),0)","v":38.6},{"$f":"IFERROR(VLOOKUP($O70,PoleRange,7,FALSE),0)","v":43.2}]
[null,null,null,null,null,null,null,null,null,108,39.529200000000003,-121.51975,"Tier 2-3","W12152014N3952914","W12151936N3952926","W12152014N3952914-W12151936N3952926",225.099999999999,2,108,{"$f":"COUNTIFS(TreeRange,S71,TreeFail,\"Yes\")*V71","v":1},1,1,{"$f":"COUNTIFS(TreeRange,S71,TreeOffset,\"Yes\")","v":0},0,{"$f":"IFERROR(VLOOKUP($N71,PoleRange,3,FALSE),0)","v":-121.520139999999},{"$f":"IFERROR(VLOOKUP($N71,PoleRange,2,FALSE),0)","v":39.529139999999899},130.97256000000002,null,{"$f":"IFERROR(VLOOKUP($O71,PoleRange,3,FALSE),0)","v":-121.51936000000001},{"$f":"IFERROR(VLOOKUP($O71,PoleRange,2,FALSE),0)","v":39.529260000000001},145.96872000000002,null,{"$f":"IFERROR(VLOOKUP($N71,PoleRange,6,FALSE),0)","v":394.1},{"$f":"IFERROR(VLOOKUP($O71,PoleRange,6,FALSE),0)","v":441.3},{"$f":"IFERROR(VLOOKUP($N71,PoleRange,7,FALSE),0)","v":36.6},{"$f":"IFERROR(VLOOKUP($O71,PoleRange,7,FALSE),0)","v":38.6}]
[null,null,null,null,null,null,null,null,null,109,39.529269999999897,-121.53206,"Tier 2-3","W12153206N3952972","W12153206N3952881","W12153206N3952972-W12153206N3952881",332.19999999999902,2,109,{"$f":"COUNTIFS(TreeRange,S72,TreeFail,\"Yes\")*V72","v":0},0,1,{"$f":"COUNTIFS(TreeRange,S72,TreeOffset,\"Yes\")","v":0},0,{"$f":"IFERROR(VLOOKUP($N72,PoleRange,3,FALSE),0)","v":-121.53206},{"$f":"IFERROR(VLOOKUP($N72,PoleRange,2,FALSE),0)","v":39.529719999999898},141.67103999999972,null,{"$f":"IFERROR(VLOOKUP($O72,PoleRange,3,FALSE),0)","v":-121.53206},{"$f":"IFERROR(VLOOKUP($O72,PoleRange,2,FALSE),0)","v":39.52881},158.95319999999967,null,{"$f":"IFERROR(VLOOKUP($N72,PoleRange,6,FALSE),0)","v":435.69999999999902},{"$f":"IFERROR(VLOOKUP($O72,PoleRange,6,FALSE),0)","v":485.19999999999902},{"$f":"IFERROR(VLOOKUP($N72,PoleRange,7,FALSE),0)","v":30.1},{"$f":"IFERROR(VLOOKUP($O72,PoleRange,7,FALSE),0)","v":37.299999999999898}]
[null,null,null,null,null,null,null,null,null,110,39.529319999999899,-121.52552,"Tier 2-3","W12152596N3952916","W12152508N3952949","W12152596N3952916-W12152508N3952949",273.5,2,110,{"$f":"COUNTIFS(TreeRange,S73,TreeFail,\"Yes\")*V73","v":0},0,1,{"$f":"COUNTIFS(TreeRange,S73,TreeOffset,\"Yes\")","v":0},0,{"$f":"IFERROR(VLOOKUP($N73,PoleRange,3,FALSE),0)","v":-121.525959999999},{"$f":"IFERROR(VLOOKUP($N73,PoleRange,2,FALSE),0)","v":39.529159999999898},137.73911999999999,null,{"$f":"IFERROR(VLOOKUP($O73,PoleRange,3,FALSE),0)","v":-121.52508},{"$f":"IFERROR(VLOOKUP($O73,PoleRange,2,FALSE),0)","v":39.529490000000003},141.51863999999998,null,{"$f":"IFERROR(VLOOKUP($N73,PoleRange,6,FALSE),0)","v":413},{"$f":"IFERROR(VLOOKUP($O73,PoleRange,6,FALSE),0)","v":422},{"$f":"IFERROR(VLOOKUP($N73,PoleRange,7,FALSE),0)","v":39.899999999999899},{"$f":"IFERROR(VLOOKUP($O73,PoleRange,7,FALSE),0)","v":43.299999999999898}]
[null,null,null,null,null,null,null,null,null,111,39.529330000000002,-121.53537,"Tier 2-3","W12153538N3952985","W12153537N3952882","W12153538N3952985-W12153537N3952882",374.89999999999901,2,111,{"$f":"COUNTIFS(TreeRange,S74,TreeFail,\"Yes\")*V74","v":0},0,1,{"$f":"COUNTIFS(TreeRange,S74,TreeOffset,\"Yes\")","v":0},0,{"$f":"IFERROR(VLOOKUP($N74,PoleRange,3,FALSE),0)","v":-121.53538},{"$f":"IFERROR(VLOOKUP($N74,PoleRange,2,FALSE),0)","v":39.529850000000003},138.9888,null,{"$f":"IFERROR(VLOOKUP($O74,PoleRange,3,FALSE),0)","v":-121.53537},{"$f":"IFERROR(VLOOKUP($O74,PoleRange,2,FALSE),0)","v":39.528820000000003},132.46608000000001,null,{"$f":"IFERROR(VLOOKUP($N74,PoleRange,6,FALSE),0)","v":417.6},{"$f":"IFERROR(VLOOKUP($O74,PoleRange,6,FALSE),0)","v":400},{"$f":"IFERROR(VLOOKUP($N74,PoleRange,7,FALSE),0)","v":39.399999999999899},{"$f":"IFERROR(VLOOKUP($O74,PoleRange,7,FALSE),0)","v":35.6}]
[null,null,null,null,null,null,null,null,null,112,39.529449999999898,-121.525989999999,"Tier 2-3","W12152603N3952974","W12152596N3952916","W12152603N3952974-W12152596N3952916",210.19999999999899,2,112,{"$f":"COUNTIFS(TreeRange,S75,TreeFail,\"Yes\")*V75","v":0},0,1,{"$f":"COUNTIFS(TreeRange,S75,TreeOffset,\"Yes\")","v":0},0,{"$f":"IFERROR(VLOOKUP($N75,PoleRange,3,FALSE),0)","v":-121.52603000000001},{"$f":"IFERROR(VLOOKUP($N75,PoleRange,2,FALSE),0)","v":39.529739999999897},122.07239999999997,null,{"$f":"IFERROR(VLOOKUP($O75,PoleRange,3,FALSE),0)","v":-121.525959999999},{"$f":"IFERROR(VLOOKUP($O75,PoleRange,2,FALSE),0)","v":39.529159999999898},137.73911999999999,null,{"$f":"IFERROR(VLOOKUP($N75,PoleRange,6,FALSE),0)","v":371.3},{"$f":"IFERROR(VLOOKUP($O75,PoleRange,6,FALSE),0)","v":413},{"$f":"IFERROR(VLOOKUP($N75,PoleRange,7,FALSE),0)","v":30.1999999999999},{"$f":"IFERROR(VLOOKUP($O75,PoleRange,7,FALSE),0)","v":39.899999999999899}]
[null,null,null,null,null,null,null,null,null,113,39.529499999999899,-121.53131,"Tier 2-3","W12153133N3952927","W12153130N3952973","W12153133N3952927-W12153130N3952973",167.4,2,113,{"$f":"COUNTIFS(TreeRange,S76,TreeFail,\"Yes\")*V76","v":0},0,1,{"$f":"COUNTIFS(TreeRange,S76,TreeOffset,\"Yes\")","v":0},0,{"$f":"IFERROR(VLOOKUP($N76,PoleRange,3,FALSE),0)","v":-121.531329999999},{"$f":"IFERROR(VLOOKUP($N76,PoleRange,2,FALSE),0)","v":39.529269999999897},150.51023999999967,null,{"$f":"IFERROR(VLOOKUP($O76,PoleRange,3,FALSE),0)","v":-121.5313},{"$f":"IFERROR(VLOOKUP($O76,PoleRange,2,FALSE),0)","v":39.529730000000001},148.52904000000001,null,{"$f":"IFERROR(VLOOKUP($N76,PoleRange,6,FALSE),0)","v":460.89999999999901},{"$f":"IFERROR(VLOOKUP($O76,PoleRange,6,FALSE),0)","v":453.1},{"$f":"IFERROR(VLOOKUP($N76,PoleRange,7,FALSE),0)","v":33.899999999999899},{"$f":"IFERROR(VLOOKUP($O76,PoleRange,7,FALSE),0)","v":35.200000000000003}]
[null,null,null,null,null,null,null,null,null,114,39.529539999999898,-121.524609999999,"Tier 2-3","W12152508N3952949","W12152414N3952959","W12152508N3952949-W12152414N3952959",267.5,2,114,{"$f":"COUNTIFS(TreeRange,S77,TreeFail,\"Yes\")*V77","v":1},1,1,{"$f":"COUNTIFS(TreeRange,S77,TreeOffset,\"Yes\")","v":0},0,{"$f":"IFERROR(VLOOKUP($N77,PoleRange,3,FALSE),0)","v":-121.52508},{"$f":"IFERROR(VLOOKUP($N77,PoleRange,2,FALSE),0)","v":39.529490000000003},141.51863999999998,null,{"$f":"IFERROR(VLOOKUP($O77,PoleRange,3,FALSE),0)","v":-121.52414},{"$f":"IFERROR(VLOOKUP($O77,PoleRange,2,FALSE),0)","v":39.529589999999899},140.5432799999997,null,{"$f":"IFERROR(VLOOKUP($N77,PoleRange,6,FALSE),0)","v":422},{"$f":"IFERROR(VLOOKUP($O77,PoleRange,6,FALSE),0)","v":422.19999999999902},{"$f":"IFERROR(VLOOKUP($N77,PoleRange,7,FALSE),0)","v":43.299999999999898},{"$f":"IFERROR(VLOOKUP($O77,PoleRange,7,FALSE),0)","v":39.899999999999899}]
[null,null,null,null,null,null,null,null,null,115,39.529620000000001,-121.52382,"Tier 2-3","W12152414N3952959","W12152351N3952966","W12152414N3952959-W12152351N3952966",181.69999999999899,2,115,{"$f":"COUNTIFS(TreeRange,S78,TreeFail,\"Yes\")*V78","v":0},0,1,{"$f":"COUNTIFS(TreeRange,S78,TreeOffset,\"Yes\")","v":0},0,{"$f":"IFERROR(VLOOKUP($N78,PoleRange,3,FALSE),0)","v":-121.52414},{"$f":"IFERROR(VLOOKUP($N78,PoleRange,2,FALSE),0)","v":39.529589999999899},140.5432799999997,null,{"$f":"IFERROR(VLOOKUP($O78,PoleRange,3,FALSE),0)","v":-121.52351},{"$f":"IFERROR(VLOOKUP($O78,PoleRange,2,FALSE),0)","v":39.52966},140.45183999999972,null,{"$f":"IFERROR(VLOOKUP($N78,PoleRange,6,FALSE),0)","v":422.19999999999902},{"$f":"IFERROR(VLOOKUP($O78,PoleRange,6,FALSE),0)","v":422.19999999999902},{"$f":"IFERROR(VLOOKUP($N78,PoleRange,7,FALSE),0)","v":39.899999999999899},{"$f":"IFERROR(VLOOKUP($O78,PoleRange,7,FALSE),0)","v":39.6}]
[null,null,null,null,null,null,null,null,null,116,39.529719999999898,-121.533119999999,"Tier 2-3","W12153284N3952973","W12153340N3952972","W12153284N3952973-W12153340N3952972",156.19999999999899,2,116,{"$f":"COUNTIFS(TreeRange,S79,TreeFail,\"Yes\")*V79","v":0},0,1,{"$f":"COUNTIFS(TreeRange,S79,TreeOffset,\"Yes\")","v":0},0,{"$f":"IFERROR(VLOOKUP($N79,PoleRange,3,FALSE),0)","v":-121.532839999999},{"$f":"IFERROR(VLOOKUP($N79,PoleRange,2,FALSE),0)","v":39.529730000000001},138.6535199999997,null,{"$f":"IFERROR(VLOOKUP($O79,PoleRange,3,FALSE),0)","v":-121.5334},{"$f":"IFERROR(VLOOKUP($O79,PoleRange,2,FALSE),0)","v":39.529719999999898},135.72743999999969,null,{"$f":"IFERROR(VLOOKUP($N79,PoleRange,6,FALSE),0)","v":416.19999999999902},{"$f":"IFERROR(VLOOKUP($O79,PoleRange,6,FALSE),0)","v":408.39999999999901},{"$f":"IFERROR(VLOOKUP($N79,PoleRange,7,FALSE),0)","v":39.700000000000003},{"$f":"IFERROR(VLOOKUP($O79,PoleRange,7,FALSE),0)","v":37.899999999999899}]
[null,null,null,null,null,null,null,null,null,117,39.529719999999898,-121.53028,"Tier 2-3","W12153068N3952972","W12152988N3952972","W12153068N3952972-W12152988N3952972",225.69999999999899,2,117,{"$f":"COUNTIFS(TreeRange,S80,TreeFail,\"Yes\")*V80","v":2},1,1,{"$f":"COUNTIFS(TreeRange,S80,TreeOffset,\"Yes\")","v":0},0,{"$f":"IFERROR(VLOOKUP($N80,PoleRange,3,FALSE),0)","v":-121.53068},{"$f":"IFERROR(VLOOKUP($N80,PoleRange,2,FALSE),0)","v":39.529719999999898},150.05304000000001,null,{"$f":"IFERROR(VLOOKUP($O80,PoleRange,3,FALSE),0)","v":-121.52988000000001},{"$f":"IFERROR(VLOOKUP($O80,PoleRange,2,FALSE),0)","v":39.529719999999898},144.44471999999999,null,{"$f":"IFERROR(VLOOKUP($N80,PoleRange,6,FALSE),0)","v":455.6},{"$f":"IFERROR(VLOOKUP($O80,PoleRange,6,FALSE),0)","v":436},{"$f":"IFERROR(VLOOKUP($N80,PoleRange,7,FALSE),0)","v":37.700000000000003},{"$f":"IFERROR(VLOOKUP($O80,PoleRange,7,FALSE),0)","v":38.899999999999899}]
[null,null,null,null,null,null,null,null,null,118,39.529730000000001,-121.532449999999,"Tier 2-3","W12153284N3952973","W12153206N3952972","W12153284N3952973-W12153206N3952972",221.5,2,118,{"$f":"COUNTIFS(TreeRange,S81,TreeFail,\"Yes\")*V81","v":0},0,1,{"$f":"COUNTIFS(TreeRange,S81,TreeOffset,\"Yes\")","v":0},0,{"$f":"IFERROR(VLOOKUP($N81,PoleRange,3,FALSE),0)","v":-121.532839999999},{"$f":"IFERROR(VLOOKUP($N81,PoleRange,2,FALSE),0)","v":39.529730000000001},138.6535199999997,null,{"$f":"IFERROR(VLOOKUP($O81,PoleRange,3,FALSE),0)","v":-121.53206},{"$f":"IFERROR(VLOOKUP($O81,PoleRange,2,FALSE),0)","v":39.529719999999898},141.67103999999972,null,{"$f":"IFERROR(VLOOKUP($N81,PoleRange,6,FALSE),0)","v":416.19999999999902},{"$f":"IFERROR(VLOOKUP($O81,PoleRange,6,FALSE),0)","v":435.69999999999902},{"$f":"IFERROR(VLOOKUP($N81,PoleRange,7,FALSE),0)","v":39.700000000000003},{"$f":"IFERROR(VLOOKUP($O81,PoleRange,7,FALSE),0)","v":30.1}]
[null,null,null,null,null,null,null,null,null,119,39.529730000000001,-121.531679999999,"Tier 2-3","W12153206N3952972","W12153130N3952973","W12153206N3952972-W12153130N3952973",214,2,119,{"$f":"COUNTIFS(TreeRange,S82,TreeFail,\"Yes\")*V82","v":0},0,1,{"$f":"COUNTIFS(TreeRange,S82,TreeOffset,\"Yes\")","v":0},0,{"$f":"IFERROR(VLOOKUP($N82,PoleRange,3,FALSE),0)","v":-121.53206},{"$f":"IFERROR(VLOOKUP($N82,PoleRange,2,FALSE),0)","v":39.529719999999898},141.67103999999972,null,{"$f":"IFERROR(VLOOKUP($O82,PoleRange,3,FALSE),0)","v":-121.5313},{"$f":"IFERROR(VLOOKUP($O82,PoleRange,2,FALSE),0)","v":39.529730000000001},148.52904000000001,null,{"$f":"IFERROR(VLOOKUP($N82,PoleRange,6,FALSE),0)","v":435.69999999999902},{"$f":"IFERROR(VLOOKUP($O82,PoleRange,6,FALSE),0)","v":453.1},{"$f":"IFERROR(VLOOKUP($N82,PoleRange,7,FALSE),0)","v":30.1},{"$f":"IFERROR(VLOOKUP($O82,PoleRange,7,FALSE),0)","v":35.200000000000003}]
[null,null,null,null,null,null,null,null,null,120,39.529730000000001,-121.53099,"Tier 2-3","W12153130N3952973","W12153068N3952972","W12153130N3952973-W12153068N3952972",175.19999999999899,2,120,{"$f":"COUNTIFS(TreeRange,S83,TreeFail,\"Yes\")*V83","v":0},0,1,{"$f":"COUNTIFS(TreeRange,S83,TreeOffset,\"Yes\")","v":0},0,{"$f":"IFERROR(VLOOKUP($N83,PoleRange,3,FALSE),0)","v":-121.5313},{"$f":"IFERROR(VLOOKUP($N83,PoleRange,2,FALSE),0)","v":39.529730000000001},148.52904000000001,null,{"$f":"IFERROR(VLOOKUP($O83,PoleRange,3,FALSE),0)","v":-121.53068},{"$f":"IFERROR(VLOOKUP($O83,PoleRange,2,FALSE),0)","v":39.529719999999898},150.05304000000001,null,{"$f":"IFERROR(VLOOKUP($N83,PoleRange,6,FALSE),0)","v":453.1},{"$f":"IFERROR(VLOOKUP($O83,PoleRange,6,FALSE),0)","v":455.6},{"$f":"IFERROR(VLOOKUP($N83,PoleRange,7,FALSE),0)","v":35.200000000000003},{"$f":"IFERROR(VLOOKUP($O83,PoleRange,7,FALSE),0)","v":37.700000000000003}]
[null,null,null,null,null,null,null,null,null,121,39.529739999999897,-121.51971,"Tier 2-3","W12152005N3953021","W12151936N3952926","W12152005N3953021-W12151936N3952926",398,2,121,{"$f":"COUNTIFS(TreeRange,S84,TreeFail,\"Yes\")*V84","v":1},1,1,{"$f":"COUNTIFS(TreeRange,S84,TreeOffset,\"Yes\")","v":0},0,{"$f":"IFERROR(VLOOKUP($N84,PoleRange,3,FALSE),0)","v":-121.520049999999},{"$f":"IFERROR(VLOOKUP($N84,PoleRange,2,FALSE),0)","v":39.530209999999897},126.21767999999969,null,{"$f":"IFERROR(VLOOKUP($O84,PoleRange,3,FALSE),0)","v":-121.51936000000001},{"$f":"IFERROR(VLOOKUP($O84,PoleRange,2,FALSE),0)","v":39.529260000000001},145.96872000000002,null,{"$f":"IFERROR(VLOOKUP($N84,PoleRange,6,FALSE),0)","v":373.69999999999902},{"$f":"IFERROR(VLOOKUP($O84,PoleRange,6,FALSE),0)","v":441.3},{"$f":"IFERROR(VLOOKUP($N84,PoleRange,7,FALSE),0)","v":41.399999999999899},{"$f":"IFERROR(VLOOKUP($O84,PoleRange,7,FALSE),0)","v":38.6}]
[null,null,null,null,null,null,null,null,null,122,39.529789999999899,-121.523169999999,"Tier 2-3","W12152351N3952966","W12152284N3952992","W12152351N3952966-W12152284N3952992",210.69999999999899,2,122,{"$f":"COUNTIFS(TreeRange,S85,TreeFail,\"Yes\")*V85","v":0},0,1,{"$f":"COUNTIFS(TreeRange,S85,TreeOffset,\"Yes\")","v":0},0,{"$f":"IFERROR(VLOOKUP($N85,PoleRange,3,FALSE),0)","v":-121.52351},{"$f":"IFERROR(VLOOKUP($N85,PoleRange,2,FALSE),0)","v":39.52966},140.45183999999972,null,{"$f":"IFERROR(VLOOKUP($O85,PoleRange,3,FALSE),0)","v":-121.52284},{"$f":"IFERROR(VLOOKUP($O85,PoleRange,2,FALSE),0)","v":39.529919999999898},142.6768799999997,null,{"$f":"IFERROR(VLOOKUP($N85,PoleRange,6,FALSE),0)","v":422.19999999999902},{"$f":"IFERROR(VLOOKUP($O85,PoleRange,6,FALSE),0)","v":426.19999999999902},{"$f":"IFERROR(VLOOKUP($N85,PoleRange,7,FALSE),0)","v":39.6},{"$f":"IFERROR(VLOOKUP($O85,PoleRange,7,FALSE),0)","v":42.899999999999899}]
[null,null,null,null,null,null,null,null,null,123,39.529899999999898,-121.52091,"Tier 2-3","W12152091N3953014","W12152091N3952965","W12152091N3953014-W12152091N3952965",178.3,2,123,{"$f":"COUNTIFS(TreeRange,S86,TreeFail,\"Yes\")*V86","v":1},1,1,{"$f":"COUNTIFS(TreeRange,S86,TreeOffset,\"Yes\")","v":0},0,{"$f":"IFERROR(VLOOKUP($N86,PoleRange,3,FALSE),0)","v":-121.52091},{"$f":"IFERROR(VLOOKUP($N86,PoleRange,2,FALSE),0)","v":39.530140000000003},127.49783999999998,null,{"$f":"IFERROR(VLOOKUP($O86,PoleRange,3,FALSE),0)","v":-121.52091},{"$f":"IFERROR(VLOOKUP($O86,PoleRange,2,FALSE),0)","v":39.529649999999897},131.88695999999999,null,{"$f":"IFERROR(VLOOKUP($N86,PoleRange,6,FALSE),0)","v":384},{"$f":"IFERROR(VLOOKUP($O86,PoleRange,6,FALSE),0)","v":393.8},{"$f":"IFERROR(VLOOKUP($N86,PoleRange,7,FALSE),0)","v":35.299999999999898},{"$f":"IFERROR(VLOOKUP($O86,PoleRange,7,FALSE),0)","v":39.899999999999899}]
[null,null,null,null,null,null,null,null,null,124,39.5299499999999,-121.53206,"Tier 2-3","W12153206N3952972","W12153206N3953018","W12153206N3952972-W12153206N3953018",166.3,2,124,{"$f":"COUNTIFS(TreeRange,S87,TreeFail,\"Yes\")*V87","v":0},0,1,{"$f":"COUNTIFS(TreeRange,S87,TreeOffset,\"Yes\")","v":0},0,{"$f":"IFERROR(VLOOKUP($N87,PoleRange,3,FALSE),0)","v":-121.53206},{"$f":"IFERROR(VLOOKUP($N87,PoleRange,2,FALSE),0)","v":39.529719999999898},141.67103999999972,null,{"$f":"IFERROR(VLOOKUP($O87,PoleRange,3,FALSE),0)","v":-121.53206},{"$f":"IFERROR(VLOOKUP($O87,PoleRange,2,FALSE),0)","v":39.530180000000001},145.60296,null,{"$f":"IFERROR(VLOOKUP($N87,PoleRange,6,FALSE),0)","v":435.69999999999902},{"$f":"IFERROR(VLOOKUP($O87,PoleRange,6,FALSE),0)","v":444.3},{"$f":"IFERROR(VLOOKUP($N87,PoleRange,7,FALSE),0)","v":30.1},{"$f":"IFERROR(VLOOKUP($O87,PoleRange,7,FALSE),0)","v":34.399999999999899}]
[null,null,null,null,null,null,null,null,null,125,39.53002,-121.52234,"Tier 2-3","W12152184N3953012","W12152284N3952992","W12152184N3953012-W12152284N3952992",290.10000000000002,2,125,{"$f":"COUNTIFS(TreeRange,S88,TreeFail,\"Yes\")*V88","v":0},0,1,{"$f":"COUNTIFS(TreeRange,S88,TreeOffset,\"Yes\")","v":0},0,{"$f":"IFERROR(VLOOKUP($N88,PoleRange,3,FALSE),0)","v":-121.521839999999},{"$f":"IFERROR(VLOOKUP($N88,PoleRange,2,FALSE),0)","v":39.530119999999897},135.42263999999997,null,{"$f":"IFERROR(VLOOKUP($O88,PoleRange,3,FALSE),0)","v":-121.52284},{"$f":"IFERROR(VLOOKUP($O88,PoleRange,2,FALSE),0)","v":39.529919999999898},142.6768799999997,null,{"$f":"IFERROR(VLOOKUP($N88,PoleRange,6,FALSE),0)","v":406},{"$f":"IFERROR(VLOOKUP($O88,PoleRange,6,FALSE),0)","v":426.19999999999902},{"$f":"IFERROR(VLOOKUP($N88,PoleRange,7,FALSE),0)","v":39.299999999999898},{"$f":"IFERROR(VLOOKUP($O88,PoleRange,7,FALSE),0)","v":42.899999999999899}]
[null,null,null,null,null,null,null,null,null,126,39.53013,-121.521379999999,"Tier 2-3","W12152091N3953014","W12152184N3953012","W12152091N3953014-W12152184N3953012",264.5,2,126,{"$f":"COUNTIFS(TreeRange,S89,TreeFail,\"Yes\")*V89","v":0},0,1,{"$f":"COUNTIFS(TreeRange,S89,TreeOffset,\"Yes\")","v":0},0,{"$f":"IFERROR(VLOOKUP($N89,PoleRange,3,FALSE),0)","v":-121.52091},{"$f":"IFERROR(VLOOKUP($N89,PoleRange,2,FALSE),0)","v":39.530140000000003},127.49783999999998,null,{"$f":"IFERROR(VLOOKUP($O89,PoleRange,3,FALSE),0)","v":-121.521839999999},{"$f":"IFERROR(VLOOKUP($O89,PoleRange,2,FALSE),0)","v":39.530119999999897},135.42263999999997,null,{"$f":"IFERROR(VLOOKUP($N89,PoleRange,6,FALSE),0)","v":384},{"$f":"IFERROR(VLOOKUP($O89,PoleRange,6,FALSE),0)","v":406},{"$f":"IFERROR(VLOOKUP($N89,PoleRange,7,FALSE),0)","v":35.299999999999898},{"$f":"IFERROR(VLOOKUP($O89,PoleRange,7,FALSE),0)","v":39.299999999999898}]
[null,null,null,null,null,null,null,null,null,127,39.530180000000001,-121.52048000000001,"Tier 2-3","W12152005N3953021","W12152091N3953014","W12152005N3953021-W12152091N3953014",241.69999999999899,2,127,{"$f":"COUNTIFS(TreeRange,S90,TreeFail,\"Yes\")*V90","v":2},1,1,{"$f":"COUNTIFS(TreeRange,S90,TreeOffset,\"Yes\")","v":0},0,{"$f":"IFERROR(VLOOKUP($N90,PoleRange,3,FALSE),0)","v":-121.520049999999},{"$f":"IFERROR(VLOOKUP($N90,PoleRange,2,FALSE),0)","v":39.530209999999897},126.21767999999969,null,{"$f":"IFERROR(VLOOKUP($O90,PoleRange,3,FALSE),0)","v":-121.52091},{"$f":"IFERROR(VLOOKUP($O90,PoleRange,2,FALSE),0)","v":39.530140000000003},127.49783999999998,null,{"$f":"IFERROR(VLOOKUP($N90,PoleRange,6,FALSE),0)","v":373.69999999999902},{"$f":"IFERROR(VLOOKUP($O90,PoleRange,6,FALSE),0)","v":384},{"$f":"IFERROR(VLOOKUP($N90,PoleRange,7,FALSE),0)","v":41.399999999999899},{"$f":"IFERROR(VLOOKUP($O90,PoleRange,7,FALSE),0)","v":35.299999999999898}]
[null,null,null,null,null,null,null,null,null,128,39.530189999999898,-121.52603000000001,"Tier 2-3","W12152603N3953064","W12152603N3952974","W12152603N3953064-W12152603N3952974",329.1,2,128,{"$f":"COUNTIFS(TreeRange,S91,TreeFail,\"Yes\")*V91","v":0},0,1,{"$f":"COUNTIFS(TreeRange,S91,TreeOffset,\"Yes\")","v":0},0,{"$f":"IFERROR(VLOOKUP($N91,PoleRange,3,FALSE),0)","v":-121.52603000000001},{"$f":"IFERROR(VLOOKUP($N91,PoleRange,2,FALSE),0)","v":39.530639999999899},111.86159999999998,null,{"$f":"IFERROR(VLOOKUP($O91,PoleRange,3,FALSE),0)","v":-121.52603000000001},{"$f":"IFERROR(VLOOKUP($O91,PoleRange,2,FALSE),0)","v":39.529739999999897},122.07239999999997,null,{"$f":"IFERROR(VLOOKUP($N91,PoleRange,6,FALSE),0)","v":337.6},{"$f":"IFERROR(VLOOKUP($O91,PoleRange,6,FALSE),0)","v":371.3},{"$f":"IFERROR(VLOOKUP($N91,PoleRange,7,FALSE),0)","v":30.399999999999899},{"$f":"IFERROR(VLOOKUP($O91,PoleRange,7,FALSE),0)","v":30.1999999999999}]
[null,null,null,null,null,null,null,null,null,129,39.5302399999999,-121.53538,"Tier 2-3","W12153538N3952985","W12153538N3953063","W12153538N3952985-W12153538N3953063",283.3,2,129,{"$f":"COUNTIFS(TreeRange,S92,TreeFail,\"Yes\")*V92","v":0},0,1,{"$f":"COUNTIFS(TreeRange,S92,TreeOffset,\"Yes\")","v":0},0,{"$f":"IFERROR(VLOOKUP($N92,PoleRange,3,FALSE),0)","v":-121.53538},{"$f":"IFERROR(VLOOKUP($N92,PoleRange,2,FALSE),0)","v":39.529850000000003},138.9888,null,{"$f":"IFERROR(VLOOKUP($O92,PoleRange,3,FALSE),0)","v":-121.53538},{"$f":"IFERROR(VLOOKUP($O92,PoleRange,2,FALSE),0)","v":39.530630000000002},128.83896000000001,null,{"$f":"IFERROR(VLOOKUP($N92,PoleRange,6,FALSE),0)","v":417.6},{"$f":"IFERROR(VLOOKUP($O92,PoleRange,6,FALSE),0)","v":389.5},{"$f":"IFERROR(VLOOKUP($N92,PoleRange,7,FALSE),0)","v":39.399999999999899},{"$f":"IFERROR(VLOOKUP($O92,PoleRange,7,FALSE),0)","v":34.200000000000003}]
[null,null,null,null,null,null,null,null,null,130,39.5303299999999,-121.53206,"Tier 2-3","W12153206N3953018","W12153206N3953048","W12153206N3953018-W12153206N3953048",109.5,2,130,{"$f":"COUNTIFS(TreeRange,S93,TreeFail,\"Yes\")*V93","v":0},0,1,{"$f":"COUNTIFS(TreeRange,S93,TreeOffset,\"Yes\")","v":0},0,{"$f":"IFERROR(VLOOKUP($N93,PoleRange,3,FALSE),0)","v":-121.53206},{"$f":"IFERROR(VLOOKUP($N93,PoleRange,2,FALSE),0)","v":39.530180000000001},145.60296,null,{"$f":"IFERROR(VLOOKUP($O93,PoleRange,3,FALSE),0)","v":-121.53206},{"$f":"IFERROR(VLOOKUP($O93,PoleRange,2,FALSE),0)","v":39.530479999999898},145.05431999999999,null,{"$f":"IFERROR(VLOOKUP($N93,PoleRange,6,FALSE),0)","v":444.3},{"$f":"IFERROR(VLOOKUP($O93,PoleRange,6,FALSE),0)","v":441.5},{"$f":"IFERROR(VLOOKUP($N93,PoleRange,7,FALSE),0)","v":34.399999999999899},{"$f":"IFERROR(VLOOKUP($O93,PoleRange,7,FALSE),0)","v":35.399999999999899}]
[null,null,null,null,null,null,null,null,null,131,39.530470000000001,-121.533389999999,"Tier 2-3","W12153323N3953048","W12153355N3953046","W12153323N3953048-W12153355N3953046",90.599999999999895,2,131,{"$f":"COUNTIFS(TreeRange,S94,TreeFail,\"Yes\")*V94","v":0},0,1,{"$f":"COUNTIFS(TreeRange,S94,TreeOffset,\"Yes\")","v":0},0,{"$f":"IFERROR(VLOOKUP($N94,PoleRange,3,FALSE),0)","v":-121.53323},{"$f":"IFERROR(VLOOKUP($N94,PoleRange,2,FALSE),0)","v":39.530479999999898},133.3195199999997,null,{"$f":"IFERROR(VLOOKUP($O94,PoleRange,3,FALSE),0)","v":-121.53355000000001},{"$f":"IFERROR(VLOOKUP($O94,PoleRange,2,FALSE),0)","v":39.530459999999898},134.63016000000002,null,{"$f":"IFERROR(VLOOKUP($N94,PoleRange,6,FALSE),0)","v":405.19999999999902},{"$f":"IFERROR(VLOOKUP($O94,PoleRange,6,FALSE),0)","v":408.6},{"$f":"IFERROR(VLOOKUP($N94,PoleRange,7,FALSE),0)","v":33.200000000000003},{"$f":"IFERROR(VLOOKUP($O94,PoleRange,7,FALSE),0)","v":34.1}]
[null,null,null,null,null,null,null,null,null,132,39.530479999999898,-121.53296,"Tier 2-3","W12153269N3953048","W12153323N3953048","W12153269N3953048-W12153323N3953048",153.80000000000001,2,132,{"$f":"COUNTIFS(TreeRange,S95,TreeFail,\"Yes\")*V95","v":3},1,1,{"$f":"COUNTIFS(TreeRange,S95,TreeOffset,\"Yes\")","v":0},0,{"$f":"IFERROR(VLOOKUP($N95,PoleRange,3,FALSE),0)","v":-121.53269},{"$f":"IFERROR(VLOOKUP($N95,PoleRange,2,FALSE),0)","v":39.530479999999898},139.56791999999999,null,{"$f":"IFERROR(VLOOKUP($O95,PoleRange,3,FALSE),0)","v":-121.53323},{"$f":"IFERROR(VLOOKUP($O95,PoleRange,2,FALSE),0)","v":39.530479999999898},133.3195199999997,null,{"$f":"IFERROR(VLOOKUP($N95,PoleRange,6,FALSE),0)","v":423.6},{"$f":"IFERROR(VLOOKUP($O95,PoleRange,6,FALSE),0)","v":405.19999999999902},{"$f":"IFERROR(VLOOKUP($N95,PoleRange,7,FALSE),0)","v":35.299999999999898},{"$f":"IFERROR(VLOOKUP($O95,PoleRange,7,FALSE),0)","v":33.200000000000003}]
[null,null,null,null,null,null,null,null,null,133,39.530479999999898,-121.53238,"Tier 2-3","W12153269N3953048","W12153206N3953048","W12153269N3953048-W12153206N3953048",176.5,2,133,{"$f":"COUNTIFS(TreeRange,S96,TreeFail,\"Yes\")*V96","v":1},1,1,{"$f":"COUNTIFS(TreeRange,S96,TreeOffset,\"Yes\")","v":0},0,{"$f":"IFERROR(VLOOKUP($N96,PoleRange,3,FALSE),0)","v":-121.53269},{"$f":"IFERROR(VLOOKUP($N96,PoleRange,2,FALSE),0)","v":39.530479999999898},139.56791999999999,null,{"$f":"IFERROR(VLOOKUP($O96,PoleRange,3,FALSE),0)","v":-121.53206},{"$f":"IFERROR(VLOOKUP($O96,PoleRange,2,FALSE),0)","v":39.530479999999898},145.05431999999999,null,{"$f":"IFERROR(VLOOKUP($N96,PoleRange,6,FALSE),0)","v":423.6},{"$f":"IFERROR(VLOOKUP($O96,PoleRange,6,FALSE),0)","v":441.5},{"$f":"IFERROR(VLOOKUP($N96,PoleRange,7,FALSE),0)","v":35.299999999999898},{"$f":"IFERROR(VLOOKUP($O96,PoleRange,7,FALSE),0)","v":35.399999999999899}]
[null,null,null,null,null,null,null,null,null,134,39.530479999999898,-121.531809999999,"Tier 2-3","W12153157N3953048","W12153206N3953048","W12153157N3953048-W12153206N3953048",140.099999999999,2,134,{"$f":"COUNTIFS(TreeRange,S97,TreeFail,\"Yes\")*V97","v":0},0,1,{"$f":"COUNTIFS(TreeRange,S97,TreeOffset,\"Yes\")","v":0},0,{"$f":"IFERROR(VLOOKUP($N97,PoleRange,3,FALSE),0)","v":-121.53157},{"$f":"IFERROR(VLOOKUP($N97,PoleRange,2,FALSE),0)","v":39.530479999999898},146.54784000000001,null,{"$f":"IFERROR(VLOOKUP($O97,PoleRange,3,FALSE),0)","v":-121.53206},{"$f":"IFERROR(VLOOKUP($O97,PoleRange,2,FALSE),0)","v":39.530479999999898},145.05431999999999,null,{"$f":"IFERROR(VLOOKUP($N97,PoleRange,6,FALSE),0)","v":447.1},{"$f":"IFERROR(VLOOKUP($O97,PoleRange,6,FALSE),0)","v":441.5},{"$f":"IFERROR(VLOOKUP($N97,PoleRange,7,FALSE),0)","v":34.700000000000003},{"$f":"IFERROR(VLOOKUP($O97,PoleRange,7,FALSE),0)","v":35.399999999999899}]
[null,null,null,null,null,null,null,null,null,135,39.530479999999898,-121.53134,"Tier 2-3","W12153157N3953048","W12153111N3953048","W12153157N3953048-W12153111N3953048",128.80000000000001,2,135,{"$f":"COUNTIFS(TreeRange,S98,TreeFail,\"Yes\")*V98","v":0},0,1,{"$f":"COUNTIFS(TreeRange,S98,TreeOffset,\"Yes\")","v":0},0,{"$f":"IFERROR(VLOOKUP($N98,PoleRange,3,FALSE),0)","v":-121.53157},{"$f":"IFERROR(VLOOKUP($N98,PoleRange,2,FALSE),0)","v":39.530479999999898},146.54784000000001,null,{"$f":"IFERROR(VLOOKUP($O98,PoleRange,3,FALSE),0)","v":-121.531109999999},{"$f":"IFERROR(VLOOKUP($O98,PoleRange,2,FALSE),0)","v":39.530479999999898},146.24304000000001,null,{"$f":"IFERROR(VLOOKUP($N98,PoleRange,6,FALSE),0)","v":447.1},{"$f":"IFERROR(VLOOKUP($O98,PoleRange,6,FALSE),0)","v":451},{"$f":"IFERROR(VLOOKUP($N98,PoleRange,7,FALSE),0)","v":34.700000000000003},{"$f":"IFERROR(VLOOKUP($O98,PoleRange,7,FALSE),0)","v":29.8}]
[null,null,null,null,null,null,null,null,null,136,39.530549999999899,-121.519639999999,"Tier 2-3","W12152005N3953021","W12151923N3953089","W12152005N3953021-W12151923N3953089",336.89999999999901,2,136,{"$f":"COUNTIFS(TreeRange,S99,TreeFail,\"Yes\")*V99","v":2},1,1,{"$f":"COUNTIFS(TreeRange,S99,TreeOffset,\"Yes\")","v":0},0,{"$f":"IFERROR(VLOOKUP($N99,PoleRange,3,FALSE),0)","v":-121.520049999999},{"$f":"IFERROR(VLOOKUP($N99,PoleRange,2,FALSE),0)","v":39.530209999999897},126.21767999999969,null,{"$f":"IFERROR(VLOOKUP($O99,PoleRange,3,FALSE),0)","v":-121.519229999999},{"$f":"IFERROR(VLOOKUP($O99,PoleRange,2,FALSE),0)","v":39.5308899999999},120.18263999999968,null,{"$f":"IFERROR(VLOOKUP($N99,PoleRange,6,FALSE),0)","v":373.69999999999902},{"$f":"IFERROR(VLOOKUP($O99,PoleRange,6,FALSE),0)","v":361.39999999999901},{"$f":"IFERROR(VLOOKUP($N99,PoleRange,7,FALSE),0)","v":41.399999999999899},{"$f":"IFERROR(VLOOKUP($O99,PoleRange,7,FALSE),0)","v":33.899999999999899}]
[null,null,null,null,null,null,null,null,null,137,39.530630000000002,-121.538749999999,"Tier 2-3","W12153843N3953063","W12153908N3953063","W12153843N3953063-W12153908N3953063",182.3,2,137,{"$f":"COUNTIFS(TreeRange,S100,TreeFail,\"Yes\")*V100","v":0},0,1,{"$f":"COUNTIFS(TreeRange,S100,TreeOffset,\"Yes\")","v":0},0,{"$f":"IFERROR(VLOOKUP($N100,PoleRange,3,FALSE),0)","v":-121.53843000000001},{"$f":"IFERROR(VLOOKUP($N100,PoleRange,2,FALSE),0)","v":39.530630000000002},111.00815999999996,null,{"$f":"IFERROR(VLOOKUP($O100,PoleRange,3,FALSE),0)","v":-121.539079999999},{"$f":"IFERROR(VLOOKUP($O100,PoleRange,2,FALSE),0)","v":39.530630000000002},112.89792000000001,null,{"$f":"IFERROR(VLOOKUP($N100,PoleRange,6,FALSE),0)","v":334.5},{"$f":"IFERROR(VLOOKUP($O100,PoleRange,6,FALSE),0)","v":335.3},{"$f":"IFERROR(VLOOKUP($N100,PoleRange,7,FALSE),0)","v":30.6999999999999},{"$f":"IFERROR(VLOOKUP($O100,PoleRange,7,FALSE),0)","v":36.1}]
[null,null,null,null,null,null,null,null,null,138,39.530630000000002,-121.53807,"Tier 2-3","W12153843N3953063","W12153771N3953063","W12153843N3953063-W12153771N3953063",203.19999999999899,2,138,{"$f":"COUNTIFS(TreeRange,S101,TreeFail,\"Yes\")*V101","v":0},0,1,{"$f":"COUNTIFS(TreeRange,S101,TreeOffset,\"Yes\")","v":0},0,{"$f":"IFERROR(VLOOKUP($N101,PoleRange,3,FALSE),0)","v":-121.53843000000001},{"$f":"IFERROR(VLOOKUP($N101,PoleRange,2,FALSE),0)","v":39.530630000000002},111.00815999999996,null,{"$f":"IFERROR(VLOOKUP($O101,PoleRange,3,FALSE),0)","v":-121.53771},{"$f":"IFERROR(VLOOKUP($O101,PoleRange,2,FALSE),0)","v":39.530630000000002},109.33176,null,{"$f":"IFERROR(VLOOKUP($N101,PoleRange,6,FALSE),0)","v":334.5},{"$f":"IFERROR(VLOOKUP($O101,PoleRange,6,FALSE),0)","v":324.5},{"$f":"IFERROR(VLOOKUP($N101,PoleRange,7,FALSE),0)","v":30.6999999999999},{"$f":"IFERROR(VLOOKUP($O101,PoleRange,7,FALSE),0)","v":35.200000000000003}]
[null,null,null,null,null,null,null,null,null,139,39.530630000000002,-121.53713,"Tier 2-3","W12153655N3953063","W12153771N3953063","W12153655N3953063-W12153771N3953063",328.19999999999902,2,139,{"$f":"COUNTIFS(TreeRange,S102,TreeFail,\"Yes\")*V102","v":0},0,1,{"$f":"COUNTIFS(TreeRange,S102,TreeOffset,\"Yes\")","v":0},0,{"$f":"IFERROR(VLOOKUP($N102,PoleRange,3,FALSE),0)","v":-121.53655000000001},{"$f":"IFERROR(VLOOKUP($N102,PoleRange,2,FALSE),0)","v":39.530630000000002},116.03735999999968,null,{"$f":"IFERROR(VLOOKUP($O102,PoleRange,3,FALSE),0)","v":-121.53771},{"$f":"IFERROR(VLOOKUP($O102,PoleRange,2,FALSE),0)","v":39.530630000000002},109.33176,null,{"$f":"IFERROR(VLOOKUP($N102,PoleRange,6,FALSE),0)","v":346.89999999999901},{"$f":"IFERROR(VLOOKUP($O102,PoleRange,6,FALSE),0)","v":324.5},{"$f":"IFERROR(VLOOKUP($N102,PoleRange,7,FALSE),0)","v":34.799999999999898},{"$f":"IFERROR(VLOOKUP($O102,PoleRange,7,FALSE),0)","v":35.200000000000003}]
[null,null,null,null,null,null,null,null,null,140,39.530630000000002,-121.53596,"Tier 2-3","W12153655N3953063","W12153538N3953063","W12153655N3953063-W12153538N3953063",329.19999999999902,2,140,{"$f":"COUNTIFS(TreeRange,S103,TreeFail,\"Yes\")*V103","v":0},0,1,{"$f":"COUNTIFS(TreeRange,S103,TreeOffset,\"Yes\")","v":0},0,{"$f":"IFERROR(VLOOKUP($N103,PoleRange,3,FALSE),0)","v":-121.53655000000001},{"$f":"IFERROR(VLOOKUP($N103,PoleRange,2,FALSE),0)","v":39.530630000000002},116.03735999999968,null,{"$f":"IFERROR(VLOOKUP($O103,PoleRange,3,FALSE),0)","v":-121.53538},{"$f":"IFERROR(VLOOKUP($O103,PoleRange,2,FALSE),0)","v":39.530630000000002},128.83896000000001,null,{"$f":"IFERROR(VLOOKUP($N103,PoleRange,6,FALSE),0)","v":346.89999999999901},{"$f":"IFERROR(VLOOKUP($O103,PoleRange,6,FALSE),0)","v":389.5},{"$f":"IFERROR(VLOOKUP($N103,PoleRange,7,FALSE),0)","v":34.799999999999898},{"$f":"IFERROR(VLOOKUP($O103,PoleRange,7,FALSE),0)","v":34.200000000000003}]
[null,null,null,null,null,null,null,null,null,141,39.530720000000002,-121.53206,"Tier 2-3","W12153207N3953097","W12153206N3953048","W12153207N3953097-W12153206N3953048",177.19999999999899,2,141,{"$f":"COUNTIFS(TreeRange,S104,TreeFail,\"Yes\")*V104","v":2},1,1,{"$f":"COUNTIFS(TreeRange,S104,TreeOffset,\"Yes\")","v":0},0,{"$f":"IFERROR(VLOOKUP($N104,PoleRange,3,FALSE),0)","v":-121.53207},{"$f":"IFERROR(VLOOKUP($N104,PoleRange,2,FALSE),0)","v":39.530970000000003},141.67103999999969,null,{"$f":"IFERROR(VLOOKUP($O104,PoleRange,3,FALSE),0)","v":-121.53206},{"$f":"IFERROR(VLOOKUP($O104,PoleRange,2,FALSE),0)","v":39.530479999999898},145.05431999999999,null,{"$f":"IFERROR(VLOOKUP($N104,PoleRange,6,FALSE),0)","v":435.39999999999901},{"$f":"IFERROR(VLOOKUP($O104,PoleRange,6,FALSE),0)","v":441.5},{"$f":"IFERROR(VLOOKUP($N104,PoleRange,7,FALSE),0)","v":30.399999999999899},{"$f":"IFERROR(VLOOKUP($O104,PoleRange,7,FALSE),0)","v":35.399999999999899}]
[null,null,null,null,null,null,null,null,null,142,39.530760000000001,-121.53323,"Tier 2-3","W12153322N3953104","W12153323N3953048","W12153322N3953104-W12153323N3953048",201.19999999999899,2,142,{"$f":"COUNTIFS(TreeRange,S105,TreeFail,\"Yes\")*V105","v":0},0,1,{"$f":"COUNTIFS(TreeRange,S105,TreeOffset,\"Yes\")","v":0},0,{"$f":"IFERROR(VLOOKUP($N105,PoleRange,3,FALSE),0)","v":-121.53322},{"$f":"IFERROR(VLOOKUP($N105,PoleRange,2,FALSE),0)","v":39.531039999999898},136.79423999999972,null,{"$f":"IFERROR(VLOOKUP($O105,PoleRange,3,FALSE),0)","v":-121.53323},{"$f":"IFERROR(VLOOKUP($O105,PoleRange,2,FALSE),0)","v":39.530479999999898},133.3195199999997,null,{"$f":"IFERROR(VLOOKUP($N105,PoleRange,6,FALSE),0)","v":415.19999999999902},{"$f":"IFERROR(VLOOKUP($O105,PoleRange,6,FALSE),0)","v":405.19999999999902},{"$f":"IFERROR(VLOOKUP($N105,PoleRange,7,FALSE),0)","v":34.6},{"$f":"IFERROR(VLOOKUP($O105,PoleRange,7,FALSE),0)","v":33.200000000000003}]
[null,null,null,null,null,null,null,null,null,143,39.530830000000002,-121.539069999999,"Tier 2-3","W12153908N3953063","W12153907N3953103","W12153908N3953063-W12153907N3953103",147.69999999999899,2,143,{"$f":"COUNTIFS(TreeRange,S106,TreeFail,\"Yes\")*V106","v":1},1,1,{"$f":"COUNTIFS(TreeRange,S106,TreeOffset,\"Yes\")","v":0},0,{"$f":"IFERROR(VLOOKUP($N106,PoleRange,3,FALSE),0)","v":-121.539079999999},{"$f":"IFERROR(VLOOKUP($N106,PoleRange,2,FALSE),0)","v":39.530630000000002},112.89792000000001,null,{"$f":"IFERROR(VLOOKUP($O106,PoleRange,3,FALSE),0)","v":-121.539069999999},{"$f":"IFERROR(VLOOKUP($O106,PoleRange,2,FALSE),0)","v":39.531030000000001},115.18392000000001,null,{"$f":"IFERROR(VLOOKUP($N106,PoleRange,6,FALSE),0)","v":335.3},{"$f":"IFERROR(VLOOKUP($O106,PoleRange,6,FALSE),0)","v":348.8},{"$f":"IFERROR(VLOOKUP($N106,PoleRange,7,FALSE),0)","v":36.1},{"$f":"IFERROR(VLOOKUP($O106,PoleRange,7,FALSE),0)","v":30.1}]
[null,null,null,null,null,null,null,null,null,144,39.530830000000002,-121.53654,"Tier 2-3","W12153655N3953063","W12153654N3953103","W12153655N3953063-W12153654N3953103",148,2,144,{"$f":"COUNTIFS(TreeRange,S107,TreeFail,\"Yes\")*V107","v":1},1,1,{"$f":"COUNTIFS(TreeRange,S107,TreeOffset,\"Yes\")","v":0},0,{"$f":"IFERROR(VLOOKUP($N107,PoleRange,3,FALSE),0)","v":-121.53655000000001},{"$f":"IFERROR(VLOOKUP($N107,PoleRange,2,FALSE),0)","v":39.530630000000002},116.03735999999968,null,{"$f":"IFERROR(VLOOKUP($O107,PoleRange,3,FALSE),0)","v":-121.53654},{"$f":"IFERROR(VLOOKUP($O107,PoleRange,2,FALSE),0)","v":39.531030000000001},114.84864,null,{"$f":"IFERROR(VLOOKUP($N107,PoleRange,6,FALSE),0)","v":346.89999999999901},{"$f":"IFERROR(VLOOKUP($O107,PoleRange,6,FALSE),0)","v":339.6},{"$f":"IFERROR(VLOOKUP($N107,PoleRange,7,FALSE),0)","v":34.799999999999898},{"$f":"IFERROR(VLOOKUP($O107,PoleRange,7,FALSE),0)","v":38.200000000000003}]
[null,null,null,null,null,null,null,null,null,145,39.530999999999899,-121.51895,"Tier 2-3","W12151923N3953089","W12151868N3953111","W12151923N3953089-W12151868N3953111",177.599999999999,2,145,{"$f":"COUNTIFS(TreeRange,S108,TreeFail,\"Yes\")*V108","v":1},1,1,{"$f":"COUNTIFS(TreeRange,S108,TreeOffset,\"Yes\")","v":0},0,{"$f":"IFERROR(VLOOKUP($N108,PoleRange,3,FALSE),0)","v":-121.519229999999},{"$f":"IFERROR(VLOOKUP($N108,PoleRange,2,FALSE),0)","v":39.5308899999999},120.18263999999968,null,{"$f":"IFERROR(VLOOKUP($O108,PoleRange,3,FALSE),0)","v":-121.51868},{"$f":"IFERROR(VLOOKUP($O108,PoleRange,2,FALSE),0)","v":39.531109999999899},119.78639999999967,null,{"$f":"IFERROR(VLOOKUP($N108,PoleRange,6,FALSE),0)","v":361.39999999999901},{"$f":"IFERROR(VLOOKUP($O108,PoleRange,6,FALSE),0)","v":358.69999999999902},{"$f":"IFERROR(VLOOKUP($N108,PoleRange,7,FALSE),0)","v":33.899999999999899},{"$f":"IFERROR(VLOOKUP($O108,PoleRange,7,FALSE),0)","v":35.299999999999898}]
[null,null,null,null,null,null,null,null,null,146,39.531010000000002,-121.526039999999,"Tier 2-3","W12152604N3953139","W12152603N3953064","W12152604N3953139-W12152603N3953064",273.19999999999902,2,146,{"$f":"COUNTIFS(TreeRange,S109,TreeFail,\"Yes\")*V109","v":0},0,1,{"$f":"COUNTIFS(TreeRange,S109,TreeOffset,\"Yes\")","v":0},0,{"$f":"IFERROR(VLOOKUP($N109,PoleRange,3,FALSE),0)","v":-121.526039999999},{"$f":"IFERROR(VLOOKUP($N109,PoleRange,2,FALSE),0)","v":39.531390000000002},112.65408000000001,null,{"$f":"IFERROR(VLOOKUP($O109,PoleRange,3,FALSE),0)","v":-121.52603000000001},{"$f":"IFERROR(VLOOKUP($O109,PoleRange,2,FALSE),0)","v":39.530639999999899},111.86159999999998,null,{"$f":"IFERROR(VLOOKUP($N109,PoleRange,6,FALSE),0)","v":335.5},{"$f":"IFERROR(VLOOKUP($O109,PoleRange,6,FALSE),0)","v":337.6},{"$f":"IFERROR(VLOOKUP($N109,PoleRange,7,FALSE),0)","v":35.1},{"$f":"IFERROR(VLOOKUP($O109,PoleRange,7,FALSE),0)","v":30.399999999999899}]
[null,null,null,null,null,null,null,null,null,147,39.531210000000002,-121.519159999999,"Tier 2-3","W12151909N3953154","W12151923N3953089","W12151909N3953154-W12151923N3953089",240,2,147,{"$f":"COUNTIFS(TreeRange,S110,TreeFail,\"Yes\")*V110","v":0},0,1,{"$f":"COUNTIFS(TreeRange,S110,TreeOffset,\"Yes\")","v":0},0,{"$f":"IFERROR(VLOOKUP($N110,PoleRange,3,FALSE),0)","v":-121.51909000000001},{"$f":"IFERROR(VLOOKUP($N110,PoleRange,2,FALSE),0)","v":39.53154},121.88951999999971,null,{"$f":"IFERROR(VLOOKUP($O110,PoleRange,3,FALSE),0)","v":-121.519229999999},{"$f":"IFERROR(VLOOKUP($O110,PoleRange,2,FALSE),0)","v":39.5308899999999},120.18263999999968,null,{"$f":"IFERROR(VLOOKUP($N110,PoleRange,6,FALSE),0)","v":364.89999999999901},{"$f":"IFERROR(VLOOKUP($O110,PoleRange,6,FALSE),0)","v":361.39999999999901},{"$f":"IFERROR(VLOOKUP($N110,PoleRange,7,FALSE),0)","v":36},{"$f":"IFERROR(VLOOKUP($O110,PoleRange,7,FALSE),0)","v":33.899999999999899}]
[null,null,null,null,null,null,null,null,null,148,39.53125,-121.53206,"Tier 2-3","W12153207N3953097","W12153206N3953153","W12153207N3953097-W12153206N3953153",205.3,2,148,{"$f":"COUNTIFS(TreeRange,S111,TreeFail,\"Yes\")*V111","v":0},0,1,{"$f":"COUNTIFS(TreeRange,S111,TreeOffset,\"Yes\")","v":1},1,{"$f":"IFERROR(VLOOKUP($N111,PoleRange,3,FALSE),0)","v":-121.53207},{"$f":"IFERROR(VLOOKUP($N111,PoleRange,2,FALSE),0)","v":39.530970000000003},141.67103999999969,null,{"$f":"IFERROR(VLOOKUP($O111,PoleRange,3,FALSE),0)","v":-121.53206},{"$f":"IFERROR(VLOOKUP($O111,PoleRange,2,FALSE),0)","v":39.531529999999897},142.43303999999998,null,{"$f":"IFERROR(VLOOKUP($N111,PoleRange,6,FALSE),0)","v":435.39999999999901},{"$f":"IFERROR(VLOOKUP($O111,PoleRange,6,FALSE),0)","v":437.6},{"$f":"IFERROR(VLOOKUP($N111,PoleRange,7,FALSE),0)","v":30.399999999999899},{"$f":"IFERROR(VLOOKUP($O111,PoleRange,7,FALSE),0)","v":30.6999999999999}]
[null,null,null,null,null,null,null,null,null,149,39.5312699999999,-121.540719999999,"Tier 2-3","W12154060N3953123","W12154084N3953131","W12154060N3953123-W12154084N3953131",72.099999999999895,2,149,{"$f":"COUNTIFS(TreeRange,S112,TreeFail,\"Yes\")*V112","v":0},0,1,{"$f":"COUNTIFS(TreeRange,S112,TreeOffset,\"Yes\")","v":0},0,{"$f":"IFERROR(VLOOKUP($N112,PoleRange,3,FALSE),0)","v":-121.540599999999},{"$f":"IFERROR(VLOOKUP($N112,PoleRange,2,FALSE),0)","v":39.531230000000001},106.19231999999971,null,{"$f":"IFERROR(VLOOKUP($O112,PoleRange,3,FALSE),0)","v":-121.54084},{"$f":"IFERROR(VLOOKUP($O112,PoleRange,2,FALSE),0)","v":39.531309999999898},100.46207999999969,null,{"$f":"IFERROR(VLOOKUP($N112,PoleRange,6,FALSE),0)","v":319.89999999999901},{"$f":"IFERROR(VLOOKUP($O112,PoleRange,6,FALSE),0)","v":297.19999999999902},{"$f":"IFERROR(VLOOKUP($N112,PoleRange,7,FALSE),0)","v":29.5},{"$f":"IFERROR(VLOOKUP($O112,PoleRange,7,FALSE),0)","v":33.399999999999899}]
[null,null,null,null,null,null,null,null,null,150,39.5312699999999,-121.539069999999,"Tier 2-3","W12153907N3953103","W12153907N3953151","W12153907N3953103-W12153907N3953151",174.9,2,150,{"$f":"COUNTIFS(TreeRange,S113,TreeFail,\"Yes\")*V113","v":0},0,1,{"$f":"COUNTIFS(TreeRange,S113,TreeOffset,\"Yes\")","v":1},1,{"$f":"IFERROR(VLOOKUP($N113,PoleRange,3,FALSE),0)","v":-121.539069999999},{"$f":"IFERROR(VLOOKUP($N113,PoleRange,2,FALSE),0)","v":39.531030000000001},115.18392000000001,null,{"$f":"IFERROR(VLOOKUP($O113,PoleRange,3,FALSE),0)","v":-121.539069999999},{"$f":"IFERROR(VLOOKUP($O113,PoleRange,2,FALSE),0)","v":39.531509999999898},120.63983999999998,null,{"$f":"IFERROR(VLOOKUP($N113,PoleRange,6,FALSE),0)","v":348.8},{"$f":"IFERROR(VLOOKUP($O113,PoleRange,6,FALSE),0)","v":359},{"$f":"IFERROR(VLOOKUP($N113,PoleRange,7,FALSE),0)","v":30.1},{"$f":"IFERROR(VLOOKUP($O113,PoleRange,7,FALSE),0)","v":37.799999999999898}]
[null,null,null,null,null,null,null,null,null,151,39.531280000000002,-121.53654,"Tier 2-3","W12153654N3953154","W12153654N3953103","W12153654N3953154-W12153654N3953103",182.69999999999899,2,151,{"$f":"COUNTIFS(TreeRange,S114,TreeFail,\"Yes\")*V114","v":0},0,1,{"$f":"COUNTIFS(TreeRange,S114,TreeOffset,\"Yes\")","v":0},0,{"$f":"IFERROR(VLOOKUP($N114,PoleRange,3,FALSE),0)","v":-121.53654},{"$f":"IFERROR(VLOOKUP($N114,PoleRange,2,FALSE),0)","v":39.53154},113.75135999999968,null,{"$f":"IFERROR(VLOOKUP($O114,PoleRange,3,FALSE),0)","v":-121.53654},{"$f":"IFERROR(VLOOKUP($O114,PoleRange,2,FALSE),0)","v":39.531030000000001},114.84864,null,{"$f":"IFERROR(VLOOKUP($N114,PoleRange,6,FALSE),0)","v":339.89999999999901},{"$f":"IFERROR(VLOOKUP($O114,PoleRange,6,FALSE),0)","v":339.6},{"$f":"IFERROR(VLOOKUP($N114,PoleRange,7,FALSE),0)","v":34.299999999999898},{"$f":"IFERROR(VLOOKUP($O114,PoleRange,7,FALSE),0)","v":38.200000000000003}]
[null,null,null,null,null,null,null,null,null,152,39.531289999999899,-121.540409999999,"Tier 2-3","W12154060N3953123","W12154021N3953134","W12154060N3953123-W12154021N3953134",118.599999999999,2,152,{"$f":"COUNTIFS(TreeRange,S115,TreeFail,\"Yes\")*V115","v":0},0,1,{"$f":"COUNTIFS(TreeRange,S115,TreeOffset,\"Yes\")","v":0},0,{"$f":"IFERROR(VLOOKUP($N115,PoleRange,3,FALSE),0)","v":-121.540599999999},{"$f":"IFERROR(VLOOKUP($N115,PoleRange,2,FALSE),0)","v":39.531230000000001},106.19231999999971,null,{"$f":"IFERROR(VLOOKUP($O115,PoleRange,3,FALSE),0)","v":-121.54021},{"$f":"IFERROR(VLOOKUP($O115,PoleRange,2,FALSE),0)","v":39.53134},109.27079999999999,null,{"$f":"IFERROR(VLOOKUP($N115,PoleRange,6,FALSE),0)","v":319.89999999999901},{"$f":"IFERROR(VLOOKUP($O115,PoleRange,6,FALSE),0)","v":330.6},{"$f":"IFERROR(VLOOKUP($N115,PoleRange,7,FALSE),0)","v":29.5},{"$f":"IFERROR(VLOOKUP($O115,PoleRange,7,FALSE),0)","v":28.899999999999899}]
[null,null,null,null,null,null,null,null,null,153,39.53134,-121.51845,"Tier 2-3","W12151822N3953157","W12151868N3953111","W12151822N3953157-W12151868N3953111",210.9,2,153,{"$f":"COUNTIFS(TreeRange,S116,TreeFail,\"Yes\")*V116","v":0},0,1,{"$f":"COUNTIFS(TreeRange,S116,TreeOffset,\"Yes\")","v":0},0,{"$f":"IFERROR(VLOOKUP($N116,PoleRange,3,FALSE),0)","v":-121.518219999999},{"$f":"IFERROR(VLOOKUP($N116,PoleRange,2,FALSE),0)","v":39.531570000000002},117.89664,null,{"$f":"IFERROR(VLOOKUP($O116,PoleRange,3,FALSE),0)","v":-121.51868},{"$f":"IFERROR(VLOOKUP($O116,PoleRange,2,FALSE),0)","v":39.531109999999899},119.78639999999967,null,{"$f":"IFERROR(VLOOKUP($N116,PoleRange,6,FALSE),0)","v":344.1},{"$f":"IFERROR(VLOOKUP($O116,PoleRange,6,FALSE),0)","v":358.69999999999902},{"$f":"IFERROR(VLOOKUP($N116,PoleRange,7,FALSE),0)","v":43.7},{"$f":"IFERROR(VLOOKUP($O116,PoleRange,7,FALSE),0)","v":35.299999999999898}]
[null,null,null,null,null,null,null,null,null,154,39.53143,-121.539929999999,"Tier 2-3","W12153966N3953151","W12154021N3953134","W12153966N3953151-W12154021N3953134",168.19999999999899,2,154,{"$f":"COUNTIFS(TreeRange,S117,TreeFail,\"Yes\")*V117","v":2},1,1,{"$f":"COUNTIFS(TreeRange,S117,TreeOffset,\"Yes\")","v":1},1,{"$f":"IFERROR(VLOOKUP($N117,PoleRange,3,FALSE),0)","v":-121.539659999999},{"$f":"IFERROR(VLOOKUP($N117,PoleRange,2,FALSE),0)","v":39.531509999999898},116.22023999999972,null,{"$f":"IFERROR(VLOOKUP($O117,PoleRange,3,FALSE),0)","v":-121.54021},{"$f":"IFERROR(VLOOKUP($O117,PoleRange,2,FALSE),0)","v":39.53134},109.27079999999999,null,{"$f":"IFERROR(VLOOKUP($N117,PoleRange,6,FALSE),0)","v":343.69999999999902},{"$f":"IFERROR(VLOOKUP($O117,PoleRange,6,FALSE),0)","v":330.6},{"$f":"IFERROR(VLOOKUP($N117,PoleRange,7,FALSE),0)","v":38.6},{"$f":"IFERROR(VLOOKUP($O117,PoleRange,7,FALSE),0)","v":28.899999999999899}]
[null,null,null,null,null,null,null,null,null,155,39.531509999999898,-121.53936,"Tier 2-3","W12153966N3953151","W12153907N3953151","W12153966N3953151-W12153907N3953151",165.5,2,155,{"$f":"COUNTIFS(TreeRange,S118,TreeFail,\"Yes\")*V118","v":0},0,1,{"$f":"COUNTIFS(TreeRange,S118,TreeOffset,\"Yes\")","v":0},0,{"$f":"IFERROR(VLOOKUP($N118,PoleRange,3,FALSE),0)","v":-121.539659999999},{"$f":"IFERROR(VLOOKUP($N118,PoleRange,2,FALSE),0)","v":39.531509999999898},116.22023999999972,null,{"$f":"IFERROR(VLOOKUP($O118,PoleRange,3,FALSE),0)","v":-121.539069999999},{"$f":"IFERROR(VLOOKUP($O118,PoleRange,2,FALSE),0)","v":39.531509999999898},120.63983999999998,null,{"$f":"IFERROR(VLOOKUP($N118,PoleRange,6,FALSE),0)","v":343.69999999999902},{"$f":"IFERROR(VLOOKUP($O118,PoleRange,6,FALSE),0)","v":359},{"$f":"IFERROR(VLOOKUP($N118,PoleRange,7,FALSE),0)","v":38.6},{"$f":"IFERROR(VLOOKUP($O118,PoleRange,7,FALSE),0)","v":37.799999999999898}]
[null,null,null,null,null,null,null,null,null,156,39.531529999999897,-121.53233,"Tier 2-3","W12153261N3953152","W12153206N3953153","W12153261N3953152-W12153206N3953153",152.69999999999899,2,156,{"$f":"COUNTIFS(TreeRange,S119,TreeFail,\"Yes\")*V119","v":0},0,1,{"$f":"COUNTIFS(TreeRange,S119,TreeOffset,\"Yes\")","v":0},0,{"$f":"IFERROR(VLOOKUP($N119,PoleRange,3,FALSE),0)","v":-121.53261000000001},{"$f":"IFERROR(VLOOKUP($N119,PoleRange,2,FALSE),0)","v":39.53152},141.97583999999998,null,{"$f":"IFERROR(VLOOKUP($O119,PoleRange,3,FALSE),0)","v":-121.53206},{"$f":"IFERROR(VLOOKUP($O119,PoleRange,2,FALSE),0)","v":39.531529999999897},142.43303999999998,null,{"$f":"IFERROR(VLOOKUP($N119,PoleRange,6,FALSE),0)","v":428},{"$f":"IFERROR(VLOOKUP($O119,PoleRange,6,FALSE),0)","v":437.6},{"$f":"IFERROR(VLOOKUP($N119,PoleRange,7,FALSE),0)","v":38.799999999999898},{"$f":"IFERROR(VLOOKUP($O119,PoleRange,7,FALSE),0)","v":30.6999999999999}]
[null,null,null,null,null,null,null,null,null,157,39.53154,-121.53673000000001,"Tier 2-3","W12153654N3953154","W12153692N3953153","W12153654N3953154-W12153692N3953153",107.799999999999,2,157,{"$f":"COUNTIFS(TreeRange,S120,TreeFail,\"Yes\")*V120","v":0},0,1,{"$f":"COUNTIFS(TreeRange,S120,TreeOffset,\"Yes\")","v":0},0,{"$f":"IFERROR(VLOOKUP($N120,PoleRange,3,FALSE),0)","v":-121.53654},{"$f":"IFERROR(VLOOKUP($N120,PoleRange,2,FALSE),0)","v":39.53154},113.75135999999968,null,{"$f":"IFERROR(VLOOKUP($O120,PoleRange,3,FALSE),0)","v":-121.536919999999},{"$f":"IFERROR(VLOOKUP($O120,PoleRange,2,FALSE),0)","v":39.531529999999897},113.87328000000001,null,{"$f":"IFERROR(VLOOKUP($N120,PoleRange,6,FALSE),0)","v":339.89999999999901},{"$f":"IFERROR(VLOOKUP($O120,PoleRange,6,FALSE),0)","v":337},{"$f":"IFERROR(VLOOKUP($N120,PoleRange,7,FALSE),0)","v":34.299999999999898},{"$f":"IFERROR(VLOOKUP($O120,PoleRange,7,FALSE),0)","v":37.6}]
[null,null,null,null,null,null,null,null,null,158,39.53154,-121.53619,"Tier 2-3","W12153654N3953154","W12153585N3953154","W12153654N3953154-W12153585N3953154",195.19999999999899,2,158,{"$f":"COUNTIFS(TreeRange,S121,TreeFail,\"Yes\")*V121","v":0},0,1,{"$f":"COUNTIFS(TreeRange,S121,TreeOffset,\"Yes\")","v":0},0,{"$f":"IFERROR(VLOOKUP($N121,PoleRange,3,FALSE),0)","v":-121.53654},{"$f":"IFERROR(VLOOKUP($N121,PoleRange,2,FALSE),0)","v":39.53154},113.75135999999968,null,{"$f":"IFERROR(VLOOKUP($O121,PoleRange,3,FALSE),0)","v":-121.535849999999},{"$f":"IFERROR(VLOOKUP($O121,PoleRange,2,FALSE),0)","v":39.53154},120.18263999999968,null,{"$f":"IFERROR(VLOOKUP($N121,PoleRange,6,FALSE),0)","v":339.89999999999901},{"$f":"IFERROR(VLOOKUP($O121,PoleRange,6,FALSE),0)","v":355.89999999999901},{"$f":"IFERROR(VLOOKUP($N121,PoleRange,7,FALSE),0)","v":34.299999999999898},{"$f":"IFERROR(VLOOKUP($O121,PoleRange,7,FALSE),0)","v":39.399999999999899}]
[null,null,null,null,null,null,null,null,null,159,39.53154,-121.531769999999,"Tier 2-3","W12153147N3953155","W12153206N3953153","W12153147N3953155-W12153206N3953153",167.69999999999899,2,159,{"$f":"COUNTIFS(TreeRange,S122,TreeFail,\"Yes\")*V122","v":0},0,1,{"$f":"COUNTIFS(TreeRange,S122,TreeOffset,\"Yes\")","v":0},0,{"$f":"IFERROR(VLOOKUP($N122,PoleRange,3,FALSE),0)","v":-121.531469999999},{"$f":"IFERROR(VLOOKUP($N122,PoleRange,2,FALSE),0)","v":39.531550000000003},144.35327999999967,null,{"$f":"IFERROR(VLOOKUP($O122,PoleRange,3,FALSE),0)","v":-121.53206},{"$f":"IFERROR(VLOOKUP($O122,PoleRange,2,FALSE),0)","v":39.531529999999897},142.43303999999998,null,{"$f":"IFERROR(VLOOKUP($N122,PoleRange,6,FALSE),0)","v":444.69999999999902},{"$f":"IFERROR(VLOOKUP($O122,PoleRange,6,FALSE),0)","v":437.6},{"$f":"IFERROR(VLOOKUP($N122,PoleRange,7,FALSE),0)","v":29.899999999999899},{"$f":"IFERROR(VLOOKUP($O122,PoleRange,7,FALSE),0)","v":30.6999999999999}]
[null,null,null,null,null,null,null,null,null,160,39.531590000000001,-121.517939999999,"Tier 2-3","W12151765N3953162","W12151822N3953157","W12151765N3953162-W12151822N3953157",161.30000000000001,2,160,{"$f":"COUNTIFS(TreeRange,S123,TreeFail,\"Yes\")*V123","v":1},1,1,{"$f":"COUNTIFS(TreeRange,S123,TreeOffset,\"Yes\")","v":0},0,{"$f":"IFERROR(VLOOKUP($N123,PoleRange,3,FALSE),0)","v":-121.51765},{"$f":"IFERROR(VLOOKUP($N123,PoleRange,2,FALSE),0)","v":39.531619999999897},116.37263999999972,null,{"$f":"IFERROR(VLOOKUP($O123,PoleRange,3,FALSE),0)","v":-121.518219999999},{"$f":"IFERROR(VLOOKUP($O123,PoleRange,2,FALSE),0)","v":39.531570000000002},117.89664,null,{"$f":"IFERROR(VLOOKUP($N123,PoleRange,6,FALSE),0)","v":342.69999999999902},{"$f":"IFERROR(VLOOKUP($O123,PoleRange,6,FALSE),0)","v":344.1},{"$f":"IFERROR(VLOOKUP($N123,PoleRange,7,FALSE),0)","v":40.1},{"$f":"IFERROR(VLOOKUP($O123,PoleRange,7,FALSE),0)","v":43.7}]
[null,null,null,null,null,null,null,null,null,161,39.531709999999897,-121.526049999999,"Tier 2-3","W12152606N3953202","W12152604N3953139","W12152606N3953202-W12152604N3953139",231.19999999999899,2,161,{"$f":"COUNTIFS(TreeRange,S124,TreeFail,\"Yes\")*V124","v":0},0,1,{"$f":"COUNTIFS(TreeRange,S124,TreeOffset,\"Yes\")","v":0},0,{"$f":"IFERROR(VLOOKUP($N124,PoleRange,3,FALSE),0)","v":-121.52606},{"$f":"IFERROR(VLOOKUP($N124,PoleRange,2,FALSE),0)","v":39.532020000000003},115.97640000000001,null,{"$f":"IFERROR(VLOOKUP($O124,PoleRange,3,FALSE),0)","v":-121.526039999999},{"$f":"IFERROR(VLOOKUP($O124,PoleRange,2,FALSE),0)","v":39.531390000000002},112.65408000000001,null,{"$f":"IFERROR(VLOOKUP($N124,PoleRange,6,FALSE),0)","v":343.3},{"$f":"IFERROR(VLOOKUP($O124,PoleRange,6,FALSE),0)","v":335.5},{"$f":"IFERROR(VLOOKUP($N124,PoleRange,7,FALSE),0)","v":38.200000000000003},{"$f":"IFERROR(VLOOKUP($O124,PoleRange,7,FALSE),0)","v":35.1}]
[null,null,null,null,null,null,null,null,null,162,39.53172,-121.54085000000001,"Tier 2-3","W12154084N3953131","W12154086N3953214","W12154084N3953131-W12154086N3953214",302.60000000000002,2,162,{"$f":"COUNTIFS(TreeRange,S125,TreeFail,\"Yes\")*V125","v":2},1,1,{"$f":"COUNTIFS(TreeRange,S125,TreeOffset,\"Yes\")","v":0},0,{"$f":"IFERROR(VLOOKUP($N125,PoleRange,3,FALSE),0)","v":-121.54084},{"$f":"IFERROR(VLOOKUP($N125,PoleRange,2,FALSE),0)","v":39.531309999999898},100.46207999999969,null,{"$f":"IFERROR(VLOOKUP($O125,PoleRange,3,FALSE),0)","v":-121.540859999999},{"$f":"IFERROR(VLOOKUP($O125,PoleRange,2,FALSE),0)","v":39.532139999999899},95.890079999999685,null,{"$f":"IFERROR(VLOOKUP($N125,PoleRange,6,FALSE),0)","v":297.19999999999902},{"$f":"IFERROR(VLOOKUP($O125,PoleRange,6,FALSE),0)","v":280.69999999999902},{"$f":"IFERROR(VLOOKUP($N125,PoleRange,7,FALSE),0)","v":33.399999999999899},{"$f":"IFERROR(VLOOKUP($O125,PoleRange,7,FALSE),0)","v":34.899999999999899}]
[null,null,null,null,null,null,null,null,null,163,39.53172,-121.539069999999,"Tier 2-3","W12153907N3953151","W12153907N3953193","W12153907N3953151-W12153907N3953193",153.19999999999899,2,163,{"$f":"COUNTIFS(TreeRange,S126,TreeFail,\"Yes\")*V126","v":0},0,1,{"$f":"COUNTIFS(TreeRange,S126,TreeOffset,\"Yes\")","v":0},0,{"$f":"IFERROR(VLOOKUP($N126,PoleRange,3,FALSE),0)","v":-121.539069999999},{"$f":"IFERROR(VLOOKUP($N126,PoleRange,2,FALSE),0)","v":39.531509999999898},120.63983999999998,null,{"$f":"IFERROR(VLOOKUP($O126,PoleRange,3,FALSE),0)","v":-121.539069999999},{"$f":"IFERROR(VLOOKUP($O126,PoleRange,2,FALSE),0)","v":39.531930000000003},117.22607999999968,null,{"$f":"IFERROR(VLOOKUP($N126,PoleRange,6,FALSE),0)","v":359},{"$f":"IFERROR(VLOOKUP($O126,PoleRange,6,FALSE),0)","v":351.19999999999902},{"$f":"IFERROR(VLOOKUP($N126,PoleRange,7,FALSE),0)","v":37.799999999999898},{"$f":"IFERROR(VLOOKUP($O126,PoleRange,7,FALSE),0)","v":34.399999999999899}]
[null,null,null,null,null,null,null,null,null,164,39.53172,-121.53206,"Tier 2-3","W12153206N3953192","W12153206N3953153","W12153206N3953192-W12153206N3953153",140.599999999999,2,164,{"$f":"COUNTIFS(TreeRange,S127,TreeFail,\"Yes\")*V127","v":2},1,1,{"$f":"COUNTIFS(TreeRange,S127,TreeOffset,\"Yes\")","v":0},0,{"$f":"IFERROR(VLOOKUP($N127,PoleRange,3,FALSE),0)","v":-121.53206},{"$f":"IFERROR(VLOOKUP($N127,PoleRange,2,FALSE),0)","v":39.53192},144.71904000000001,null,{"$f":"IFERROR(VLOOKUP($O127,PoleRange,3,FALSE),0)","v":-121.53206},{"$f":"IFERROR(VLOOKUP($O127,PoleRange,2,FALSE),0)","v":39.531529999999897},142.43303999999998,null,{"$f":"IFERROR(VLOOKUP($N127,PoleRange,6,FALSE),0)","v":440.1},{"$f":"IFERROR(VLOOKUP($O127,PoleRange,6,FALSE),0)","v":437.6},{"$f":"IFERROR(VLOOKUP($N127,PoleRange,7,FALSE),0)","v":35.700000000000003},{"$f":"IFERROR(VLOOKUP($O127,PoleRange,7,FALSE),0)","v":30.6999999999999}]
[null,null,null,null,null,null,null,null,null,165,39.531820000000003,-121.53654,"Tier 2-3","W12153655N3953211","W12153654N3953154","W12153655N3953211-W12153654N3953154",209.599999999999,2,165,{"$f":"COUNTIFS(TreeRange,S128,TreeFail,\"Yes\")*V128","v":0},0,1,{"$f":"COUNTIFS(TreeRange,S128,TreeOffset,\"Yes\")","v":0},0,{"$f":"IFERROR(VLOOKUP($N128,PoleRange,3,FALSE),0)","v":-121.53655000000001},{"$f":"IFERROR(VLOOKUP($N128,PoleRange,2,FALSE),0)","v":39.532110000000003},116.95176000000002,null,{"$f":"IFERROR(VLOOKUP($O128,PoleRange,3,FALSE),0)","v":-121.53654},{"$f":"IFERROR(VLOOKUP($O128,PoleRange,2,FALSE),0)","v":39.53154},113.75135999999968,null,{"$f":"IFERROR(VLOOKUP($N128,PoleRange,6,FALSE),0)","v":351.1},{"$f":"IFERROR(VLOOKUP($O128,PoleRange,6,FALSE),0)","v":339.89999999999901},{"$f":"IFERROR(VLOOKUP($N128,PoleRange,7,FALSE),0)","v":33.6},{"$f":"IFERROR(VLOOKUP($O128,PoleRange,7,FALSE),0)","v":34.299999999999898}]
[null,null,null,null,null,null,null,null,null,166,39.532029999999899,-121.534189999999,"Tier 2-3","W12153419N3953235","W12153419N3953172","W12153419N3953235-W12153419N3953172",228.3,2,166,{"$f":"COUNTIFS(TreeRange,S129,TreeFail,\"Yes\")*V129","v":4},1,1,{"$f":"COUNTIFS(TreeRange,S129,TreeOffset,\"Yes\")","v":0},0,{"$f":"IFERROR(VLOOKUP($N129,PoleRange,3,FALSE),0)","v":-121.534189999999},{"$f":"IFERROR(VLOOKUP($N129,PoleRange,2,FALSE),0)","v":39.532350000000001},124.69368000000001,null,{"$f":"IFERROR(VLOOKUP($O129,PoleRange,3,FALSE),0)","v":-121.534189999999},{"$f":"IFERROR(VLOOKUP($O129,PoleRange,2,FALSE),0)","v":39.53172},126.27864000000001,null,{"$f":"IFERROR(VLOOKUP($N129,PoleRange,6,FALSE),0)","v":372.1},{"$f":"IFERROR(VLOOKUP($O129,PoleRange,6,FALSE),0)","v":375.8},{"$f":"IFERROR(VLOOKUP($N129,PoleRange,7,FALSE),0)","v":38},{"$f":"IFERROR(VLOOKUP($O129,PoleRange,7,FALSE),0)","v":39.5}]
[null,null,null,null,null,null,null,null,null,167,39.532179999999897,-121.53906000000001,"Tier 2-3","W12153907N3953193","W12153905N3953243","W12153907N3953193-W12153905N3953243",182.3,2,167,{"$f":"COUNTIFS(TreeRange,S130,TreeFail,\"Yes\")*V130","v":0},0,1,{"$f":"COUNTIFS(TreeRange,S130,TreeOffset,\"Yes\")","v":0},0,{"$f":"IFERROR(VLOOKUP($N130,PoleRange,3,FALSE),0)","v":-121.539069999999},{"$f":"IFERROR(VLOOKUP($N130,PoleRange,2,FALSE),0)","v":39.531930000000003},117.22607999999968,null,{"$f":"IFERROR(VLOOKUP($O130,PoleRange,3,FALSE),0)","v":-121.53905},{"$f":"IFERROR(VLOOKUP($O130,PoleRange,2,FALSE),0)","v":39.532429999999898},109.94135999999999,null,{"$f":"IFERROR(VLOOKUP($N130,PoleRange,6,FALSE),0)","v":351.19999999999902},{"$f":"IFERROR(VLOOKUP($O130,PoleRange,6,FALSE),0)","v":327.3},{"$f":"IFERROR(VLOOKUP($N130,PoleRange,7,FALSE),0)","v":34.399999999999899},{"$f":"IFERROR(VLOOKUP($O130,PoleRange,7,FALSE),0)","v":34.399999999999899}]
[null,null,null,null,null,null,null,null,null,168,39.53219,-121.53206,"Tier 2-3","W12153206N3953192","W12153205N3953245","W12153206N3953192-W12153205N3953245",195.5,2,168,{"$f":"COUNTIFS(TreeRange,S131,TreeFail,\"Yes\")*V131","v":1},1,1,{"$f":"COUNTIFS(TreeRange,S131,TreeOffset,\"Yes\")","v":0},0,{"$f":"IFERROR(VLOOKUP($N131,PoleRange,3,FALSE),0)","v":-121.53206},{"$f":"IFERROR(VLOOKUP($N131,PoleRange,2,FALSE),0)","v":39.53192},144.71904000000001,null,{"$f":"IFERROR(VLOOKUP($O131,PoleRange,3,FALSE),0)","v":-121.532049999999},{"$f":"IFERROR(VLOOKUP($O131,PoleRange,2,FALSE),0)","v":39.532449999999898},144.68856,null,{"$f":"IFERROR(VLOOKUP($N131,PoleRange,6,FALSE),0)","v":440.1},{"$f":"IFERROR(VLOOKUP($O131,PoleRange,6,FALSE),0)","v":441.3},{"$f":"IFERROR(VLOOKUP($N131,PoleRange,7,FALSE),0)","v":35.700000000000003},{"$f":"IFERROR(VLOOKUP($O131,PoleRange,7,FALSE),0)","v":34.399999999999899}]
[null,null,null,null,null,null,null,null,null,169,39.53219,-121.52606,"Tier 2-3","W12152605N3953235","W12152606N3953202","W12152605N3953235-W12152606N3953202",119.9,2,{"$f":"J132","v":169},{"$f":"COUNTIFS(TreeRange,S132,TreeFail,\"Yes\")*V132","v":0},{"$f":"IF(Q132<1,0,_xlfn.IFS(T132>15,3,T132>5,2,T132>0,1,T132=0,0))","v":0},{"$f":"Chk_wind($C$8,Y132,Z132,AC132,AD132)","v":1},{"$f":"COUNTIFS(TreeRange,S132,TreeOffset,\"Yes\")","v":0},{"$f":"IF(Q132<1,0,_xlfn.IFS(W132>15,3,W132>5,2,W132>0,1,W132=0,0))","v":0},{"$f":"IFERROR(VLOOKUP($N132,PoleRange,3,FALSE),0)","v":-121.526049999999},{"$f":"IFERROR(VLOOKUP($N132,PoleRange,2,FALSE),0)","v":39.532350000000001},{"$f":"(AG132+AI132-1)*0.3048","v":115.36680000000001},null,{"$f":"IFERROR(VLOOKUP($O132,PoleRange,3,FALSE),0)","v":-121.52606},{"$f":"IFERROR(VLOOKUP($O132,PoleRange,2,FALSE),0)","v":39.532020000000003},{"$f":"(AH132+AJ132-1)*0.3048","v":115.97640000000001},null,{"$f":"IFERROR(VLOOKUP($N132,PoleRange,6,FALSE),0)","v":343.8},{"$f":"IFERROR(VLOOKUP($O132,PoleRange,6,FALSE),0)","v":343.3},{"$f":"IFERROR(VLOOKUP($N132,PoleRange,7,FALSE),0)","v":35.700000000000003},{"$f":"IFERROR(VLOOKUP($O132,PoleRange,7,FALSE),0)","v":38.200000000000003}]
[null,null,null,null,null,null,null,null,null,170,39.53228,-121.53655000000001,"Tier 2-3","W12153655N3953245","W12153655N3953211","W12153655N3953245-W12153655N3953211",121.799999999999,2,170,{"$f":"COUNTIFS(TreeRange,S133,TreeFail,\"Yes\")*V133","v":0},0,1,{"$f":"COUNTIFS(TreeRange,S133,TreeOffset,\"Yes\")","v":0},0,{"$f":"IFERROR(VLOOKUP($N133,PoleRange,3,FALSE),0)","v":-121.53655000000001},{"$f":"IFERROR(VLOOKUP($N133,PoleRange,2,FALSE),0)","v":39.532449999999898},119.63399999999972,null,{"$f":"IFERROR(VLOOKUP($O133,PoleRange,3,FALSE),0)","v":-121.53655000000001},{"$f":"IFERROR(VLOOKUP($O133,PoleRange,2,FALSE),0)","v":39.532110000000003},116.95176000000002,null,{"$f":"IFERROR(VLOOKUP($N133,PoleRange,6,FALSE),0)","v":354.89999999999901},{"$f":"IFERROR(VLOOKUP($O133,PoleRange,6,FALSE),0)","v":351.1},{"$f":"IFERROR(VLOOKUP($N133,PoleRange,7,FALSE),0)","v":38.6},{"$f":"IFERROR(VLOOKUP($O133,PoleRange,7,FALSE),0)","v":33.6}]
[null,null,null,null,null,null,null,null,null,171,39.5322999999999,-121.536,"Tier 2-3","W12153644N3953230","W12153557N3953230","W12153644N3953230-W12153557N3953230",246.19999999999899,2,171,{"$f":"COUNTIFS(TreeRange,S134,TreeFail,\"Yes\")*V134","v":0},0,1,{"$f":"COUNTIFS(TreeRange,S134,TreeOffset,\"Yes\")","v":0},0,{"$f":"IFERROR(VLOOKUP($N134,PoleRange,3,FALSE),0)","v":-121.536439999999},{"$f":"IFERROR(VLOOKUP($N134,PoleRange,2,FALSE),0)","v":39.5322999999999},118.35383999999998,null,{"$f":"IFERROR(VLOOKUP($O134,PoleRange,3,FALSE),0)","v":-121.53557000000001},{"$f":"IFERROR(VLOOKUP($O134,PoleRange,2,FALSE),0)","v":39.5322999999999},120.09119999999972,null,{"$f":"IFERROR(VLOOKUP($N134,PoleRange,6,FALSE),0)","v":355.5},{"$f":"IFERROR(VLOOKUP($O134,PoleRange,6,FALSE),0)","v":362.89999999999901},{"$f":"IFERROR(VLOOKUP($N134,PoleRange,7,FALSE),0)","v":33.799999999999898},{"$f":"IFERROR(VLOOKUP($O134,PoleRange,7,FALSE),0)","v":32.1}]
[null,null,null,null,null,null,null,null,null,172,39.532319999999899,-121.53488,"Tier 2-3","W12153419N3953235","W12153557N3953230","W12153419N3953235-W12153557N3953230",388.6,2,172,{"$f":"COUNTIFS(TreeRange,S135,TreeFail,\"Yes\")*V135","v":0},0,1,{"$f":"COUNTIFS(TreeRange,S135,TreeOffset,\"Yes\")","v":0},0,{"$f":"IFERROR(VLOOKUP($N135,PoleRange,3,FALSE),0)","v":-121.534189999999},{"$f":"IFERROR(VLOOKUP($N135,PoleRange,2,FALSE),0)","v":39.532350000000001},124.69368000000001,null,{"$f":"IFERROR(VLOOKUP($O135,PoleRange,3,FALSE),0)","v":-121.53557000000001},{"$f":"IFERROR(VLOOKUP($O135,PoleRange,2,FALSE),0)","v":39.5322999999999},120.09119999999972,null,{"$f":"IFERROR(VLOOKUP($N135,PoleRange,6,FALSE),0)","v":372.1},{"$f":"IFERROR(VLOOKUP($O135,PoleRange,6,FALSE),0)","v":362.89999999999901},{"$f":"IFERROR(VLOOKUP($N135,PoleRange,7,FALSE),0)","v":38},{"$f":"IFERROR(VLOOKUP($O135,PoleRange,7,FALSE),0)","v":32.1}]
[null,null,null,null,null,null,null,null,null,173,39.53237,-121.53649,"Tier 2-3","W12153644N3953230","W12153655N3953245","W12153644N3953230-W12153655N3953245",61.7,2,173,{"$f":"COUNTIFS(TreeRange,S136,TreeFail,\"Yes\")*V136","v":0},0,1,{"$f":"COUNTIFS(TreeRange,S136,TreeOffset,\"Yes\")","v":0},0,{"$f":"IFERROR(VLOOKUP($N136,PoleRange,3,FALSE),0)","v":-121.536439999999},{"$f":"IFERROR(VLOOKUP($N136,PoleRange,2,FALSE),0)","v":39.5322999999999},118.35383999999998,null,{"$f":"IFERROR(VLOOKUP($O136,PoleRange,3,FALSE),0)","v":-121.53655000000001},{"$f":"IFERROR(VLOOKUP($O136,PoleRange,2,FALSE),0)","v":39.532449999999898},119.63399999999972,null,{"$f":"IFERROR(VLOOKUP($N136,PoleRange,6,FALSE),0)","v":355.5},{"$f":"IFERROR(VLOOKUP($O136,PoleRange,6,FALSE),0)","v":354.89999999999901},{"$f":"IFERROR(VLOOKUP($N136,PoleRange,7,FALSE),0)","v":33.799999999999898},{"$f":"IFERROR(VLOOKUP($O136,PoleRange,7,FALSE),0)","v":38.6}]
[null,null,null,null,null,null,null,null,null,174,39.532420000000002,-121.53161,"Tier 2-3","W12153117N3953239","W12153205N3953245","W12153117N3953239-W12153205N3953245",250.19999999999899,2,174,{"$f":"COUNTIFS(TreeRange,S137,TreeFail,\"Yes\")*V137","v":2},1,1,{"$f":"COUNTIFS(TreeRange,S137,TreeOffset,\"Yes\")","v":0},0,{"$f":"IFERROR(VLOOKUP($N137,PoleRange,3,FALSE),0)","v":-121.53117},{"$f":"IFERROR(VLOOKUP($N137,PoleRange,2,FALSE),0)","v":39.5323899999999},150.93696,null,{"$f":"IFERROR(VLOOKUP($O137,PoleRange,3,FALSE),0)","v":-121.532049999999},{"$f":"IFERROR(VLOOKUP($O137,PoleRange,2,FALSE),0)","v":39.532449999999898},144.68856,null,{"$f":"IFERROR(VLOOKUP($N137,PoleRange,6,FALSE),0)","v":456.5},{"$f":"IFERROR(VLOOKUP($O137,PoleRange,6,FALSE),0)","v":441.3},{"$f":"IFERROR(VLOOKUP($N137,PoleRange,7,FALSE),0)","v":39.700000000000003},{"$f":"IFERROR(VLOOKUP($O137,PoleRange,7,FALSE),0)","v":34.399999999999899}]
[null,null,null,null,null,null,null,null,null,175,39.532429999999898,-121.539339999999,"Tier 2-3","W12153963N3953242","W12153905N3953243","W12153963N3953242-W12153905N3953243",161.30000000000001,2,175,{"$f":"COUNTIFS(TreeRange,S138,TreeFail,\"Yes\")*V138","v":0},0,1,{"$f":"COUNTIFS(TreeRange,S138,TreeOffset,\"Yes\")","v":0},0,{"$f":"IFERROR(VLOOKUP($N138,PoleRange,3,FALSE),0)","v":-121.53963},{"$f":"IFERROR(VLOOKUP($N138,PoleRange,2,FALSE),0)","v":39.532420000000002},105.70463999999971,null,{"$f":"IFERROR(VLOOKUP($O138,PoleRange,3,FALSE),0)","v":-121.53905},{"$f":"IFERROR(VLOOKUP($O138,PoleRange,2,FALSE),0)","v":39.532429999999898},109.94135999999999,null,{"$f":"IFERROR(VLOOKUP($N138,PoleRange,6,FALSE),0)","v":315.19999999999902},{"$f":"IFERROR(VLOOKUP($O138,PoleRange,6,FALSE),0)","v":327.3},{"$f":"IFERROR(VLOOKUP($N138,PoleRange,7,FALSE),0)","v":32.6},{"$f":"IFERROR(VLOOKUP($O138,PoleRange,7,FALSE),0)","v":34.399999999999899}]
[null,null,null,null,null,null,null,null,null,176,39.532440000000001,-121.538579999999,"Tier 2-3","W12153810N3953244","W12153905N3953243","W12153810N3953244-W12153905N3953243",270.10000000000002,2,176,{"$f":"COUNTIFS(TreeRange,S139,TreeFail,\"Yes\")*V139","v":9},2,1,{"$f":"COUNTIFS(TreeRange,S139,TreeOffset,\"Yes\")","v":4},1,{"$f":"IFERROR(VLOOKUP($N139,PoleRange,3,FALSE),0)","v":-121.5381},{"$f":"IFERROR(VLOOKUP($N139,PoleRange,2,FALSE),0)","v":39.532440000000001},119.57303999999968,null,{"$f":"IFERROR(VLOOKUP($O139,PoleRange,3,FALSE),0)","v":-121.53905},{"$f":"IFERROR(VLOOKUP($O139,PoleRange,2,FALSE),0)","v":39.532429999999898},109.94135999999999,null,{"$f":"IFERROR(VLOOKUP($N139,PoleRange,6,FALSE),0)","v":359.89999999999901},{"$f":"IFERROR(VLOOKUP($O139,PoleRange,6,FALSE),0)","v":327.3},{"$f":"IFERROR(VLOOKUP($N139,PoleRange,7,FALSE),0)","v":33.399999999999899},{"$f":"IFERROR(VLOOKUP($O139,PoleRange,7,FALSE),0)","v":34.399999999999899}]
[null,null,null,null,null,null,null,null,null,177,39.532490000000003,-121.54079,"Tier 2-3","W12154086N3953214","W12154073N3953285","W12154086N3953214-W12154073N3953285",261,2,177,{"$f":"COUNTIFS(TreeRange,S140,TreeFail,\"Yes\")*V140","v":0},0,1,{"$f":"COUNTIFS(TreeRange,S140,TreeOffset,\"Yes\")","v":0},0,{"$f":"IFERROR(VLOOKUP($N140,PoleRange,3,FALSE),0)","v":-121.540859999999},{"$f":"IFERROR(VLOOKUP($N140,PoleRange,2,FALSE),0)","v":39.532139999999899},95.890079999999685,null,{"$f":"IFERROR(VLOOKUP($O140,PoleRange,3,FALSE),0)","v":-121.540729999999},{"$f":"IFERROR(VLOOKUP($O140,PoleRange,2,FALSE),0)","v":39.532850000000003},99.303839999999681,null,{"$f":"IFERROR(VLOOKUP($N140,PoleRange,6,FALSE),0)","v":280.69999999999902},{"$f":"IFERROR(VLOOKUP($O140,PoleRange,6,FALSE),0)","v":293.89999999999901},{"$f":"IFERROR(VLOOKUP($N140,PoleRange,7,FALSE),0)","v":34.899999999999899},{"$f":"IFERROR(VLOOKUP($O140,PoleRange,7,FALSE),0)","v":32.899999999999899}]
[null,null,null,null,null,null,null,null,null,178,39.532600000000002,-121.526049999999,"Tier 2-3","W12152605N3953235","W12152605N3953285","W12152605N3953235-W12152605N3953285",180.3,2,178,{"$f":"COUNTIFS(TreeRange,S141,TreeFail,\"Yes\")*V141","v":1},1,1,{"$f":"COUNTIFS(TreeRange,S141,TreeOffset,\"Yes\")","v":0},0,{"$f":"IFERROR(VLOOKUP($N141,PoleRange,3,FALSE),0)","v":-121.526049999999},{"$f":"IFERROR(VLOOKUP($N141,PoleRange,2,FALSE),0)","v":39.532350000000001},115.36680000000001,null,{"$f":"IFERROR(VLOOKUP($O141,PoleRange,3,FALSE),0)","v":-121.526049999999},{"$f":"IFERROR(VLOOKUP($O141,PoleRange,2,FALSE),0)","v":39.532850000000003},113.6599199999997,null,{"$f":"IFERROR(VLOOKUP($N141,PoleRange,6,FALSE),0)","v":343.8},{"$f":"IFERROR(VLOOKUP($O141,PoleRange,6,FALSE),0)","v":335.19999999999902},{"$f":"IFERROR(VLOOKUP($N141,PoleRange,7,FALSE),0)","v":35.700000000000003},{"$f":"IFERROR(VLOOKUP($O141,PoleRange,7,FALSE),0)","v":38.700000000000003}]
[null,null,null,null,null,null,null,null,null,179,39.532629999999898,-121.53906000000001,"Tier 2-3","W12153905N3953243","W12153906N3953282","W12153905N3953243-W12153906N3953282",140.4,2,179,{"$f":"COUNTIFS(TreeRange,S142,TreeFail,\"Yes\")*V142","v":0},0,1,{"$f":"COUNTIFS(TreeRange,S142,TreeOffset,\"Yes\")","v":0},0,{"$f":"IFERROR(VLOOKUP($N142,PoleRange,3,FALSE),0)","v":-121.53905},{"$f":"IFERROR(VLOOKUP($N142,PoleRange,2,FALSE),0)","v":39.532429999999898},109.94135999999999,null,{"$f":"IFERROR(VLOOKUP($O142,PoleRange,3,FALSE),0)","v":-121.53906000000001},{"$f":"IFERROR(VLOOKUP($O142,PoleRange,2,FALSE),0)","v":39.532820000000001},104.75976000000001,null,{"$f":"IFERROR(VLOOKUP($N142,PoleRange,6,FALSE),0)","v":327.3},{"$f":"IFERROR(VLOOKUP($O142,PoleRange,6,FALSE),0)","v":311.60000000000002},{"$f":"IFERROR(VLOOKUP($N142,PoleRange,7,FALSE),0)","v":34.399999999999899},{"$f":"IFERROR(VLOOKUP($O142,PoleRange,7,FALSE),0)","v":33.1}]
[null,null,null,null,null,null,null,null,null,180,39.532640000000001,-121.53655000000001,"Tier 2-3","W12153655N3953245","W12153655N3953283","W12153655N3953245-W12153655N3953283",141.5,2,180,{"$f":"COUNTIFS(TreeRange,S143,TreeFail,\"Yes\")*V143","v":0},0,1,{"$f":"COUNTIFS(TreeRange,S143,TreeOffset,\"Yes\")","v":0},0,{"$f":"IFERROR(VLOOKUP($N143,PoleRange,3,FALSE),0)","v":-121.53655000000001},{"$f":"IFERROR(VLOOKUP($N143,PoleRange,2,FALSE),0)","v":39.532449999999898},119.63399999999972,null,{"$f":"IFERROR(VLOOKUP($O143,PoleRange,3,FALSE),0)","v":-121.53655000000001},{"$f":"IFERROR(VLOOKUP($O143,PoleRange,2,FALSE),0)","v":39.532829999999898},117.04320000000001,null,{"$f":"IFERROR(VLOOKUP($N143,PoleRange,6,FALSE),0)","v":354.89999999999901},{"$f":"IFERROR(VLOOKUP($O143,PoleRange,6,FALSE),0)","v":350.5},{"$f":"IFERROR(VLOOKUP($N143,PoleRange,7,FALSE),0)","v":38.6},{"$f":"IFERROR(VLOOKUP($O143,PoleRange,7,FALSE),0)","v":34.5}]
[null,null,null,null,null,null,null,null,null,181,39.532649999999897,-121.532049999999,"Tier 2-3","W12153205N3953245","W12153205N3953285","W12153205N3953245-W12153205N3953285",144.599999999999,2,181,{"$f":"COUNTIFS(TreeRange,S144,TreeFail,\"Yes\")*V144","v":0},0,1,{"$f":"COUNTIFS(TreeRange,S144,TreeOffset,\"Yes\")","v":0},0,{"$f":"IFERROR(VLOOKUP($N144,PoleRange,3,FALSE),0)","v":-121.532049999999},{"$f":"IFERROR(VLOOKUP($N144,PoleRange,2,FALSE),0)","v":39.532449999999898},144.68856,null,{"$f":"IFERROR(VLOOKUP($O144,PoleRange,3,FALSE),0)","v":-121.532049999999},{"$f":"IFERROR(VLOOKUP($O144,PoleRange,2,FALSE),0)","v":39.532850000000003},140.26895999999999,null,{"$f":"IFERROR(VLOOKUP($N144,PoleRange,6,FALSE),0)","v":441.3},{"$f":"IFERROR(VLOOKUP($O144,PoleRange,6,FALSE),0)","v":421.5},{"$f":"IFERROR(VLOOKUP($N144,PoleRange,7,FALSE),0)","v":34.399999999999899},{"$f":"IFERROR(VLOOKUP($O144,PoleRange,7,FALSE),0)","v":39.700000000000003}]
[null,null,null,null,null,null,null,null,null,182,39.532670000000003,-121.534199999999,"Tier 2-3","W12153421N3953300","W12153419N3953235","W12153421N3953300-W12153419N3953235",237.3,2,182,{"$f":"COUNTIFS(TreeRange,S145,TreeFail,\"Yes\")*V145","v":0},0,1,{"$f":"COUNTIFS(TreeRange,S145,TreeOffset,\"Yes\")","v":0},0,{"$f":"IFERROR(VLOOKUP($N145,PoleRange,3,FALSE),0)","v":-121.53421},{"$f":"IFERROR(VLOOKUP($N145,PoleRange,2,FALSE),0)","v":39.533000000000001},132.83183999999997,null,{"$f":"IFERROR(VLOOKUP($O145,PoleRange,3,FALSE),0)","v":-121.534189999999},{"$f":"IFERROR(VLOOKUP($O145,PoleRange,2,FALSE),0)","v":39.532350000000001},124.69368000000001,null,{"$f":"IFERROR(VLOOKUP($N145,PoleRange,6,FALSE),0)","v":398.5},{"$f":"IFERROR(VLOOKUP($O145,PoleRange,6,FALSE),0)","v":372.1},{"$f":"IFERROR(VLOOKUP($N145,PoleRange,7,FALSE),0)","v":38.299999999999898},{"$f":"IFERROR(VLOOKUP($O145,PoleRange,7,FALSE),0)","v":38}]
[null,null,null,null,null,null,null,null,null,183,39.532809999999898,-121.53877,"Tier 2-3","W12153848N3953281","W12153906N3953282","W12153848N3953281-W12153906N3953282",163.80000000000001,2,183,{"$f":"COUNTIFS(TreeRange,S146,TreeFail,\"Yes\")*V146","v":6},2,1,{"$f":"COUNTIFS(TreeRange,S146,TreeOffset,\"Yes\")","v":0},0,{"$f":"IFERROR(VLOOKUP($N146,PoleRange,3,FALSE),0)","v":-121.53848000000001},{"$f":"IFERROR(VLOOKUP($N146,PoleRange,2,FALSE),0)","v":39.532809999999898},108.14303999999971,null,{"$f":"IFERROR(VLOOKUP($O146,PoleRange,3,FALSE),0)","v":-121.53906000000001},{"$f":"IFERROR(VLOOKUP($O146,PoleRange,2,FALSE),0)","v":39.532820000000001},104.75976000000001,null,{"$f":"IFERROR(VLOOKUP($N146,PoleRange,6,FALSE),0)","v":321.69999999999902},{"$f":"IFERROR(VLOOKUP($O146,PoleRange,6,FALSE),0)","v":311.60000000000002},{"$f":"IFERROR(VLOOKUP($N146,PoleRange,7,FALSE),0)","v":34.1},{"$f":"IFERROR(VLOOKUP($O146,PoleRange,7,FALSE),0)","v":33.1}]
[null,null,null,null,null,null,null,null,null,184,39.532820000000001,-121.539249999999,"Tier 2-3","W12153944N3953282","W12153906N3953282","W12153944N3953282-W12153906N3953282",108.2,2,184,{"$f":"COUNTIFS(TreeRange,S147,TreeFail,\"Yes\")*V147","v":0},0,1,{"$f":"COUNTIFS(TreeRange,S147,TreeOffset,\"Yes\")","v":0},0,{"$f":"IFERROR(VLOOKUP($N147,PoleRange,3,FALSE),0)","v":-121.539439999999},{"$f":"IFERROR(VLOOKUP($N147,PoleRange,2,FALSE),0)","v":39.532820000000001},101.8032,null,{"$f":"IFERROR(VLOOKUP($O147,PoleRange,3,FALSE),0)","v":-121.53906000000001},{"$f":"IFERROR(VLOOKUP($O147,PoleRange,2,FALSE),0)","v":39.532820000000001},104.75976000000001,null,{"$f":"IFERROR(VLOOKUP($N147,PoleRange,6,FALSE),0)","v":301.8},{"$f":"IFERROR(VLOOKUP($O147,PoleRange,6,FALSE),0)","v":311.60000000000002},{"$f":"IFERROR(VLOOKUP($N147,PoleRange,7,FALSE),0)","v":33.200000000000003},{"$f":"IFERROR(VLOOKUP($O147,PoleRange,7,FALSE),0)","v":33.1}]
[null,null,null,null,null,null,null,null,null,185,39.53284,-121.536839999999,"Tier 2-3","W12153655N3953283","W12153713N3953284","W12153655N3953283-W12153713N3953284",163.4,2,185,{"$f":"COUNTIFS(TreeRange,S148,TreeFail,\"Yes\")*V148","v":0},0,1,{"$f":"COUNTIFS(TreeRange,S148,TreeOffset,\"Yes\")","v":0},0,{"$f":"IFERROR(VLOOKUP($N148,PoleRange,3,FALSE),0)","v":-121.53655000000001},{"$f":"IFERROR(VLOOKUP($N148,PoleRange,2,FALSE),0)","v":39.532829999999898},117.04320000000001,null,{"$f":"IFERROR(VLOOKUP($O148,PoleRange,3,FALSE),0)","v":-121.53713},{"$f":"IFERROR(VLOOKUP($O148,PoleRange,2,FALSE),0)","v":39.53284},116.4031199999997,null,{"$f":"IFERROR(VLOOKUP($N148,PoleRange,6,FALSE),0)","v":350.5},{"$f":"IFERROR(VLOOKUP($O148,PoleRange,6,FALSE),0)","v":347.89999999999901},{"$f":"IFERROR(VLOOKUP($N148,PoleRange,7,FALSE),0)","v":34.5},{"$f":"IFERROR(VLOOKUP($O148,PoleRange,7,FALSE),0)","v":35}]
[null,null,null,null,null,null,null,null,null,186,39.53284,-121.53162,"Tier 2-3","W12153118N3953282","W12153205N3953285","W12153118N3953282-W12153205N3953285",244.599999999999,2,186,{"$f":"COUNTIFS(TreeRange,S149,TreeFail,\"Yes\")*V149","v":0},0,1,{"$f":"COUNTIFS(TreeRange,S149,TreeOffset,\"Yes\")","v":0},0,{"$f":"IFERROR(VLOOKUP($N149,PoleRange,3,FALSE),0)","v":-121.53118000000001},{"$f":"IFERROR(VLOOKUP($N149,PoleRange,2,FALSE),0)","v":39.532820000000001},145.14576,null,{"$f":"IFERROR(VLOOKUP($O149,PoleRange,3,FALSE),0)","v":-121.532049999999},{"$f":"IFERROR(VLOOKUP($O149,PoleRange,2,FALSE),0)","v":39.532850000000003},140.26895999999999,null,{"$f":"IFERROR(VLOOKUP($N149,PoleRange,6,FALSE),0)","v":447.8},{"$f":"IFERROR(VLOOKUP($O149,PoleRange,6,FALSE),0)","v":421.5},{"$f":"IFERROR(VLOOKUP($N149,PoleRange,7,FALSE),0)","v":29.399999999999899},{"$f":"IFERROR(VLOOKUP($O149,PoleRange,7,FALSE),0)","v":39.700000000000003}]
[null,null,null,null,null,null,null,null,null,187,39.5330599999999,-121.5408,"Tier 2-3","W12154087N3953327","W12154073N3953285","W12154087N3953327-W12154073N3953285",159.9,2,187,{"$f":"COUNTIFS(TreeRange,S150,TreeFail,\"Yes\")*V150","v":2},1,1,{"$f":"COUNTIFS(TreeRange,S150,TreeOffset,\"Yes\")","v":0},0,{"$f":"IFERROR(VLOOKUP($N150,PoleRange,3,FALSE),0)","v":-121.540869999999},{"$f":"IFERROR(VLOOKUP($N150,PoleRange,2,FALSE),0)","v":39.533270000000002},99.517199999999704,null,{"$f":"IFERROR(VLOOKUP($O150,PoleRange,3,FALSE),0)","v":-121.540729999999},{"$f":"IFERROR(VLOOKUP($O150,PoleRange,2,FALSE),0)","v":39.532850000000003},99.303839999999681,null,{"$f":"IFERROR(VLOOKUP($N150,PoleRange,6,FALSE),0)","v":292.89999999999901},{"$f":"IFERROR(VLOOKUP($O150,PoleRange,6,FALSE),0)","v":293.89999999999901},{"$f":"IFERROR(VLOOKUP($N150,PoleRange,7,FALSE),0)","v":34.6},{"$f":"IFERROR(VLOOKUP($O150,PoleRange,7,FALSE),0)","v":32.899999999999899}]
[null,null,null,null,null,null,null,null,null,188,39.5336,-121.541179999999,"Tier 2-3","W12154149N3953393","W12154087N3953327","W12154149N3953393-W12154087N3953327",296,2,188,{"$f":"COUNTIFS(TreeRange,S151,TreeFail,\"Yes\")*V151","v":1},1,1,{"$f":"COUNTIFS(TreeRange,S151,TreeOffset,\"Yes\")","v":0},0,{"$f":"IFERROR(VLOOKUP($N151,PoleRange,3,FALSE),0)","v":-121.541489999999},{"$f":"IFERROR(VLOOKUP($N151,PoleRange,2,FALSE),0)","v":39.533929999999899},93.725999999999672,null,{"$f":"IFERROR(VLOOKUP($O151,PoleRange,3,FALSE),0)","v":-121.540869999999},{"$f":"IFERROR(VLOOKUP($O151,PoleRange,2,FALSE),0)","v":39.533270000000002},99.517199999999704,null,{"$f":"IFERROR(VLOOKUP($N151,PoleRange,6,FALSE),0)","v":274.69999999999902},{"$f":"IFERROR(VLOOKUP($O151,PoleRange,6,FALSE),0)","v":292.89999999999901},{"$f":"IFERROR(VLOOKUP($N151,PoleRange,7,FALSE),0)","v":33.799999999999898},{"$f":"IFERROR(VLOOKUP($O151,PoleRange,7,FALSE),0)","v":34.6}]
[null,null,null,null,null,null,null,null,null,189,39.5340899999999,-121.54164,"Tier 2-3","W12154179N3953424","W12154149N3953393","W12154179N3953424-W12154149N3953393",142.5,2,189,{"$f":"COUNTIFS(TreeRange,S152,TreeFail,\"Yes\")*V152","v":2},1,1,{"$f":"COUNTIFS(TreeRange,S152,TreeOffset,\"Yes\")","v":0},0,{"$f":"IFERROR(VLOOKUP($N152,PoleRange,3,FALSE),0)","v":-121.54179000000001},{"$f":"IFERROR(VLOOKUP($N152,PoleRange,2,FALSE),0)","v":39.534239999999897},95.7072,null,{"$f":"IFERROR(VLOOKUP($O152,PoleRange,3,FALSE),0)","v":-121.541489999999},{"$f":"IFERROR(VLOOKUP($O152,PoleRange,2,FALSE),0)","v":39.533929999999899},93.725999999999672,null,{"$f":"IFERROR(VLOOKUP($N152,PoleRange,6,FALSE),0)","v":282},{"$f":"IFERROR(VLOOKUP($O152,PoleRange,6,FALSE),0)","v":274.69999999999902},{"$f":"IFERROR(VLOOKUP($N152,PoleRange,7,FALSE),0)","v":33},{"$f":"IFERROR(VLOOKUP($O152,PoleRange,7,FALSE),0)","v":33.799999999999898}]
[null,null,null,null,null,null,null,null,null,190,39.534399999999899,-121.54196,"Tier 2-3","W12154179N3953424","W12154214N3953455","W12154179N3953424-W12154214N3953455",149.30000000000001,2,190,{"$f":"COUNTIFS(TreeRange,S153,TreeFail,\"Yes\")*V153","v":4},1,1,{"$f":"COUNTIFS(TreeRange,S153,TreeOffset,\"Yes\")","v":0},0,{"$f":"IFERROR(VLOOKUP($N153,PoleRange,3,FALSE),0)","v":-121.54179000000001},{"$f":"IFERROR(VLOOKUP($N153,PoleRange,2,FALSE),0)","v":39.534239999999897},95.7072,null,{"$f":"IFERROR(VLOOKUP($O153,PoleRange,3,FALSE),0)","v":-121.54214},{"$f":"IFERROR(VLOOKUP($O153,PoleRange,2,FALSE),0)","v":39.534550000000003},92.445839999999976,null,{"$f":"IFERROR(VLOOKUP($N153,PoleRange,6,FALSE),0)","v":282},{"$f":"IFERROR(VLOOKUP($O153,PoleRange,6,FALSE),0)","v":270.5},{"$f":"IFERROR(VLOOKUP($N153,PoleRange,7,FALSE),0)","v":33},{"$f":"IFERROR(VLOOKUP($O153,PoleRange,7,FALSE),0)","v":33.799999999999898}]
[null,null,null,null,null,null,null,null,null,191,39.534869999999898,-121.54222,"Tier 2-3","W12154230N3953520","W12154214N3953455","W12154230N3953520-W12154214N3953455",240.599999999999,2,191,{"$f":"COUNTIFS(TreeRange,S154,TreeFail,\"Yes\")*V154","v":0},0,1,{"$f":"COUNTIFS(TreeRange,S154,TreeOffset,\"Yes\")","v":0},0,{"$f":"IFERROR(VLOOKUP($N154,PoleRange,3,FALSE),0)","v":-121.542299999999},{"$f":"IFERROR(VLOOKUP($N154,PoleRange,2,FALSE),0)","v":39.535200000000003},92.171519999999703,null,{"$f":"IFERROR(VLOOKUP($O154,PoleRange,3,FALSE),0)","v":-121.54214},{"$f":"IFERROR(VLOOKUP($O154,PoleRange,2,FALSE),0)","v":39.534550000000003},92.445839999999976,null,{"$f":"IFERROR(VLOOKUP($N154,PoleRange,6,FALSE),0)","v":270.19999999999902},{"$f":"IFERROR(VLOOKUP($O154,PoleRange,6,FALSE),0)","v":270.5},{"$f":"IFERROR(VLOOKUP($N154,PoleRange,7,FALSE),0)","v":33.200000000000003},{"$f":"IFERROR(VLOOKUP($O154,PoleRange,7,FALSE),0)","v":33.799999999999898}]
[null,null,null,null,null,null,null,null,null,192,39.535449999999898,-121.54236,"Tier 2-3","W12154230N3953520","W12154242N3953570","W12154230N3953520-W12154242N3953570",184.9,2,192,{"$f":"COUNTIFS(TreeRange,S155,TreeFail,\"Yes\")*V155","v":1},1,1,{"$f":"COUNTIFS(TreeRange,S155,TreeOffset,\"Yes\")","v":0},0,{"$f":"IFERROR(VLOOKUP($N155,PoleRange,3,FALSE),0)","v":-121.542299999999},{"$f":"IFERROR(VLOOKUP($N155,PoleRange,2,FALSE),0)","v":39.535200000000003},92.171519999999703,null,{"$f":"IFERROR(VLOOKUP($O155,PoleRange,3,FALSE),0)","v":-121.54242000000001},{"$f":"IFERROR(VLOOKUP($O155,PoleRange,2,FALSE),0)","v":39.535699999999899},91.379040000000003,null,{"$f":"IFERROR(VLOOKUP($N155,PoleRange,6,FALSE),0)","v":270.19999999999902},{"$f":"IFERROR(VLOOKUP($O155,PoleRange,6,FALSE),0)","v":266.3},{"$f":"IFERROR(VLOOKUP($N155,PoleRange,7,FALSE),0)","v":33.200000000000003},{"$f":"IFERROR(VLOOKUP($O155,PoleRange,7,FALSE),0)","v":34.5}]
[null,null,null,null,null,null,null,null,null,193,39.535809999999898,-121.54249,"Tier 2-3","W12154242N3953570","W12154256N3953592","W12154242N3953570-W12154256N3953592",92.299999999999898,2,193,{"$f":"COUNTIFS(TreeRange,S156,TreeFail,\"Yes\")*V156","v":2},1,1,{"$f":"COUNTIFS(TreeRange,S156,TreeOffset,\"Yes\")","v":0},0,{"$f":"IFERROR(VLOOKUP($N156,PoleRange,3,FALSE),0)","v":-121.54242000000001},{"$f":"IFERROR(VLOOKUP($N156,PoleRange,2,FALSE),0)","v":39.535699999999899},91.379040000000003,null,{"$f":"IFERROR(VLOOKUP($O156,PoleRange,3,FALSE),0)","v":-121.542559999999},{"$f":"IFERROR(VLOOKUP($O156,PoleRange,2,FALSE),0)","v":39.535919999999898},86.441279999999693,null,{"$f":"IFERROR(VLOOKUP($N156,PoleRange,6,FALSE),0)","v":266.3},{"$f":"IFERROR(VLOOKUP($O156,PoleRange,6,FALSE),0)","v":245.599999999999},{"$f":"IFERROR(VLOOKUP($N156,PoleRange,7,FALSE),0)","v":34.5},{"$f":"IFERROR(VLOOKUP($O156,PoleRange,7,FALSE),0)","v":39}]
[null,null,null,null,null,null,null,null,null,194,39.536259999999899,-121.54255000000001,"Tier 2-3","W12154256N3953592","W12154253N3953660","W12154256N3953592-W12154253N3953660",247.599999999999,2,194,{"$f":"COUNTIFS(TreeRange,S157,TreeFail,\"Yes\")*V157","v":3},1,1,{"$f":"COUNTIFS(TreeRange,S157,TreeOffset,\"Yes\")","v":0},0,{"$f":"IFERROR(VLOOKUP($N157,PoleRange,3,FALSE),0)","v":-121.542559999999},{"$f":"IFERROR(VLOOKUP($N157,PoleRange,2,FALSE),0)","v":39.535919999999898},86.441279999999693,null,{"$f":"IFERROR(VLOOKUP($O157,PoleRange,3,FALSE),0)","v":-121.542529999999},{"$f":"IFERROR(VLOOKUP($O157,PoleRange,2,FALSE),0)","v":39.5366},83.667600000000007,null,{"$f":"IFERROR(VLOOKUP($N157,PoleRange,6,FALSE),0)","v":245.599999999999},{"$f":"IFERROR(VLOOKUP($O157,PoleRange,6,FALSE),0)","v":241.4},{"$f":"IFERROR(VLOOKUP($N157,PoleRange,7,FALSE),0)","v":39},{"$f":"IFERROR(VLOOKUP($O157,PoleRange,7,FALSE),0)","v":34.1}]
[null,null,null,null,null,null,null,null,null,195,39.5370899999999,-121.542519999999,"Tier 2-3","W12154250N3953758","W12154253N3953660","W12154250N3953758-W12154253N3953660",355.89999999999901,2,195,{"$f":"COUNTIFS(TreeRange,S158,TreeFail,\"Yes\")*V158","v":4},1,1,{"$f":"COUNTIFS(TreeRange,S158,TreeOffset,\"Yes\")","v":0},0,{"$f":"IFERROR(VLOOKUP($N158,PoleRange,3,FALSE),0)","v":-121.5425},{"$f":"IFERROR(VLOOKUP($N158,PoleRange,2,FALSE),0)","v":39.537579999999899},83.484719999999982,null,{"$f":"IFERROR(VLOOKUP($O158,PoleRange,3,FALSE),0)","v":-121.542529999999},{"$f":"IFERROR(VLOOKUP($O158,PoleRange,2,FALSE),0)","v":39.5366},83.667600000000007,null,{"$f":"IFERROR(VLOOKUP($N158,PoleRange,6,FALSE),0)","v":238.5},{"$f":"IFERROR(VLOOKUP($O158,PoleRange,6,FALSE),0)","v":241.4},{"$f":"IFERROR(VLOOKUP($N158,PoleRange,7,FALSE),0)","v":36.399999999999899},{"$f":"IFERROR(VLOOKUP($O158,PoleRange,7,FALSE),0)","v":34.1}]
[null,null,null,null,null,null,null,null,null,196,39.538080000000001,-121.542509999999,"Tier 2-3","W12154250N3953758","W12154252N3953857","W12154250N3953758-W12154252N3953857",362,2,196,{"$f":"COUNTIFS(TreeRange,S159,TreeFail,\"Yes\")*V159","v":8},2,1,{"$f":"COUNTIFS(TreeRange,S159,TreeOffset,\"Yes\")","v":0},0,{"$f":"IFERROR(VLOOKUP($N159,PoleRange,3,FALSE),0)","v":-121.5425},{"$f":"IFERROR(VLOOKUP($N159,PoleRange,2,FALSE),0)","v":39.537579999999899},83.484719999999982,null,{"$f":"IFERROR(VLOOKUP($O159,PoleRange,3,FALSE),0)","v":-121.542519999999},{"$f":"IFERROR(VLOOKUP($O159,PoleRange,2,FALSE),0)","v":39.53857},81.655919999999696,null,{"$f":"IFERROR(VLOOKUP($N159,PoleRange,6,FALSE),0)","v":238.5},{"$f":"IFERROR(VLOOKUP($O159,PoleRange,6,FALSE),0)","v":234.69999999999899},{"$f":"IFERROR(VLOOKUP($N159,PoleRange,7,FALSE),0)","v":36.399999999999899},{"$f":"IFERROR(VLOOKUP($O159,PoleRange,7,FALSE),0)","v":34.200000000000003}]
[null,null,null,null,null,null,null,null,null,197,39.538910000000001,-121.542569999999,"Tier 2-3","W12154263N3953924","W12154252N3953857","W12154263N3953924-W12154252N3953857",244.69999999999899,2,197,{"$f":"COUNTIFS(TreeRange,S160,TreeFail,\"Yes\")*V160","v":3},1,1,{"$f":"COUNTIFS(TreeRange,S160,TreeOffset,\"Yes\")","v":0},0,{"$f":"IFERROR(VLOOKUP($N160,PoleRange,3,FALSE),0)","v":-121.54263},{"$f":"IFERROR(VLOOKUP($N160,PoleRange,2,FALSE),0)","v":39.5392399999999},81.046319999999994,null,{"$f":"IFERROR(VLOOKUP($O160,PoleRange,3,FALSE),0)","v":-121.542519999999},{"$f":"IFERROR(VLOOKUP($O160,PoleRange,2,FALSE),0)","v":39.53857},81.655919999999696,null,{"$f":"IFERROR(VLOOKUP($N160,PoleRange,6,FALSE),0)","v":234.9},{"$f":"IFERROR(VLOOKUP($O160,PoleRange,6,FALSE),0)","v":234.69999999999899},{"$f":"IFERROR(VLOOKUP($N160,PoleRange,7,FALSE),0)","v":32},{"$f":"IFERROR(VLOOKUP($O160,PoleRange,7,FALSE),0)","v":34.200000000000003}]
[null,null,null,null,null,null,null,null,null,198,39.539560000000002,-121.542619999999,"Tier 2-3","W12154263N3953924","W12154261N3953987","W12154263N3953924-W12154261N3953987",231,2,198,{"$f":"COUNTIFS(TreeRange,S161,TreeFail,\"Yes\")*V161","v":6},2,1,{"$f":"COUNTIFS(TreeRange,S161,TreeOffset,\"Yes\")","v":0},0,{"$f":"IFERROR(VLOOKUP($N161,PoleRange,3,FALSE),0)","v":-121.54263},{"$f":"IFERROR(VLOOKUP($N161,PoleRange,2,FALSE),0)","v":39.5392399999999},81.046319999999994,null,{"$f":"IFERROR(VLOOKUP($O161,PoleRange,3,FALSE),0)","v":-121.542609999999},{"$f":"IFERROR(VLOOKUP($O161,PoleRange,2,FALSE),0)","v":39.539870000000001},81.381599999999679,null,{"$f":"IFERROR(VLOOKUP($N161,PoleRange,6,FALSE),0)","v":234.9},{"$f":"IFERROR(VLOOKUP($O161,PoleRange,6,FALSE),0)","v":235.099999999999},{"$f":"IFERROR(VLOOKUP($N161,PoleRange,7,FALSE),0)","v":32},{"$f":"IFERROR(VLOOKUP($O161,PoleRange,7,FALSE),0)","v":32.899999999999899}]
[null,null,null,null,null,null,null,null,null,199,39.54027,-121.542599999999,"Tier 2-3","W12154261N3953987","W12154258N3954066","W12154261N3953987-W12154258N3954066",286.69999999999902,2,199,{"$f":"COUNTIFS(TreeRange,S162,TreeFail,\"Yes\")*V162","v":4},1,1,{"$f":"COUNTIFS(TreeRange,S162,TreeOffset,\"Yes\")","v":0},0,{"$f":"IFERROR(VLOOKUP($N162,PoleRange,3,FALSE),0)","v":-121.542609999999},{"$f":"IFERROR(VLOOKUP($N162,PoleRange,2,FALSE),0)","v":39.539870000000001},81.381599999999679,null,{"$f":"IFERROR(VLOOKUP($O162,PoleRange,3,FALSE),0)","v":-121.54258},{"$f":"IFERROR(VLOOKUP($O162,PoleRange,2,FALSE),0)","v":39.540660000000003},82.021679999999705,null,{"$f":"IFERROR(VLOOKUP($N162,PoleRange,6,FALSE),0)","v":235.099999999999},{"$f":"IFERROR(VLOOKUP($O162,PoleRange,6,FALSE),0)","v":235.599999999999},{"$f":"IFERROR(VLOOKUP($N162,PoleRange,7,FALSE),0)","v":32.899999999999899},{"$f":"IFERROR(VLOOKUP($O162,PoleRange,7,FALSE),0)","v":34.5}]
[null,null,null,null,null,null,null,null,null,200,39.540840000000003,-121.54254,"Tier 2-3","W12154258N3954066","W12154249N3954102","W12154258N3954066-W12154249N3954102",133.9,2,200,{"$f":"COUNTIFS(TreeRange,S163,TreeFail,\"Yes\")*V163","v":1},1,1,{"$f":"COUNTIFS(TreeRange,S163,TreeOffset,\"Yes\")","v":0},0,{"$f":"IFERROR(VLOOKUP($N163,PoleRange,3,FALSE),0)","v":-121.54258},{"$f":"IFERROR(VLOOKUP($N163,PoleRange,2,FALSE),0)","v":39.540660000000003},82.021679999999705,null,{"$f":"IFERROR(VLOOKUP($O163,PoleRange,3,FALSE),0)","v":-121.54249},{"$f":"IFERROR(VLOOKUP($O163,PoleRange,2,FALSE),0)","v":39.541020000000003},81.930240000000012,null,{"$f":"IFERROR(VLOOKUP($N163,PoleRange,6,FALSE),0)","v":235.599999999999},{"$f":"IFERROR(VLOOKUP($O163,PoleRange,6,FALSE),0)","v":236.3},{"$f":"IFERROR(VLOOKUP($N163,PoleRange,7,FALSE),0)","v":34.5},{"$f":"IFERROR(VLOOKUP($O163,PoleRange,7,FALSE),0)","v":33.5}]
[null,null,null,null,null,null,null,null,null,201,39.541440000000001,-121.54227,"Tier 2-3","W12154249N3954102","W12154206N3954186","W12154249N3954102-W12154206N3954186",330.6,2,201,{"$f":"COUNTIFS(TreeRange,S164,TreeFail,\"Yes\")*V164","v":0},0,1,{"$f":"COUNTIFS(TreeRange,S164,TreeOffset,\"Yes\")","v":0},0,{"$f":"IFERROR(VLOOKUP($N164,PoleRange,3,FALSE),0)","v":-121.54249},{"$f":"IFERROR(VLOOKUP($N164,PoleRange,2,FALSE),0)","v":39.541020000000003},81.930240000000012,null,{"$f":"IFERROR(VLOOKUP($O164,PoleRange,3,FALSE),0)","v":-121.54206000000001},{"$f":"IFERROR(VLOOKUP($O164,PoleRange,2,FALSE),0)","v":39.54186},84.09432000000001,null,{"$f":"IFERROR(VLOOKUP($N164,PoleRange,6,FALSE),0)","v":236.3},{"$f":"IFERROR(VLOOKUP($O164,PoleRange,6,FALSE),0)","v":242.8},{"$f":"IFERROR(VLOOKUP($N164,PoleRange,7,FALSE),0)","v":33.5},{"$f":"IFERROR(VLOOKUP($O164,PoleRange,7,FALSE),0)","v":34.1}]
[null,null,null,null,null,null,null,null,null,202,39.650939999999899,-121.507859999999,"Tier 2-3","W12150790N3965077","W12150782N3965112","W12150790N3965077-W12150782N3965112",130.9,2,202,{"$f":"COUNTIFS(TreeRange,S165,TreeFail,\"Yes\")*V165","v":0},0,1,{"$f":"COUNTIFS(TreeRange,S165,TreeOffset,\"Yes\")","v":0},0,{"$f":"IFERROR(VLOOKUP($N165,PoleRange,3,FALSE),0)","v":-121.50790000000001},{"$f":"IFERROR(VLOOKUP($N165,PoleRange,2,FALSE),0)","v":39.650770000000001},485.69880000000001,null,{"$f":"IFERROR(VLOOKUP($O165,PoleRange,3,FALSE),0)","v":-121.507819999999},{"$f":"IFERROR(VLOOKUP($O165,PoleRange,2,FALSE),0)","v":39.651119999999899},475.488,null,{"$f":"IFERROR(VLOOKUP($N165,PoleRange,6,FALSE),0)","v":1522.9},{"$f":"IFERROR(VLOOKUP($O165,PoleRange,6,FALSE),0)","v":1521.5},{"$f":"IFERROR(VLOOKUP($N165,PoleRange,7,FALSE),0)","v":71.599999999999895},{"$f":"IFERROR(VLOOKUP($O165,PoleRange,7,FALSE),0)","v":39.5}]
[null,null,null,null,null,null,null,null,null,203,39.651290000000003,-121.507729999999,"Tier 2-3","W12150782N3965112","W12150764N3965146","W12150782N3965112-W12150764N3965146",135.30000000000001,2,203,{"$f":"COUNTIFS(TreeRange,S166,TreeFail,\"Yes\")*V166","v":0},0,1,{"$f":"COUNTIFS(TreeRange,S166,TreeOffset,\"Yes\")","v":0},0,{"$f":"IFERROR(VLOOKUP($N166,PoleRange,3,FALSE),0)","v":-121.507819999999},{"$f":"IFERROR(VLOOKUP($N166,PoleRange,2,FALSE),0)","v":39.651119999999899},475.488,null,{"$f":"IFERROR(VLOOKUP($O166,PoleRange,3,FALSE),0)","v":-121.507639999999},{"$f":"IFERROR(VLOOKUP($O166,PoleRange,2,FALSE),0)","v":39.65146},475.82327999999694,null,{"$f":"IFERROR(VLOOKUP($N166,PoleRange,6,FALSE),0)","v":1521.5},{"$f":"IFERROR(VLOOKUP($O166,PoleRange,6,FALSE),0)","v":1529.29999999999},{"$f":"IFERROR(VLOOKUP($N166,PoleRange,7,FALSE),0)","v":39.5},{"$f":"IFERROR(VLOOKUP($O166,PoleRange,7,FALSE),0)","v":32.799999999999898}]
[null,null,null,null,null,null,null,null,null,204,39.65166,-121.50753,"Tier 2-3","W12150764N3965146","W12150742N3965186","W12150764N3965146-W12150742N3965186",157.9,2,204,{"$f":"COUNTIFS(TreeRange,S167,TreeFail,\"Yes\")*V167","v":0},0,1,{"$f":"COUNTIFS(TreeRange,S167,TreeOffset,\"Yes\")","v":0},0,{"$f":"IFERROR(VLOOKUP($N167,PoleRange,3,FALSE),0)","v":-121.507639999999},{"$f":"IFERROR(VLOOKUP($N167,PoleRange,2,FALSE),0)","v":39.65146},475.82327999999694,null,{"$f":"IFERROR(VLOOKUP($O167,PoleRange,3,FALSE),0)","v":-121.507419999999},{"$f":"IFERROR(VLOOKUP($O167,PoleRange,2,FALSE),0)","v":39.6518599999999},482.16311999999999,null,{"$f":"IFERROR(VLOOKUP($N167,PoleRange,6,FALSE),0)","v":1529.29999999999},{"$f":"IFERROR(VLOOKUP($O167,PoleRange,6,FALSE),0)","v":1533.5},{"$f":"IFERROR(VLOOKUP($N167,PoleRange,7,FALSE),0)","v":32.799999999999898},{"$f":"IFERROR(VLOOKUP($O167,PoleRange,7,FALSE),0)","v":49.399999999999899}]
[null,null,null,null,null,null,null,null,null,205,39.653300000000002,-121.507009999999,"Tier 2-3","W12150660N3965474","W12150742N3965186","W12150660N3965474-W12150742N3965186",1075.2,2,205,{"$f":"COUNTIFS(TreeRange,S168,TreeFail,\"Yes\")*V168","v":0},0,1,{"$f":"COUNTIFS(TreeRange,S168,TreeOffset,\"Yes\")","v":0},0,{"$f":"IFERROR(VLOOKUP($N168,PoleRange,3,FALSE),0)","v":-121.50660000000001},{"$f":"IFERROR(VLOOKUP($N168,PoleRange,2,FALSE),0)","v":39.654739999999897},478.04831999999692,null,{"$f":"IFERROR(VLOOKUP($O168,PoleRange,3,FALSE),0)","v":-121.507419999999},{"$f":"IFERROR(VLOOKUP($O168,PoleRange,2,FALSE),0)","v":39.6518599999999},482.16311999999999,null,{"$f":"IFERROR(VLOOKUP($N168,PoleRange,6,FALSE),0)","v":1524.0999999999899},{"$f":"IFERROR(VLOOKUP($O168,PoleRange,6,FALSE),0)","v":1533.5},{"$f":"IFERROR(VLOOKUP($N168,PoleRange,7,FALSE),0)","v":45.299999999999898},{"$f":"IFERROR(VLOOKUP($O168,PoleRange,7,FALSE),0)","v":49.399999999999899}]
[null,null,null,null,null,null,null,null,null,206,39.65504,-121.50651000000001,"Tier 2-3","W12150660N3965474","W12150643N3965533","W12150660N3965474-W12150643N3965533",217.9,2,206,{"$f":"COUNTIFS(TreeRange,S169,TreeFail,\"Yes\")*V169","v":0},0,1,{"$f":"COUNTIFS(TreeRange,S169,TreeOffset,\"Yes\")","v":0},0,{"$f":"IFERROR(VLOOKUP($N169,PoleRange,3,FALSE),0)","v":-121.50660000000001},{"$f":"IFERROR(VLOOKUP($N169,PoleRange,2,FALSE),0)","v":39.654739999999897},478.04831999999692,null,{"$f":"IFERROR(VLOOKUP($O169,PoleRange,3,FALSE),0)","v":-121.506429999999},{"$f":"IFERROR(VLOOKUP($O169,PoleRange,2,FALSE),0)","v":39.6553299999999},476.49383999999696,null,{"$f":"IFERROR(VLOOKUP($N169,PoleRange,6,FALSE),0)","v":1524.0999999999899},{"$f":"IFERROR(VLOOKUP($O169,PoleRange,6,FALSE),0)","v":1520.0999999999899},{"$f":"IFERROR(VLOOKUP($N169,PoleRange,7,FALSE),0)","v":45.299999999999898},{"$f":"IFERROR(VLOOKUP($O169,PoleRange,7,FALSE),0)","v":44.2}]
[null,null,null,null,null,null,null,null,null,207,39.655970000000003,-121.50624000000001,"Tier 2-3","W12150643N3965533","W12150604N3965661","W12150643N3965533-W12150604N3965661",479.1,2,207,{"$f":"COUNTIFS(TreeRange,S170,TreeFail,\"Yes\")*V170","v":0},0,1,{"$f":"COUNTIFS(TreeRange,S170,TreeOffset,\"Yes\")","v":0},0,{"$f":"IFERROR(VLOOKUP($N170,PoleRange,3,FALSE),0)","v":-121.506429999999},{"$f":"IFERROR(VLOOKUP($N170,PoleRange,2,FALSE),0)","v":39.6553299999999},476.49383999999696,null,{"$f":"IFERROR(VLOOKUP($O170,PoleRange,3,FALSE),0)","v":-121.506039999999},{"$f":"IFERROR(VLOOKUP($O170,PoleRange,2,FALSE),0)","v":39.656610000000001},456.22464000000002,null,{"$f":"IFERROR(VLOOKUP($N170,PoleRange,6,FALSE),0)","v":1520.0999999999899},{"$f":"IFERROR(VLOOKUP($O170,PoleRange,6,FALSE),0)","v":1448.5},{"$f":"IFERROR(VLOOKUP($N170,PoleRange,7,FALSE),0)","v":44.2},{"$f":"IFERROR(VLOOKUP($O170,PoleRange,7,FALSE),0)","v":49.299999999999898}]
[null,null,null,null,null,null,null,null,null,208,39.657310000000003,-121.50582,"Tier 2-3","W12150604N3965661","W12150561N3965801","W12150604N3965661-W12150561N3965801",523.79999999999905,2,208,{"$f":"COUNTIFS(TreeRange,S171,TreeFail,\"Yes\")*V171","v":0},0,1,{"$f":"COUNTIFS(TreeRange,S171,TreeOffset,\"Yes\")","v":0},0,{"$f":"IFERROR(VLOOKUP($N171,PoleRange,3,FALSE),0)","v":-121.506039999999},{"$f":"IFERROR(VLOOKUP($N171,PoleRange,2,FALSE),0)","v":39.656610000000001},456.22464000000002,null,{"$f":"IFERROR(VLOOKUP($O171,PoleRange,3,FALSE),0)","v":-121.50561},{"$f":"IFERROR(VLOOKUP($O171,PoleRange,2,FALSE),0)","v":39.658009999999898},422.94047999999697,null,{"$f":"IFERROR(VLOOKUP($N171,PoleRange,6,FALSE),0)","v":1448.5},{"$f":"IFERROR(VLOOKUP($O171,PoleRange,6,FALSE),0)","v":1340.0999999999899},{"$f":"IFERROR(VLOOKUP($N171,PoleRange,7,FALSE),0)","v":49.299999999999898},{"$f":"IFERROR(VLOOKUP($O171,PoleRange,7,FALSE),0)","v":48.5}]
[null,null,null,null,null,null,null,null,null,209,39.658320000000003,-121.505529999999,"Tier 2-3","W12150561N3965801","W12150545N3965863","W12150561N3965801-W12150545N3965863",230,2,209,{"$f":"COUNTIFS(TreeRange,S172,TreeFail,\"Yes\")*V172","v":0},0,1,{"$f":"COUNTIFS(TreeRange,S172,TreeOffset,\"Yes\")","v":0},0,{"$f":"IFERROR(VLOOKUP($N172,PoleRange,3,FALSE),0)","v":-121.50561},{"$f":"IFERROR(VLOOKUP($N172,PoleRange,2,FALSE),0)","v":39.658009999999898},422.94047999999697,null,{"$f":"IFERROR(VLOOKUP($O172,PoleRange,3,FALSE),0)","v":-121.505449999999},{"$f":"IFERROR(VLOOKUP($O172,PoleRange,2,FALSE),0)","v":39.658630000000002},400.90343999999999,null,{"$f":"IFERROR(VLOOKUP($N172,PoleRange,6,FALSE),0)","v":1340.0999999999899},{"$f":"IFERROR(VLOOKUP($O172,PoleRange,6,FALSE),0)","v":1271.5},{"$f":"IFERROR(VLOOKUP($N172,PoleRange,7,FALSE),0)","v":48.5},{"$f":"IFERROR(VLOOKUP($O172,PoleRange,7,FALSE),0)","v":44.799999999999898}]
[null,null,null,null,null,null,null,null,null,210,39.660820000000001,-121.504559999999,"Tier 2-3","W12150368N3966300","W12150545N3965863","W12150368N3966300-W12150545N3965863",1670.79999999999,2,210,{"$f":"COUNTIFS(TreeRange,S173,TreeFail,\"Yes\")*V173","v":0},0,1,{"$f":"COUNTIFS(TreeRange,S173,TreeOffset,\"Yes\")","v":0},0,{"$f":"IFERROR(VLOOKUP($N173,PoleRange,3,FALSE),0)","v":-121.50368},{"$f":"IFERROR(VLOOKUP($N173,PoleRange,2,FALSE),0)","v":39.662999999999897},443.24016000000006,null,{"$f":"IFERROR(VLOOKUP($O173,PoleRange,3,FALSE),0)","v":-121.505449999999},{"$f":"IFERROR(VLOOKUP($O173,PoleRange,2,FALSE),0)","v":39.658630000000002},400.90343999999999,null,{"$f":"IFERROR(VLOOKUP($N173,PoleRange,6,FALSE),0)","v":1403.4},{"$f":"IFERROR(VLOOKUP($O173,PoleRange,6,FALSE),0)","v":1271.5},{"$f":"IFERROR(VLOOKUP($N173,PoleRange,7,FALSE),0)","v":51.799999999999898},{"$f":"IFERROR(VLOOKUP($O173,PoleRange,7,FALSE),0)","v":44.799999999999898}]
[null,null,null,null,null,null,null,null,null,211,39.663710000000002,-121.503169999999,"Tier 2-3","W12150368N3966300","W12150267N3966441","W12150368N3966300-W12150267N3966441",586,2,211,{"$f":"COUNTIFS(TreeRange,S174,TreeFail,\"Yes\")*V174","v":0},0,1,{"$f":"COUNTIFS(TreeRange,S174,TreeOffset,\"Yes\")","v":0},0,{"$f":"IFERROR(VLOOKUP($N174,PoleRange,3,FALSE),0)","v":-121.50368},{"$f":"IFERROR(VLOOKUP($N174,PoleRange,2,FALSE),0)","v":39.662999999999897},443.24016000000006,null,{"$f":"IFERROR(VLOOKUP($O174,PoleRange,3,FALSE),0)","v":-121.502669999999},{"$f":"IFERROR(VLOOKUP($O174,PoleRange,2,FALSE),0)","v":39.664409999999897},372.13031999999998,null,{"$f":"IFERROR(VLOOKUP($N174,PoleRange,6,FALSE),0)","v":1403.4},{"$f":"IFERROR(VLOOKUP($O174,PoleRange,6,FALSE),0)","v":1166.5},{"$f":"IFERROR(VLOOKUP($N174,PoleRange,7,FALSE),0)","v":51.799999999999898},{"$f":"IFERROR(VLOOKUP($O174,PoleRange,7,FALSE),0)","v":55.399999999999899}]
[null,null,null,null,null,null,null,null,null,212,39.66534,-121.501959999999,"Tier 2-3","W12150124N3966627","W12150267N3966441","W12150124N3966627-W12150267N3966441",787.39999999999895,2,212,{"$f":"COUNTIFS(TreeRange,S175,TreeFail,\"Yes\")*V175","v":0},0,1,{"$f":"COUNTIFS(TreeRange,S175,TreeOffset,\"Yes\")","v":0},0,{"$f":"IFERROR(VLOOKUP($N175,PoleRange,3,FALSE),0)","v":-121.501239999999},{"$f":"IFERROR(VLOOKUP($N175,PoleRange,2,FALSE),0)","v":39.666269999999898},312.17616000000004,null,{"$f":"IFERROR(VLOOKUP($O175,PoleRange,3,FALSE),0)","v":-121.502669999999},{"$f":"IFERROR(VLOOKUP($O175,PoleRange,2,FALSE),0)","v":39.664409999999897},372.13031999999998,null,{"$f":"IFERROR(VLOOKUP($N175,PoleRange,6,FALSE),0)","v":981},{"$f":"IFERROR(VLOOKUP($O175,PoleRange,6,FALSE),0)","v":1166.5},{"$f":"IFERROR(VLOOKUP($N175,PoleRange,7,FALSE),0)","v":44.2},{"$f":"IFERROR(VLOOKUP($O175,PoleRange,7,FALSE),0)","v":55.399999999999899}]
[null,null,null,null,null,null,null,null,null,214,39.670490000000001,-121.497129999999,"Tier 2-3","W12149727N3967099","W12149700N3966999","W12149727N3967099-W12149700N3966999",373.89999999999901,2,214,{"$f":"COUNTIFS(TreeRange,S176,TreeFail,\"Yes\")*V176","v":0},0,1,{"$f":"COUNTIFS(TreeRange,S176,TreeOffset,\"Yes\")","v":0},0,{"$f":"IFERROR(VLOOKUP($N176,PoleRange,3,FALSE),0)","v":-121.49727},{"$f":"IFERROR(VLOOKUP($N176,PoleRange,2,FALSE),0)","v":39.670990000000003},357.59135999999694,null,{"$f":"IFERROR(VLOOKUP($O176,PoleRange,3,FALSE),0)","v":-121.497},{"$f":"IFERROR(VLOOKUP($O176,PoleRange,2,FALSE),0)","v":39.669989999999899},335.43240000000003,null,{"$f":"IFERROR(VLOOKUP($N176,PoleRange,6,FALSE),0)","v":1134.29999999999},{"$f":"IFERROR(VLOOKUP($O176,PoleRange,6,FALSE),0)","v":1060.9000000000001},{"$f":"IFERROR(VLOOKUP($N176,PoleRange,7,FALSE),0)","v":39.899999999999899},{"$f":"IFERROR(VLOOKUP($O176,PoleRange,7,FALSE),0)","v":40.6}]
[null,null,null,null,null,null,null,null,null,215,39.671320000000001,-121.497349999999,"Tier 2-3","W12149727N3967099","W12149742N3967166","W12149727N3967099-W12149742N3967166",246.3,2,215,{"$f":"COUNTIFS(TreeRange,S177,TreeFail,\"Yes\")*V177","v":0},0,1,{"$f":"COUNTIFS(TreeRange,S177,TreeOffset,\"Yes\")","v":0},0,{"$f":"IFERROR(VLOOKUP($N177,PoleRange,3,FALSE),0)","v":-121.49727},{"$f":"IFERROR(VLOOKUP($N177,PoleRange,2,FALSE),0)","v":39.670990000000003},357.59135999999694,null,{"$f":"IFERROR(VLOOKUP($O177,PoleRange,3,FALSE),0)","v":-121.49742000000001},{"$f":"IFERROR(VLOOKUP($O177,PoleRange,2,FALSE),0)","v":39.671660000000003},365.05895999999689,null,{"$f":"IFERROR(VLOOKUP($N177,PoleRange,6,FALSE),0)","v":1134.29999999999},{"$f":"IFERROR(VLOOKUP($O177,PoleRange,6,FALSE),0)","v":1168.5999999999899},{"$f":"IFERROR(VLOOKUP($N177,PoleRange,7,FALSE),0)","v":39.899999999999899},{"$f":"IFERROR(VLOOKUP($O177,PoleRange,7,FALSE),0)","v":30.1}]
[null,null,null,null,null,null,null,null,null,216,39.67192,-121.497489999999,"Tier 2-3","W12149742N3967166","W12149755N3967217","W12149742N3967166-W12149755N3967217",191.4,2,216,{"$f":"COUNTIFS(TreeRange,S178,TreeFail,\"Yes\")*V178","v":0},0,1,{"$f":"COUNTIFS(TreeRange,S178,TreeOffset,\"Yes\")","v":0},0,{"$f":"IFERROR(VLOOKUP($N178,PoleRange,3,FALSE),0)","v":-121.49742000000001},{"$f":"IFERROR(VLOOKUP($N178,PoleRange,2,FALSE),0)","v":39.671660000000003},365.05895999999689,null,{"$f":"IFERROR(VLOOKUP($O178,PoleRange,3,FALSE),0)","v":-121.49755},{"$f":"IFERROR(VLOOKUP($O178,PoleRange,2,FALSE),0)","v":39.672170000000001},375.02592000000004,null,{"$f":"IFERROR(VLOOKUP($N178,PoleRange,6,FALSE),0)","v":1168.5999999999899},{"$f":"IFERROR(VLOOKUP($O178,PoleRange,6,FALSE),0)","v":1198.4000000000001},{"$f":"IFERROR(VLOOKUP($N178,PoleRange,7,FALSE),0)","v":30.1},{"$f":"IFERROR(VLOOKUP($O178,PoleRange,7,FALSE),0)","v":33}]
[null,null,null,null,null,null,null,null,null,217,39.672820000000002,-121.497069999999,"Tier 2-3","W12149755N3967217","W12149658N3967347","W12149755N3967217-W12149658N3967347",546.39999999999895,2,217,{"$f":"COUNTIFS(TreeRange,S179,TreeFail,\"Yes\")*V179","v":0},0,1,{"$f":"COUNTIFS(TreeRange,S179,TreeOffset,\"Yes\")","v":0},0,{"$f":"IFERROR(VLOOKUP($N179,PoleRange,3,FALSE),0)","v":-121.49755},{"$f":"IFERROR(VLOOKUP($N179,PoleRange,2,FALSE),0)","v":39.672170000000001},375.02592000000004,null,{"$f":"IFERROR(VLOOKUP($O179,PoleRange,3,FALSE),0)","v":-121.496579999999},{"$f":"IFERROR(VLOOKUP($O179,PoleRange,2,FALSE),0)","v":39.673470000000002},385.05383999999998,null,{"$f":"IFERROR(VLOOKUP($N179,PoleRange,6,FALSE),0)","v":1198.4000000000001},{"$f":"IFERROR(VLOOKUP($O179,PoleRange,6,FALSE),0)","v":1224.5},{"$f":"IFERROR(VLOOKUP($N179,PoleRange,7,FALSE),0)","v":33},{"$f":"IFERROR(VLOOKUP($O179,PoleRange,7,FALSE),0)","v":39.799999999999898}]
[null,null,null,null,null,null,null,null,null,218,39.6738,-121.49624,"Tier 2-3","W12149590N3967413","W12149658N3967347","W12149590N3967413-W12149658N3967347",308.5,2,218,{"$f":"COUNTIFS(TreeRange,S180,TreeFail,\"Yes\")*V180","v":0},0,1,{"$f":"COUNTIFS(TreeRange,S180,TreeOffset,\"Yes\")","v":0},0,{"$f":"IFERROR(VLOOKUP($N180,PoleRange,3,FALSE),0)","v":-121.49590000000001},{"$f":"IFERROR(VLOOKUP($N180,PoleRange,2,FALSE),0)","v":39.674129999999899},401.69592,null,{"$f":"IFERROR(VLOOKUP($O180,PoleRange,3,FALSE),0)","v":-121.496579999999},{"$f":"IFERROR(VLOOKUP($O180,PoleRange,2,FALSE),0)","v":39.673470000000002},385.05383999999998,null,{"$f":"IFERROR(VLOOKUP($N180,PoleRange,6,FALSE),0)","v":1281},{"$f":"IFERROR(VLOOKUP($O180,PoleRange,6,FALSE),0)","v":1224.5},{"$f":"IFERROR(VLOOKUP($N180,PoleRange,7,FALSE),0)","v":37.899999999999899},{"$f":"IFERROR(VLOOKUP($O180,PoleRange,7,FALSE),0)","v":39.799999999999898}]
[null,null,null,null,null,null,null,null,null,219,39.675240000000002,-121.49478000000001,"Tier 2-3","W12149366N3967635","W12149590N3967413","W12149366N3967635-W12149590N3967413",1024.0999999999899,2,219,{"$f":"COUNTIFS(TreeRange,S181,TreeFail,\"Yes\")*V181","v":0},0,1,{"$f":"COUNTIFS(TreeRange,S181,TreeOffset,\"Yes\")","v":0},0,{"$f":"IFERROR(VLOOKUP($N181,PoleRange,3,FALSE),0)","v":-121.49366000000001},{"$f":"IFERROR(VLOOKUP($N181,PoleRange,2,FALSE),0)","v":39.6763499999999},430.83480000000003,null,{"$f":"IFERROR(VLOOKUP($O181,PoleRange,3,FALSE),0)","v":-121.49590000000001},{"$f":"IFERROR(VLOOKUP($O181,PoleRange,2,FALSE),0)","v":39.674129999999899},401.69592,null,{"$f":"IFERROR(VLOOKUP($N181,PoleRange,6,FALSE),0)","v":1375.7},{"$f":"IFERROR(VLOOKUP($O181,PoleRange,6,FALSE),0)","v":1281},{"$f":"IFERROR(VLOOKUP($N181,PoleRange,7,FALSE),0)","v":38.799999999999898},{"$f":"IFERROR(VLOOKUP($O181,PoleRange,7,FALSE),0)","v":37.899999999999899}]
[null,null,null,null,null,null,null,null,null,220,39.676470000000002,-121.49344000000001,"Tier 2-3","W12149366N3967635","W12149322N3967660","W12149366N3967635-W12149322N3967660",153.30000000000001,2,220,{"$f":"COUNTIFS(TreeRange,S182,TreeFail,\"Yes\")*V182","v":0},0,1,{"$f":"COUNTIFS(TreeRange,S182,TreeOffset,\"Yes\")","v":0},0,{"$f":"IFERROR(VLOOKUP($N182,PoleRange,3,FALSE),0)","v":-121.49366000000001},{"$f":"IFERROR(VLOOKUP($N182,PoleRange,2,FALSE),0)","v":39.6763499999999},430.83480000000003,null,{"$f":"IFERROR(VLOOKUP($O182,PoleRange,3,FALSE),0)","v":-121.493219999999},{"$f":"IFERROR(VLOOKUP($O182,PoleRange,2,FALSE),0)","v":39.676600000000001},425.89704,null,{"$f":"IFERROR(VLOOKUP($N182,PoleRange,6,FALSE),0)","v":1375.7},{"$f":"IFERROR(VLOOKUP($O182,PoleRange,6,FALSE),0)","v":1357.5},{"$f":"IFERROR(VLOOKUP($N182,PoleRange,7,FALSE),0)","v":38.799999999999898},{"$f":"IFERROR(VLOOKUP($O182,PoleRange,7,FALSE),0)","v":40.799999999999898}]
[null,null,null,null,null,null,null,null,null,221,39.676870000000001,-121.49281000000001,"Tier 2-3","W12149322N3967660","W12149240N3967714","W12149322N3967660-W12149240N3967714",304.10000000000002,2,221,{"$f":"COUNTIFS(TreeRange,S183,TreeFail,\"Yes\")*V183","v":0},0,1,{"$f":"COUNTIFS(TreeRange,S183,TreeOffset,\"Yes\")","v":0},0,{"$f":"IFERROR(VLOOKUP($N183,PoleRange,3,FALSE),0)","v":-121.493219999999},{"$f":"IFERROR(VLOOKUP($N183,PoleRange,2,FALSE),0)","v":39.676600000000001},425.89704,null,{"$f":"IFERROR(VLOOKUP($O183,PoleRange,3,FALSE),0)","v":-121.4924},{"$f":"IFERROR(VLOOKUP($O183,PoleRange,2,FALSE),0)","v":39.677140000000001},407.27376000000004,null,{"$f":"IFERROR(VLOOKUP($N183,PoleRange,6,FALSE),0)","v":1357.5},{"$f":"IFERROR(VLOOKUP($O183,PoleRange,6,FALSE),0)","v":1288.7},{"$f":"IFERROR(VLOOKUP($N183,PoleRange,7,FALSE),0)","v":40.799999999999898},{"$f":"IFERROR(VLOOKUP($O183,PoleRange,7,FALSE),0)","v":48.5}]
[null,null,null,null,null,null,null,null,null,222,39.677210000000002,-121.4923,"Tier 2-3","W12149240N3967714","W12149219N3967729","W12149240N3967714-W12149219N3967729",78.7,2,222,{"$f":"COUNTIFS(TreeRange,S184,TreeFail,\"Yes\")*V184","v":0},0,1,{"$f":"COUNTIFS(TreeRange,S184,TreeOffset,\"Yes\")","v":0},0,{"$f":"IFERROR(VLOOKUP($N184,PoleRange,3,FALSE),0)","v":-121.4924},{"$f":"IFERROR(VLOOKUP($N184,PoleRange,2,FALSE),0)","v":39.677140000000001},407.27376000000004,null,{"$f":"IFERROR(VLOOKUP($O184,PoleRange,3,FALSE),0)","v":-121.492189999999},{"$f":"IFERROR(VLOOKUP($O184,PoleRange,2,FALSE),0)","v":39.6772899999999},402.64079999999694,null,{"$f":"IFERROR(VLOOKUP($N184,PoleRange,6,FALSE),0)","v":1288.7},{"$f":"IFERROR(VLOOKUP($O184,PoleRange,6,FALSE),0)","v":1280.79999999999},{"$f":"IFERROR(VLOOKUP($N184,PoleRange,7,FALSE),0)","v":48.5},{"$f":"IFERROR(VLOOKUP($O184,PoleRange,7,FALSE),0)","v":41.2}]
[null,null,null,null,null,null,null,null,null,223,39.677300000000002,-121.49217,"Tier 2-3","W12149219N3967729","W12149215N3967731","W12149219N3967729-W12149215N3967731",13.9,2,223,{"$f":"COUNTIFS(TreeRange,S185,TreeFail,\"Yes\")*V185","v":0},0,1,{"$f":"COUNTIFS(TreeRange,S185,TreeOffset,\"Yes\")","v":0},0,{"$f":"IFERROR(VLOOKUP($N185,PoleRange,3,FALSE),0)","v":-121.492189999999},{"$f":"IFERROR(VLOOKUP($N185,PoleRange,2,FALSE),0)","v":39.6772899999999},402.64079999999694,null,{"$f":"IFERROR(VLOOKUP($O185,PoleRange,3,FALSE),0)","v":-121.492149999999},{"$f":"IFERROR(VLOOKUP($O185,PoleRange,2,FALSE),0)","v":39.677309999999899},402.15312,null,{"$f":"IFERROR(VLOOKUP($N185,PoleRange,6,FALSE),0)","v":1280.79999999999},{"$f":"IFERROR(VLOOKUP($O185,PoleRange,6,FALSE),0)","v":1282.5},{"$f":"IFERROR(VLOOKUP($N185,PoleRange,7,FALSE),0)","v":41.2},{"$f":"IFERROR(VLOOKUP($O185,PoleRange,7,FALSE),0)","v":37.899999999999899}]
[null,null,null,null,null,null,null,null,null,224,39.677370000000003,-121.492069999999,"Tier 2-3","W12149215N3967731","W12149198N3967742","W12149215N3967731-W12149198N3967742",64.400000000000006,2,224,{"$f":"COUNTIFS(TreeRange,S186,TreeFail,\"Yes\")*V186","v":0},0,1,{"$f":"COUNTIFS(TreeRange,S186,TreeOffset,\"Yes\")","v":0},0,{"$f":"IFERROR(VLOOKUP($N186,PoleRange,3,FALSE),0)","v":-121.492149999999},{"$f":"IFERROR(VLOOKUP($N186,PoleRange,2,FALSE),0)","v":39.677309999999899},402.15312,null,{"$f":"IFERROR(VLOOKUP($O186,PoleRange,3,FALSE),0)","v":0},{"$f":"IFERROR(VLOOKUP($O186,PoleRange,2,FALSE),0)","v":0},-0.30480000000000002,null,{"$f":"IFERROR(VLOOKUP($N186,PoleRange,6,FALSE),0)","v":1282.5},{"$f":"IFERROR(VLOOKUP($O186,PoleRange,6,FALSE),0)","v":0},{"$f":"IFERROR(VLOOKUP($N186,PoleRange,7,FALSE),0)","v":37.899999999999899},{"$f":"IFERROR(VLOOKUP($O186,PoleRange,7,FALSE),0)","v":0}]

{"sheet":"Poles","index":1,"n_rows":187,"n_cols":11,"rows_kept":187,"cut":false,"hidden":false,"merged":[]}
[]
["objectid","str_geotag","latitude","longitude","x_coordinate","y_coordinate","elevation","height","line_id","line_name","HFTD"]
[1,"W12149215N3967731",39.677309999999899,-121.492149999999,6704608.29,2373091.79999999,1282.5,37.899999999999899,102911105,"WYANDOTTE 1105","Tier 2-3"]
[2,"W12149219N3967729",39.6772899999999,-121.492189999999,6704597.4400000004,2373083.1,1280.79999999999,41.2,102911105,"WYANDOTTE 1105","Tier 2-3"]
[3,"W12149240N3967714",39.677140000000001,-121.4924,6704538.79,2373030.6499999901,1288.7,48.5,102911105,"WYANDOTTE 1105","Tier 2-3"]
[4,"W12149322N3967660",39.676600000000001,-121.493219999999,6704310.1500000004,2372830.12,1357.5,40.799999999999898,102911105,"WYANDOTTE 1105","Tier 2-3"]
[5,"W12149366N3967635",39.6763499999999,-121.49366000000001,6704185.7800000003,2372740.41,1375.7,38.799999999999898,102911105,"WYANDOTTE 1105","Tier 2-3"]
[6,"W12149590N3967413",39.674129999999899,-121.49590000000001,6703561.9199999897,2371928.3199999901,1281,37.899999999999899,102911105,"WYANDOTTE 1105","Tier 2-3"]
[7,"W12149658N3967347",39.673470000000002,-121.496579999999,6703369.3099999903,2371687.3799999901,1224.5,39.799999999999898,102911105,"WYANDOTTE 1105","Tier 2-3"]
[8,"W12149700N3966999",39.669989999999899,-121.497,6703260.5700000003,2370416.79,1060.9000000000001,40.6,102911105,"WYANDOTTE 1105","Tier 2-3"]
[9,"W12149727N3967099",39.670990000000003,-121.49727,6703180.0599999903,2370781.9500000002,1134.29999999999,39.899999999999899,102911105,"WYANDOTTE 1105","Tier 2-3"]
[10,"W12149742N3967166",39.671660000000003,-121.49742000000001,6703136.2999999896,2371024.3799999901,1168.5999999999899,30.1,102911105,"WYANDOTTE 1105","Tier 2-3"]
[11,"W12149755N3967217",39.672170000000001,-121.49755,6703099.54,2371212.2099999902,1198.4000000000001,33,102911105,"WYANDOTTE 1105","Tier 2-3"]
[12,"W12150124N3966627",39.666269999999898,-121.501239999999,6702072.04,2369057.39,981,44.2,102911105,"WYANDOTTE 1105","Tier 2-3"]
[13,"W12150267N3966441",39.664409999999897,-121.502669999999,6701674.5099999905,2368377.7200000002,1166.5,55.399999999999899,102911105,"WYANDOTTE 1105","Tier 2-3"]
[14,"W12150368N3966300",39.662999999999897,-121.50368,6701394.1900000004,2367863.1,1403.4,51.799999999999898,102911105,"WYANDOTTE 1105","Tier 2-3"]
[15,"W12150545N3965863",39.658630000000002,-121.505449999999,6700903.3899999904,2366266,1271.5,44.799999999999898,102911105,"WYANDOTTE 1105","Tier 2-3"]
[16,"W12150561N3965801",39.658009999999898,-121.50561,6700860.4800000004,2366040,1340.0999999999899,48.5,102911105,"WYANDOTTE 1105","Tier 2-3"]
[17,"W12150604N3965661",39.656610000000001,-121.506039999999,6700740.2999999896,2365530.1499999901,1448.5,49.299999999999898,102911105,"WYANDOTTE 1105","Tier 2-3"]
[18,"W12150643N3965533",39.6553299999999,-121.506429999999,6700633.7000000002,2365063.02999999,1520.0999999999899,44.2,102911105,"WYANDOTTE 1105","Tier 2-3"]
[19,"W12150660N3965474",39.654739999999897,-121.50660000000001,6700588.4599999897,2364849.91,1524.0999999999899,45.299999999999898,102911105,"WYANDOTTE 1105","Tier 2-3"]
[20,"W12150742N3965186",39.6518599999999,-121.507419999999,6700363.0199999902,2363798.6099999901,1533.5,49.399999999999899,102911105,"WYANDOTTE 1105","Tier 2-3"]
[21,"W12150764N3965146",39.65146,-121.507639999999,6700300.2000000002,2363653.7299999902,1529.29999999999,32.799999999999898,102911105,"WYANDOTTE 1105","Tier 2-3"]
[22,"W12150782N3965112",39.651119999999899,-121.507819999999,6700249.5999999903,2363528.2299999902,1521.5,39.5,102911105,"WYANDOTTE 1105","Tier 2-3"]
[23,"W12150790N3965077",39.650770000000001,-121.50790000000001,6700228.3399999896,2363399.0899999901,1522.9,71.599999999999895,102911105,"WYANDOTTE 1105","Tier 2-3"]
[30,"W12151401N3952860",39.528599999999898,-121.514009999999,6698745.1699999897,2318892.06,487.5,37.299999999999898,102911105,"WYANDOTTE 1105","Tier 2-3"]
[31,"W12151433N3952690",39.526899999999898,-121.51433,6698658.4199999897,2318270.77999999,474.1,37.799999999999898,102911105,"WYANDOTTE 1105","Tier 2-3"]
[32,"W12151437N3952744",39.527439999999899,-121.51437,6698646,2318468.4599999902,479.39999999999901,37.700000000000003,102911105,"WYANDOTTE 1105","Tier 2-3"]
[33,"W12151441N3952799",39.527990000000003,-121.514409999999,6698633.54,2318667.41,487.39999999999901,38.799999999999898,102911105,"WYANDOTTE 1105","Tier 2-3"]
[35,"W12151456N3952437",39.524369999999898,-121.51456,6698600.5199999902,2317350.29,488.1,38.299999999999898,102911105,"WYANDOTTE 1105","Tier 2-3"]
[36,"W12151459N3952471",39.524709999999899,-121.514589999999,6698590.0700000003,2317473.6699999901,490.6,38.200000000000003,102911105,"WYANDOTTE 1105","Tier 2-3"]
[37,"W12151461N3952559",39.525590000000001,-121.51461,6698583.5499999896,2317796.2099999902,480.89999999999901,37.399999999999899,102911105,"WYANDOTTE 1105","Tier 2-3"]
[38,"W12151463N3952642",39.526420000000002,-121.514629999999,6698576.7000000002,2318097.54999999,472.1,37,102911105,"WYANDOTTE 1105","Tier 2-3"]
[46,"W12151765N3953162",39.531619999999897,-121.51765,6697713.7000000002,2319985.54999999,342.69999999999902,40.1,102911105,"WYANDOTTE 1105","Tier 2-3"]
[47,"W12151822N3953157",39.531570000000002,-121.518219999999,6697553.4800000004,2319967.33,344.1,43.7,102911105,"WYANDOTTE 1105","Tier 2-3"]
[48,"W12151852N3952834",39.52834,-121.518519999999,6697473.8799999896,2318791.1299999901,451.19999999999902,42.2,102911105,"WYANDOTTE 1105","Tier 2-3"]
[49,"W12151868N3953111",39.531109999999899,-121.51868,6697425.7199999904,2319799.52999999,358.69999999999902,35.299999999999898,102911105,"WYANDOTTE 1105","Tier 2-3"]
[50,"W12151873N3952887",39.528869999999898,-121.51873000000001,6697414.0599999903,2318982.8399999901,457.6,38.799999999999898,102911105,"WYANDOTTE 1105","Tier 2-3"]
[51,"W12151909N3953154",39.53154,-121.51909000000001,6697307.0899999896,2319953.56,364.89999999999901,36,102911105,"WYANDOTTE 1105","Tier 2-3"]
[52,"W12151911N3952893",39.528930000000003,-121.519109999999,6697307.6900000004,2319003.29999999,461.8,43.2,102911105,"WYANDOTTE 1105","Tier 2-3"]
[53,"W12151923N3953089",39.5308899999999,-121.519229999999,6697268.5999999903,2319716.7099999902,361.39999999999901,33.899999999999899,102911105,"WYANDOTTE 1105","Tier 2-3"]
[54,"W12151936N3952926",39.529260000000001,-121.51936000000001,6697236.3300000001,2319125.3799999901,441.3,38.6,102911105,"WYANDOTTE 1105","Tier 2-3"]
[55,"W12152005N3953021",39.530209999999897,-121.520049999999,6697038.4400000004,2319470.7299999902,373.69999999999902,41.399999999999899,102911105,"WYANDOTTE 1105","Tier 2-3"]
[56,"W12152014N3952914",39.529139999999899,-121.520139999999,6697016.1200000001,2319078.87,394.1,36.6,102911105,"WYANDOTTE 1105","Tier 2-3"]
[57,"W12152053N3952877",39.528770000000002,-121.520529999999,6696907.4299999904,2318945.64,400.3,37.6,102911105,"WYANDOTTE 1105","Tier 2-3"]
[58,"W12152064N3952615",39.526150000000001,-121.52064,6696882.0199999902,2317987.91,478.6,34.299999999999898,102911105,"WYANDOTTE 1105","Tier 2-3"]
[59,"W12152091N3952965",39.529649999999897,-121.52091,6696797.4000000004,2319265.8399999901,393.8,39.899999999999899,102911105,"WYANDOTTE 1105","Tier 2-3"]
[60,"W12152091N3953014",39.530140000000003,-121.52091,6696798.1799999904,2319444.14,384,35.299999999999898,102911105,"WYANDOTTE 1105","Tier 2-3"]
[62,"W12152123N3952539",39.525390000000002,-121.52123,6696717.2000000002,2317710.4700000002,477.3,33,102911105,"WYANDOTTE 1105","Tier 2-3"]
[63,"W12152124N3952614",39.526139999999899,-121.52124000000001,6696711.0099999905,2317985.04,482.89999999999901,34.799999999999898,102911105,"WYANDOTTE 1105","Tier 2-3"]
[64,"W12152184N3953012",39.530119999999897,-121.521839999999,6696533.8600000003,2319434.7400000002,406,39.299999999999898,102911105,"WYANDOTTE 1105","Tier 2-3"]
[66,"W12152284N3952992",39.529919999999898,-121.52284,6696253.9100000001,2319358.81,426.19999999999902,42.899999999999899,102911105,"WYANDOTTE 1105","Tier 2-3"]
[68,"W12152351N3952966",39.52966,-121.52351,6696066.0499999896,2319263.31,422.19999999999902,39.6,102911105,"WYANDOTTE 1105","Tier 2-3"]
[69,"W12152414N3952959",39.529589999999899,-121.52414,6695886.4400000004,2319235.9599999902,422.19999999999902,39.899999999999899,102911105,"WYANDOTTE 1105","Tier 2-3"]
[70,"W12152508N3952949",39.529490000000003,-121.52508,6695621.6900000004,2319197.9300000002,422,43.299999999999898,102911105,"WYANDOTTE 1105","Tier 2-3"]
[71,"W12152594N3958619",39.586190000000002,-121.52594000000001,6695271.3099999903,2339849.2099999902,1211.7,28.6,102911105,"WYANDOTTE 1105","Tier 2-3"]
[72,"W12152596N3952916",39.529159999999898,-121.525959999999,6695375.4800000004,2319078.85,413,39.899999999999899,102911105,"WYANDOTTE 1105","Tier 2-3"]
[73,"W12152603N3952974",39.529739999999897,-121.52603000000001,6695353.9900000002,2319287.9199999901,371.3,30.1999999999999,102911105,"WYANDOTTE 1105","Tier 2-3"]
[74,"W12152603N3953064",39.530639999999899,-121.52603000000001,6695351.4299999904,2319617.04,337.6,30.399999999999899,102911105,"WYANDOTTE 1105","Tier 2-3"]
[75,"W12152604N3953139",39.531390000000002,-121.526039999999,6695348.1699999897,2319890.2000000002,335.5,35.1,102911105,"WYANDOTTE 1105","Tier 2-3"]
[76,"W12152605N3953235",39.532350000000001,-121.526049999999,6695342.6200000001,2320241.1899999902,343.8,35.700000000000003,102911105,"WYANDOTTE 1105","Tier 2-3"]
[77,"W12152605N3953285",39.532850000000003,-121.526049999999,6695341.7699999902,2320421.4500000002,335.19999999999902,38.700000000000003,102911105,"WYANDOTTE 1105","Tier 2-3"]
[78,"W12152606N3953202",39.532020000000003,-121.52606,6695340.6799999904,2320121.31,343.3,38.200000000000003,102911105,"WYANDOTTE 1105","Tier 2-3"]
[79,"W12152680N3952875",39.528750000000002,-121.526799999999,6695137.6900000004,2318929.1499999901,398.8,35.399999999999899,102911105,"WYANDOTTE 1105","Tier 2-3"]
[80,"W12152750N3952825",39.52825,-121.5275,6694942.4100000001,2318745.06,384.3,35.200000000000003,102911105,"WYANDOTTE 1105","Tier 2-3"]
[81,"W12152800N3952774",39.527740000000001,-121.52800000000001,6694803.1100000003,2318557.56,384.1,40.700000000000003,102911105,"WYANDOTTE 1105","Tier 2-3"]
[82,"W12152907N3952726",39.527259999999899,-121.52907,6694501.5300000003,2318380.5,374.6,40.399999999999899,102911105,"WYANDOTTE 1105","Tier 2-3"]
[83,"W12152971N3952716",39.527160000000002,-121.529709999999,6694320.0599999903,2318345.25,373.5,34.200000000000003,102911105,"WYANDOTTE 1105","Tier 2-3"]
[84,"W12152988N3952972",39.529719999999898,-121.52988000000001,6694268.4699999904,2319277.1499999901,436,38.899999999999899,102911105,"WYANDOTTE 1105","Tier 2-3"]
[85,"W12153052N3952749",39.52749,-121.530519999999,6694092.4199999897,2318461.4700000002,374.6,34.299999999999898,102911105,"WYANDOTTE 1105","Tier 2-3"]
[86,"W12153053N3952876",39.528759999999899,-121.530529999999,6694085.2800000003,2318926.1299999901,424.19999999999902,33.200000000000003,102911105,"WYANDOTTE 1105","Tier 2-3"]
[87,"W12153054N3952731",39.52731,-121.53054,6694087.3099999903,2318397.29999999,377.89999999999901,40.5,102911105,"WYANDOTTE 1105","Tier 2-3"]
[88,"W12153054N3952815",39.528149999999897,-121.53054,6694083.7199999904,2318704.9199999901,398,38.700000000000003,102911105,"WYANDOTTE 1105","Tier 2-3"]
[89,"W12153068N3952972",39.529719999999898,-121.53068,6694042.79,2319276.9300000002,455.6,37.700000000000003,102911105,"WYANDOTTE 1105","Tier 2-3"]
[90,"W12153111N3953048",39.530479999999898,-121.531109999999,6693919.8799999896,2319553.12,451,29.8,102911105,"WYANDOTTE 1105","Tier 2-3"]
[91,"W12153116N3952725",39.527250000000002,-121.53116,6693912.3899999904,2318375.16,389,38.899999999999899,102911105,"WYANDOTTE 1105","Tier 2-3"]
[92,"W12153117N3953239",39.5323899999999,-121.53117,6693899.1100000003,2320245.3599999901,456.5,39.700000000000003,102911105,"WYANDOTTE 1105","Tier 2-3"]
[93,"W12153118N3953282",39.532820000000001,-121.53118000000001,6693894.3300000001,2320405.31,447.8,29.399999999999899,102911105,"WYANDOTTE 1105","Tier 2-3"]
[94,"W12153130N3952973",39.529730000000001,-121.5313,6693867.6100000003,2319276.64,453.1,35.200000000000003,102911105,"WYANDOTTE 1105","Tier 2-3"]
[95,"W12153133N3952927",39.529269999999897,-121.531329999999,6693860.8499999903,2319109.4199999901,460.89999999999901,33.899999999999899,102911105,"WYANDOTTE 1105","Tier 2-3"]
[96,"W12153147N3953155",39.531550000000003,-121.531469999999,6693816.2099999897,2319939.77,444.69999999999902,29.899999999999899,102911105,"WYANDOTTE 1105","Tier 2-3"]
[97,"W12153152N3952699",39.526989999999898,-121.53152,6693809.3899999904,2318280.8399999901,396.1,41.1,102911105,"WYANDOTTE 1105","Tier 2-3"]
[98,"W12153157N3953048",39.530479999999898,-121.53157,6693791.1299999896,2319551.75999999,447.1,34.700000000000003,102911105,"WYANDOTTE 1105","Tier 2-3"]
[99,"W12153200N3952739",39.527389999999897,-121.531999999999,6693673.5700000003,2318423.83,392.39999999999901,34.399999999999899,102911105,"WYANDOTTE 1105","Tier 2-3"]
[100,"W12153203N3952790",39.527900000000002,-121.53203000000001,6693664.2300000004,2318609.79999999,414.6,33.6,102911105,"WYANDOTTE 1105","Tier 2-3"]
[101,"W12153205N3952846",39.528460000000003,-121.532049999999,6693659.6299999896,2318813.64,453.8,34.5,102911105,"WYANDOTTE 1105","Tier 2-3"]
[102,"W12153205N3953245",39.532449999999898,-121.532049999999,6693650.0499999896,2320269.25,441.3,34.399999999999899,102911105,"WYANDOTTE 1105","Tier 2-3"]
[103,"W12153205N3953285",39.532850000000003,-121.532049999999,6693649.9199999897,2320413.89,421.5,39.700000000000003,102911105,"WYANDOTTE 1105","Tier 2-3"]
[104,"W12153206N3952881",39.52881,-121.53206,6693655.04,2318942.6299999901,485.19999999999902,37.299999999999898,102911105,"WYANDOTTE 1105","Tier 2-3"]
[105,"W12153206N3952972",39.529719999999898,-121.53206,6693653.6399999904,2319274.81,435.69999999999902,30.1,102911105,"WYANDOTTE 1105","Tier 2-3"]
[106,"W12153206N3953018",39.530180000000001,-121.53206,6693651.7999999896,2319441.12,444.3,34.399999999999899,102911105,"WYANDOTTE 1105","Tier 2-3"]
[107,"W12153206N3953048",39.530479999999898,-121.53206,6693651.0700000003,2319550.64,441.5,35.399999999999899,102911105,"WYANDOTTE 1105","Tier 2-3"]
[108,"W12153206N3953153",39.531529999999897,-121.53206,6693648.6500000004,2319933.12,437.6,30.6999999999999,102911105,"WYANDOTTE 1105","Tier 2-3"]
[109,"W12153206N3953192",39.53192,-121.53206,6693648.0099999905,2320073.75,440.1,35.700000000000003,102911105,"WYANDOTTE 1105","Tier 2-3"]
[110,"W12153207N3953097",39.530970000000003,-121.53207,6693649.1900000004,2319727.83,435.39999999999901,30.399999999999899,102911105,"WYANDOTTE 1105","Tier 2-3"]
[111,"W12153224N3952655",39.52655,-121.53224,6693609.2699999902,2318118.6699999901,399.3,43.299999999999898,102911105,"WYANDOTTE 1105","Tier 2-3"]
[112,"W12153261N3953152",39.53152,-121.53261000000001,6693495.9900000002,2319928.1099999901,428,38.799999999999898,102911105,"WYANDOTTE 1105","Tier 2-3"]
[113,"W12153269N3953048",39.530479999999898,-121.53269,6693474.6100000003,2319549.62,423.6,35.299999999999898,102911105,"WYANDOTTE 1105","Tier 2-3"]
[114,"W12153270N3952789",39.5278899999999,-121.53270000000001,6693475.1399999904,2318607.37,408.3,38.299999999999898,102911105,"WYANDOTTE 1105","Tier 2-3"]
[116,"W12153284N3952973",39.529730000000001,-121.532839999999,6693432.1399999904,2319274.37,416.19999999999902,39.700000000000003,102911105,"WYANDOTTE 1105","Tier 2-3"]
[117,"W12153295N3952615",39.526150000000001,-121.53295,6693409.5700000003,2317969.83,396.39999999999901,38.200000000000003,102911105,"WYANDOTTE 1105","Tier 2-3"]
[119,"W12153322N3953104",39.531039999999898,-121.53322,6693322.7300000004,2319750.77999999,415.19999999999902,34.6,102911105,"WYANDOTTE 1105","Tier 2-3"]
[120,"W12153323N3953048",39.530479999999898,-121.53323,6693320.8099999903,2319549.56,405.19999999999902,33.200000000000003,102911105,"WYANDOTTE 1105","Tier 2-3"]
[121,"W12153340N3952972",39.529719999999898,-121.5334,6693276.0099999905,2319271.3799999901,408.39999999999901,37.899999999999899,102911105,"WYANDOTTE 1105","Tier 2-3"]
[123,"W12153355N3953046",39.530459999999898,-121.53355000000001,6693230.8600000003,2319539.00999999,408.6,34.1,102911105,"WYANDOTTE 1105","Tier 2-3"]
[124,"W12153363N3952882",39.528820000000003,-121.53363,6693210.8099999903,2318942.64,431.69999999999902,38.1,102911105,"WYANDOTTE 1105","Tier 2-3"]
[125,"W12153379N3952832",39.528320000000001,-121.533789999999,6693167.0999999903,2318759.8999999901,419.8,33.5,102911105,"WYANDOTTE 1105","Tier 2-3"]
[126,"W12153385N3952791",39.527909999999899,-121.53385,6693150.9699999904,2318610.50999999,401.8,37.6,102911105,"WYANDOTTE 1105","Tier 2-3"]
[128,"W12153419N3953172",39.53172,-121.534189999999,6693047.5599999903,2319998.3199999901,375.8,39.5,102911105,"WYANDOTTE 1105","Tier 2-3"]
[129,"W12153419N3953235",39.532350000000001,-121.534189999999,6693047.04,2320226.6299999901,372.1,38,102911105,"WYANDOTTE 1105","Tier 2-3"]
[130,"W12153421N3953300",39.533000000000001,-121.53421,6693039.3300000001,2320463.8199999901,398.5,38.299999999999898,102911105,"WYANDOTTE 1105","Tier 2-3"]
[131,"W12153422N3952882",39.528820000000003,-121.53422,6693045.4500000002,2318940.5899999901,421.3,38.799999999999898,102911105,"WYANDOTTE 1105","Tier 2-3"]
[132,"W12153427N3952831",39.528309999999898,-121.53427000000001,6693033.1699999897,2318755.8599999901,413.8,33.1,102911105,"WYANDOTTE 1105","Tier 2-3"]
[134,"W12153496N3952831",39.528309999999898,-121.534959999999,6692836.5800000001,2318753.6899999902,402.1,33.799999999999898,102911105,"WYANDOTTE 1105","Tier 2-3"]
[136,"W12153534N3952830",39.528300000000002,-121.53534000000001,6692731.2099999897,2318750.2400000002,399,36,102911105,"WYANDOTTE 1105","Tier 2-3"]
[137,"W12153535N3952637",39.52637,-121.535349999999,6692730.6799999904,2318048.2299999902,356.8,35.299999999999898,102911105,"WYANDOTTE 1105","Tier 2-3"]
[138,"W12153535N3952774",39.527740000000001,-121.535349999999,6692729.9900000002,2318547.06,374.89999999999901,35.5,102911105,"WYANDOTTE 1105","Tier 2-3"]
[139,"W12153536N3952706",39.527059999999899,-121.535359999999,6692727.8099999903,2318300.4900000002,356,29.399999999999899,102911105,"WYANDOTTE 1105","Tier 2-3"]
[142,"W12153537N3952882",39.528820000000003,-121.53537,6692721.0499999896,2318939.8399999901,400,35.6,102911105,"WYANDOTTE 1105","Tier 2-3"]
[143,"W12153538N3952985",39.529850000000003,-121.53538,6692717.8600000003,2319314.77999999,417.6,39.399999999999899,102911105,"WYANDOTTE 1105","Tier 2-3"]
[144,"W12153538N3953063",39.530630000000002,-121.53538,6692715.3700000001,2319598.1099999901,389.5,34.200000000000003,102911105,"WYANDOTTE 1105","Tier 2-3"]
[145,"W12153557N3953230",39.5322999999999,-121.53557000000001,6692659.0099999905,2320206.3599999901,362.89999999999901,32.1,102911105,"WYANDOTTE 1105","Tier 2-3"]
[147,"W12153585N3953154",39.53154,-121.535849999999,6692582.1799999904,2319929.25,355.89999999999901,39.399999999999899,102911105,"WYANDOTTE 1105","Tier 2-3"]
[151,"W12153644N3953230",39.5322999999999,-121.536439999999,6692412.7800000003,2320205.4300000002,355.5,33.799999999999898,102911105,"WYANDOTTE 1105","Tier 2-3"]
[152,"W12153654N3953103",39.531030000000001,-121.53654,6692386.1900000004,2319745.33,339.6,38.200000000000003,102911105,"WYANDOTTE 1105","Tier 2-3"]
[153,"W12153654N3953154",39.53154,-121.53654,6692386.9500000002,2319928,339.89999999999901,34.299999999999898,102911105,"WYANDOTTE 1105","Tier 2-3"]
[154,"W12153655N3953063",39.530630000000002,-121.53655000000001,6692386.1500000004,2319597.37,346.89999999999901,34.799999999999898,102911105,"WYANDOTTE 1105","Tier 2-3"]
[155,"W12153655N3953211",39.532110000000003,-121.53655000000001,6692383.4500000002,2320137.5699999901,351.1,33.6,102911105,"WYANDOTTE 1105","Tier 2-3"]
[156,"W12153655N3953245",39.532449999999898,-121.53655000000001,6692382.7199999904,2320259.33,354.89999999999901,38.6,102911105,"WYANDOTTE 1105","Tier 2-3"]
[157,"W12153655N3953283",39.532829999999898,-121.53655000000001,6692380.6500000004,2320400.8599999901,350.5,34.5,102911105,"WYANDOTTE 1105","Tier 2-3"]
[158,"W12153682N3952487",39.52487,-121.53682000000001,6692318.4199999897,2317501.50999999,380,35.799999999999898,102911105,"WYANDOTTE 1105","Tier 2-3"]
[159,"W12153692N3953153",39.531529999999897,-121.536919999999,6692279.1200000001,2319927.2299999902,337,37.6,102911105,"WYANDOTTE 1105","Tier 2-3"]
[161,"W12153709N3952512",39.525120000000001,-121.53709000000001,6692243.0599999903,2317588.6899999902,366.69999999999902,34.799999999999898,102911105,"WYANDOTTE 1105","Tier 2-3"]
[162,"W12153713N3953284",39.53284,-121.53713,6692217.2199999904,2320402.58,347.89999999999901,35,102911105,"WYANDOTTE 1105","Tier 2-3"]
[163,"W12153716N3952455",39.524549999999898,-121.53716,6692223.7000000002,2317384.33,380,39.6,102911105,"WYANDOTTE 1105","Tier 2-3"]
[164,"W12153742N3952569",39.525689999999898,-121.537419999999,6692149.6699999897,2317796.35,351.3,34.399999999999899,102911105,"WYANDOTTE 1105","Tier 2-3"]
[165,"W12153745N3952470",39.524700000000003,-121.53745000000001,6692142.8099999903,2317438.04,364.8,35.299999999999898,102911105,"WYANDOTTE 1105","Tier 2-3"]
[166,"W12153751N3952386",39.5238599999999,-121.537509999999,6692125.6100000003,2317131.56,384.19999999999902,38.799999999999898,102911105,"WYANDOTTE 1105","Tier 2-3"]
[168,"W12153762N3955060",39.550600000000003,-121.53762,6692046.9800000004,2326869.4900000002,330.19999999999902,33.5,102911105,"WYANDOTTE 1105","Tier 2-3"]
[169,"W12153767N3952612",39.526119999999899,-121.53767000000001,6692078.6399999904,2317953.4799999902,344.3,37.899999999999899,102911105,"WYANDOTTE 1105","Tier 2-3"]
[170,"W12153771N3953063",39.530630000000002,-121.53771,6692057.9599999897,2319595.37,324.5,35.200000000000003,102911105,"WYANDOTTE 1105","Tier 2-3"]
[171,"W12153773N3955024",39.550240000000002,-121.537729999999,6692015.9500000002,2326738.79,336.5,34.1,102911105,"WYANDOTTE 1105","Tier 2-3"]
[173,"W12153784N3954988",39.549880000000002,-121.53784,6691986.9100000001,2326606.4599999902,344.1,37.399999999999899,102911105,"WYANDOTTE 1105","Tier 2-3"]
[175,"W12153809N3952504",39.525039999999898,-121.538089999999,6691960.9000000004,2317559.25,344.39999999999901,34.799999999999898,102911105,"WYANDOTTE 1105","Tier 2-3"]
[176,"W12153810N3953244",39.532440000000001,-121.5381,6691945.5800000001,2320256.7000000002,359.89999999999901,33.399999999999899,102911105,"WYANDOTTE 1105","Tier 2-3"]
[177,"W12153812N3952205",39.52205,-121.53812000000001,6691957.6799999904,2316472.27,370.89999999999901,39.6,102911105,"WYANDOTTE 1105","Tier 2-3"]
[178,"W12153833N3952149",39.52149,-121.53833,6691899.6900000004,2316264.9399999902,363.39999999999901,39.200000000000003,102911105,"WYANDOTTE 1105","Tier 2-3"]
[179,"W12153843N3953063",39.530630000000002,-121.53843000000001,6691854.7599999905,2319596.2000000002,334.5,30.6999999999999,102911105,"WYANDOTTE 1105","Tier 2-3"]
[180,"W12153848N3952653",39.526530000000001,-121.53848000000001,6691848.7300000004,2318100.77999999,321.39999999999901,39,102911105,"WYANDOTTE 1105","Tier 2-3"]
[181,"W12153848N3953281",39.532809999999898,-121.53848000000001,6691837.9000000004,2320388.3799999901,321.69999999999902,34.1,102911105,"WYANDOTTE 1105","Tier 2-3"]
[182,"W12153857N3952094",39.520940000000003,-121.53857000000001,6691834.4000000004,2316067.4399999902,356.3,39.399999999999899,102911105,"WYANDOTTE 1105","Tier 2-3"]
[183,"W12153891N3952195",39.521949999999897,-121.53891,6691734.6500000004,2316434.0899999901,411.3,34.799999999999898,102911105,"WYANDOTTE 1105","Tier 2-3"]
[184,"W12153893N3952044",39.520440000000001,-121.538929999999,6691731.7800000003,2315882.75999999,348,38.5,102911105,"WYANDOTTE 1105","Tier 2-3"]
[185,"W12153905N3953243",39.532429999999898,-121.53905,6691675.4900000002,2320251.25,327.3,34.399999999999899,102911105,"WYANDOTTE 1105","Tier 2-3"]
[186,"W12153906N3953282",39.532820000000001,-121.53906000000001,6691674.1500000004,2320391.66,311.60000000000002,33.1,102911105,"WYANDOTTE 1105","Tier 2-3"]
[187,"W12153907N3953103",39.531030000000001,-121.539069999999,6691673.0599999903,2319740.79,348.8,30.1,102911105,"WYANDOTTE 1105","Tier 2-3"]
[188,"W12153907N3953151",39.531509999999898,-121.539069999999,6691672.7599999905,2319915.7000000002,359,37.799999999999898,102911105,"WYANDOTTE 1105","Tier 2-3"]
[189,"W12153907N3953193",39.531930000000003,-121.539069999999,6691673.1699999897,2320068.9399999902,351.19999999999902,34.399999999999899,102911105,"WYANDOTTE 1105","Tier 2-3"]
[190,"W12153908N3953063",39.530630000000002,-121.539079999999,6691672.4800000004,2319593.04999999,335.3,36.1,102911105,"WYANDOTTE 1105","Tier 2-3"]
[191,"W12153928N3952652",39.526519999999898,-121.53928000000001,6691622.5499999896,2318097.00999999,306.19999999999902,38.399999999999899,102911105,"WYANDOTTE 1105","Tier 2-3"]
[192,"W12153944N3952000",39.520000000000003,-121.539439999999,6691589.9599999897,2315722.3999999901,337.5,44.799999999999898,102911105,"WYANDOTTE 1105","Tier 2-3"]
[193,"W12153944N3953282",39.532820000000001,-121.539439999999,6691565.9900000002,2320391.79999999,301.8,33.200000000000003,102911105,"WYANDOTTE 1105","Tier 2-3"]
[194,"W12153963N3953242",39.532420000000002,-121.53963,6691514.29,2320246.06,315.19999999999902,32.6,102911105,"WYANDOTTE 1105","Tier 2-3"]
[195,"W12153966N3953151",39.531509999999898,-121.539659999999,6691507.2300000004,2319914.8599999901,343.69999999999902,38.6,102911105,"WYANDOTTE 1105","Tier 2-3"]
[197,"W12154012N3951968",39.519680000000001,-121.54012,6691398.6100000003,2315605.04999999,324.89999999999901,34.899999999999899,102911105,"WYANDOTTE 1105","Tier 2-3"]
[198,"W12154021N3951938",39.519379999999899,-121.54021,6691373.0199999902,2315495,316.89999999999901,38.799999999999898,102911105,"WYANDOTTE 1105","Tier 2-3"]
[199,"W12154021N3953134",39.53134,-121.54021,6691350.8300000001,2319852.8799999901,330.6,28.899999999999899,102911105,"WYANDOTTE 1105","Tier 2-3"]
[202,"W12154022N3951889",39.518889999999899,-121.54022000000001,6691370.2699999902,2315318.2200000002,307.5,46,102911105,"WYANDOTTE 1105","Tier 2-3"]
[205,"W12154060N3953123",39.531230000000001,-121.540599999999,6691240.3399999896,2319809.66,319.89999999999901,29.5,102911105,"WYANDOTTE 1105","Tier 2-3"]
[207,"W12154073N3953285",39.532850000000003,-121.540729999999,6691203.1200000001,2320399.6899999902,293.89999999999901,32.899999999999899,102911105,"WYANDOTTE 1105","Tier 2-3"]
[208,"W12154084N3953131",39.531309999999898,-121.54084,6691174.4500000002,2319838.83,297.19999999999902,33.399999999999899,102911105,"WYANDOTTE 1105","Tier 2-3"]
[209,"W12154086N3953214",39.532139999999899,-121.540859999999,6691166.5999999903,2320141.29999999,280.69999999999902,34.899999999999899,102911105,"WYANDOTTE 1105","Tier 2-3"]
[210,"W12154087N3953327",39.533270000000002,-121.540869999999,6691162.8799999896,2320554.4399999902,292.89999999999901,34.6,102911105,"WYANDOTTE 1105","Tier 2-3"]
[211,"W12154149N3953393",39.533929999999899,-121.541489999999,6690986.1600000001,2320791.9399999902,274.69999999999902,33.799999999999898,102911105,"WYANDOTTE 1105","Tier 2-3"]
[212,"W12154179N3953424",39.534239999999897,-121.54179000000001,6690901.7800000003,2320906.7299999902,282,33,102911105,"WYANDOTTE 1105","Tier 2-3"]
[213,"W12154206N3954186",39.54186,-121.54206000000001,6690811.3099999903,2323682.3799999901,242.8,34.1,102911105,"WYANDOTTE 1105","Tier 2-3"]
[214,"W12154214N3953455",39.534550000000003,-121.54214,6690801.0499999896,2321016.9799999902,270.5,33.799999999999898,102911105,"WYANDOTTE 1105","Tier 2-3"]
[215,"W12154230N3953520",39.535200000000003,-121.542299999999,6690754.5300000003,2321253,270.19999999999902,33.200000000000003,102911105,"WYANDOTTE 1105","Tier 2-3"]
[216,"W12154242N3953570",39.535699999999899,-121.54242000000001,6690720.6699999897,2321434.79999999,266.3,34.5,102911105,"WYANDOTTE 1105","Tier 2-3"]
[217,"W12154249N3954102",39.541020000000003,-121.54249,6690691.3700000001,2323374.31,236.3,33.5,102911105,"WYANDOTTE 1105","Tier 2-3"]
[218,"W12154250N3953758",39.537579999999899,-121.5425,6690694.8799999896,2322121.1899999902,238.5,36.399999999999899,102911105,"WYANDOTTE 1105","Tier 2-3"]
[219,"W12154252N3953857",39.53857,-121.542519999999,6690687.25,2322483.0699999901,234.69999999999899,34.200000000000003,102911105,"WYANDOTTE 1105","Tier 2-3"]
[220,"W12154253N3953660",39.5366,-121.542529999999,6690686.2400000002,2321765.4300000002,241.4,34.1,102911105,"WYANDOTTE 1105","Tier 2-3"]
[221,"W12154256N3953592",39.535919999999898,-121.542559999999,6690680.5199999902,2321517.8999999901,245.599999999999,39,102911105,"WYANDOTTE 1105","Tier 2-3"]
[222,"W12154258N3954066",39.540660000000003,-121.54258,6690664.7300000004,2323243.0899999901,235.599999999999,34.5,102911105,"WYANDOTTE 1105","Tier 2-3"]
[223,"W12154261N3953987",39.539870000000001,-121.542609999999,6690659.9900000002,2322956.41,235.099999999999,32.899999999999899,102911105,"WYANDOTTE 1105","Tier 2-3"]
[224,"W12154263N3953924",39.5392399999999,-121.54263,6690653.8799999896,2322725.52,234.9,32,102911105,"WYANDOTTE 1105","Tier 2-3"]

{"sheet":"Trees","index":2,"n_rows":679,"n_cols":21,"rows_kept":679,"cut":false,"hidden":false,"merged":[[0,14,0,18]]}
[null,null,null,null,null,null,null,null,null,null,null,null,null,null,"VLOOKUP"]
["ObjectID","TreeID","Latitude","Longitude","Height","Offset","Dist2Wire","Top3Species","PrimarySpecies","Overstrike","SpanTag","HFTD","Fall-In","AcqDate","Span ID","Span Length","Shape","FEA Table","Allowable","Tree Fail?","Offset≤6ft?"]
[4,"W12152541N3958608",39.586079999999903,-121.525409999999,48,24.6999999999999,9.1999999999999993,"[GrayPine, ValleyOak, PonderosaPine]","GrayPine",-15.2,"W12152491N3958582-W12152594N3958619","Tier 2-3","YES","2019-12-19T12:17:11",{"$f":"VLOOKUP($K3,SpanRange,4,FALSE)","v":2},{"$f":"VLOOKUP($K3,SpanRange,2,FALSE)","v":319.3},{"$f":"VLOOKUP($K3,SpanRange,3,FALSE)","v":2},{"$f":"Find_Table(Spans!$I$2,I3)","v":10},{"$f":"IF(R3=0,Spans!$C$10,VLOOKUP(P3,INDIRECT(\"Table\"&R3),Q3,TRUE))","v":36},{"$f":"IFERROR(IF((-1)*J3>S3,\"Yes\",\"No\"),\"No Match\")","v":"No"},{"$f":"IF(F3<=6,\"Yes\",\"No\")","v":"No"}]
[11,"W12152557N3958612",39.586120000000001,-121.52557,49.5,19.1999999999999,6.6,"[PonderosaPine, CoastalLiveOak, GrayPine]","PonderosaPine",-20.8,"W12152491N3958582-W12152594N3958619","Tier 2-3","YES","2019-12-19T12:17:11",{"$f":"VLOOKUP($K4,SpanRange,4,FALSE)","v":2},{"$f":"VLOOKUP($K4,SpanRange,2,FALSE)","v":319.3},{"$f":"VLOOKUP($K4,SpanRange,3,FALSE)","v":2},{"$f":"Find_Table(Spans!$I$2,I4)","v":10},{"$f":"IF(R4=0,Spans!$C$10,VLOOKUP(P4,INDIRECT(\"Table\"&R4),Q4,TRUE))","v":36},{"$f":"IFERROR(IF((-1)*J4>S4,\"Yes\",\"No\"),\"No Match\")","v":"No"},{"$f":"IF(F4<=6,\"Yes\",\"No\")","v":"No"}]
[14,"W12152537N3958602",39.586019999999898,-121.525369999999,40.6,11.4,9.3000000000000007,"[GrayPine, PonderosaPine, CoastalLiveOak]","GrayPine",-15.6,"W12152491N3958582-W12152594N3958619","Tier 2-3","YES","2019-12-19T12:17:11",{"$f":"VLOOKUP($K5,SpanRange,4,FALSE)","v":2},{"$f":"VLOOKUP($K5,SpanRange,2,FALSE)","v":319.3},{"$f":"VLOOKUP($K5,SpanRange,3,FALSE)","v":2},{"$f":"Find_Table(Spans!$I$2,I5)","v":10},{"$f":"IF(R5=0,Spans!$C$10,VLOOKUP(P5,INDIRECT(\"Table\"&R5),Q5,TRUE))","v":36},"No","No"]
[22,"W12153781N3955027",39.550269999999898,-121.53780999999999,50.6,23.4,9.3000000000000007,"[Other, GrayPine, CoastalLiveOak]","Other",-5.4,"W12153773N3955024-W12153762N3955060","Tier 2-3","YES","2019-11-16T22:51:32",{"$f":"VLOOKUP($K6,SpanRange,4,FALSE)","v":5},{"$f":"VLOOKUP($K6,SpanRange,2,FALSE)","v":134.30000000000001},{"$f":"VLOOKUP($K6,SpanRange,3,FALSE)","v":2},{"$f":"Find_Table(Spans!$I$2,I6)","v":11},{"$f":"IF(R6=0,Spans!$C$10,VLOOKUP(P6,INDIRECT(\"Table\"&R6),Q6,TRUE))","v":30},"No","No"]
[25,"W12153800N3954976",39.5497599999999,-121.538,47.5,24,8.1999999999999904,"[Other, ValleyOak, CoastalLiveOak]","Other",-4.7,"W12153784N3954988-W12154111N3954914","Tier 2-3","YES","2019-11-16T22:51:32",{"$f":"VLOOKUP($K7,SpanRange,4,FALSE)","v":{"$error":"#N/A"}},{"$f":"VLOOKUP($K7,SpanRange,2,FALSE)","v":{"$error":"#N/A"}},{"$f":"VLOOKUP($K7,SpanRange,3,FALSE)","v":{"$error":"#N/A"}},{"$f":"Find_Table(Spans!$I$2,I7)","v":11},{"$f":"IF(R7=0,Spans!$C$10,VLOOKUP(P7,INDIRECT(\"Table\"&R7),Q7,TRUE))","v":{"$error":"#N/A"}},"No Match","No"]
[27,"W12153774N3954996",39.549959999999899,-121.537739999999,37.899999999999899,17.1999999999999,10.4,"[MontereyPine, CoastalLiveOak, Other]","MontereyPine",-6,"W12153773N3955024-W12153784N3954988","Tier 2-3","YES","2019-11-16T22:51:32",{"$f":"VLOOKUP($K8,SpanRange,4,FALSE)","v":4},{"$f":"VLOOKUP($K8,SpanRange,2,FALSE)","v":135.5},{"$f":"VLOOKUP($K8,SpanRange,3,FALSE)","v":2},{"$f":"Find_Table(Spans!$I$2,I8)","v":10},{"$f":"IF(R8=0,Spans!$C$10,VLOOKUP(P8,INDIRECT(\"Table\"&R8),Q8,TRUE))","v":21},"No","No"]
[28,"W12153801N3954989",39.549889999999898,-121.53801,45.1,16,7.2,"[Other, GrayPine, BlackOak]","Other",-3.5,"W12153784N3954988-W12154111N3954914","Tier 2-3","YES","2019-11-16T22:51:32",{"$f":"VLOOKUP($K9,SpanRange,4,FALSE)","v":{"$error":"#N/A"}},{"$f":"VLOOKUP($K9,SpanRange,2,FALSE)","v":{"$error":"#N/A"}},{"$f":"VLOOKUP($K9,SpanRange,3,FALSE)","v":{"$error":"#N/A"}},{"$f":"Find_Table(Spans!$I$2,I9)","v":11},{"$f":"IF(R9=0,Spans!$C$10,VLOOKUP(P9,INDIRECT(\"Table\"&R9),Q9,TRUE))","v":{"$error":"#N/A"}},"No Match","No"]
[33,"W12153768N3955075",39.550750000000001,-121.537679999999,50.2,29.4,7.7,"[CoastalLiveOak, GrayPine, DouglasFir]","CoastalLiveOak",-2.2000000000000002,"W12153744N3955118-W12153762N3955060","Tier 2-3","YES","2019-11-16T22:51:32",{"$f":"VLOOKUP($K10,SpanRange,4,FALSE)","v":6},{"$f":"VLOOKUP($K10,SpanRange,2,FALSE)","v":218.599999999999},{"$f":"VLOOKUP($K10,SpanRange,3,FALSE)","v":2},{"$f":"Find_Table(Spans!$I$2,I10)","v":11},{"$f":"IF(R10=0,Spans!$C$10,VLOOKUP(P10,INDIRECT(\"Table\"&R10),Q10,TRUE))","v":30},"No","No"]
[37,"W12153784N3955014",39.550139999999899,-121.53784,40.700000000000003,19.899999999999999,12.3,"[CoastalLiveOak, Other, GrayPine]","CoastalLiveOak",-4.7,"W12153773N3955024-W12153784N3954988","Tier 2-3","YES","2019-11-16T22:51:32",{"$f":"VLOOKUP($K11,SpanRange,4,FALSE)","v":4},{"$f":"VLOOKUP($K11,SpanRange,2,FALSE)","v":135.5},{"$f":"VLOOKUP($K11,SpanRange,3,FALSE)","v":2},{"$f":"Find_Table(Spans!$I$2,I11)","v":11},{"$f":"IF(R11=0,Spans!$C$10,VLOOKUP(P11,INDIRECT(\"Table\"&R11),Q11,TRUE))","v":30},"No","No"]
[39,"W12153795N3954980",39.549799999999998,-121.537949999999,42.7,15.7,9.6999999999999993,"[CoastalLiveOak, Other, DouglasFir]","CoastalLiveOak",-4.4000000000000004,"W12153784N3954988-W12154111N3954914","Tier 2-3","YES","2019-11-16T22:51:32",{"$f":"VLOOKUP($K12,SpanRange,4,FALSE)","v":{"$error":"#N/A"}},{"$f":"VLOOKUP($K12,SpanRange,2,FALSE)","v":{"$error":"#N/A"}},{"$f":"VLOOKUP($K12,SpanRange,3,FALSE)","v":{"$error":"#N/A"}},{"$f":"Find_Table(Spans!$I$2,I12)","v":11},{"$f":"IF(R12=0,Spans!$C$10,VLOOKUP(P12,INDIRECT(\"Table\"&R12),Q12,TRUE))","v":{"$error":"#N/A"}},"No Match","No"]
[41,"W12153771N3955065",39.550649999999898,-121.53771,64.299999999999898,28.9,4.9000000000000004,"[DouglasFir, CoastalLiveOak, Other]","DouglasFir",-9.4,"W12153744N3955118-W12153762N3955060","Tier 2-3","YES","2019-11-16T22:51:32",{"$f":"VLOOKUP($K13,SpanRange,4,FALSE)","v":6},{"$f":"VLOOKUP($K13,SpanRange,2,FALSE)","v":218.599999999999},{"$f":"VLOOKUP($K13,SpanRange,3,FALSE)","v":2},{"$f":"Find_Table(Spans!$I$2,I13)","v":9},{"$f":"IF(R13=0,Spans!$C$10,VLOOKUP(P13,INDIRECT(\"Table\"&R13),Q13,TRUE))","v":26},"No","No"]
[45,"W12153778N3955046",39.550460000000001,-121.537779999999,84.2,30.5,6.1,"[Other, CoastalLiveOak, BlackOak]","Other",-25.5,"W12153773N3955024-W12153762N3955060","Tier 2-3","YES","2019-11-16T22:51:32",{"$f":"VLOOKUP($K14,SpanRange,4,FALSE)","v":5},{"$f":"VLOOKUP($K14,SpanRange,2,FALSE)","v":134.30000000000001},{"$f":"VLOOKUP($K14,SpanRange,3,FALSE)","v":2},{"$f":"Find_Table(Spans!$I$2,I14)","v":11},{"$f":"IF(R14=0,Spans!$C$10,VLOOKUP(P14,INDIRECT(\"Table\"&R14),Q14,TRUE))","v":30},"No","No"]
[46,"W12153793N3954993",39.549929999999897,-121.53793,44.899999999999899,24.4,8.8000000000000007,"[Other, CoastalLiveOak, BlackOak]","Other",-1,"W12153784N3954988-W12154111N3954914","Tier 2-3","YES","2019-11-16T22:51:32",{"$f":"VLOOKUP($K15,SpanRange,4,FALSE)","v":{"$error":"#N/A"}},{"$f":"VLOOKUP($K15,SpanRange,2,FALSE)","v":{"$error":"#N/A"}},{"$f":"VLOOKUP($K15,SpanRange,3,FALSE)","v":{"$error":"#N/A"}},{"$f":"Find_Table(Spans!$I$2,I15)","v":11},{"$f":"IF(R15=0,Spans!$C$10,VLOOKUP(P15,INDIRECT(\"Table\"&R15),Q15,TRUE))","v":{"$error":"#N/A"}},"No Match","No"]
[50,"W12153792N3955000",39.549999999999997,-121.53792,47,29.6,6.6,"[Other, ValleyOak, BlackOak]","Other",0,"W12153773N3955024-W12153784N3954988","Tier 2-3","YES","2019-11-16T22:51:32",{"$f":"VLOOKUP($K16,SpanRange,4,FALSE)","v":4},{"$f":"VLOOKUP($K16,SpanRange,2,FALSE)","v":135.5},{"$f":"VLOOKUP($K16,SpanRange,3,FALSE)","v":2},{"$f":"Find_Table(Spans!$I$2,I16)","v":11},{"$f":"IF(R16=0,Spans!$C$10,VLOOKUP(P16,INDIRECT(\"Table\"&R16),Q16,TRUE))","v":30},"No","No"]
[60,"W12154072N3953341",39.533409999999897,-121.540719999999,77.599999999999994,59.6,39.1,"[GrayPine, DouglasFir, TanOak]","GrayPine",-6.2,"W12154149N3953393-W12154087N3953327","Tier 2-3","YES","2019-11-20T17:46:46",{"$f":"VLOOKUP($K17,SpanRange,4,FALSE)","v":188},{"$f":"VLOOKUP($K17,SpanRange,2,FALSE)","v":296},{"$f":"VLOOKUP($K17,SpanRange,3,FALSE)","v":2},{"$f":"Find_Table(Spans!$I$2,I17)","v":10},{"$f":"IF(R17=0,Spans!$C$10,VLOOKUP(P17,INDIRECT(\"Table\"&R17),Q17,TRUE))","v":32},"No","No"]
[61,"W12153548N3952754",39.527539999999902,-121.53548000000001,48.1,33.1,24.1999999999999,"[GrayPine, DouglasFir, Other]","GrayPine",-4.2,"W12153536N3952706-W12153535N3952774","Tier 2-3","YES","2019-11-20T17:46:46",{"$f":"VLOOKUP($K18,SpanRange,4,FALSE)","v":82},{"$f":"VLOOKUP($K18,SpanRange,2,FALSE)","v":246.599999999999},{"$f":"VLOOKUP($K18,SpanRange,3,FALSE)","v":2},{"$f":"Find_Table(Spans!$I$2,I18)","v":10},{"$f":"IF(R18=0,Spans!$C$10,VLOOKUP(P18,INDIRECT(\"Table\"&R18),Q18,TRUE))","v":32},"No","No"]
[62,"W12153159N3953150",39.531500000000001,-121.531589999999,30.8,13.8,10.7,"[Eucalyptus/BlueGum, CoastalLiveOak, GrayPine]","Eucalyptus/BlueGum",-0.9,"W12153147N3953155-W12153206N3953153","Tier 2-3","YES","2019-11-20T17:46:46",{"$f":"VLOOKUP($K19,SpanRange,4,FALSE)","v":159},{"$f":"VLOOKUP($K19,SpanRange,2,FALSE)","v":167.69999999999899},{"$f":"VLOOKUP($K19,SpanRange,3,FALSE)","v":2},{"$f":"Find_Table(Spans!$I$2,I19)","v":12},{"$f":"IF(R19=0,Spans!$C$10,VLOOKUP(P19,INDIRECT(\"Table\"&R19),Q19,TRUE))","v":30},"No","No"]
[67,"W12153667N3953291",39.532910000000001,-121.53667,50.5,23.3,12,"[DouglasFir, LiveOak, CoastalLiveOak]","DouglasFir",-9.9,"W12153655N3953283-W12153713N3953284","Tier 2-3","YES","2019-11-20T17:46:46",{"$f":"VLOOKUP($K20,SpanRange,4,FALSE)","v":185},{"$f":"VLOOKUP($K20,SpanRange,2,FALSE)","v":163.4},{"$f":"VLOOKUP($K20,SpanRange,3,FALSE)","v":2},{"$f":"Find_Table(Spans!$I$2,I20)","v":9},{"$f":"IF(R20=0,Spans!$C$10,VLOOKUP(P20,INDIRECT(\"Table\"&R20),Q20,TRUE))","v":21},"No","No"]
[72,"W12153120N3953228",39.53228,-121.5312,65.599999999999895,38,11.2,"[MontereyPine, DouglasFir, GrayPine]","MontereyPine",-11.6,"W12153117N3953239-W12153205N3953245","Tier 2-3","YES","2019-11-20T17:46:46",{"$f":"VLOOKUP($K21,SpanRange,4,FALSE)","v":174},{"$f":"VLOOKUP($K21,SpanRange,2,FALSE)","v":250.19999999999899},{"$f":"VLOOKUP($K21,SpanRange,3,FALSE)","v":2},{"$f":"Find_Table(Spans!$I$2,I21)","v":10},{"$f":"IF(R21=0,Spans!$C$10,VLOOKUP(P21,INDIRECT(\"Table\"&R21),Q21,TRUE))","v":32},"No","No"]
[73,"W12153019N3952959",39.529589999999899,-121.53019,94.9,44.8,7.3,"[LiveOak, GrayPine, DouglasFir]","LiveOak",-37.899999999999899,"W12153068N3952972-W12152988N3952972","Tier 2-3","YES","2019-11-20T17:46:46",{"$f":"VLOOKUP($K22,SpanRange,4,FALSE)","v":117},{"$f":"VLOOKUP($K22,SpanRange,2,FALSE)","v":225.69999999999899},{"$f":"VLOOKUP($K22,SpanRange,3,FALSE)","v":2},{"$f":"Find_Table(Spans!$I$2,I22)","v":11},{"$f":"IF(R22=0,Spans!$C$10,VLOOKUP(P22,INDIRECT(\"Table\"&R22),Q22,TRUE))","v":30},"Yes","No"]
[74,"W12153517N3952885",39.528849999999899,-121.535169999999,29.6999999999999,9.3000000000000007,4.5999999999999996,"[CoastalLiveOak, DouglasFir, Other]","CoastalLiveOak",-0.2,"W12153537N3952882-W12153422N3952882","Tier 2-3","YES","2019-11-20T17:46:46",{"$f":"VLOOKUP($K23,SpanRange,4,FALSE)","v":102},{"$f":"VLOOKUP($K23,SpanRange,2,FALSE)","v":324.39999999999901},{"$f":"VLOOKUP($K23,SpanRange,3,FALSE)","v":2},{"$f":"Find_Table(Spans!$I$2,I23)","v":11},{"$f":"IF(R23=0,Spans!$C$10,VLOOKUP(P23,INDIRECT(\"Table\"&R23),Q23,TRUE))","v":30},"No","No"]
[76,"W12153436N3953217",39.532170000000001,-121.534359999999,77.599999999999994,44.5,38.899999999999899,"[GrayPine, DouglasFir, MontereyPine]","GrayPine",-20.6999999999999,"W12153419N3953235-W12153419N3953172","Tier 2-3","YES","2019-11-20T17:46:46",{"$f":"VLOOKUP($K24,SpanRange,4,FALSE)","v":166},{"$f":"VLOOKUP($K24,SpanRange,2,FALSE)","v":228.3},{"$f":"VLOOKUP($K24,SpanRange,3,FALSE)","v":2},{"$f":"Find_Table(Spans!$I$2,I24)","v":10},{"$f":"IF(R24=0,Spans!$C$10,VLOOKUP(P24,INDIRECT(\"Table\"&R24),Q24,TRUE))","v":32},"No","No"]
[77,"W12153218N3953101",39.531009999999903,-121.532179999999,46,28.4,7.7,"[DouglasFir, LiveOak, GrayPine]","DouglasFir",-5,"W12153207N3953097-W12153206N3953153","Tier 2-3","YES","2019-11-20T17:46:46",{"$f":"VLOOKUP($K25,SpanRange,4,FALSE)","v":148},{"$f":"VLOOKUP($K25,SpanRange,2,FALSE)","v":205.3},{"$f":"VLOOKUP($K25,SpanRange,3,FALSE)","v":2},{"$f":"Find_Table(Spans!$I$2,I25)","v":9},{"$f":"IF(R25=0,Spans!$C$10,VLOOKUP(P25,INDIRECT(\"Table\"&R25),Q25,TRUE))","v":26},"No","No"]
[78,"W12152094N3952618",39.526179999999897,-121.520939999999,36.5,12.5,5.2,"[GrayPine, BlackOak, ValleyOak]","GrayPine",-0.7,"W12152124N3952614-W12152064N3952615","Tier 2-3","YES","2019-11-20T17:46:46",{"$f":"VLOOKUP($K26,SpanRange,4,FALSE)","v":68},{"$f":"VLOOKUP($K26,SpanRange,2,FALSE)","v":171},{"$f":"VLOOKUP($K26,SpanRange,3,FALSE)","v":2},{"$f":"Find_Table(Spans!$I$2,I26)","v":10},{"$f":"IF(R26=0,Spans!$C$10,VLOOKUP(P26,INDIRECT(\"Table\"&R26),Q26,TRUE))","v":26},"No","No"]
[82,"W12153211N3953127",39.5312699999999,-121.53211,37,10.199999999999999,4.7,"[CoastalLiveOak, DouglasFir, Other]","CoastalLiveOak",-8.6,"W12153207N3953097-W12153206N3953153","Tier 2-3","YES","2019-11-20T17:46:46",{"$f":"VLOOKUP($K27,SpanRange,4,FALSE)","v":148},{"$f":"VLOOKUP($K27,SpanRange,2,FALSE)","v":205.3},{"$f":"VLOOKUP($K27,SpanRange,3,FALSE)","v":2},{"$f":"Find_Table(Spans!$I$2,I27)","v":11},{"$f":"IF(R27=0,Spans!$C$10,VLOOKUP(P27,INDIRECT(\"Table\"&R27),Q27,TRUE))","v":30},"No","No"]
[86,"W12154230N3953759",39.537590000000002,-121.5423,64.2,51.8,29.6,"[GrayPine, DouglasFir, Eucalyptus/BlueGum]","GrayPine",-11.9,"W12154250N3953758-W12154253N3953660","Tier 2-3","YES","2019-11-20T17:46:46",{"$f":"VLOOKUP($K28,SpanRange,4,FALSE)","v":195},{"$f":"VLOOKUP($K28,SpanRange,2,FALSE)","v":355.89999999999901},{"$f":"VLOOKUP($K28,SpanRange,3,FALSE)","v":2},{"$f":"Find_Table(Spans!$I$2,I28)","v":10},{"$f":"IF(R28=0,Spans!$C$10,VLOOKUP(P28,INDIRECT(\"Table\"&R28),Q28,TRUE))","v":36},"No","No"]
[92,"W12153540N3952846",39.528459999999903,-121.5354,31.1,8.1,7.1,"[DouglasFir, LiveOak, TanOak]","DouglasFir",-1.4,"W12153534N3952830-W12153534N3952830","Tier 2-3","YES","2019-11-20T17:46:46",{"$f":"VLOOKUP($K29,SpanRange,4,FALSE)","v":99},{"$f":"VLOOKUP($K29,SpanRange,2,FALSE)","v":189.9},{"$f":"VLOOKUP($K29,SpanRange,3,FALSE)","v":2},{"$f":"Find_Table(Spans!$I$2,I29)","v":9},{"$f":"IF(R29=0,Spans!$C$10,VLOOKUP(P29,INDIRECT(\"Table\"&R29),Q29,TRUE))","v":21},"No","No"]
[95,"W12154088N3953335",39.533349999999899,-121.54088,51.6,10.6,6,"[TanOak, DouglasFir, GrayPine]","TanOak",-10.7,"W12154149N3953393-W12154087N3953327","Tier 2-3","YES","2019-11-20T17:46:46",{"$f":"VLOOKUP($K30,SpanRange,4,FALSE)","v":188},{"$f":"VLOOKUP($K30,SpanRange,2,FALSE)","v":296},{"$f":"VLOOKUP($K30,SpanRange,3,FALSE)","v":2},{"$f":"Find_Table(Spans!$I$2,I30)","v":11},{"$f":"IF(R30=0,Spans!$C$10,VLOOKUP(P30,INDIRECT(\"Table\"&R30),Q30,TRUE))","v":30},"No","No"]
[98,"W12152115N3952500",39.524999999999899,-121.52115000000001,38.799999999999997,16.3,9.8000000000000007,"[DouglasFir, GrayPine, Other]","DouglasFir",-3.2,"W12152123N3952539-W12152121N3952468","Tier 2-3","YES","2019-11-20T17:46:46",{"$f":"VLOOKUP($K31,SpanRange,4,FALSE)","v":53},{"$f":"VLOOKUP($K31,SpanRange,2,FALSE)","v":258.89999999999901},{"$f":"VLOOKUP($K31,SpanRange,3,FALSE)","v":2},{"$f":"Find_Table(Spans!$I$2,I31)","v":9},{"$f":"IF(R31=0,Spans!$C$10,VLOOKUP(P31,INDIRECT(\"Table\"&R31),Q31,TRUE))","v":26},"No","No"]
[99,"W12152013N3952902",39.529019999999903,-121.520129999999,84.1,26.1999999999999,10.1,"[GrayPine, DouglasFir, CoastalLiveOak]","GrayPine",-42.2,"W12152053N3952877-W12152014N3952914","Tier 2-3","YES","2019-11-20T17:46:46",{"$f":"VLOOKUP($K32,SpanRange,4,FALSE)","v":106},{"$f":"VLOOKUP($K32,SpanRange,2,FALSE)","v":171.9},{"$f":"VLOOKUP($K32,SpanRange,3,FALSE)","v":2},{"$f":"Find_Table(Spans!$I$2,I32)","v":10},{"$f":"IF(R32=0,Spans!$C$10,VLOOKUP(P32,INDIRECT(\"Table\"&R32),Q32,TRUE))","v":26},"Yes","No"]
[100,"W12153825N3953269",39.532689999999903,-121.53825000000001,77.5,75,54,"[Other, DouglasFir, GrayPine]","Other",-0.4,"W12153848N3953281-W12153906N3953282","Tier 2-3","YES","2019-11-20T17:46:46",{"$f":"VLOOKUP($K33,SpanRange,4,FALSE)","v":183},{"$f":"VLOOKUP($K33,SpanRange,2,FALSE)","v":163.80000000000001},{"$f":"VLOOKUP($K33,SpanRange,3,FALSE)","v":2},{"$f":"Find_Table(Spans!$I$2,I33)","v":11},{"$f":"IF(R33=0,Spans!$C$10,VLOOKUP(P33,INDIRECT(\"Table\"&R33),Q33,TRUE))","v":30},"No","No"]
[105,"W12154226N3953559",39.5355899999999,-121.542259999999,59.399999999999899,34.700000000000003,21.8,"[Other, LiveOak, DouglasFir]","Other",-19.100000000000001,"W12154230N3953520-W12154242N3953570","Tier 2-3","YES","2019-11-20T17:46:46",{"$f":"VLOOKUP($K34,SpanRange,4,FALSE)","v":192},{"$f":"VLOOKUP($K34,SpanRange,2,FALSE)","v":184.9},{"$f":"VLOOKUP($K34,SpanRange,3,FALSE)","v":2},{"$f":"Find_Table(Spans!$I$2,I34)","v":11},{"$f":"IF(R34=0,Spans!$C$10,VLOOKUP(P34,INDIRECT(\"Table\"&R34),Q34,TRUE))","v":30},"No","No"]
[106,"W12151871N3952867",39.528669999999899,-121.518709999999,49.3,13.6,5.9,"[GrayPine, ValleyOak, Other]","GrayPine",-14.8,"W12151852N3952834-W12151873N3952887","Tier 2-3","YES","2019-11-20T17:46:46",{"$f":"VLOOKUP($K35,SpanRange,4,FALSE)","v":100},{"$f":"VLOOKUP($K35,SpanRange,2,FALSE)","v":200.8},{"$f":"VLOOKUP($K35,SpanRange,3,FALSE)","v":2},{"$f":"Find_Table(Spans!$I$2,I35)","v":10},{"$f":"IF(R35=0,Spans!$C$10,VLOOKUP(P35,INDIRECT(\"Table\"&R35),Q35,TRUE))","v":32},"No","No"]
[107,"W12153197N3952910",39.5291,-121.53197,55.6,21.4,12,"[DouglasFir, TanOak, GrayPine]","DouglasFir",-13.7,"W12153206N3952972-W12153206N3952881","Tier 2-3","YES","2019-11-20T17:46:46",{"$f":"VLOOKUP($K36,SpanRange,4,FALSE)","v":109},{"$f":"VLOOKUP($K36,SpanRange,2,FALSE)","v":332.19999999999902},{"$f":"VLOOKUP($K36,SpanRange,3,FALSE)","v":2},{"$f":"Find_Table(Spans!$I$2,I36)","v":9},{"$f":"IF(R36=0,Spans!$C$10,VLOOKUP(P36,INDIRECT(\"Table\"&R36),Q36,TRUE))","v":31},"No","No"]
[108,"W12152594N3953051",39.53051,-121.525939999999,38.899999999999899,21.8,8.4,"[DouglasFir, Other, GrayPine]","DouglasFir",-7.2,"W12152603N3953064-W12152603N3952974","Tier 2-3","YES","2019-11-20T17:46:46",{"$f":"VLOOKUP($K37,SpanRange,4,FALSE)","v":128},{"$f":"VLOOKUP($K37,SpanRange,2,FALSE)","v":329.1},{"$f":"VLOOKUP($K37,SpanRange,3,FALSE)","v":2},{"$f":"Find_Table(Spans!$I$2,I37)","v":9},{"$f":"IF(R37=0,Spans!$C$10,VLOOKUP(P37,INDIRECT(\"Table\"&R37),Q37,TRUE))","v":31},"No","No"]
[110,"W12153412N3953182",39.531819999999897,-121.53412,41,17.5,12,"[Other, CoastalLiveOak, DouglasFir]","Other",-4.4000000000000004,"W12153419N3953235-W12153419N3953172","Tier 2-3","YES","2019-11-20T17:46:46",{"$f":"VLOOKUP($K38,SpanRange,4,FALSE)","v":166},{"$f":"VLOOKUP($K38,SpanRange,2,FALSE)","v":228.3},{"$f":"VLOOKUP($K38,SpanRange,3,FALSE)","v":2},{"$f":"Find_Table(Spans!$I$2,I38)","v":11},{"$f":"IF(R38=0,Spans!$C$10,VLOOKUP(P38,INDIRECT(\"Table\"&R38),Q38,TRUE))","v":30},"No","No"]
[113,"W12151419N3952813",39.528129999999898,-121.514189999999,42.1,29.6,6.2,"[Other, CoastalLiveOak, DouglasFir]","Other",-0.5,"W12151401N3952860-W12151441N3952799","Tier 2-3","YES","2019-11-20T17:46:46",{"$f":"VLOOKUP($K39,SpanRange,4,FALSE)","v":93},{"$f":"VLOOKUP($K39,SpanRange,2,FALSE)","v":250.8},{"$f":"VLOOKUP($K39,SpanRange,3,FALSE)","v":2},{"$f":"Find_Table(Spans!$I$2,I39)","v":11},{"$f":"IF(R39=0,Spans!$C$10,VLOOKUP(P39,INDIRECT(\"Table\"&R39),Q39,TRUE))","v":30},"No","No"]
[115,"W12153219N3952983",39.529829999999897,-121.53219,45.6,32.1,6,"[MontereyPine, DouglasFir, CoastalLiveOak]","MontereyPine",-2.5,"W12153284N3952973-W12153206N3952972","Tier 2-3","YES","2019-11-20T17:46:46",{"$f":"VLOOKUP($K40,SpanRange,4,FALSE)","v":118},{"$f":"VLOOKUP($K40,SpanRange,2,FALSE)","v":221.5},{"$f":"VLOOKUP($K40,SpanRange,3,FALSE)","v":2},{"$f":"Find_Table(Spans!$I$2,I40)","v":10},{"$f":"IF(R40=0,Spans!$C$10,VLOOKUP(P40,INDIRECT(\"Table\"&R40),Q40,TRUE))","v":32},"No","No"]
[118,"W12152595N3953029",39.530290000000001,-121.525949999999,39.899999999999899,18.3,3.7,"[GrayPine, MontereyPine, ValleyOak]","GrayPine",-12.8,"W12152603N3953064-W12152603N3952974","Tier 2-3","YES","2019-11-20T17:46:46",{"$f":"VLOOKUP($K41,SpanRange,4,FALSE)","v":128},{"$f":"VLOOKUP($K41,SpanRange,2,FALSE)","v":329.1},{"$f":"VLOOKUP($K41,SpanRange,3,FALSE)","v":2},{"$f":"Find_Table(Spans!$I$2,I41)","v":10},{"$f":"IF(R41=0,Spans!$C$10,VLOOKUP(P41,INDIRECT(\"Table\"&R41),Q41,TRUE))","v":36},"No","No"]
[119,"W12151454N3952529",39.525289999999899,-121.514539999999,39.200000000000003,14.8,6.7,"[Other, GrayPine, CoastalLiveOak]","Other",-9.5,"W12151461N3952559-W12151459N3952471","Tier 2-3","YES","2019-11-20T17:46:46",{"$f":"VLOOKUP($K42,SpanRange,4,FALSE)","v":54},{"$f":"VLOOKUP($K42,SpanRange,2,FALSE)","v":322.60000000000002},{"$f":"VLOOKUP($K42,SpanRange,3,FALSE)","v":2},{"$f":"Find_Table(Spans!$I$2,I42)","v":11},{"$f":"IF(R42=0,Spans!$C$10,VLOOKUP(P42,INDIRECT(\"Table\"&R42),Q42,TRUE))","v":30},"No","No"]
[124,"W12154088N3953232",39.532319999999899,-121.54088,57,12.5,11.6,"[DouglasFir, CoastalLiveOak, Other]","DouglasFir",-14.2,"W12154086N3953214-W12154073N3953285","Tier 2-3","YES","2019-11-20T17:46:46",{"$f":"VLOOKUP($K43,SpanRange,4,FALSE)","v":177},{"$f":"VLOOKUP($K43,SpanRange,2,FALSE)","v":261},{"$f":"VLOOKUP($K43,SpanRange,3,FALSE)","v":2},{"$f":"Find_Table(Spans!$I$2,I43)","v":9},{"$f":"IF(R43=0,Spans!$C$10,VLOOKUP(P43,INDIRECT(\"Table\"&R43),Q43,TRUE))","v":26},"No","No"]
[126,"W12153898N3953100",39.530999999999899,-121.538979999999,81.2,21.5,12,"[GrayPine, Other, DouglasFir]","GrayPine",-47.3,"W12153908N3953063-W12153907N3953103","Tier 2-3","YES","2019-11-20T17:46:46",{"$f":"VLOOKUP($K44,SpanRange,4,FALSE)","v":143},{"$f":"VLOOKUP($K44,SpanRange,2,FALSE)","v":147.69999999999899},{"$f":"VLOOKUP($K44,SpanRange,3,FALSE)","v":2},{"$f":"Find_Table(Spans!$I$2,I44)","v":10},{"$f":"IF(R44=0,Spans!$C$10,VLOOKUP(P44,INDIRECT(\"Table\"&R44),Q44,TRUE))","v":21},"Yes","No"]
[130,"W12153695N3953058",39.53058,-121.536949999999,48.899999999999899,15.7,5.9,"[DouglasFir, LiveOak, Other]","DouglasFir",-16.100000000000001,"W12153655N3953063-W12153771N3953063","Tier 2-3","YES","2019-11-20T17:46:46",{"$f":"VLOOKUP($K45,SpanRange,4,FALSE)","v":139},{"$f":"VLOOKUP($K45,SpanRange,2,FALSE)","v":328.19999999999902},{"$f":"VLOOKUP($K45,SpanRange,3,FALSE)","v":2},{"$f":"Find_Table(Spans!$I$2,I45)","v":9},{"$f":"IF(R45=0,Spans!$C$10,VLOOKUP(P45,INDIRECT(\"Table\"&R45),Q45,TRUE))","v":31},"No","No"]
[131,"W12154068N3953187",39.531869999999898,-121.540679999999,63.2,45.899999999999899,24.3,"[GrayPine, DouglasFir, Eucalyptus/BlueGum]","GrayPine",-14.2,"W12154084N3953131-W12154086N3953214","Tier 2-3","YES","2019-11-20T17:46:46",{"$f":"VLOOKUP($K46,SpanRange,4,FALSE)","v":162},{"$f":"VLOOKUP($K46,SpanRange,2,FALSE)","v":302.60000000000002},{"$f":"VLOOKUP($K46,SpanRange,3,FALSE)","v":2},{"$f":"Find_Table(Spans!$I$2,I46)","v":10},{"$f":"IF(R46=0,Spans!$C$10,VLOOKUP(P46,INDIRECT(\"Table\"&R46),Q46,TRUE))","v":36},"No","No"]
[132,"W12153650N3953177",39.531770000000002,-121.5365,32.700000000000003,9.6999999999999993,3.3,"[DouglasFir, Other, Eucalyptus/BlueGum]","DouglasFir",-0.4,"W12153655N3953211-W12153654N3953154","Tier 2-3","YES","2019-11-20T17:46:46",{"$f":"VLOOKUP($K47,SpanRange,4,FALSE)","v":165},{"$f":"VLOOKUP($K47,SpanRange,2,FALSE)","v":209.599999999999},{"$f":"VLOOKUP($K47,SpanRange,3,FALSE)","v":2},{"$f":"Find_Table(Spans!$I$2,I47)","v":9},{"$f":"IF(R47=0,Spans!$C$10,VLOOKUP(P47,INDIRECT(\"Table\"&R47),Q47,TRUE))","v":26},"No","No"]
[135,"W12153564N3953055",39.530549999999899,-121.53564,31,23.4,8.1,"[DouglasFir, Other, Eucalyptus/BlueGum]","DouglasFir",-2.6,"W12153655N3953063-W12153538N3953063","Tier 2-3","YES","2019-11-20T17:46:46",{"$f":"VLOOKUP($K48,SpanRange,4,FALSE)","v":140},{"$f":"VLOOKUP($K48,SpanRange,2,FALSE)","v":329.19999999999902},{"$f":"VLOOKUP($K48,SpanRange,3,FALSE)","v":2},{"$f":"Find_Table(Spans!$I$2,I48)","v":9},{"$f":"IF(R48=0,Spans!$C$10,VLOOKUP(P48,INDIRECT(\"Table\"&R48),Q48,TRUE))","v":31},"No","No"]
[137,"W12153160N3953296",39.532959999999903,-121.5316,50.6,43.3,6.9,"[DouglasFir, TanOak, CoastalLiveOak]","DouglasFir",-1.5,"W12153118N3953282-W12153205N3953285","Tier 2-3","YES","2019-11-20T17:46:46",{"$f":"VLOOKUP($K49,SpanRange,4,FALSE)","v":186},{"$f":"VLOOKUP($K49,SpanRange,2,FALSE)","v":244.599999999999},{"$f":"VLOOKUP($K49,SpanRange,3,FALSE)","v":2},{"$f":"Find_Table(Spans!$I$2,I49)","v":9},{"$f":"IF(R49=0,Spans!$C$10,VLOOKUP(P49,INDIRECT(\"Table\"&R49),Q49,TRUE))","v":26},"No","No"]
[139,"W12152788N3952779",39.527789999999897,-121.527879999999,40.6,12.6,4.5,"[CoastalLiveOak, Eucalyptus/BlueGum, DouglasFir]","CoastalLiveOak",-6.2,"W12152800N3952774-W12152750N3952825","Tier 2-3","YES","2019-11-20T17:46:46",{"$f":"VLOOKUP($K50,SpanRange,4,FALSE)","v":90},{"$f":"VLOOKUP($K50,SpanRange,2,FALSE)","v":233.599999999999},{"$f":"VLOOKUP($K50,SpanRange,3,FALSE)","v":2},{"$f":"Find_Table(Spans!$I$2,I50)","v":11},{"$f":"IF(R50=0,Spans!$C$10,VLOOKUP(P50,INDIRECT(\"Table\"&R50),Q50,TRUE))","v":30},"No","No"]
[141,"W12153928N3953247",39.532469999999897,-121.539279999999,37.1,13.3,7.8,"[DouglasFir, LiveOak, Other]","DouglasFir",-2.8,"W12153963N3953242-W12153905N3953243","Tier 2-3","YES","2019-11-20T17:46:46",{"$f":"VLOOKUP($K51,SpanRange,4,FALSE)","v":175},{"$f":"VLOOKUP($K51,SpanRange,2,FALSE)","v":161.30000000000001},{"$f":"VLOOKUP($K51,SpanRange,3,FALSE)","v":2},{"$f":"Find_Table(Spans!$I$2,I51)","v":9},{"$f":"IF(R51=0,Spans!$C$10,VLOOKUP(P51,INDIRECT(\"Table\"&R51),Q51,TRUE))","v":21},"No","No"]
[142,"W12153839N3953238",39.532379999999897,-121.538389999999,72.400000000000006,21,4.4000000000000004,"[DouglasFir, GrayPine, TanOak]","DouglasFir",-44.899999999999899,"W12153810N3953244-W12153905N3953243","Tier 2-3","YES","2019-11-20T17:46:46",{"$f":"VLOOKUP($K52,SpanRange,4,FALSE)","v":176},{"$f":"VLOOKUP($K52,SpanRange,2,FALSE)","v":270.10000000000002},{"$f":"VLOOKUP($K52,SpanRange,3,FALSE)","v":2},{"$f":"Find_Table(Spans!$I$2,I52)","v":9},{"$f":"IF(R52=0,Spans!$C$10,VLOOKUP(P52,INDIRECT(\"Table\"&R52),Q52,TRUE))","v":26},"Yes","No"]
[143,"W12153660N3953099",39.530989999999903,-121.53660000000001,47.399999999999899,15,7.8,"[CoastalLiveOak, Other, Eucalyptus/BlueGum]","CoastalLiveOak",-7.5,"W12153655N3953063-W12153654N3953103","Tier 2-3","YES","2019-11-20T17:46:46",{"$f":"VLOOKUP($K53,SpanRange,4,FALSE)","v":144},{"$f":"VLOOKUP($K53,SpanRange,2,FALSE)","v":148},{"$f":"VLOOKUP($K53,SpanRange,3,FALSE)","v":2},{"$f":"Find_Table(Spans!$I$2,I53)","v":11},{"$f":"IF(R53=0,Spans!$C$10,VLOOKUP(P53,INDIRECT(\"Table\"&R53),Q53,TRUE))","v":30},"No","No"]
[144,"W12152037N3952863",39.52863,-121.52037,95.9,65.7,53.899999999999899,"[CoastalLiveOak, Other, DouglasFir]","CoastalLiveOak",-19.100000000000001,"W12152053N3952877-W12152014N3952914","Tier 2-3","YES","2019-11-20T17:46:46",{"$f":"VLOOKUP($K54,SpanRange,4,FALSE)","v":106},{"$f":"VLOOKUP($K54,SpanRange,2,FALSE)","v":171.9},{"$f":"VLOOKUP($K54,SpanRange,3,FALSE)","v":2},{"$f":"Find_Table(Spans!$I$2,I54)","v":11},{"$f":"IF(R54=0,Spans!$C$10,VLOOKUP(P54,INDIRECT(\"Table\"&R54),Q54,TRUE))","v":30},"No","No"]
[145,"W12153177N3952734",39.527339999999903,-121.531769999999,63.1,32.700000000000003,12,"[Eucalyptus/BlueGum, DouglasFir, TanOak]","Eucalyptus/BlueGum",-22,"W12153200N3952739-W12153152N3952699","Tier 2-3","YES","2019-11-20T17:46:46",{"$f":"VLOOKUP($K55,SpanRange,4,FALSE)","v":78},{"$f":"VLOOKUP($K55,SpanRange,2,FALSE)","v":197.19999999999899},{"$f":"VLOOKUP($K55,SpanRange,3,FALSE)","v":2},{"$f":"Find_Table(Spans!$I$2,I55)","v":12},{"$f":"IF(R55=0,Spans!$C$10,VLOOKUP(P55,INDIRECT(\"Table\"&R55),Q55,TRUE))","v":30},"No","No"]
[146,"W12153870N3953265",39.532649999999897,-121.53870000000001,62.899999999999899,56.7,41.5,"[GrayPine, Other, LiveOak]","GrayPine",-2.4,"W12153848N3953281-W12153906N3953282","Tier 2-3","YES","2019-11-20T17:46:46",{"$f":"VLOOKUP($K56,SpanRange,4,FALSE)","v":183},{"$f":"VLOOKUP($K56,SpanRange,2,FALSE)","v":163.80000000000001},{"$f":"VLOOKUP($K56,SpanRange,3,FALSE)","v":2},{"$f":"Find_Table(Spans!$I$2,I56)","v":10},{"$f":"IF(R56=0,Spans!$C$10,VLOOKUP(P56,INDIRECT(\"Table\"&R56),Q56,TRUE))","v":26},"No","No"]
[150,"W12153450N3953237",39.53237,-121.53449999999999,41,10.3,6.5,"[DouglasFir, TanOak, CoastalLiveOak]","DouglasFir",-13.9,"W12153419N3953235-W12153557N3953230","Tier 2-3","YES","2019-11-20T17:46:46",{"$f":"VLOOKUP($K57,SpanRange,4,FALSE)","v":172},{"$f":"VLOOKUP($K57,SpanRange,2,FALSE)","v":388.6},{"$f":"VLOOKUP($K57,SpanRange,3,FALSE)","v":2},{"$f":"Find_Table(Spans!$I$2,I57)","v":9},{"$f":"IF(R57=0,Spans!$C$10,VLOOKUP(P57,INDIRECT(\"Table\"&R57),Q57,TRUE))","v":31},"No","No"]
[151,"W12153164N3953052",39.530519999999903,-121.531639999999,44,10.6,5.7,"[LiveOak, DouglasFir, Other]","LiveOak",-9.4,"W12153157N3953048-W12153206N3953048","Tier 2-3","YES","2019-11-20T17:46:46",{"$f":"VLOOKUP($K58,SpanRange,4,FALSE)","v":134},{"$f":"VLOOKUP($K58,SpanRange,2,FALSE)","v":140.099999999999},{"$f":"VLOOKUP($K58,SpanRange,3,FALSE)","v":2},{"$f":"Find_Table(Spans!$I$2,I58)","v":11},{"$f":"IF(R58=0,Spans!$C$10,VLOOKUP(P58,INDIRECT(\"Table\"&R58),Q58,TRUE))","v":30},"No","No"]
[153,"W12153200N3953069",39.53069,-121.532,35.200000000000003,15.8,4.9000000000000004,"[LiveOak, DouglasFir, GrayPine]","LiveOak",-1.7,"W12153207N3953097-W12153206N3953048","Tier 2-3","YES","2019-11-20T17:46:46",{"$f":"VLOOKUP($K59,SpanRange,4,FALSE)","v":141},{"$f":"VLOOKUP($K59,SpanRange,2,FALSE)","v":177.19999999999899},{"$f":"VLOOKUP($K59,SpanRange,3,FALSE)","v":2},{"$f":"Find_Table(Spans!$I$2,I59)","v":11},{"$f":"IF(R59=0,Spans!$C$10,VLOOKUP(P59,INDIRECT(\"Table\"&R59),Q59,TRUE))","v":30},"No","No"]
[154,"W12152076N3953020",39.530200000000001,-121.520759999999,38.700000000000003,11.7,4.7,"[CoastalLiveOak, DouglasFir, Other]","CoastalLiveOak",-2.1,"W12152005N3953021-W12152091N3953014","Tier 2-3","YES","2019-11-20T17:46:46",{"$f":"VLOOKUP($K60,SpanRange,4,FALSE)","v":127},{"$f":"VLOOKUP($K60,SpanRange,2,FALSE)","v":241.69999999999899},{"$f":"VLOOKUP($K60,SpanRange,3,FALSE)","v":2},{"$f":"Find_Table(Spans!$I$2,I60)","v":11},{"$f":"IF(R60=0,Spans!$C$10,VLOOKUP(P60,INDIRECT(\"Table\"&R60),Q60,TRUE))","v":30},"No","No"]
[157,"W12152217N3952991",39.529910000000001,-121.52217,64.099999999999895,47.899999999999899,31.4,"[MontereyPine, GrayPine, DouglasFir]","MontereyPine",-10.199999999999999,"W12152184N3953012-W12152284N3952992","Tier 2-3","YES","2019-11-20T17:46:46",{"$f":"VLOOKUP($K61,SpanRange,4,FALSE)","v":125},{"$f":"VLOOKUP($K61,SpanRange,2,FALSE)","v":290.10000000000002},{"$f":"VLOOKUP($K61,SpanRange,3,FALSE)","v":2},{"$f":"Find_Table(Spans!$I$2,I61)","v":10},{"$f":"IF(R61=0,Spans!$C$10,VLOOKUP(P61,INDIRECT(\"Table\"&R61),Q61,TRUE))","v":32},"No","No"]
[159,"W12152016N3953033",39.5303299999999,-121.52016,62,43,26.9,"[GrayPine, Other, DouglasFir]","GrayPine",-4.8,"W12152005N3953021-W12152091N3953014","Tier 2-3","YES","2019-11-20T17:46:46",{"$f":"VLOOKUP($K62,SpanRange,4,FALSE)","v":127},{"$f":"VLOOKUP($K62,SpanRange,2,FALSE)","v":241.69999999999899},{"$f":"VLOOKUP($K62,SpanRange,3,FALSE)","v":2},{"$f":"Find_Table(Spans!$I$2,I62)","v":10},{"$f":"IF(R62=0,Spans!$C$10,VLOOKUP(P62,INDIRECT(\"Table\"&R62),Q62,TRUE))","v":32},"No","No"]
[160,"W12153855N3953276",39.532759999999897,-121.53855,65.400000000000006,16.6999999999999,7.3,"[DouglasFir, CoastalLiveOak, Other]","DouglasFir",-32.1,"W12153848N3953281-W12153906N3953282","Tier 2-3","YES","2019-11-20T17:46:46",{"$f":"VLOOKUP($K63,SpanRange,4,FALSE)","v":183},{"$f":"VLOOKUP($K63,SpanRange,2,FALSE)","v":163.80000000000001},{"$f":"VLOOKUP($K63,SpanRange,3,FALSE)","v":2},{"$f":"Find_Table(Spans!$I$2,I63)","v":9},{"$f":"IF(R63=0,Spans!$C$10,VLOOKUP(P63,INDIRECT(\"Table\"&R63),Q63,TRUE))","v":21},"Yes","No"]
[161,"W12153075N3952962",39.529620000000001,-121.530749999999,55.7,34.899999999999899,9,"[GrayPine, Other, DouglasFir]","GrayPine",-5.5,"W12153130N3952973-W12153068N3952972","Tier 2-3","YES","2019-11-20T17:46:46",{"$f":"VLOOKUP($K64,SpanRange,4,FALSE)","v":120},{"$f":"VLOOKUP($K64,SpanRange,2,FALSE)","v":175.19999999999899},{"$f":"VLOOKUP($K64,SpanRange,3,FALSE)","v":2},{"$f":"Find_Table(Spans!$I$2,I64)","v":10},{"$f":"IF(R64=0,Spans!$C$10,VLOOKUP(P64,INDIRECT(\"Table\"&R64),Q64,TRUE))","v":26},"No","No"]
[164,"W12154248N3953996",39.539960000000001,-121.542479999999,60.3,32.399999999999899,15.6,"[DouglasFir, Eucalyptus/BlueGum, GrayPine]","DouglasFir",-26.6,"W12154261N3953987-W12154258N3954066","Tier 2-3","YES","2019-11-20T17:46:46",{"$f":"VLOOKUP($K65,SpanRange,4,FALSE)","v":199},{"$f":"VLOOKUP($K65,SpanRange,2,FALSE)","v":286.69999999999902},{"$f":"VLOOKUP($K65,SpanRange,3,FALSE)","v":2},{"$f":"Find_Table(Spans!$I$2,I65)","v":9},{"$f":"IF(R65=0,Spans!$C$10,VLOOKUP(P65,INDIRECT(\"Table\"&R65),Q65,TRUE))","v":26},"Yes","No"]
[166,"W12154236N3953770",39.537700000000001,-121.54236,67.599999999999895,36,18.899999999999999,"[Other, GrayPine, DouglasFir]","Other",-31.6,"W12154250N3953758-W12154252N3953857","Tier 2-3","YES","2019-11-20T17:46:46",{"$f":"VLOOKUP($K66,SpanRange,4,FALSE)","v":196},{"$f":"VLOOKUP($K66,SpanRange,2,FALSE)","v":362},{"$f":"VLOOKUP($K66,SpanRange,3,FALSE)","v":2},{"$f":"Find_Table(Spans!$I$2,I66)","v":11},{"$f":"IF(R66=0,Spans!$C$10,VLOOKUP(P66,INDIRECT(\"Table\"&R66),Q66,TRUE))","v":30},"Yes","No"]
[167,"W12153462N3953228",39.53228,-121.53462,36,18,5.6,"[DouglasFir, Other, LiveOak]","DouglasFir",-2.7,"W12153419N3953235-W12153557N3953230","Tier 2-3","YES","2019-11-20T17:46:46",{"$f":"VLOOKUP($K67,SpanRange,4,FALSE)","v":172},{"$f":"VLOOKUP($K67,SpanRange,2,FALSE)","v":388.6},{"$f":"VLOOKUP($K67,SpanRange,3,FALSE)","v":2},{"$f":"Find_Table(Spans!$I$2,I67)","v":9},{"$f":"IF(R67=0,Spans!$C$10,VLOOKUP(P67,INDIRECT(\"Table\"&R67),Q67,TRUE))","v":31},"No","No"]
[168,"W12151986N3952928",39.52928,-121.519859999999,59,31.5,28.9,"[GrayPine, DouglasFir, Other]","GrayPine",-12.4,"W12152014N3952914-W12151936N3952926","Tier 2-3","YES","2019-11-20T17:46:46",{"$f":"VLOOKUP($K68,SpanRange,4,FALSE)","v":108},{"$f":"VLOOKUP($K68,SpanRange,2,FALSE)","v":225.099999999999},{"$f":"VLOOKUP($K68,SpanRange,3,FALSE)","v":2},{"$f":"Find_Table(Spans!$I$2,I68)","v":10},{"$f":"IF(R68=0,Spans!$C$10,VLOOKUP(P68,INDIRECT(\"Table\"&R68),Q68,TRUE))","v":32},{"$f":"IFERROR(IF((-1)*J68>S68,\"Yes\",\"No\"),\"No Match\")","v":"No"},{"$f":"IF(F68<=6,\"Yes\",\"No\")","v":"No"}]
[169,"W12153197N3953159",39.531590000000001,-121.53197,38.200000000000003,18.100000000000001,10.9,"[GrayPine, ValleyOak, DouglasFir]","GrayPine",-6.7,"W12153147N3953155-W12153206N3953153","Tier 2-3","YES","2019-11-20T17:46:46",{"$f":"VLOOKUP($K69,SpanRange,4,FALSE)","v":159},{"$f":"VLOOKUP($K69,SpanRange,2,FALSE)","v":167.69999999999899},{"$f":"VLOOKUP($K69,SpanRange,3,FALSE)","v":2},{"$f":"Find_Table(Spans!$I$2,I69)","v":10},{"$f":"IF(R69=0,Spans!$C$10,VLOOKUP(P69,INDIRECT(\"Table\"&R69),Q69,TRUE))","v":26},"No","No"]
[171,"W12153829N3953261",39.532609999999899,-121.53829,71.799999999999898,60.399999999999899,48.3,"[Other, GrayPine, LiveOak]","Other",-0.7,"W12153810N3953244-W12153905N3953243","Tier 2-3","YES","2019-11-20T17:46:46",{"$f":"VLOOKUP($K70,SpanRange,4,FALSE)","v":176},{"$f":"VLOOKUP($K70,SpanRange,2,FALSE)","v":270.10000000000002},{"$f":"VLOOKUP($K70,SpanRange,3,FALSE)","v":2},{"$f":"Find_Table(Spans!$I$2,I70)","v":11},{"$f":"IF(R70=0,Spans!$C$10,VLOOKUP(P70,INDIRECT(\"Table\"&R70),Q70,TRUE))","v":30},"No","No"]
[176,"W12152531N3952935",39.529350000000001,-121.525309999999,47.399999999999899,15.4,4.5999999999999996,"[TanOak, MontereyPine, Other]","TanOak",-10,"W12152596N3952916-W12152508N3952949","Tier 2-3","YES","2019-11-20T17:46:46",{"$f":"VLOOKUP($K71,SpanRange,4,FALSE)","v":110},{"$f":"VLOOKUP($K71,SpanRange,2,FALSE)","v":273.5},{"$f":"VLOOKUP($K71,SpanRange,3,FALSE)","v":2},{"$f":"Find_Table(Spans!$I$2,I71)","v":11},{"$f":"IF(R71=0,Spans!$C$10,VLOOKUP(P71,INDIRECT(\"Table\"&R71),Q71,TRUE))","v":30},"No","No"]
[180,"W12152116N3952511",39.525109999999898,-121.521159999999,45.5,15,7.2,"[CoastalLiveOak, Eucalyptus/BlueGum, DouglasFir]","CoastalLiveOak",-9.6999999999999993,"W12152123N3952539-W12152121N3952468","Tier 2-3","YES","2019-11-20T17:46:46",{"$f":"VLOOKUP($K72,SpanRange,4,FALSE)","v":53},{"$f":"VLOOKUP($K72,SpanRange,2,FALSE)","v":258.89999999999901},{"$f":"VLOOKUP($K72,SpanRange,3,FALSE)","v":2},{"$f":"Find_Table(Spans!$I$2,I72)","v":11},{"$f":"IF(R72=0,Spans!$C$10,VLOOKUP(P72,INDIRECT(\"Table\"&R72),Q72,TRUE))","v":30},"No","No"]
[181,"W12153608N3953057",39.530569999999898,-121.536079999999,42.7,18,5.6,"[DouglasFir, CoastalLiveOak, Eucalyptus/BlueGum]","DouglasFir",-15.7,"W12153655N3953063-W12153538N3953063","Tier 2-3","YES","2019-11-20T17:46:46",{"$f":"VLOOKUP($K73,SpanRange,4,FALSE)","v":140},{"$f":"VLOOKUP($K73,SpanRange,2,FALSE)","v":329.19999999999902},{"$f":"VLOOKUP($K73,SpanRange,3,FALSE)","v":2},{"$f":"Find_Table(Spans!$I$2,I73)","v":9},{"$f":"IF(R73=0,Spans!$C$10,VLOOKUP(P73,INDIRECT(\"Table\"&R73),Q73,TRUE))","v":31},"No","No"]
[188,"W12154228N3953865",39.538649999999897,-121.54228000000001,77.400000000000006,65.900000000000006,49.2,"[DouglasFir, GrayPine, Eucalyptus/BlueGum]","DouglasFir",-9.9,"W12154263N3953924-W12154252N3953857","Tier 2-3","YES","2019-11-20T17:46:46",{"$f":"VLOOKUP($K74,SpanRange,4,FALSE)","v":197},{"$f":"VLOOKUP($K74,SpanRange,2,FALSE)","v":244.69999999999899},{"$f":"VLOOKUP($K74,SpanRange,3,FALSE)","v":2},{"$f":"Find_Table(Spans!$I$2,I74)","v":9},{"$f":"IF(R74=0,Spans!$C$10,VLOOKUP(P74,INDIRECT(\"Table\"&R74),Q74,TRUE))","v":26},"No","No"]
[195,"W12152466N3952941",39.529409999999899,-121.524659999999,74.2,41.7,25.6,"[DouglasFir, Other, MontereyPine]","DouglasFir",-27.4,"W12152508N3952949-W12152414N3952959","Tier 2-3","YES","2019-11-20T17:46:46",{"$f":"VLOOKUP($K75,SpanRange,4,FALSE)","v":114},{"$f":"VLOOKUP($K75,SpanRange,2,FALSE)","v":267.5},{"$f":"VLOOKUP($K75,SpanRange,3,FALSE)","v":2},{"$f":"Find_Table(Spans!$I$2,I75)","v":9},{"$f":"IF(R75=0,Spans!$C$10,VLOOKUP(P75,INDIRECT(\"Table\"&R75),Q75,TRUE))","v":26},"Yes","No"]
[196,"W12153884N3953267",39.532669999999897,-121.538839999999,64.599999999999895,49.8,31.9,"[GrayPine, Other, DouglasFir]","GrayPine",-10,"W12153848N3953281-W12153906N3953282","Tier 2-3","YES","2019-11-20T17:46:46",{"$f":"VLOOKUP($K76,SpanRange,4,FALSE)","v":183},{"$f":"VLOOKUP($K76,SpanRange,2,FALSE)","v":163.80000000000001},{"$f":"VLOOKUP($K76,SpanRange,3,FALSE)","v":2},{"$f":"Find_Table(Spans!$I$2,I76)","v":10},{"$f":"IF(R76=0,Spans!$C$10,VLOOKUP(P76,INDIRECT(\"Table\"&R76),Q76,TRUE))","v":26},"No","No"]
[197,"W12153897N3953177",39.531770000000002,-121.53897000000001,42.6,25.9,12,"[CoastalLiveOak, DouglasFir, Other]","CoastalLiveOak",-5.4,"W12153907N3953151-W12153907N3953193","Tier 2-3","YES","2019-11-20T17:46:46",{"$f":"VLOOKUP($K77,SpanRange,4,FALSE)","v":163},{"$f":"VLOOKUP($K77,SpanRange,2,FALSE)","v":153.19999999999899},{"$f":"VLOOKUP($K77,SpanRange,3,FALSE)","v":2},{"$f":"Find_Table(Spans!$I$2,I77)","v":11},{"$f":"IF(R77=0,Spans!$C$10,VLOOKUP(P77,INDIRECT(\"Table\"&R77),Q77,TRUE))","v":30},"No","No"]
[198,"W12153114N3953273",39.532730000000001,-121.531139999999,42.1,32.899999999999899,13,"[Other, DouglasFir, LiveOak]","Other",-1.2,"W12153118N3953282-W12153205N3953285","Tier 2-3","YES","2019-11-20T17:46:46",{"$f":"VLOOKUP($K78,SpanRange,4,FALSE)","v":186},{"$f":"VLOOKUP($K78,SpanRange,2,FALSE)","v":244.599999999999},{"$f":"VLOOKUP($K78,SpanRange,3,FALSE)","v":2},{"$f":"Find_Table(Spans!$I$2,I78)","v":11},{"$f":"IF(R78=0,Spans!$C$10,VLOOKUP(P78,INDIRECT(\"Table\"&R78),Q78,TRUE))","v":30},"No","No"]
[206,"W12153303N3953087",39.53087,-121.533029999999,81,54.399999999999899,33.200000000000003,"[GrayPine, Other, DouglasFir]","GrayPine",-19,"W12153322N3953104-W12153323N3953048","Tier 2-3","YES","2019-11-20T17:46:46",{"$f":"VLOOKUP($K79,SpanRange,4,FALSE)","v":142},{"$f":"VLOOKUP($K79,SpanRange,2,FALSE)","v":201.19999999999899},{"$f":"VLOOKUP($K79,SpanRange,3,FALSE)","v":2},{"$f":"Find_Table(Spans!$I$2,I79)","v":10},{"$f":"IF(R79=0,Spans!$C$10,VLOOKUP(P79,INDIRECT(\"Table\"&R79),Q79,TRUE))","v":32},"No","No"]
[210,"W12154243N3954096",39.540959999999899,-121.542429999999,30.5,15.9,7.9,"[Eucalyptus/BlueGum, DouglasFir, CoastalLiveOak]","Eucalyptus/BlueGum",-9.4,"W12154258N3954066-W12154249N3954102","Tier 2-3","YES","2019-11-20T17:46:46",{"$f":"VLOOKUP($K80,SpanRange,4,FALSE)","v":200},{"$f":"VLOOKUP($K80,SpanRange,2,FALSE)","v":133.9},{"$f":"VLOOKUP($K80,SpanRange,3,FALSE)","v":2},{"$f":"Find_Table(Spans!$I$2,I80)","v":12},{"$f":"IF(R80=0,Spans!$C$10,VLOOKUP(P80,INDIRECT(\"Table\"&R80),Q80,TRUE))","v":30},"No","No"]
[220,"W12153952N3953256",39.532559999999897,-121.539519999999,87.6,46.3,32.1,"[Other, GrayPine, TanOak]","Other",-29.6999999999999,"W12153963N3953242-W12153905N3953243","Tier 2-3","YES","2019-11-20T17:46:46",{"$f":"VLOOKUP($K81,SpanRange,4,FALSE)","v":175},{"$f":"VLOOKUP($K81,SpanRange,2,FALSE)","v":161.30000000000001},{"$f":"VLOOKUP($K81,SpanRange,3,FALSE)","v":2},{"$f":"Find_Table(Spans!$I$2,I81)","v":11},{"$f":"IF(R81=0,Spans!$C$10,VLOOKUP(P81,INDIRECT(\"Table\"&R81),Q81,TRUE))","v":30},"No","No"]
[221,"W12153878N3953266",39.53266,-121.53878,69.799999999999898,53.7,39.6,"[GrayPine, DouglasFir, Other]","GrayPine",-12,"W12153848N3953281-W12153906N3953282","Tier 2-3","YES","2019-11-20T17:46:46",{"$f":"VLOOKUP($K82,SpanRange,4,FALSE)","v":183},{"$f":"VLOOKUP($K82,SpanRange,2,FALSE)","v":163.80000000000001},{"$f":"VLOOKUP($K82,SpanRange,3,FALSE)","v":2},{"$f":"Find_Table(Spans!$I$2,I82)","v":10},{"$f":"IF(R82=0,Spans!$C$10,VLOOKUP(P82,INDIRECT(\"Table\"&R82),Q82,TRUE))","v":26},"No","No"]
[223,"W12153083N3952720",39.527200000000001,-121.530829999999,65.599999999999895,28.3,12,"[TanOak, MontereyPine, DouglasFir]","TanOak",-23.5,"W12153116N3952725-W12153054N3952731","Tier 2-3","YES","2019-11-20T17:46:46",{"$f":"VLOOKUP($K83,SpanRange,4,FALSE)","v":81},{"$f":"VLOOKUP($K83,SpanRange,2,FALSE)","v":176.3},{"$f":"VLOOKUP($K83,SpanRange,3,FALSE)","v":2},{"$f":"Find_Table(Spans!$I$2,I83)","v":11},{"$f":"IF(R83=0,Spans!$C$10,VLOOKUP(P83,INDIRECT(\"Table\"&R83),Q83,TRUE))","v":30},"No","No"]
[226,"W12153210N3953218",39.532179999999897,-121.5321,28.1999999999999,9.3000000000000007,6.3,"[DouglasFir, CoastalLiveOak, Other]","DouglasFir",-0.1,"W12153206N3953192-W12153205N3953245","Tier 2-3","YES","2019-11-20T17:46:46",{"$f":"VLOOKUP($K84,SpanRange,4,FALSE)","v":168},{"$f":"VLOOKUP($K84,SpanRange,2,FALSE)","v":195.5},{"$f":"VLOOKUP($K84,SpanRange,3,FALSE)","v":2},{"$f":"Find_Table(Spans!$I$2,I84)","v":9},{"$f":"IF(R84=0,Spans!$C$10,VLOOKUP(P84,INDIRECT(\"Table\"&R84),Q84,TRUE))","v":21},"No","No"]
[227,"W12153184N3953126",39.531259999999897,-121.53184,86.7,60.8,45.899999999999899,"[GrayPine, Other, DouglasFir]","GrayPine",-22.6999999999999,"W12153207N3953097-W12153206N3953153","Tier 2-3","YES","2019-11-20T17:46:46",{"$f":"VLOOKUP($K85,SpanRange,4,FALSE)","v":148},{"$f":"VLOOKUP($K85,SpanRange,2,FALSE)","v":205.3},{"$f":"VLOOKUP($K85,SpanRange,3,FALSE)","v":2},{"$f":"Find_Table(Spans!$I$2,I85)","v":10},{"$f":"IF(R85=0,Spans!$C$10,VLOOKUP(P85,INDIRECT(\"Table\"&R85),Q85,TRUE))","v":32},"No","No"]
[228,"W12154084N3953347",39.533470000000001,-121.54084,88.6,46.5,26,"[DouglasFir, GrayPine, CoastalLiveOak]","DouglasFir",-13.1,"W12154149N3953393-W12154087N3953327","Tier 2-3","YES","2019-11-20T17:46:46",{"$f":"VLOOKUP($K86,SpanRange,4,FALSE)","v":188},{"$f":"VLOOKUP($K86,SpanRange,2,FALSE)","v":296},{"$f":"VLOOKUP($K86,SpanRange,3,FALSE)","v":2},{"$f":"Find_Table(Spans!$I$2,I86)","v":9},{"$f":"IF(R86=0,Spans!$C$10,VLOOKUP(P86,INDIRECT(\"Table\"&R86),Q86,TRUE))","v":26},"No","No"]
[230,"W12153737N3952427",39.524270000000001,-121.537369999999,43.5,15.3,6.8,"[Other, CoastalLiveOak, DouglasFir]","Other",-6,"W12153751N3952386-W12153716N3952455","Tier 2-3","YES","2019-11-20T17:46:46",{"$f":"VLOOKUP($K87,SpanRange,4,FALSE)","v":42},{"$f":"VLOOKUP($K87,SpanRange,2,FALSE)","v":271.10000000000002},{"$f":"VLOOKUP($K87,SpanRange,3,FALSE)","v":2},{"$f":"Find_Table(Spans!$I$2,I87)","v":11},{"$f":"IF(R87=0,Spans!$C$10,VLOOKUP(P87,INDIRECT(\"Table\"&R87),Q87,TRUE))","v":30},"No","No"]
[231,"W12153553N3953058",39.53058,-121.535529999999,26.9,12.9,8.1,"[CoastalLiveOak, DouglasFir, Eucalyptus/BlueGum]","CoastalLiveOak",-2.9,"W12153655N3953063-W12153538N3953063","Tier 2-3","YES","2019-11-20T17:46:46",{"$f":"VLOOKUP($K88,SpanRange,4,FALSE)","v":140},{"$f":"VLOOKUP($K88,SpanRange,2,FALSE)","v":329.19999999999902},{"$f":"VLOOKUP($K88,SpanRange,3,FALSE)","v":2},{"$f":"Find_Table(Spans!$I$2,I88)","v":11},{"$f":"IF(R88=0,Spans!$C$10,VLOOKUP(P88,INDIRECT(\"Table\"&R88),Q88,TRUE))","v":30},"No","No"]
[235,"W12153769N3952591",39.525909999999897,-121.537689999999,78.799999999999898,35.399999999999899,9.9,"[Other, DouglasFir, CoastalLiveOak]","Other",-28.5,"W12153767N3952612-W12153742N3952569","Tier 2-3","YES","2019-11-20T17:46:46",{"$f":"VLOOKUP($K89,SpanRange,4,FALSE)","v":65},{"$f":"VLOOKUP($K89,SpanRange,2,FALSE)","v":172.4},{"$f":"VLOOKUP($K89,SpanRange,3,FALSE)","v":2},{"$f":"Find_Table(Spans!$I$2,I89)","v":11},{"$f":"IF(R89=0,Spans!$C$10,VLOOKUP(P89,INDIRECT(\"Table\"&R89),Q89,TRUE))","v":30},"No","No"]
[239,"W12153233N3953043",39.530429999999903,-121.53233,36.1,14.9,5.0999999999999996,"[CoastalLiveOak, Eucalyptus/BlueGum, DouglasFir]","CoastalLiveOak",-7.3,"W12153269N3953048-W12153206N3953048","Tier 2-3","YES","2019-11-20T17:46:46",{"$f":"VLOOKUP($K90,SpanRange,4,FALSE)","v":133},{"$f":"VLOOKUP($K90,SpanRange,2,FALSE)","v":176.5},{"$f":"VLOOKUP($K90,SpanRange,3,FALSE)","v":2},{"$f":"Find_Table(Spans!$I$2,I90)","v":11},{"$f":"IF(R90=0,Spans!$C$10,VLOOKUP(P90,INDIRECT(\"Table\"&R90),Q90,TRUE))","v":30},"No","No"]
[240,"W12153776N3953058",39.53058,-121.537759999999,43.3,13.6,6.2,"[LiveOak, TanOak, DouglasFir]","LiveOak",-6.3,"W12153843N3953063-W12153771N3953063","Tier 2-3","YES","2019-11-20T17:46:46",{"$f":"VLOOKUP($K91,SpanRange,4,FALSE)","v":138},{"$f":"VLOOKUP($K91,SpanRange,2,FALSE)","v":203.19999999999899},{"$f":"VLOOKUP($K91,SpanRange,3,FALSE)","v":2},{"$f":"Find_Table(Spans!$I$2,I91)","v":11},{"$f":"IF(R91=0,Spans!$C$10,VLOOKUP(P91,INDIRECT(\"Table\"&R91),Q91,TRUE))","v":30},"No","No"]
[248,"W12152361N3952959",39.529589999999899,-121.523609999999,38.1,17.3,6.3,"[GrayPine, ValleyOak, TanOak]","GrayPine",-1.9,"W12152414N3952959-W12152351N3952966","Tier 2-3","YES","2019-11-20T17:46:46",{"$f":"VLOOKUP($K92,SpanRange,4,FALSE)","v":115},{"$f":"VLOOKUP($K92,SpanRange,2,FALSE)","v":181.69999999999899},{"$f":"VLOOKUP($K92,SpanRange,3,FALSE)","v":2},{"$f":"Find_Table(Spans!$I$2,I92)","v":10},{"$f":"IF(R92=0,Spans!$C$10,VLOOKUP(P92,INDIRECT(\"Table\"&R92),Q92,TRUE))","v":26},"No","No"]
[249,"W12151904N3953102",39.531019999999899,-121.51904,39.5,15.3,8.6,"[GrayPine, ValleyOak, DouglasFir]","GrayPine",-3.8,"W12151923N3953089-W12151868N3953111","Tier 2-3","YES","2019-11-20T17:46:46",{"$f":"VLOOKUP($K93,SpanRange,4,FALSE)","v":145},{"$f":"VLOOKUP($K93,SpanRange,2,FALSE)","v":177.599999999999},{"$f":"VLOOKUP($K93,SpanRange,3,FALSE)","v":2},{"$f":"Find_Table(Spans!$I$2,I93)","v":10},{"$f":"IF(R93=0,Spans!$C$10,VLOOKUP(P93,INDIRECT(\"Table\"&R93),Q93,TRUE))","v":26},"No","No"]
[251,"W12154242N3953482",39.534819999999897,-121.542419999999,96.799999999999898,55.8,42.8,"[DouglasFir, GrayPine, Other]","DouglasFir",-20.1999999999999,"W12154230N3953520-W12154214N3953455","Tier 2-3","YES","2019-11-20T17:46:46",{"$f":"VLOOKUP($K94,SpanRange,4,FALSE)","v":191},{"$f":"VLOOKUP($K94,SpanRange,2,FALSE)","v":240.599999999999},{"$f":"VLOOKUP($K94,SpanRange,3,FALSE)","v":2},{"$f":"Find_Table(Spans!$I$2,I94)","v":9},{"$f":"IF(R94=0,Spans!$C$10,VLOOKUP(P94,INDIRECT(\"Table\"&R94),Q94,TRUE))","v":26},"No","No"]
[253,"W12152691N3952856",39.528559999999899,-121.52691,43.6,29.5,12,"[GrayPine, MontereyPine, Other]","GrayPine",-0.6,"W12152750N3952825-W12152680N3952875","Tier 2-3","YES","2019-11-20T17:46:46",{"$f":"VLOOKUP($K95,SpanRange,4,FALSE)","v":98},{"$f":"VLOOKUP($K95,SpanRange,2,FALSE)","v":268.39999999999901},{"$f":"VLOOKUP($K95,SpanRange,3,FALSE)","v":2},{"$f":"Find_Table(Spans!$I$2,I95)","v":10},{"$f":"IF(R95=0,Spans!$C$10,VLOOKUP(P95,INDIRECT(\"Table\"&R95),Q95,TRUE))","v":32},"No","No"]
[258,"W12152991N3952967",39.529669999999903,-121.52991,48.5,16.399999999999899,6.5,"[DouglasFir, Other, LiveOak]","DouglasFir",-6.9,"W12153068N3952972-W12152988N3952972","Tier 2-3","YES","2019-11-20T17:46:46",{"$f":"VLOOKUP($K96,SpanRange,4,FALSE)","v":117},{"$f":"VLOOKUP($K96,SpanRange,2,FALSE)","v":225.69999999999899},{"$f":"VLOOKUP($K96,SpanRange,3,FALSE)","v":2},{"$f":"Find_Table(Spans!$I$2,I96)","v":9},{"$f":"IF(R96=0,Spans!$C$10,VLOOKUP(P96,INDIRECT(\"Table\"&R96),Q96,TRUE))","v":26},"No","No"]
[261,"W12154167N3953405",39.534050000000001,-121.541669999999,58.6,11.4,7.2,"[DouglasFir, LiveOak, TanOak]","DouglasFir",-21.4,"W12154179N3953424-W12154149N3953393","Tier 2-3","YES","2019-11-20T17:46:46",{"$f":"VLOOKUP($K97,SpanRange,4,FALSE)","v":189},{"$f":"VLOOKUP($K97,SpanRange,2,FALSE)","v":142.5},{"$f":"VLOOKUP($K97,SpanRange,3,FALSE)","v":2},{"$f":"Find_Table(Spans!$I$2,I97)","v":9},{"$f":"IF(R97=0,Spans!$C$10,VLOOKUP(P97,INDIRECT(\"Table\"&R97),Q97,TRUE))","v":16},"Yes","No"]
[263,"W12153254N3953043",39.530429999999903,-121.532539999999,35.799999999999997,15.5,6.9,"[CoastalLiveOak, Other, ValleyOak]","CoastalLiveOak",-5,"W12153269N3953048-W12153206N3953048","Tier 2-3","YES","2019-11-20T17:46:46",{"$f":"VLOOKUP($K98,SpanRange,4,FALSE)","v":133},{"$f":"VLOOKUP($K98,SpanRange,2,FALSE)","v":176.5},{"$f":"VLOOKUP($K98,SpanRange,3,FALSE)","v":2},{"$f":"Find_Table(Spans!$I$2,I98)","v":11},{"$f":"IF(R98=0,Spans!$C$10,VLOOKUP(P98,INDIRECT(\"Table\"&R98),Q98,TRUE))","v":30},"No","No"]
[264,"W12153214N3952892",39.5289199999999,-121.532139999999,51.5,19.399999999999999,6.1,"[GrayPine, DouglasFir, Other]","GrayPine",-17.600000000000001,"W12153206N3952972-W12153206N3952881","Tier 2-3","YES","2019-11-20T17:46:46",{"$f":"VLOOKUP($K99,SpanRange,4,FALSE)","v":109},{"$f":"VLOOKUP($K99,SpanRange,2,FALSE)","v":332.19999999999902},{"$f":"VLOOKUP($K99,SpanRange,3,FALSE)","v":2},{"$f":"Find_Table(Spans!$I$2,I99)","v":10},{"$f":"IF(R99=0,Spans!$C$10,VLOOKUP(P99,INDIRECT(\"Table\"&R99),Q99,TRUE))","v":36},"No","No"]
[266,"W12151963N3953035",39.530349999999899,-121.51963000000001,97.4,48.8,32.700000000000003,"[GrayPine, Other, DouglasFir]","GrayPine",-42.6,"W12152005N3953021-W12151923N3953089","Tier 2-3","YES","2019-11-20T17:46:46",{"$f":"VLOOKUP($K100,SpanRange,4,FALSE)","v":136},{"$f":"VLOOKUP($K100,SpanRange,2,FALSE)","v":336.89999999999901},{"$f":"VLOOKUP($K100,SpanRange,3,FALSE)","v":2},{"$f":"Find_Table(Spans!$I$2,I100)","v":10},{"$f":"IF(R100=0,Spans!$C$10,VLOOKUP(P100,INDIRECT(\"Table\"&R100),Q100,TRUE))","v":36},"Yes","No"]
[268,"W12152741N3952824",39.528239999999897,-121.52741,47.2,20.100000000000001,12,"[GrayPine, Eucalyptus/BlueGum, MontereyPine]","GrayPine",-9.1,"W12152750N3952825-W12152680N3952875","Tier 2-3","YES","2019-11-20T17:46:46",{"$f":"VLOOKUP($K101,SpanRange,4,FALSE)","v":98},{"$f":"VLOOKUP($K101,SpanRange,2,FALSE)","v":268.39999999999901},{"$f":"VLOOKUP($K101,SpanRange,3,FALSE)","v":2},{"$f":"Find_Table(Spans!$I$2,I101)","v":10},{"$f":"IF(R101=0,Spans!$C$10,VLOOKUP(P101,INDIRECT(\"Table\"&R101),Q101,TRUE))","v":32},"No","No"]
[269,"W12154226N3953733",39.537329999999898,-121.542259999999,71.099999999999994,65.799999999999898,45.1,"[GrayPine, Eucalyptus/BlueGum, DouglasFir]","GrayPine",-2.2999999999999998,"W12154250N3953758-W12154253N3953660","Tier 2-3","YES","2019-11-20T17:46:46",{"$f":"VLOOKUP($K102,SpanRange,4,FALSE)","v":195},{"$f":"VLOOKUP($K102,SpanRange,2,FALSE)","v":355.89999999999901},{"$f":"VLOOKUP($K102,SpanRange,3,FALSE)","v":2},{"$f":"Find_Table(Spans!$I$2,I102)","v":10},{"$f":"IF(R102=0,Spans!$C$10,VLOOKUP(P102,INDIRECT(\"Table\"&R102),Q102,TRUE))","v":36},"No","No"]
[273,"W12154098N3953318",39.533180000000002,-121.540979999999,76,36.5,11.8,"[Other, DouglasFir, LiveOak]","Other",-16,"W12154087N3953327-W12154073N3953285","Tier 2-3","YES","2019-11-20T17:46:46",{"$f":"VLOOKUP($K103,SpanRange,4,FALSE)","v":187},{"$f":"VLOOKUP($K103,SpanRange,2,FALSE)","v":159.9},{"$f":"VLOOKUP($K103,SpanRange,3,FALSE)","v":2},{"$f":"Find_Table(Spans!$I$2,I103)","v":11},{"$f":"IF(R103=0,Spans!$C$10,VLOOKUP(P103,INDIRECT(\"Table\"&R103),Q103,TRUE))","v":30},"No","No"]
[274,"W12153591N3953057",39.530569999999898,-121.53591,37.799999999999997,18.1999999999999,5.8,"[CoastalLiveOak, Other, DouglasFir]","CoastalLiveOak",-10.7,"W12153655N3953063-W12153538N3953063","Tier 2-3","YES","2019-11-20T17:46:46",{"$f":"VLOOKUP($K104,SpanRange,4,FALSE)","v":140},{"$f":"VLOOKUP($K104,SpanRange,2,FALSE)","v":329.19999999999902},{"$f":"VLOOKUP($K104,SpanRange,3,FALSE)","v":2},{"$f":"Find_Table(Spans!$I$2,I104)","v":11},{"$f":"IF(R104=0,Spans!$C$10,VLOOKUP(P104,INDIRECT(\"Table\"&R104),Q104,TRUE))","v":30},"No","No"]
[276,"W12152116N3952543",39.52543,-121.521159999999,44.2,15.7,5.9,"[DouglasFir, Other, GrayPine]","DouglasFir",-8.4,"W12152124N3952614-W12152123N3952539","Tier 2-3","YES","2019-11-20T17:46:46",{"$f":"VLOOKUP($K105,SpanRange,4,FALSE)","v":64},{"$f":"VLOOKUP($K105,SpanRange,2,FALSE)","v":274.60000000000002},{"$f":"VLOOKUP($K105,SpanRange,3,FALSE)","v":2},{"$f":"Find_Table(Spans!$I$2,I105)","v":9},{"$f":"IF(R105=0,Spans!$C$10,VLOOKUP(P105,INDIRECT(\"Table\"&R105),Q105,TRUE))","v":26},"No","No"]
[281,"W12154069N3953138",39.531379999999899,-121.540689999999,51.7,36.799999999999997,17.899999999999999,"[DouglasFir, LiveOak, CoastalLiveOak]","DouglasFir",-7.6,"W12154084N3953131-W12154086N3953214","Tier 2-3","YES","2019-11-20T17:46:46",{"$f":"VLOOKUP($K106,SpanRange,4,FALSE)","v":162},{"$f":"VLOOKUP($K106,SpanRange,2,FALSE)","v":302.60000000000002},{"$f":"VLOOKUP($K106,SpanRange,3,FALSE)","v":2},{"$f":"Find_Table(Spans!$I$2,I106)","v":9},{"$f":"IF(R106=0,Spans!$C$10,VLOOKUP(P106,INDIRECT(\"Table\"&R106),Q106,TRUE))","v":31},"No","No"]
[286,"W12151887N3953099",39.530989999999903,-121.518869999999,37.299999999999997,12.4,7.5,"[CoastalLiveOak, DouglasFir, Other]","CoastalLiveOak",-1.1000000000000001,"W12151923N3953089-W12151868N3953111","Tier 2-3","YES","2019-11-20T17:46:46",{"$f":"VLOOKUP($K107,SpanRange,4,FALSE)","v":145},{"$f":"VLOOKUP($K107,SpanRange,2,FALSE)","v":177.599999999999},{"$f":"VLOOKUP($K107,SpanRange,3,FALSE)","v":2},{"$f":"Find_Table(Spans!$I$2,I107)","v":11},{"$f":"IF(R107=0,Spans!$C$10,VLOOKUP(P107,INDIRECT(\"Table\"&R107),Q107,TRUE))","v":30},"No","No"]
[291,"W12151875N3952863",39.52863,-121.518749999999,63.8,26.9,14.3,"[Other, GrayPine, ValleyOak]","Other",-23.6,"W12151852N3952834-W12151873N3952887","Tier 2-3","YES","2019-11-20T17:46:46",{"$f":"VLOOKUP($K108,SpanRange,4,FALSE)","v":100},{"$f":"VLOOKUP($K108,SpanRange,2,FALSE)","v":200.8},{"$f":"VLOOKUP($K108,SpanRange,3,FALSE)","v":2},{"$f":"Find_Table(Spans!$I$2,I108)","v":11},{"$f":"IF(R108=0,Spans!$C$10,VLOOKUP(P108,INDIRECT(\"Table\"&R108),Q108,TRUE))","v":30},"No","No"]
[298,"W12153846N3953242",39.532419999999902,-121.53846,62.399999999999899,4.5999999999999996,3.8,"[DouglasFir, TanOak, GrayPine]","DouglasFir",-40.299999999999997,"W12153810N3953244-W12153905N3953243","Tier 2-3","YES","2019-11-20T17:46:46",{"$f":"VLOOKUP($K109,SpanRange,4,FALSE)","v":176},{"$f":"VLOOKUP($K109,SpanRange,2,FALSE)","v":270.10000000000002},{"$f":"VLOOKUP($K109,SpanRange,3,FALSE)","v":2},{"$f":"Find_Table(Spans!$I$2,I109)","v":9},{"$f":"IF(R109=0,Spans!$C$10,VLOOKUP(P109,INDIRECT(\"Table\"&R109),Q109,TRUE))","v":26},"Yes","Yes"]
[299,"W12152389N3952966",39.52966,-121.523889999999,53.6,14,10.5,"[Other, DouglasFir, ValleyOak]","Other",-12.3,"W12152414N3952959-W12152351N3952966","Tier 2-3","YES","2019-11-20T17:46:46",{"$f":"VLOOKUP($K110,SpanRange,4,FALSE)","v":115},{"$f":"VLOOKUP($K110,SpanRange,2,FALSE)","v":181.69999999999899},{"$f":"VLOOKUP($K110,SpanRange,3,FALSE)","v":2},{"$f":"Find_Table(Spans!$I$2,I110)","v":11},{"$f":"IF(R110=0,Spans!$C$10,VLOOKUP(P110,INDIRECT(\"Table\"&R110),Q110,TRUE))","v":30},"No","No"]
[300,"W12152030N3952914",39.529139999999899,-121.52030000000001,60.7,32.5,11.1,"[GrayPine, Other, MontereyPine]","GrayPine",-11.5,"W12152053N3952877-W12152014N3952914","Tier 2-3","YES","2019-11-20T17:46:46",{"$f":"VLOOKUP($K111,SpanRange,4,FALSE)","v":106},{"$f":"VLOOKUP($K111,SpanRange,2,FALSE)","v":171.9},{"$f":"VLOOKUP($K111,SpanRange,3,FALSE)","v":2},{"$f":"Find_Table(Spans!$I$2,I111)","v":10},{"$f":"IF(R111=0,Spans!$C$10,VLOOKUP(P111,INDIRECT(\"Table\"&R111),Q111,TRUE))","v":26},"No","No"]
[301,"W12153540N3952657",39.52657,-121.5354,42.399999999999899,10.6,6.4,"[DouglasFir, LiveOak, ValleyOak]","DouglasFir",-8.3000000000000007,"W12153536N3952706-W12153535N3952637","Tier 2-3","YES","2019-11-20T17:46:46",{"$f":"VLOOKUP($K112,SpanRange,4,FALSE)","v":74},{"$f":"VLOOKUP($K112,SpanRange,2,FALSE)","v":252.3},{"$f":"VLOOKUP($K112,SpanRange,3,FALSE)","v":2},{"$f":"Find_Table(Spans!$I$2,I112)","v":9},{"$f":"IF(R112=0,Spans!$C$10,VLOOKUP(P112,INDIRECT(\"Table\"&R112),Q112,TRUE))","v":26},"No","No"]
[305,"W12154198N3953433",39.534329999999898,-121.541979999999,55.2,16.3,6.3,"[DouglasFir, GrayPine, Eucalyptus/BlueGum]","DouglasFir",-18.6999999999999,"W12154179N3953424-W12154214N3953455","Tier 2-3","YES","2019-11-20T17:46:46",{"$f":"VLOOKUP($K113,SpanRange,4,FALSE)","v":190},{"$f":"VLOOKUP($K113,SpanRange,2,FALSE)","v":149.30000000000001},{"$f":"VLOOKUP($K113,SpanRange,3,FALSE)","v":2},{"$f":"Find_Table(Spans!$I$2,I113)","v":9},{"$f":"IF(R113=0,Spans!$C$10,VLOOKUP(P113,INDIRECT(\"Table\"&R113),Q113,TRUE))","v":16},"Yes","No"]
[306,"W12154226N3953750",39.537500000000001,-121.542259999999,77.2,65.099999999999895,45.6,"[Eucalyptus/BlueGum, DouglasFir, CoastalLiveOak]","Eucalyptus/BlueGum",-10.6,"W12154250N3953758-W12154253N3953660","Tier 2-3","YES","2019-11-20T17:46:46",{"$f":"VLOOKUP($K114,SpanRange,4,FALSE)","v":195},{"$f":"VLOOKUP($K114,SpanRange,2,FALSE)","v":355.89999999999901},{"$f":"VLOOKUP($K114,SpanRange,3,FALSE)","v":2},{"$f":"Find_Table(Spans!$I$2,I114)","v":12},{"$f":"IF(R114=0,Spans!$C$10,VLOOKUP(P114,INDIRECT(\"Table\"&R114),Q114,TRUE))","v":30},"No","No"]
[311,"W12153040N3952823",39.528230000000001,-121.5304,59.2,35.700000000000003,9.3000000000000007,"[GrayPine, Other, ValleyOak]","GrayPine",-4.5,"W12153054N3952815-W12153053N3952876","Tier 2-3","YES","2019-11-20T17:46:46",{"$f":"VLOOKUP($K115,SpanRange,4,FALSE)","v":97},{"$f":"VLOOKUP($K115,SpanRange,2,FALSE)","v":221.19999999999899},{"$f":"VLOOKUP($K115,SpanRange,3,FALSE)","v":2},{"$f":"Find_Table(Spans!$I$2,I115)","v":10},{"$f":"IF(R115=0,Spans!$C$10,VLOOKUP(P115,INDIRECT(\"Table\"&R115),Q115,TRUE))","v":32},"No","No"]
[315,"W12154247N3954019",39.540189999999903,-121.542469999999,54.7,32.200000000000003,12.4,"[DouglasFir, GrayPine, Other]","DouglasFir",-21.6999999999999,"W12154261N3953987-W12154258N3954066","Tier 2-3","YES","2019-11-20T17:46:46",{"$f":"VLOOKUP($K116,SpanRange,4,FALSE)","v":199},{"$f":"VLOOKUP($K116,SpanRange,2,FALSE)","v":286.69999999999902},{"$f":"VLOOKUP($K116,SpanRange,3,FALSE)","v":2},{"$f":"Find_Table(Spans!$I$2,I116)","v":9},{"$f":"IF(R116=0,Spans!$C$10,VLOOKUP(P116,INDIRECT(\"Table\"&R116),Q116,TRUE))","v":26},"No","No"]
[319,"W12152935N3952717",39.527169999999899,-121.529349999999,39.799999999999997,13.7,6.5,"[DouglasFir, Other, GrayPine]","DouglasFir",-5.4,"W12152971N3952716-W12152907N3952726","Tier 2-3","YES","2019-11-20T17:46:46",{"$f":"VLOOKUP($K117,SpanRange,4,FALSE)","v":79},{"$f":"VLOOKUP($K117,SpanRange,2,FALSE)","v":184.9},{"$f":"VLOOKUP($K117,SpanRange,3,FALSE)","v":2},{"$f":"Find_Table(Spans!$I$2,I117)","v":9},{"$f":"IF(R117=0,Spans!$C$10,VLOOKUP(P117,INDIRECT(\"Table\"&R117),Q117,TRUE))","v":21},"No","No"]
[320,"W12153417N3953166",39.531659999999903,-121.53417,69.599999999999994,22.1999999999999,12,"[DouglasFir, GrayPine, Other]","DouglasFir",-27.1,"W12153419N3953235-W12153419N3953172","Tier 2-3","YES","2019-11-20T17:46:46",{"$f":"VLOOKUP($K118,SpanRange,4,FALSE)","v":166},{"$f":"VLOOKUP($K118,SpanRange,2,FALSE)","v":228.3},{"$f":"VLOOKUP($K118,SpanRange,3,FALSE)","v":2},{"$f":"Find_Table(Spans!$I$2,I118)","v":9},{"$f":"IF(R118=0,Spans!$C$10,VLOOKUP(P118,INDIRECT(\"Table\"&R118),Q118,TRUE))","v":26},"Yes","No"]
[321,"W12153910N3953287",39.532869999999903,-121.5391,37.1,16.6999999999999,6.7,"[CoastalLiveOak, DouglasFir, Other]","CoastalLiveOak",-1,"W12153944N3953282-W12153906N3953282","Tier 2-3","YES","2019-11-20T17:46:46",{"$f":"VLOOKUP($K119,SpanRange,4,FALSE)","v":184},{"$f":"VLOOKUP($K119,SpanRange,2,FALSE)","v":108.2},{"$f":"VLOOKUP($K119,SpanRange,3,FALSE)","v":2},{"$f":"Find_Table(Spans!$I$2,I119)","v":11},{"$f":"IF(R119=0,Spans!$C$10,VLOOKUP(P119,INDIRECT(\"Table\"&R119),Q119,TRUE))","v":30},"No","No"]
[322,"W12154225N3953817",39.538170000000001,-121.542249999999,93,69.299999999999898,52.6,null,null,-22.6,"W12154250N3953758-W12154252N3953857","Tier 2-3","YES","2019-11-20T17:46:46",{"$f":"VLOOKUP($K120,SpanRange,4,FALSE)","v":196},{"$f":"VLOOKUP($K120,SpanRange,2,FALSE)","v":362},{"$f":"VLOOKUP($K120,SpanRange,3,FALSE)","v":2},{"$f":"Find_Table(Spans!$I$2,I120)","v":11},{"$f":"IF(R120=0,Spans!$C$10,VLOOKUP(P120,INDIRECT(\"Table\"&R120),Q120,TRUE))","v":30},"No","No"]
[323,"W12151769N3953156",39.531559999999899,-121.51769,59.8,15.3,9.3000000000000007,"[CoastalLiveOak, Other, Eucalyptus/BlueGum]","CoastalLiveOak",-20.6999999999999,"W12151765N3953162-W12151822N3953157","Tier 2-3","YES","2019-11-20T17:46:46",{"$f":"VLOOKUP($K121,SpanRange,4,FALSE)","v":160},{"$f":"VLOOKUP($K121,SpanRange,2,FALSE)","v":161.30000000000001},{"$f":"VLOOKUP($K121,SpanRange,3,FALSE)","v":2},{"$f":"Find_Table(Spans!$I$2,I121)","v":11},{"$f":"IF(R121=0,Spans!$C$10,VLOOKUP(P121,INDIRECT(\"Table\"&R121),Q121,TRUE))","v":30},"No","No"]
[324,"W12153200N3953059",39.530589999999897,-121.532,34.700000000000003,14.6,7.1,"[CoastalLiveOak, DouglasFir, Eucalyptus/BlueGum]","CoastalLiveOak",-0.1,"W12153207N3953097-W12153206N3953048","Tier 2-3","YES","2019-11-20T17:46:46",{"$f":"VLOOKUP($K122,SpanRange,4,FALSE)","v":141},{"$f":"VLOOKUP($K122,SpanRange,2,FALSE)","v":177.19999999999899},{"$f":"VLOOKUP($K122,SpanRange,3,FALSE)","v":2},{"$f":"Find_Table(Spans!$I$2,I122)","v":11},{"$f":"IF(R122=0,Spans!$C$10,VLOOKUP(P122,INDIRECT(\"Table\"&R122),Q122,TRUE))","v":30},"No","No"]
[328,"W12154079N3953178",39.531779999999898,-121.54079,63.2,14.4,8.5,"[DouglasFir, GrayPine, CoastalLiveOak]","DouglasFir",-35.1,"W12154084N3953131-W12154086N3953214","Tier 2-3","YES","2019-11-20T17:46:46",{"$f":"VLOOKUP($K123,SpanRange,4,FALSE)","v":162},{"$f":"VLOOKUP($K123,SpanRange,2,FALSE)","v":302.60000000000002},{"$f":"VLOOKUP($K123,SpanRange,3,FALSE)","v":2},{"$f":"Find_Table(Spans!$I$2,I123)","v":9},{"$f":"IF(R123=0,Spans!$C$10,VLOOKUP(P123,INDIRECT(\"Table\"&R123),Q123,TRUE))","v":31},"Yes","No"]
[333,"W12152042N3953024",39.5302399999999,-121.52042,38.299999999999997,16.8,7.6,"[DouglasFir, Eucalyptus/BlueGum, CoastalLiveOak]","DouglasFir",-0.6,"W12152005N3953021-W12152091N3953014","Tier 2-3","YES","2019-11-20T17:46:46",{"$f":"VLOOKUP($K124,SpanRange,4,FALSE)","v":127},{"$f":"VLOOKUP($K124,SpanRange,2,FALSE)","v":241.69999999999899},{"$f":"VLOOKUP($K124,SpanRange,3,FALSE)","v":2},{"$f":"Find_Table(Spans!$I$2,I124)","v":9},{"$f":"IF(R124=0,Spans!$C$10,VLOOKUP(P124,INDIRECT(\"Table\"&R124),Q124,TRUE))","v":26},"No","No"]
[337,"W12154240N3953863",39.538629999999898,-121.5424,97,32.5,14.1,"[GrayPine, DouglasFir, Eucalyptus/BlueGum]","GrayPine",-64.299999999999898,"W12154263N3953924-W12154252N3953857","Tier 2-3","YES","2019-11-20T17:46:46",{"$f":"VLOOKUP($K125,SpanRange,4,FALSE)","v":197},{"$f":"VLOOKUP($K125,SpanRange,2,FALSE)","v":244.69999999999899},{"$f":"VLOOKUP($K125,SpanRange,3,FALSE)","v":2},{"$f":"Find_Table(Spans!$I$2,I125)","v":10},{"$f":"IF(R125=0,Spans!$C$10,VLOOKUP(P125,INDIRECT(\"Table\"&R125),Q125,TRUE))","v":32},"Yes","No"]
[340,"W12153292N3953038",39.530380000000001,-121.53292,80.799999999999898,35.200000000000003,6.9,"[GrayPine, DouglasFir, LiveOak]","GrayPine",-33.700000000000003,"W12153269N3953048-W12153323N3953048","Tier 2-3","YES","2019-11-20T17:46:46",{"$f":"VLOOKUP($K126,SpanRange,4,FALSE)","v":132},{"$f":"VLOOKUP($K126,SpanRange,2,FALSE)","v":153.80000000000001},{"$f":"VLOOKUP($K126,SpanRange,3,FALSE)","v":2},{"$f":"Find_Table(Spans!$I$2,I126)","v":10},{"$f":"IF(R126=0,Spans!$C$10,VLOOKUP(P126,INDIRECT(\"Table\"&R126),Q126,TRUE))","v":26},"Yes","No"]
[342,"W12154239N3953807",39.538069999999898,-121.542389999999,94.2,28.6999999999999,9.8000000000000007,"[CoastalLiveOak, Other, DouglasFir]","CoastalLiveOak",-65.400000000000006,"W12154250N3953758-W12154252N3953857","Tier 2-3","YES","2019-11-20T17:46:46",{"$f":"VLOOKUP($K127,SpanRange,4,FALSE)","v":196},{"$f":"VLOOKUP($K127,SpanRange,2,FALSE)","v":362},{"$f":"VLOOKUP($K127,SpanRange,3,FALSE)","v":2},{"$f":"Find_Table(Spans!$I$2,I127)","v":11},{"$f":"IF(R127=0,Spans!$C$10,VLOOKUP(P127,INDIRECT(\"Table\"&R127),Q127,TRUE))","v":30},"Yes","No"]
[348,"W12153711N3952440",39.5244,-121.537109999999,57.3,34,8.6,"[GrayPine, DouglasFir, Other]","GrayPine",-15.8,"W12153751N3952386-W12153716N3952455","Tier 2-3","YES","2019-11-20T17:46:46",{"$f":"VLOOKUP($K128,SpanRange,4,FALSE)","v":42},{"$f":"VLOOKUP($K128,SpanRange,2,FALSE)","v":271.10000000000002},{"$f":"VLOOKUP($K128,SpanRange,3,FALSE)","v":2},{"$f":"Find_Table(Spans!$I$2,I128)","v":10},{"$f":"IF(R128=0,Spans!$C$10,VLOOKUP(P128,INDIRECT(\"Table\"&R128),Q128,TRUE))","v":32},"No","No"]
[354,"W12151442N3952662",39.526620000000001,-121.51442,38.799999999999997,19,6.1,"[DouglasFir, Other, GrayPine]","DouglasFir",-2.6,"W12151433N3952690-W12151463N3952642","Tier 2-3","YES","2019-11-20T17:46:46",{"$f":"VLOOKUP($K129,SpanRange,4,FALSE)","v":73},{"$f":"VLOOKUP($K129,SpanRange,2,FALSE)","v":191.5},{"$f":"VLOOKUP($K129,SpanRange,3,FALSE)","v":2},{"$f":"Find_Table(Spans!$I$2,I129)","v":9},{"$f":"IF(R129=0,Spans!$C$10,VLOOKUP(P129,INDIRECT(\"Table\"&R129),Q129,TRUE))","v":21},"No","No"]
[356,"W12150673N3965477",39.6547699999999,-121.50673,74.799999999999898,35,28.9,null,null,-17.3,"W12150660N3965474-W12150643N3965533","Tier 2-3","YES","2019-11-20T17:46:46",{"$f":"VLOOKUP($K130,SpanRange,4,FALSE)","v":206},{"$f":"VLOOKUP($K130,SpanRange,2,FALSE)","v":217.9},{"$f":"VLOOKUP($K130,SpanRange,3,FALSE)","v":2},{"$f":"Find_Table(Spans!$I$2,I130)","v":11},{"$f":"IF(R130=0,Spans!$C$10,VLOOKUP(P130,INDIRECT(\"Table\"&R130),Q130,TRUE))","v":30},"No","No"]
[360,"W12153424N3952893",39.528929999999903,-121.534239999999,90.799999999999898,39.299999999999997,25,"[GrayPine, Other, DouglasFir]","GrayPine",-34.700000000000003,"W12153537N3952882-W12153422N3952882","Tier 2-3","YES","2019-11-20T17:46:46",{"$f":"VLOOKUP($K131,SpanRange,4,FALSE)","v":102},{"$f":"VLOOKUP($K131,SpanRange,2,FALSE)","v":324.39999999999901},{"$f":"VLOOKUP($K131,SpanRange,3,FALSE)","v":2},{"$f":"Find_Table(Spans!$I$2,I131)","v":10},{"$f":"IF(R131=0,Spans!$C$10,VLOOKUP(P131,INDIRECT(\"Table\"&R131),Q131,TRUE))","v":36},"No","No"]
[364,"W12153268N3952612",39.526119999999899,-121.532679999999,72.900000000000006,51.1,43.2,"[DouglasFir, GrayPine, Eucalyptus/BlueGum]","DouglasFir",-17.5,"W12153295N3952615-W12153224N3952655","Tier 2-3","YES","2019-11-20T17:46:46",{"$f":"VLOOKUP($K132,SpanRange,4,FALSE)","v":71},{"$f":"VLOOKUP($K132,SpanRange,2,FALSE)","v":249.099999999999},{"$f":"VLOOKUP($K132,SpanRange,3,FALSE)","v":2},{"$f":"Find_Table(Spans!$I$2,I132)","v":9},{"$f":"IF(R132=0,Spans!$C$10,VLOOKUP(P132,INDIRECT(\"Table\"&R132),Q132,TRUE))","v":26},{"$f":"IFERROR(IF((-1)*J132>S132,\"Yes\",\"No\"),\"No Match\")","v":"No"},{"$f":"IF(F132<=6,\"Yes\",\"No\")","v":"No"}]
[369,"W12153289N3953053",39.530529999999899,-121.532889999999,53.2,13.8,6.6,"[DouglasFir, LiveOak, GrayPine]","DouglasFir",-16.399999999999899,"W12153269N3953048-W12153323N3953048","Tier 2-3","YES","2019-11-20T17:46:46",{"$f":"VLOOKUP($K133,SpanRange,4,FALSE)","v":132},{"$f":"VLOOKUP($K133,SpanRange,2,FALSE)","v":153.80000000000001},{"$f":"VLOOKUP($K133,SpanRange,3,FALSE)","v":2},{"$f":"Find_Table(Spans!$I$2,I133)","v":9},{"$f":"IF(R133=0,Spans!$C$10,VLOOKUP(P133,INDIRECT(\"Table\"&R133),Q133,TRUE))","v":21},"No","No"]
[371,"W12154097N3953195",39.531949999999902,-121.54097,55.8,29.6,22.8,"[DouglasFir, Other, MontereyPine]","DouglasFir",-9.3000000000000007,"W12154084N3953131-W12154086N3953214","Tier 2-3","YES","2019-11-20T17:46:46",{"$f":"VLOOKUP($K134,SpanRange,4,FALSE)","v":162},{"$f":"VLOOKUP($K134,SpanRange,2,FALSE)","v":302.60000000000002},{"$f":"VLOOKUP($K134,SpanRange,3,FALSE)","v":2},{"$f":"Find_Table(Spans!$I$2,I134)","v":9},{"$f":"IF(R134=0,Spans!$C$10,VLOOKUP(P134,INDIRECT(\"Table\"&R134),Q134,TRUE))","v":31},"No","No"]
[373,"W12154072N3953235",39.532350000000001,-121.540719999999,46,25.1,11.2,"[DouglasFir, GrayPine, ValleyOak]","DouglasFir",-5.7,"W12154086N3953214-W12154073N3953285","Tier 2-3","YES","2019-11-20T17:46:46",{"$f":"VLOOKUP($K135,SpanRange,4,FALSE)","v":177},{"$f":"VLOOKUP($K135,SpanRange,2,FALSE)","v":261},{"$f":"VLOOKUP($K135,SpanRange,3,FALSE)","v":2},{"$f":"Find_Table(Spans!$I$2,I135)","v":9},{"$f":"IF(R135=0,Spans!$C$10,VLOOKUP(P135,INDIRECT(\"Table\"&R135),Q135,TRUE))","v":26},"No","No"]
[374,"W12153304N3953082",39.530819999999899,-121.53304,62.899999999999899,50.5,31.8,"[GrayPine, Other, DouglasFir]","GrayPine",-4.7,"W12153322N3953104-W12153323N3953048","Tier 2-3","YES","2019-11-20T17:46:46",{"$f":"VLOOKUP($K136,SpanRange,4,FALSE)","v":142},{"$f":"VLOOKUP($K136,SpanRange,2,FALSE)","v":201.19999999999899},{"$f":"VLOOKUP($K136,SpanRange,3,FALSE)","v":2},{"$f":"Find_Table(Spans!$I$2,I136)","v":10},{"$f":"IF(R136=0,Spans!$C$10,VLOOKUP(P136,INDIRECT(\"Table\"&R136),Q136,TRUE))","v":32},"No","No"]
[376,"W12151944N3952917",39.529170000000001,-121.51944,60.7,25.4,8.5,"[GrayPine, DouglasFir, ValleyOak]","GrayPine",-23.3,"W12152014N3952914-W12151936N3952926","Tier 2-3","YES","2019-11-20T17:46:46",{"$f":"VLOOKUP($K137,SpanRange,4,FALSE)","v":108},{"$f":"VLOOKUP($K137,SpanRange,2,FALSE)","v":225.099999999999},{"$f":"VLOOKUP($K137,SpanRange,3,FALSE)","v":2},{"$f":"Find_Table(Spans!$I$2,I137)","v":10},{"$f":"IF(R137=0,Spans!$C$10,VLOOKUP(P137,INDIRECT(\"Table\"&R137),Q137,TRUE))","v":32},"No","No"]
[377,"W12153133N3953043",39.530429999999903,-121.531329999999,42.899999999999899,15.2,3.9,"[CoastalLiveOak, Other, Eucalyptus/BlueGum]","CoastalLiveOak",-8.6999999999999993,"W12153157N3953048-W12153111N3953048","Tier 2-3","YES","2019-11-20T17:46:46",{"$f":"VLOOKUP($K138,SpanRange,4,FALSE)","v":135},{"$f":"VLOOKUP($K138,SpanRange,2,FALSE)","v":128.80000000000001},{"$f":"VLOOKUP($K138,SpanRange,3,FALSE)","v":2},{"$f":"Find_Table(Spans!$I$2,I138)","v":11},{"$f":"IF(R138=0,Spans!$C$10,VLOOKUP(P138,INDIRECT(\"Table\"&R138),Q138,TRUE))","v":30},"No","No"]
[379,"W12153833N3953258",39.532579999999903,-121.53833,69.2,49.6,34.5,"[Other, GrayPine, DouglasFir]","Other",-8,"W12153810N3953244-W12153905N3953243","Tier 2-3","YES","2019-11-20T17:46:46",{"$f":"VLOOKUP($K139,SpanRange,4,FALSE)","v":176},{"$f":"VLOOKUP($K139,SpanRange,2,FALSE)","v":270.10000000000002},{"$f":"VLOOKUP($K139,SpanRange,3,FALSE)","v":2},{"$f":"Find_Table(Spans!$I$2,I139)","v":11},{"$f":"IF(R139=0,Spans!$C$10,VLOOKUP(P139,INDIRECT(\"Table\"&R139),Q139,TRUE))","v":30},"No","No"]
[380,"W12154249N3953966",39.539659999999898,-121.54249,74.900000000000006,30.9,17.1999999999999,"[DouglasFir, GrayPine, Other]","DouglasFir",-43.7,"W12154263N3953924-W12154261N3953987","Tier 2-3","YES","2019-11-20T17:46:46",{"$f":"VLOOKUP($K140,SpanRange,4,FALSE)","v":198},{"$f":"VLOOKUP($K140,SpanRange,2,FALSE)","v":231},{"$f":"VLOOKUP($K140,SpanRange,3,FALSE)","v":2},{"$f":"Find_Table(Spans!$I$2,I140)","v":9},{"$f":"IF(R140=0,Spans!$C$10,VLOOKUP(P140,INDIRECT(\"Table\"&R140),Q140,TRUE))","v":26},"Yes","No"]
[381,"W12151892N3952882",39.528819999999897,-121.518919999999,57,27.3,12,"[GrayPine, MontereyPine, DouglasFir]","GrayPine",-17,"W12151873N3952887-W12151911N3952893","Tier 2-3","YES","2019-11-20T17:46:46",{"$f":"VLOOKUP($K141,SpanRange,4,FALSE)","v":104},{"$f":"VLOOKUP($K141,SpanRange,2,FALSE)","v":108.299999999999},{"$f":"VLOOKUP($K141,SpanRange,3,FALSE)","v":2},{"$f":"Find_Table(Spans!$I$2,I141)","v":10},{"$f":"IF(R141=0,Spans!$C$10,VLOOKUP(P141,INDIRECT(\"Table\"&R141),Q141,TRUE))","v":21},"No","No"]
[382,"W12152099N3952996",39.529959999999903,-121.520989999999,47,20.100000000000001,12.5,"[GrayPine, ValleyOak, Other]","GrayPine",-14.7,"W12152091N3953014-W12152091N3952965","Tier 2-3","YES","2019-11-20T17:46:46",{"$f":"VLOOKUP($K142,SpanRange,4,FALSE)","v":123},{"$f":"VLOOKUP($K142,SpanRange,2,FALSE)","v":178.3},{"$f":"VLOOKUP($K142,SpanRange,3,FALSE)","v":2},{"$f":"Find_Table(Spans!$I$2,I142)","v":10},{"$f":"IF(R142=0,Spans!$C$10,VLOOKUP(P142,INDIRECT(\"Table\"&R142),Q142,TRUE))","v":26},"No","No"]
[385,"W12153848N3953247",39.532469999999897,-121.538479999999,70.7,11.1,6.5,"[DouglasFir, GrayPine, TanOak]","DouglasFir",-40.799999999999997,"W12153810N3953244-W12153905N3953243","Tier 2-3","YES","2019-11-20T17:46:46",{"$f":"VLOOKUP($K143,SpanRange,4,FALSE)","v":176},{"$f":"VLOOKUP($K143,SpanRange,2,FALSE)","v":270.10000000000002},{"$f":"VLOOKUP($K143,SpanRange,3,FALSE)","v":2},{"$f":"Find_Table(Spans!$I$2,I143)","v":9},{"$f":"IF(R143=0,Spans!$C$10,VLOOKUP(P143,INDIRECT(\"Table\"&R143),Q143,TRUE))","v":26},"Yes","No"]
[392,"W12153830N3953281",39.532809999999898,-121.53830000000001,82.7,48.2,30,"[DouglasFir, GrayPine, TanOak]","DouglasFir",-26.4,"W12153848N3953281-W12153906N3953282","Tier 2-3","YES","2019-11-20T17:46:46",{"$f":"VLOOKUP($K144,SpanRange,4,FALSE)","v":183},{"$f":"VLOOKUP($K144,SpanRange,2,FALSE)","v":163.80000000000001},{"$f":"VLOOKUP($K144,SpanRange,3,FALSE)","v":2},{"$f":"Find_Table(Spans!$I$2,I144)","v":9},{"$f":"IF(R144=0,Spans!$C$10,VLOOKUP(P144,INDIRECT(\"Table\"&R144),Q144,TRUE))","v":21},"Yes","No"]
[393,"W12153201N3953171",39.531709999999897,-121.53201,38.5,11.6,6.4,"[GrayPine, MontereyPine, DouglasFir]","GrayPine",-6,"W12153206N3953192-W12153206N3953153","Tier 2-3","YES","2019-11-20T17:46:46",{"$f":"VLOOKUP($K145,SpanRange,4,FALSE)","v":164},{"$f":"VLOOKUP($K145,SpanRange,2,FALSE)","v":140.599999999999},{"$f":"VLOOKUP($K145,SpanRange,3,FALSE)","v":2},{"$f":"Find_Table(Spans!$I$2,I145)","v":10},{"$f":"IF(R145=0,Spans!$C$10,VLOOKUP(P145,INDIRECT(\"Table\"&R145),Q145,TRUE))","v":21},"No","No"]
[396,"W12154069N3953193",39.531929999999903,-121.540689999999,68.2,43.5,11.3,"[GrayPine, Eucalyptus/BlueGum, DouglasFir]","GrayPine",-19.899999999999999,"W12154084N3953131-W12154086N3953214","Tier 2-3","YES","2019-11-20T17:46:46",{"$f":"VLOOKUP($K146,SpanRange,4,FALSE)","v":162},{"$f":"VLOOKUP($K146,SpanRange,2,FALSE)","v":302.60000000000002},{"$f":"VLOOKUP($K146,SpanRange,3,FALSE)","v":2},{"$f":"Find_Table(Spans!$I$2,I146)","v":10},{"$f":"IF(R146=0,Spans!$C$10,VLOOKUP(P146,INDIRECT(\"Table\"&R146),Q146,TRUE))","v":36},"No","No"]
[397,"W12153464N3953242",39.532419999999902,-121.534639999999,44.2,32.200000000000003,5.3,"[MontereyPine, CoastalLiveOak, DouglasFir]","MontereyPine",-6.8,"W12153419N3953235-W12153557N3953230","Tier 2-3","YES","2019-11-20T17:46:46",{"$f":"VLOOKUP($K147,SpanRange,4,FALSE)","v":172},{"$f":"VLOOKUP($K147,SpanRange,2,FALSE)","v":388.6},{"$f":"VLOOKUP($K147,SpanRange,3,FALSE)","v":2},{"$f":"Find_Table(Spans!$I$2,I147)","v":10},{"$f":"IF(R147=0,Spans!$C$10,VLOOKUP(P147,INDIRECT(\"Table\"&R147),Q147,TRUE))","v":36},"No","No"]
[403,"W12154166N3953400",39.533999999999899,-121.54165999999999,62.3,20.6999999999999,9.1,"[DouglasFir, LiveOak, Other]","DouglasFir",-20.100000000000001,"W12154179N3953424-W12154149N3953393","Tier 2-3","YES","2019-11-20T17:46:46",{"$f":"VLOOKUP($K148,SpanRange,4,FALSE)","v":189},{"$f":"VLOOKUP($K148,SpanRange,2,FALSE)","v":142.5},{"$f":"VLOOKUP($K148,SpanRange,3,FALSE)","v":2},{"$f":"Find_Table(Spans!$I$2,I148)","v":9},{"$f":"IF(R148=0,Spans!$C$10,VLOOKUP(P148,INDIRECT(\"Table\"&R148),Q148,TRUE))","v":16},"Yes","No"]
[410,"W12151935N3952954",39.529539999999898,-121.51935,67.299999999999898,47.399999999999899,28.4,"[GrayPine, Other, DouglasFir]","GrayPine",-13.6,"W12152005N3953021-W12151936N3952926","Tier 2-3","YES","2019-11-20T17:46:46",{"$f":"VLOOKUP($K149,SpanRange,4,FALSE)","v":121},{"$f":"VLOOKUP($K149,SpanRange,2,FALSE)","v":398},{"$f":"VLOOKUP($K149,SpanRange,3,FALSE)","v":2},{"$f":"Find_Table(Spans!$I$2,I149)","v":10},{"$f":"IF(R149=0,Spans!$C$10,VLOOKUP(P149,INDIRECT(\"Table\"&R149),Q149,TRUE))","v":36},"No","No"]
[411,"W12152129N3952558",39.525579999999898,-121.521289999999,34,14.1,4.7,"[DouglasFir, Other, LiveOak]","DouglasFir",-4.2,"W12152124N3952614-W12152123N3952539","Tier 2-3","YES","2019-11-20T17:46:46",{"$f":"VLOOKUP($K150,SpanRange,4,FALSE)","v":64},{"$f":"VLOOKUP($K150,SpanRange,2,FALSE)","v":274.60000000000002},{"$f":"VLOOKUP($K150,SpanRange,3,FALSE)","v":2},{"$f":"Find_Table(Spans!$I$2,I150)","v":9},{"$f":"IF(R150=0,Spans!$C$10,VLOOKUP(P150,INDIRECT(\"Table\"&R150),Q150,TRUE))","v":26},"No","No"]
[414,"W12154064N3953269",39.532689999999903,-121.540639999999,43.899999999999899,27.4,12,"[GrayPine, MontereyPine, DouglasFir]","GrayPine",-1.6,"W12154086N3953214-W12154073N3953285","Tier 2-3","YES","2019-11-20T17:46:46",{"$f":"VLOOKUP($K151,SpanRange,4,FALSE)","v":177},{"$f":"VLOOKUP($K151,SpanRange,2,FALSE)","v":261},{"$f":"VLOOKUP($K151,SpanRange,3,FALSE)","v":2},{"$f":"Find_Table(Spans!$I$2,I151)","v":10},{"$f":"IF(R151=0,Spans!$C$10,VLOOKUP(P151,INDIRECT(\"Table\"&R151),Q151,TRUE))","v":32},"No","No"]
[415,"W12153798N3953255",39.532550000000001,-121.53798,66,47.3,28.6,"[GrayPine, DouglasFir, MontereyPine]","GrayPine",-7.3,"W12153810N3953244-W12153905N3953243","Tier 2-3","YES","2019-11-20T17:46:46",{"$f":"VLOOKUP($K152,SpanRange,4,FALSE)","v":176},{"$f":"VLOOKUP($K152,SpanRange,2,FALSE)","v":270.10000000000002},{"$f":"VLOOKUP($K152,SpanRange,3,FALSE)","v":2},{"$f":"Find_Table(Spans!$I$2,I152)","v":10},{"$f":"IF(R152=0,Spans!$C$10,VLOOKUP(P152,INDIRECT(\"Table\"&R152),Q152,TRUE))","v":32},"No","No"]
[420,"W12153201N3953256",39.532559999999897,-121.53201,36.399999999999899,9.1999999999999993,6.8,"[GrayPine, DouglasFir, Other]","GrayPine",-5.9,"W12153205N3953245-W12153205N3953285","Tier 2-3","YES","2019-11-20T17:46:46",{"$f":"VLOOKUP($K153,SpanRange,4,FALSE)","v":181},{"$f":"VLOOKUP($K153,SpanRange,2,FALSE)","v":144.599999999999},{"$f":"VLOOKUP($K153,SpanRange,3,FALSE)","v":2},{"$f":"Find_Table(Spans!$I$2,I153)","v":10},{"$f":"IF(R153=0,Spans!$C$10,VLOOKUP(P153,INDIRECT(\"Table\"&R153),Q153,TRUE))","v":21},"No","No"]
[423,"W12154097N3953156",39.531559999999899,-121.54097,59.899999999999899,33.299999999999898,24.4,"[GrayPine, Other, DouglasFir]","GrayPine",-13.2,"W12154084N3953131-W12154086N3953214","Tier 2-3","YES","2019-11-20T17:46:46",{"$f":"VLOOKUP($K154,SpanRange,4,FALSE)","v":162},{"$f":"VLOOKUP($K154,SpanRange,2,FALSE)","v":302.60000000000002},{"$f":"VLOOKUP($K154,SpanRange,3,FALSE)","v":2},{"$f":"Find_Table(Spans!$I$2,I154)","v":10},{"$f":"IF(R154=0,Spans!$C$10,VLOOKUP(P154,INDIRECT(\"Table\"&R154),Q154,TRUE))","v":36},"No","No"]
[425,"W12154248N3953658",39.536580000000001,-121.542479999999,93.7,11.7,12,"[GrayPine, DouglasFir, Other]","GrayPine",-66.900000000000006,"W12154256N3953592-W12154253N3953660","Tier 2-3","YES","2019-11-20T17:46:46",{"$f":"VLOOKUP($K155,SpanRange,4,FALSE)","v":194},{"$f":"VLOOKUP($K155,SpanRange,2,FALSE)","v":247.599999999999},{"$f":"VLOOKUP($K155,SpanRange,3,FALSE)","v":2},{"$f":"Find_Table(Spans!$I$2,I155)","v":10},{"$f":"IF(R155=0,Spans!$C$10,VLOOKUP(P155,INDIRECT(\"Table\"&R155),Q155,TRUE))","v":32},"Yes","No"]
[429,"W12153639N3953136",39.5313599999999,-121.536389999999,50.1,39.399999999999899,4.9000000000000004,"[DouglasFir, LiveOak, TanOak]","DouglasFir",-1.8,"W12153654N3953154-W12153654N3953103","Tier 2-3","YES","2019-11-20T17:46:46",{"$f":"VLOOKUP($K156,SpanRange,4,FALSE)","v":151},{"$f":"VLOOKUP($K156,SpanRange,2,FALSE)","v":182.69999999999899},{"$f":"VLOOKUP($K156,SpanRange,3,FALSE)","v":2},{"$f":"Find_Table(Spans!$I$2,I156)","v":9},{"$f":"IF(R156=0,Spans!$C$10,VLOOKUP(P156,INDIRECT(\"Table\"&R156),Q156,TRUE))","v":21},"No","No"]
[430,"W12154077N3953159",39.531590000000001,-121.540769999999,55.7,16.399999999999899,9.1999999999999993,"[DouglasFir, LiveOak, GrayPine]","DouglasFir",-29.5,"W12154084N3953131-W12154086N3953214","Tier 2-3","YES","2019-11-20T17:46:46",{"$f":"VLOOKUP($K157,SpanRange,4,FALSE)","v":162},{"$f":"VLOOKUP($K157,SpanRange,2,FALSE)","v":302.60000000000002},{"$f":"VLOOKUP($K157,SpanRange,3,FALSE)","v":2},{"$f":"Find_Table(Spans!$I$2,I157)","v":9},{"$f":"IF(R157=0,Spans!$C$10,VLOOKUP(P157,INDIRECT(\"Table\"&R157),Q157,TRUE))","v":31},"No","No"]
[433,"W12152061N3952869",39.528689999999898,-121.52061,60.8,39,23.8,"[DouglasFir, GrayPine, Other]","DouglasFir",-9.1,"W12152053N3952877-W12152014N3952914","Tier 2-3","YES","2019-11-20T17:46:46",{"$f":"VLOOKUP($K158,SpanRange,4,FALSE)","v":106},{"$f":"VLOOKUP($K158,SpanRange,2,FALSE)","v":171.9},{"$f":"VLOOKUP($K158,SpanRange,3,FALSE)","v":2},{"$f":"Find_Table(Spans!$I$2,I158)","v":9},{"$f":"IF(R158=0,Spans!$C$10,VLOOKUP(P158,INDIRECT(\"Table\"&R158),Q158,TRUE))","v":21},"No","No"]
[442,"W12151443N3952472",39.524719999999903,-121.51443,64.2,43.5,25.5,"[GrayPine, DouglasFir, Other]","GrayPine",-8.1,"W12151461N3952559-W12151459N3952471","Tier 2-3","YES","2019-11-20T17:46:46",{"$f":"VLOOKUP($K159,SpanRange,4,FALSE)","v":54},{"$f":"VLOOKUP($K159,SpanRange,2,FALSE)","v":322.60000000000002},{"$f":"VLOOKUP($K159,SpanRange,3,FALSE)","v":2},{"$f":"Find_Table(Spans!$I$2,I159)","v":10},{"$f":"IF(R159=0,Spans!$C$10,VLOOKUP(P159,INDIRECT(\"Table\"&R159),Q159,TRUE))","v":36},"No","No"]
[448,"W12152117N3952618",39.526179999999897,-121.521169999999,43.899999999999899,14.1,4.5999999999999996,"[GrayPine, Other, ValleyOak]","GrayPine",-8.1,"W12152124N3952614-W12152064N3952615","Tier 2-3","YES","2019-11-20T17:46:46",{"$f":"VLOOKUP($K160,SpanRange,4,FALSE)","v":68},{"$f":"VLOOKUP($K160,SpanRange,2,FALSE)","v":171},{"$f":"VLOOKUP($K160,SpanRange,3,FALSE)","v":2},{"$f":"Find_Table(Spans!$I$2,I160)","v":10},{"$f":"IF(R160=0,Spans!$C$10,VLOOKUP(P160,INDIRECT(\"Table\"&R160),Q160,TRUE))","v":26},"No","No"]
[450,"W12153213N3953145",39.53145,-121.532129999999,53.399999999999899,14.9,11.1,"[GrayPine, DouglasFir, Other]","GrayPine",-19.600000000000001,"W12153207N3953097-W12153206N3953153","Tier 2-3","YES","2019-11-20T17:46:46",{"$f":"VLOOKUP($K161,SpanRange,4,FALSE)","v":148},{"$f":"VLOOKUP($K161,SpanRange,2,FALSE)","v":205.3},{"$f":"VLOOKUP($K161,SpanRange,3,FALSE)","v":2},{"$f":"Find_Table(Spans!$I$2,I161)","v":10},{"$f":"IF(R161=0,Spans!$C$10,VLOOKUP(P161,INDIRECT(\"Table\"&R161),Q161,TRUE))","v":32},"No","No"]
[452,"W12154063N3953147",39.531469999999899,-121.540629999999,68.5,57.7,42.3,"[GrayPine, DouglasFir, Other]","GrayPine",-10.199999999999999,"W12154084N3953131-W12154086N3953214","Tier 2-3","YES","2019-11-20T17:46:46",{"$f":"VLOOKUP($K162,SpanRange,4,FALSE)","v":162},{"$f":"VLOOKUP($K162,SpanRange,2,FALSE)","v":302.60000000000002},{"$f":"VLOOKUP($K162,SpanRange,3,FALSE)","v":2},{"$f":"Find_Table(Spans!$I$2,I162)","v":10},{"$f":"IF(R162=0,Spans!$C$10,VLOOKUP(P162,INDIRECT(\"Table\"&R162),Q162,TRUE))","v":36},"No","No"]
[454,"W12151879N3953100",39.530999999999899,-121.518789999999,36.200000000000003,18.899999999999999,7.8,"[CoastalLiveOak, MontereyPine, DouglasFir]","CoastalLiveOak",-1.6,"W12151923N3953089-W12151868N3953111","Tier 2-3","YES","2019-11-20T17:46:46",{"$f":"VLOOKUP($K163,SpanRange,4,FALSE)","v":145},{"$f":"VLOOKUP($K163,SpanRange,2,FALSE)","v":177.599999999999},{"$f":"VLOOKUP($K163,SpanRange,3,FALSE)","v":2},{"$f":"Find_Table(Spans!$I$2,I163)","v":11},{"$f":"IF(R163=0,Spans!$C$10,VLOOKUP(P163,INDIRECT(\"Table\"&R163),Q163,TRUE))","v":30},"No","No"]
[455,"W12153701N3952454",39.524539999999902,-121.537009999999,47,33.399999999999899,12,"[Other, DouglasFir, GrayPine]","Other",-2.1,"W12153716N3952455-W12153682N3952487","Tier 2-3","YES","2019-11-20T17:46:46",{"$f":"VLOOKUP($K164,SpanRange,4,FALSE)","v":49},{"$f":"VLOOKUP($K164,SpanRange,2,FALSE)","v":150.69999999999899},{"$f":"VLOOKUP($K164,SpanRange,3,FALSE)","v":2},{"$f":"Find_Table(Spans!$I$2,I164)","v":11},{"$f":"IF(R164=0,Spans!$C$10,VLOOKUP(P164,INDIRECT(\"Table\"&R164),Q164,TRUE))","v":30},"No","No"]
[460,"W12153644N3953089",39.5308899999999,-121.536439999999,53.8,28.4,8.1999999999999904,"[LiveOak, Other, DouglasFir]","LiveOak",-13.7,"W12153655N3953063-W12153654N3953103","Tier 2-3","YES","2019-11-20T17:46:46",{"$f":"VLOOKUP($K165,SpanRange,4,FALSE)","v":144},{"$f":"VLOOKUP($K165,SpanRange,2,FALSE)","v":148},{"$f":"VLOOKUP($K165,SpanRange,3,FALSE)","v":2},{"$f":"Find_Table(Spans!$I$2,I165)","v":11},{"$f":"IF(R165=0,Spans!$C$10,VLOOKUP(P165,INDIRECT(\"Table\"&R165),Q165,TRUE))","v":30},"No","No"]
[461,"W12154249N3954038",39.540379999999899,-121.54249,35,25.1999999999999,12,"[GrayPine, Eucalyptus/BlueGum, MontereyPine]","GrayPine",-6.5,"W12154261N3953987-W12154258N3954066","Tier 2-3","YES","2019-11-20T17:46:46",{"$f":"VLOOKUP($K166,SpanRange,4,FALSE)","v":199},{"$f":"VLOOKUP($K166,SpanRange,2,FALSE)","v":286.69999999999902},{"$f":"VLOOKUP($K166,SpanRange,3,FALSE)","v":2},{"$f":"Find_Table(Spans!$I$2,I166)","v":10},{"$f":"IF(R166=0,Spans!$C$10,VLOOKUP(P166,INDIRECT(\"Table\"&R166),Q166,TRUE))","v":32},"No","No"]
[463,"W12153172N3953040",39.5304,-121.53172000000001,48.5,24.6999999999999,4.7,"[DouglasFir, LiveOak, CoastalLiveOak]","DouglasFir",-8.6,"W12153157N3953048-W12153206N3953048","Tier 2-3","YES","2019-11-20T17:46:46",{"$f":"VLOOKUP($K167,SpanRange,4,FALSE)","v":134},{"$f":"VLOOKUP($K167,SpanRange,2,FALSE)","v":140.099999999999},{"$f":"VLOOKUP($K167,SpanRange,3,FALSE)","v":2},{"$f":"Find_Table(Spans!$I$2,I167)","v":9},{"$f":"IF(R167=0,Spans!$C$10,VLOOKUP(P167,INDIRECT(\"Table\"&R167),Q167,TRUE))","v":16},"No","No"]
[464,"W12151965N3952903",39.529029999999899,-121.519649999999,79.099999999999994,63.5,53.399999999999899,"[GrayPine, Other, DouglasFir]","GrayPine",-12.6,"W12152014N3952914-W12151936N3952926","Tier 2-3","YES","2019-11-20T17:46:46",{"$f":"VLOOKUP($K168,SpanRange,4,FALSE)","v":108},{"$f":"VLOOKUP($K168,SpanRange,2,FALSE)","v":225.099999999999},{"$f":"VLOOKUP($K168,SpanRange,3,FALSE)","v":2},{"$f":"Find_Table(Spans!$I$2,I168)","v":10},{"$f":"IF(R168=0,Spans!$C$10,VLOOKUP(P168,INDIRECT(\"Table\"&R168),Q168,TRUE))","v":32},"No","No"]
[465,"W12153412N3953214",39.532139999999899,-121.53412,37.799999999999997,18.1999999999999,12,"[CoastalLiveOak, DouglasFir, Eucalyptus/BlueGum]","CoastalLiveOak",-3.5,"W12153419N3953235-W12153419N3953172","Tier 2-3","YES","2019-11-20T17:46:46",{"$f":"VLOOKUP($K169,SpanRange,4,FALSE)","v":166},{"$f":"VLOOKUP($K169,SpanRange,2,FALSE)","v":228.3},{"$f":"VLOOKUP($K169,SpanRange,3,FALSE)","v":2},{"$f":"Find_Table(Spans!$I$2,I169)","v":11},{"$f":"IF(R169=0,Spans!$C$10,VLOOKUP(P169,INDIRECT(\"Table\"&R169),Q169,TRUE))","v":30},"No","No"]
[469,"W12151764N3953167",39.531669999999899,-121.51764,57.899999999999899,16.399999999999899,10.5,"[DouglasFir, CoastalLiveOak, Eucalyptus/BlueGum]","DouglasFir",-14,"W12151765N3953162-W12151822N3953157","Tier 2-3","YES","2019-11-20T17:46:46",{"$f":"VLOOKUP($K170,SpanRange,4,FALSE)","v":160},{"$f":"VLOOKUP($K170,SpanRange,2,FALSE)","v":161.30000000000001},{"$f":"VLOOKUP($K170,SpanRange,3,FALSE)","v":2},{"$f":"Find_Table(Spans!$I$2,I170)","v":9},{"$f":"IF(R170=0,Spans!$C$10,VLOOKUP(P170,INDIRECT(\"Table\"&R170),Q170,TRUE))","v":21},"No","No"]
[474,"W12153200N3953278",39.532779999999903,-121.532,37.5,13.1,3.8,"[CoastalLiveOak, DouglasFir, Eucalyptus/BlueGum]","CoastalLiveOak",-2.7,"W12153205N3953245-W12153205N3953285","Tier 2-3","YES","2019-11-20T17:46:46",{"$f":"VLOOKUP($K171,SpanRange,4,FALSE)","v":181},{"$f":"VLOOKUP($K171,SpanRange,2,FALSE)","v":144.599999999999},{"$f":"VLOOKUP($K171,SpanRange,3,FALSE)","v":2},{"$f":"Find_Table(Spans!$I$2,I171)","v":11},{"$f":"IF(R171=0,Spans!$C$10,VLOOKUP(P171,INDIRECT(\"Table\"&R171),Q171,TRUE))","v":30},"No","No"]
[475,"W12154122N3953396",39.53396,-121.541219999999,81.799999999999898,65.7,48.6,"[CoastalLiveOak, GrayPine, MontereyPine]","CoastalLiveOak",-13,"W12154149N3953393-W12154087N3953327","Tier 2-3","YES","2019-11-20T17:46:46",{"$f":"VLOOKUP($K172,SpanRange,4,FALSE)","v":188},{"$f":"VLOOKUP($K172,SpanRange,2,FALSE)","v":296},{"$f":"VLOOKUP($K172,SpanRange,3,FALSE)","v":2},{"$f":"Find_Table(Spans!$I$2,I172)","v":11},{"$f":"IF(R172=0,Spans!$C$10,VLOOKUP(P172,INDIRECT(\"Table\"&R172),Q172,TRUE))","v":30},"No","No"]
[477,"W12153849N3952205",39.52205,-121.538489999999,25.6999999999999,12.8,8.1999999999999904,null,null,-4,"W12153891N3952195-W12153812N3952205","Tier 2-3","YES","2019-11-20T17:46:46",{"$f":"VLOOKUP($K173,SpanRange,4,FALSE)","v":21},{"$f":"VLOOKUP($K173,SpanRange,2,FALSE)","v":226.3},{"$f":"VLOOKUP($K173,SpanRange,3,FALSE)","v":2},{"$f":"Find_Table(Spans!$I$2,I173)","v":11},{"$f":"IF(R173=0,Spans!$C$10,VLOOKUP(P173,INDIRECT(\"Table\"&R173),Q173,TRUE))","v":30},"No","No"]
[480,"W12152600N3953289",39.532889999999902,-121.526,48,19.600000000000001,5.7,"[DouglasFir, Other, GrayPine]","DouglasFir",-7.9,"W12152605N3953235-W12152605N3953285","Tier 2-3","YES","2019-11-20T17:46:46",{"$f":"VLOOKUP($K174,SpanRange,4,FALSE)","v":178},{"$f":"VLOOKUP($K174,SpanRange,2,FALSE)","v":180.3},{"$f":"VLOOKUP($K174,SpanRange,3,FALSE)","v":2},{"$f":"Find_Table(Spans!$I$2,I174)","v":9},{"$f":"IF(R174=0,Spans!$C$10,VLOOKUP(P174,INDIRECT(\"Table\"&R174),Q174,TRUE))","v":21},"No","No"]
[484,"W12154247N3953595",39.53595,-121.542469999999,61.1,22.6999999999999,12,"[Other, LiveOak, GrayPine]","Other",-30.8,"W12154256N3953592-W12154253N3953660","Tier 2-3","YES","2019-11-20T17:46:46",{"$f":"VLOOKUP($K175,SpanRange,4,FALSE)","v":194},{"$f":"VLOOKUP($K175,SpanRange,2,FALSE)","v":247.599999999999},{"$f":"VLOOKUP($K175,SpanRange,3,FALSE)","v":2},{"$f":"Find_Table(Spans!$I$2,I175)","v":11},{"$f":"IF(R175=0,Spans!$C$10,VLOOKUP(P175,INDIRECT(\"Table\"&R175),Q175,TRUE))","v":30},"Yes","No"]
[485,"W12153844N3952197",39.521969999999897,-121.538439999999,28.3,15.3,9.3000000000000007,"[GrayPine, Other, DouglasFir]","GrayPine",-0.1,"W12153891N3952195-W12153812N3952205","Tier 2-3","YES","2019-11-20T17:46:46",{"$f":"VLOOKUP($K176,SpanRange,4,FALSE)","v":21},{"$f":"VLOOKUP($K176,SpanRange,2,FALSE)","v":226.3},{"$f":"VLOOKUP($K176,SpanRange,3,FALSE)","v":2},{"$f":"Find_Table(Spans!$I$2,I176)","v":10},{"$f":"IF(R176=0,Spans!$C$10,VLOOKUP(P176,INDIRECT(\"Table\"&R176),Q176,TRUE))","v":32},"No","No"]
[487,"W12154229N3953616",39.536159999999903,-121.542289999999,96.4,70.2,48.1,"[GrayPine, Other, DouglasFir]","GrayPine",-26.1,"W12154256N3953592-W12154253N3953660","Tier 2-3","YES","2019-11-20T17:46:46",{"$f":"VLOOKUP($K177,SpanRange,4,FALSE)","v":194},{"$f":"VLOOKUP($K177,SpanRange,2,FALSE)","v":247.599999999999},{"$f":"VLOOKUP($K177,SpanRange,3,FALSE)","v":2},{"$f":"Find_Table(Spans!$I$2,I177)","v":10},{"$f":"IF(R177=0,Spans!$C$10,VLOOKUP(P177,INDIRECT(\"Table\"&R177),Q177,TRUE))","v":32},"No","No"]
[489,"W12153199N3953095",39.530949999999898,-121.53198999999999,72.2,19.8,8.3000000000000007,"[GrayPine, DouglasFir, LiveOak]","GrayPine",-37.1,"W12153207N3953097-W12153206N3953048","Tier 2-3","YES","2019-11-20T17:46:46",{"$f":"VLOOKUP($K178,SpanRange,4,FALSE)","v":141},{"$f":"VLOOKUP($K178,SpanRange,2,FALSE)","v":177.19999999999899},{"$f":"VLOOKUP($K178,SpanRange,3,FALSE)","v":2},{"$f":"Find_Table(Spans!$I$2,I178)","v":10},{"$f":"IF(R178=0,Spans!$C$10,VLOOKUP(P178,INDIRECT(\"Table\"&R178),Q178,TRUE))","v":26},"Yes","No"]
[490,"W12153202N3953085",39.530850000000001,-121.53202,35.5,9.1,5,"[CoastalLiveOak, Eucalyptus/BlueGum, Other]","CoastalLiveOak",-4.5,"W12153207N3953097-W12153206N3953048","Tier 2-3","YES","2019-11-20T17:46:46",{"$f":"VLOOKUP($K179,SpanRange,4,FALSE)","v":141},{"$f":"VLOOKUP($K179,SpanRange,2,FALSE)","v":177.19999999999899},{"$f":"VLOOKUP($K179,SpanRange,3,FALSE)","v":2},{"$f":"Find_Table(Spans!$I$2,I179)","v":11},{"$f":"IF(R179=0,Spans!$C$10,VLOOKUP(P179,INDIRECT(\"Table\"&R179),Q179,TRUE))","v":30},"No","No"]
[496,"W12153249N3953061",39.530609999999903,-121.532489999999,67.7,42.8,8.1,"[DouglasFir, GrayPine, CoastalLiveOak]","DouglasFir",-14.6,"W12153269N3953048-W12153206N3953048","Tier 2-3","YES","2019-11-20T17:46:46",{"$f":"VLOOKUP($K180,SpanRange,4,FALSE)","v":133},{"$f":"VLOOKUP($K180,SpanRange,2,FALSE)","v":176.5},{"$f":"VLOOKUP($K180,SpanRange,3,FALSE)","v":2},{"$f":"Find_Table(Spans!$I$2,I180)","v":9},{"$f":"IF(R180=0,Spans!$C$10,VLOOKUP(P180,INDIRECT(\"Table\"&R180),Q180,TRUE))","v":21},"No","No"]
[497,"W12153192N3952907",39.529069999999898,-121.53192,51.8,34.399999999999899,17.5,"[DouglasFir, GrayPine, TanOak]","DouglasFir",-2.4,"W12153206N3952972-W12153206N3952881","Tier 2-3","YES","2019-11-20T17:46:46",{"$f":"VLOOKUP($K181,SpanRange,4,FALSE)","v":109},{"$f":"VLOOKUP($K181,SpanRange,2,FALSE)","v":332.19999999999902},{"$f":"VLOOKUP($K181,SpanRange,3,FALSE)","v":2},{"$f":"Find_Table(Spans!$I$2,I181)","v":9},{"$f":"IF(R181=0,Spans!$C$10,VLOOKUP(P181,INDIRECT(\"Table\"&R181),Q181,TRUE))","v":31},"No","No"]
[498,"W12153138N3953247",39.532469999999897,-121.531379999999,47.6,23.1999999999999,6.7,"[CoastalLiveOak, DouglasFir, ValleyOak]","CoastalLiveOak",-6.4,"W12153117N3953239-W12153205N3953245","Tier 2-3","YES","2019-11-20T17:46:46",{"$f":"VLOOKUP($K182,SpanRange,4,FALSE)","v":174},{"$f":"VLOOKUP($K182,SpanRange,2,FALSE)","v":250.19999999999899},{"$f":"VLOOKUP($K182,SpanRange,3,FALSE)","v":2},{"$f":"Find_Table(Spans!$I$2,I182)","v":11},{"$f":"IF(R182=0,Spans!$C$10,VLOOKUP(P182,INDIRECT(\"Table\"&R182),Q182,TRUE))","v":30},"No","No"]
[499,"W12154106N3953204",39.532039999999903,-121.54106,70.400000000000006,54.7,42.8,"[DouglasFir, GrayPine, Other]","DouglasFir",-2.1,"W12154084N3953131-W12154086N3953214","Tier 2-3","YES","2019-11-20T17:46:46",{"$f":"VLOOKUP($K183,SpanRange,4,FALSE)","v":162},{"$f":"VLOOKUP($K183,SpanRange,2,FALSE)","v":302.60000000000002},{"$f":"VLOOKUP($K183,SpanRange,3,FALSE)","v":2},{"$f":"Find_Table(Spans!$I$2,I183)","v":9},{"$f":"IF(R183=0,Spans!$C$10,VLOOKUP(P183,INDIRECT(\"Table\"&R183),Q183,TRUE))","v":31},"No","No"]
[500,"W12154095N3953237",39.53237,-121.540949999999,55.899999999999899,34.1,24.6,"[DouglasFir, Other, CoastalLiveOak]","DouglasFir",-2,"W12154086N3953214-W12154073N3953285","Tier 2-3","YES","2019-11-20T17:46:46",{"$f":"VLOOKUP($K184,SpanRange,4,FALSE)","v":177},{"$f":"VLOOKUP($K184,SpanRange,2,FALSE)","v":261},{"$f":"VLOOKUP($K184,SpanRange,3,FALSE)","v":2},{"$f":"Find_Table(Spans!$I$2,I184)","v":9},{"$f":"IF(R184=0,Spans!$C$10,VLOOKUP(P184,INDIRECT(\"Table\"&R184),Q184,TRUE))","v":26},"No","No"]
[502,"W12153856N3953070",39.530700000000003,-121.53856,30,21.1999999999999,9.1,"[GrayPine, LiveOak, DouglasFir]","GrayPine",-0.9,"W12153843N3953063-W12153908N3953063","Tier 2-3","YES","2019-11-20T17:46:46",{"$f":"VLOOKUP($K185,SpanRange,4,FALSE)","v":137},{"$f":"VLOOKUP($K185,SpanRange,2,FALSE)","v":182.3},{"$f":"VLOOKUP($K185,SpanRange,3,FALSE)","v":2},{"$f":"Find_Table(Spans!$I$2,I185)","v":10},{"$f":"IF(R185=0,Spans!$C$10,VLOOKUP(P185,INDIRECT(\"Table\"&R185),Q185,TRUE))","v":26},"No","No"]
[515,"W12153427N3952898",39.528979999999898,-121.534269999999,96.4,55,42.5,"[GrayPine, DouglasFir, Other]","GrayPine",-27.1999999999999,"W12153537N3952882-W12153422N3952882","Tier 2-3","YES","2019-11-20T17:46:46",{"$f":"VLOOKUP($K186,SpanRange,4,FALSE)","v":102},{"$f":"VLOOKUP($K186,SpanRange,2,FALSE)","v":324.39999999999901},{"$f":"VLOOKUP($K186,SpanRange,3,FALSE)","v":2},{"$f":"Find_Table(Spans!$I$2,I186)","v":10},{"$f":"IF(R186=0,Spans!$C$10,VLOOKUP(P186,INDIRECT(\"Table\"&R186),Q186,TRUE))","v":36},"No","No"]
[523,"W12151939N3953087",39.53087,-121.51939,46.5,25.1999999999999,10.9,"[GrayPine, Other, Eucalyptus/BlueGum]","GrayPine",-5,"W12152005N3953021-W12151923N3953089","Tier 2-3","YES","2019-11-20T17:46:46",{"$f":"VLOOKUP($K187,SpanRange,4,FALSE)","v":136},{"$f":"VLOOKUP($K187,SpanRange,2,FALSE)","v":336.89999999999901},{"$f":"VLOOKUP($K187,SpanRange,3,FALSE)","v":2},{"$f":"Find_Table(Spans!$I$2,I187)","v":10},{"$f":"IF(R187=0,Spans!$C$10,VLOOKUP(P187,INDIRECT(\"Table\"&R187),Q187,TRUE))","v":36},"No","No"]
[525,"W12153475N3953217",39.532170000000001,-121.53475,88.4,56.1,42.3,"[Other, GrayPine, LiveOak]","Other",-24.5,"W12153419N3953235-W12153557N3953230","Tier 2-3","YES","2019-11-20T17:46:46",{"$f":"VLOOKUP($K188,SpanRange,4,FALSE)","v":172},{"$f":"VLOOKUP($K188,SpanRange,2,FALSE)","v":388.6},{"$f":"VLOOKUP($K188,SpanRange,3,FALSE)","v":2},{"$f":"Find_Table(Spans!$I$2,I188)","v":11},{"$f":"IF(R188=0,Spans!$C$10,VLOOKUP(P188,INDIRECT(\"Table\"&R188),Q188,TRUE))","v":30},"No","No"]
[530,"W12154223N3953782",39.537819999999897,-121.54223,80.299999999999898,73.400000000000006,54.2,"[GrayPine, DouglasFir, Eucalyptus/BlueGum]","GrayPine",-4.8,"W12154250N3953758-W12154252N3953857","Tier 2-3","YES","2019-11-20T17:46:46",{"$f":"VLOOKUP($K189,SpanRange,4,FALSE)","v":196},{"$f":"VLOOKUP($K189,SpanRange,2,FALSE)","v":362},{"$f":"VLOOKUP($K189,SpanRange,3,FALSE)","v":2},{"$f":"Find_Table(Spans!$I$2,I189)","v":10},{"$f":"IF(R189=0,Spans!$C$10,VLOOKUP(P189,INDIRECT(\"Table\"&R189),Q189,TRUE))","v":36},"No","No"]
[532,"W12152475N3952958",39.529579999999903,-121.524749999999,48.399999999999899,16.8,8.4,"[GrayPine, TanOak, DouglasFir]","GrayPine",-6.8,"W12152508N3952949-W12152414N3952959","Tier 2-3","YES","2019-11-20T17:46:46",{"$f":"VLOOKUP($K190,SpanRange,4,FALSE)","v":114},{"$f":"VLOOKUP($K190,SpanRange,2,FALSE)","v":267.5},{"$f":"VLOOKUP($K190,SpanRange,3,FALSE)","v":2},{"$f":"Find_Table(Spans!$I$2,I190)","v":10},{"$f":"IF(R190=0,Spans!$C$10,VLOOKUP(P190,INDIRECT(\"Table\"&R190),Q190,TRUE))","v":32},"No","No"]
[534,"W12149683N3967338",39.673380000000002,-121.49683,76.2,39.200000000000003,31,"[MontereyPine, DouglasFir, Other]","MontereyPine",-8.6999999999999993,"W12149755N3967217-W12149658N3967347","Tier 2-3","YES","2019-11-20T17:46:46",{"$f":"VLOOKUP($K191,SpanRange,4,FALSE)","v":217},{"$f":"VLOOKUP($K191,SpanRange,2,FALSE)","v":546.39999999999895},{"$f":"VLOOKUP($K191,SpanRange,3,FALSE)","v":2},{"$f":"Find_Table(Spans!$I$2,I191)","v":10},{"$f":"IF(R191=0,Spans!$C$10,VLOOKUP(P191,INDIRECT(\"Table\"&R191),Q191,TRUE))","v":46},"No","No"]
[541,"W12153411N3953276",39.532759999999897,-121.534109999999,61.899999999999899,22.5,5.7,"[MontereyPine, CoastalLiveOak, Other]","MontereyPine",-23.3,"W12153421N3953300-W12153419N3953235","Tier 2-3","YES","2019-11-20T17:46:46",{"$f":"VLOOKUP($K192,SpanRange,4,FALSE)","v":182},{"$f":"VLOOKUP($K192,SpanRange,2,FALSE)","v":237.3},{"$f":"VLOOKUP($K192,SpanRange,3,FALSE)","v":2},{"$f":"Find_Table(Spans!$I$2,I192)","v":10},{"$f":"IF(R192=0,Spans!$C$10,VLOOKUP(P192,INDIRECT(\"Table\"&R192),Q192,TRUE))","v":32},"No","No"]
[542,"W12151918N3953065",39.530650000000001,-121.51918000000001,86,66.2,52.1,"[GrayPine, Other, DouglasFir]","GrayPine",-16.1999999999999,"W12152005N3953021-W12151923N3953089","Tier 2-3","YES","2019-11-20T17:46:46",{"$f":"VLOOKUP($K193,SpanRange,4,FALSE)","v":136},{"$f":"VLOOKUP($K193,SpanRange,2,FALSE)","v":336.89999999999901},{"$f":"VLOOKUP($K193,SpanRange,3,FALSE)","v":2},{"$f":"Find_Table(Spans!$I$2,I193)","v":10},{"$f":"IF(R193=0,Spans!$C$10,VLOOKUP(P193,INDIRECT(\"Table\"&R193),Q193,TRUE))","v":36},"No","No"]
[543,"W12153862N3953222",39.532219999999903,-121.538619999999,79,76.299999999999898,64.799999999999898,"[Eucalyptus/BlueGum, DouglasFir, MontereyPine]","Eucalyptus/BlueGum",-2.2000000000000002,"W12153810N3953244-W12153905N3953243","Tier 2-3","YES","2019-11-20T17:46:46",{"$f":"VLOOKUP($K194,SpanRange,4,FALSE)","v":176},{"$f":"VLOOKUP($K194,SpanRange,2,FALSE)","v":270.10000000000002},{"$f":"VLOOKUP($K194,SpanRange,3,FALSE)","v":2},{"$f":"Find_Table(Spans!$I$2,I194)","v":12},{"$f":"IF(R194=0,Spans!$C$10,VLOOKUP(P194,INDIRECT(\"Table\"&R194),Q194,TRUE))","v":30},"No","No"]
[548,"W12154244N3953819",39.53819,-121.542439999999,43.8,17.1999999999999,9.6,"[CoastalLiveOak, DouglasFir, Eucalyptus/BlueGum]","CoastalLiveOak",-24.3,"W12154250N3953758-W12154252N3953857","Tier 2-3","YES","2019-11-20T17:46:46",{"$f":"VLOOKUP($K195,SpanRange,4,FALSE)","v":196},{"$f":"VLOOKUP($K195,SpanRange,2,FALSE)","v":362},{"$f":"VLOOKUP($K195,SpanRange,3,FALSE)","v":2},{"$f":"Find_Table(Spans!$I$2,I195)","v":11},{"$f":"IF(R195=0,Spans!$C$10,VLOOKUP(P195,INDIRECT(\"Table\"&R195),Q195,TRUE))","v":30},"No","No"]
[552,"W12151990N3952978",39.529779999999903,-121.51990000000001,65.7,38.899999999999899,24.1999999999999,"[GrayPine, Other, DouglasFir]","GrayPine",-11.7,"W12152005N3953021-W12151936N3952926","Tier 2-3","YES","2019-11-20T17:46:46",{"$f":"VLOOKUP($K196,SpanRange,4,FALSE)","v":121},{"$f":"VLOOKUP($K196,SpanRange,2,FALSE)","v":398},{"$f":"VLOOKUP($K196,SpanRange,3,FALSE)","v":2},{"$f":"Find_Table(Spans!$I$2,I196)","v":10},{"$f":"IF(R196=0,Spans!$C$10,VLOOKUP(P196,INDIRECT(\"Table\"&R196),Q196,TRUE))","v":36},{"$f":"IFERROR(IF((-1)*J196>S196,\"Yes\",\"No\"),\"No Match\")","v":"No"},{"$f":"IF(F196<=6,\"Yes\",\"No\")","v":"No"}]
[555,"W12152371N3952972",39.529719999999898,-121.523709999999,54.8,25.4,9.9,"[GrayPine, Other, DouglasFir]","GrayPine",-9.6,"W12152414N3952959-W12152351N3952966","Tier 2-3","YES","2019-11-20T17:46:46",{"$f":"VLOOKUP($K197,SpanRange,4,FALSE)","v":115},{"$f":"VLOOKUP($K197,SpanRange,2,FALSE)","v":181.69999999999899},{"$f":"VLOOKUP($K197,SpanRange,3,FALSE)","v":2},{"$f":"Find_Table(Spans!$I$2,I197)","v":10},{"$f":"IF(R197=0,Spans!$C$10,VLOOKUP(P197,INDIRECT(\"Table\"&R197),Q197,TRUE))","v":26},"No","No"]
[560,"W12152692N3952847",39.528469999999899,-121.52692,69.5,53.2,33.899999999999899,null,null,-12,"W12152750N3952825-W12152680N3952875","Tier 2-3","YES","2019-11-20T17:46:46",{"$f":"VLOOKUP($K198,SpanRange,4,FALSE)","v":98},{"$f":"VLOOKUP($K198,SpanRange,2,FALSE)","v":268.39999999999901},{"$f":"VLOOKUP($K198,SpanRange,3,FALSE)","v":2},{"$f":"Find_Table(Spans!$I$2,I198)","v":11},{"$f":"IF(R198=0,Spans!$C$10,VLOOKUP(P198,INDIRECT(\"Table\"&R198),Q198,TRUE))","v":30},"No","No"]
[561,"W12154071N3953212",39.5321199999999,-121.54071,57.6,37.399999999999899,21,"[GrayPine, DouglasFir, Other]","GrayPine",-12,"W12154084N3953131-W12154086N3953214","Tier 2-3","YES","2019-11-20T17:46:46",{"$f":"VLOOKUP($K199,SpanRange,4,FALSE)","v":162},{"$f":"VLOOKUP($K199,SpanRange,2,FALSE)","v":302.60000000000002},{"$f":"VLOOKUP($K199,SpanRange,3,FALSE)","v":2},{"$f":"Find_Table(Spans!$I$2,I199)","v":10},{"$f":"IF(R199=0,Spans!$C$10,VLOOKUP(P199,INDIRECT(\"Table\"&R199),Q199,TRUE))","v":36},"No","No"]
[564,"W12153765N3952589",39.525889999999897,-121.537649999999,72.599999999999994,27.3,8.9,"[DouglasFir, GrayPine, Other]","DouglasFir",-28.1999999999999,"W12153767N3952612-W12153742N3952569","Tier 2-3","YES","2019-11-20T17:46:46",{"$f":"VLOOKUP($K200,SpanRange,4,FALSE)","v":65},{"$f":"VLOOKUP($K200,SpanRange,2,FALSE)","v":172.4},{"$f":"VLOOKUP($K200,SpanRange,3,FALSE)","v":2},{"$f":"Find_Table(Spans!$I$2,I200)","v":9},{"$f":"IF(R200=0,Spans!$C$10,VLOOKUP(P200,INDIRECT(\"Table\"&R200),Q200,TRUE))","v":21},"Yes","No"]
[568,"W12154240N3953620",39.536200000000001,-121.5424,78.2,38.799999999999997,24,"[DouglasFir, Other, CoastalLiveOak]","DouglasFir",-39,"W12154256N3953592-W12154253N3953660","Tier 2-3","YES","2019-11-20T17:46:46",{"$f":"VLOOKUP($K201,SpanRange,4,FALSE)","v":194},{"$f":"VLOOKUP($K201,SpanRange,2,FALSE)","v":247.599999999999},{"$f":"VLOOKUP($K201,SpanRange,3,FALSE)","v":2},{"$f":"Find_Table(Spans!$I$2,I201)","v":9},{"$f":"IF(R201=0,Spans!$C$10,VLOOKUP(P201,INDIRECT(\"Table\"&R201),Q201,TRUE))","v":26},"Yes","No"]
[570,"W12154213N3954154",39.541539999999898,-121.54213,34.799999999999997,20.100000000000001,10.5,"[DouglasFir, CoastalLiveOak, Eucalyptus/BlueGum]","DouglasFir",-10.7,"W12154249N3954102-W12154206N3954186","Tier 2-3","YES","2019-11-20T17:46:46",{"$f":"VLOOKUP($K202,SpanRange,4,FALSE)","v":201},{"$f":"VLOOKUP($K202,SpanRange,2,FALSE)","v":330.6},{"$f":"VLOOKUP($K202,SpanRange,3,FALSE)","v":2},{"$f":"Find_Table(Spans!$I$2,I202)","v":9},{"$f":"IF(R202=0,Spans!$C$10,VLOOKUP(P202,INDIRECT(\"Table\"&R202),Q202,TRUE))","v":31},"No","No"]
[573,"W12153276N3953037",39.530369999999898,-121.532759999999,72.299999999999898,38.5,6.3,"[DouglasFir, GrayPine, LiveOak]","DouglasFir",-23.1,"W12153269N3953048-W12153323N3953048","Tier 2-3","YES","2019-11-20T17:46:46",{"$f":"VLOOKUP($K203,SpanRange,4,FALSE)","v":132},{"$f":"VLOOKUP($K203,SpanRange,2,FALSE)","v":153.80000000000001},{"$f":"VLOOKUP($K203,SpanRange,3,FALSE)","v":2},{"$f":"Find_Table(Spans!$I$2,I203)","v":9},{"$f":"IF(R203=0,Spans!$C$10,VLOOKUP(P203,INDIRECT(\"Table\"&R203),Q203,TRUE))","v":21},"Yes","No"]
[579,"W12152351N3952983",39.529829999999897,-121.52351,77,52.2,37.399999999999899,"[GrayPine, CoastalLiveOak, Eucalyptus/BlueGum]","GrayPine",-9,"W12152351N3952966-W12152284N3952992","Tier 2-3","YES","2019-11-20T17:46:46",{"$f":"VLOOKUP($K204,SpanRange,4,FALSE)","v":122},{"$f":"VLOOKUP($K204,SpanRange,2,FALSE)","v":210.69999999999899},{"$f":"VLOOKUP($K204,SpanRange,3,FALSE)","v":2},{"$f":"Find_Table(Spans!$I$2,I204)","v":10},{"$f":"IF(R204=0,Spans!$C$10,VLOOKUP(P204,INDIRECT(\"Table\"&R204),Q204,TRUE))","v":32},"No","No"]
[580,"W12151758N3953152",39.53152,-121.517579999999,95.4,38.200000000000003,17.600000000000001,"[GrayPine, CoastalLiveOak, Other]","GrayPine",-41.5,"W12151765N3953162-W12151822N3953157","Tier 2-3","YES","2019-11-20T17:46:46",{"$f":"VLOOKUP($K205,SpanRange,4,FALSE)","v":160},{"$f":"VLOOKUP($K205,SpanRange,2,FALSE)","v":161.30000000000001},{"$f":"VLOOKUP($K205,SpanRange,3,FALSE)","v":2},{"$f":"Find_Table(Spans!$I$2,I205)","v":10},{"$f":"IF(R205=0,Spans!$C$10,VLOOKUP(P205,INDIRECT(\"Table\"&R205),Q205,TRUE))","v":26},"Yes","No"]
[582,"W12154071N3953109",39.531089999999899,-121.54071,73.400000000000006,54.3,44.5,"[GrayPine, Other, MontereyPine]","GrayPine",-9.4,"W12154060N3953123-W12154084N3953131","Tier 2-3","YES","2019-11-20T17:46:46",{"$f":"VLOOKUP($K206,SpanRange,4,FALSE)","v":149},{"$f":"VLOOKUP($K206,SpanRange,2,FALSE)","v":72.099999999999895},{"$f":"VLOOKUP($K206,SpanRange,3,FALSE)","v":2},{"$f":"Find_Table(Spans!$I$2,I206)","v":10},{"$f":"IF(R206=0,Spans!$C$10,VLOOKUP(P206,INDIRECT(\"Table\"&R206),Q206,TRUE))","v":19},"No","No"]
[589,"W12153489N3953236",39.532359999999898,-121.53489,44.2,13.9,4.9000000000000004,"[DouglasFir, CoastalLiveOak, TanOak]","DouglasFir",-18.5,"W12153419N3953235-W12153557N3953230","Tier 2-3","YES","2019-11-20T17:46:46",{"$f":"VLOOKUP($K207,SpanRange,4,FALSE)","v":172},{"$f":"VLOOKUP($K207,SpanRange,2,FALSE)","v":388.6},{"$f":"VLOOKUP($K207,SpanRange,3,FALSE)","v":2},{"$f":"Find_Table(Spans!$I$2,I207)","v":9},{"$f":"IF(R207=0,Spans!$C$10,VLOOKUP(P207,INDIRECT(\"Table\"&R207),Q207,TRUE))","v":31},"No","No"]
[591,"W12154211N3954141",39.5414099999999,-121.542109999999,50.399999999999899,43.8,23.1,"[CoastalLiveOak, DouglasFir, Eucalyptus/BlueGum]","CoastalLiveOak",-6.3,"W12154249N3954102-W12154206N3954186","Tier 2-3","YES","2019-11-20T17:46:46",{"$f":"VLOOKUP($K208,SpanRange,4,FALSE)","v":201},{"$f":"VLOOKUP($K208,SpanRange,2,FALSE)","v":330.6},{"$f":"VLOOKUP($K208,SpanRange,3,FALSE)","v":2},{"$f":"Find_Table(Spans!$I$2,I208)","v":11},{"$f":"IF(R208=0,Spans!$C$10,VLOOKUP(P208,INDIRECT(\"Table\"&R208),Q208,TRUE))","v":30},"No","No"]
[597,"W12153016N3952968",39.5296799999999,-121.530159999999,44.1,12.2,5.6,"[DouglasFir, LiveOak, CoastalLiveOak]","DouglasFir",-11.1,"W12153068N3952972-W12152988N3952972","Tier 2-3","YES","2019-11-20T17:46:46",{"$f":"VLOOKUP($K209,SpanRange,4,FALSE)","v":117},{"$f":"VLOOKUP($K209,SpanRange,2,FALSE)","v":225.69999999999899},{"$f":"VLOOKUP($K209,SpanRange,3,FALSE)","v":2},{"$f":"Find_Table(Spans!$I$2,I209)","v":9},{"$f":"IF(R209=0,Spans!$C$10,VLOOKUP(P209,INDIRECT(\"Table\"&R209),Q209,TRUE))","v":26},"No","No"]
[598,"W12153666N3953100",39.530999999999899,-121.536659999999,54.2,30.6999999999999,7,"[CoastalLiveOak, ValleyOak, DouglasFir]","CoastalLiveOak",-4.4000000000000004,"W12153655N3953063-W12153654N3953103","Tier 2-3","YES","2019-11-20T17:46:46",{"$f":"VLOOKUP($K210,SpanRange,4,FALSE)","v":144},{"$f":"VLOOKUP($K210,SpanRange,2,FALSE)","v":148},{"$f":"VLOOKUP($K210,SpanRange,3,FALSE)","v":2},{"$f":"Find_Table(Spans!$I$2,I210)","v":11},{"$f":"IF(R210=0,Spans!$C$10,VLOOKUP(P210,INDIRECT(\"Table\"&R210),Q210,TRUE))","v":30},"No","No"]
[599,"W12153315N3952591",39.525909999999897,-121.53315000000001,45.8,29.8,15.4,"[GrayPine, MontereyPine, Eucalyptus/BlueGum]","GrayPine",-1.2,"W12153345N3952585-W12153295N3952615","Tier 2-3","YES","2019-11-20T17:46:46",{"$f":"VLOOKUP($K211,SpanRange,4,FALSE)","v":66},{"$f":"VLOOKUP($K211,SpanRange,2,FALSE)","v":177.9},{"$f":"VLOOKUP($K211,SpanRange,3,FALSE)","v":2},{"$f":"Find_Table(Spans!$I$2,I211)","v":10},{"$f":"IF(R211=0,Spans!$C$10,VLOOKUP(P211,INDIRECT(\"Table\"&R211),Q211,TRUE))","v":26},"No","No"]
[600,"W12153525N3952717",39.527169999999899,-121.535249999999,65.400000000000006,26.1,8.3000000000000007,"[DouglasFir, Eucalyptus/BlueGum, GrayPine]","DouglasFir",-29.3,"W12153536N3952706-W12153535N3952774","Tier 2-3","YES","2019-11-20T17:46:46",{"$f":"VLOOKUP($K212,SpanRange,4,FALSE)","v":82},{"$f":"VLOOKUP($K212,SpanRange,2,FALSE)","v":246.599999999999},{"$f":"VLOOKUP($K212,SpanRange,3,FALSE)","v":2},{"$f":"Find_Table(Spans!$I$2,I212)","v":9},{"$f":"IF(R212=0,Spans!$C$10,VLOOKUP(P212,INDIRECT(\"Table\"&R212),Q212,TRUE))","v":26},"Yes","No"]
[603,"W12151969N3953042",39.5304199999999,-121.519689999999,44.5,19.3,10.1,"[Other, GrayPine, MontereyPine]","Other",-10.199999999999999,"W12152005N3953021-W12151923N3953089","Tier 2-3","YES","2019-11-20T17:46:46",{"$f":"VLOOKUP($K213,SpanRange,4,FALSE)","v":136},{"$f":"VLOOKUP($K213,SpanRange,2,FALSE)","v":336.89999999999901},{"$f":"VLOOKUP($K213,SpanRange,3,FALSE)","v":2},{"$f":"Find_Table(Spans!$I$2,I213)","v":11},{"$f":"IF(R213=0,Spans!$C$10,VLOOKUP(P213,INDIRECT(\"Table\"&R213),Q213,TRUE))","v":30},"No","No"]
[613,"W12153650N3953141",39.531410000000001,-121.5365,34.399999999999899,8.9,5,"[DouglasFir, MontereyPine, CoastalLiveOak]","DouglasFir",-1.2,"W12153654N3953154-W12153654N3953103","Tier 2-3","YES","2019-11-20T17:46:46",{"$f":"VLOOKUP($K214,SpanRange,4,FALSE)","v":151},{"$f":"VLOOKUP($K214,SpanRange,2,FALSE)","v":182.69999999999899},{"$f":"VLOOKUP($K214,SpanRange,3,FALSE)","v":2},{"$f":"Find_Table(Spans!$I$2,I214)","v":9},{"$f":"IF(R214=0,Spans!$C$10,VLOOKUP(P214,INDIRECT(\"Table\"&R214),Q214,TRUE))","v":21},"No","No"]
[614,"W12151972N3952950",39.529499999999899,-121.51972000000001,61.1,44,9.5,"[GrayPine, DouglasFir, CoastalLiveOak]","GrayPine",-1.7,"W12152005N3953021-W12151936N3952926","Tier 2-3","YES","2019-11-20T17:46:46",{"$f":"VLOOKUP($K215,SpanRange,4,FALSE)","v":121},{"$f":"VLOOKUP($K215,SpanRange,2,FALSE)","v":398},{"$f":"VLOOKUP($K215,SpanRange,3,FALSE)","v":2},{"$f":"Find_Table(Spans!$I$2,I215)","v":10},{"$f":"IF(R215=0,Spans!$C$10,VLOOKUP(P215,INDIRECT(\"Table\"&R215),Q215,TRUE))","v":36},"No","No"]
[615,"W12154218N3953501",39.53501,-121.54218,31.5,18.399999999999999,7.1,"[Other, LiveOak, DouglasFir]","Other",-0.6,"W12154230N3953520-W12154214N3953455","Tier 2-3","YES","2019-11-20T17:46:46",{"$f":"VLOOKUP($K216,SpanRange,4,FALSE)","v":191},{"$f":"VLOOKUP($K216,SpanRange,2,FALSE)","v":240.599999999999},{"$f":"VLOOKUP($K216,SpanRange,3,FALSE)","v":2},{"$f":"Find_Table(Spans!$I$2,I216)","v":11},{"$f":"IF(R216=0,Spans!$C$10,VLOOKUP(P216,INDIRECT(\"Table\"&R216),Q216,TRUE))","v":30},"No","No"]
[616,"W12153471N3953220",39.532200000000003,-121.53471,79,43.399999999999899,29.3,"[GrayPine, DouglasFir, Other]","GrayPine",-26.5,"W12153419N3953235-W12153557N3953230","Tier 2-3","YES","2019-11-20T17:46:46",{"$f":"VLOOKUP($K217,SpanRange,4,FALSE)","v":172},{"$f":"VLOOKUP($K217,SpanRange,2,FALSE)","v":388.6},{"$f":"VLOOKUP($K217,SpanRange,3,FALSE)","v":2},{"$f":"Find_Table(Spans!$I$2,I217)","v":10},{"$f":"IF(R217=0,Spans!$C$10,VLOOKUP(P217,INDIRECT(\"Table\"&R217),Q217,TRUE))","v":36},"No","No"]
[618,"W12154178N3953440",39.534399999999998,-121.54178,56.7,37,23.6999999999999,"[GrayPine, DouglasFir, Eucalyptus/BlueGum]","GrayPine",-11.9,"W12154179N3953424-W12154214N3953455","Tier 2-3","YES","2019-11-20T17:46:46",{"$f":"VLOOKUP($K218,SpanRange,4,FALSE)","v":190},{"$f":"VLOOKUP($K218,SpanRange,2,FALSE)","v":149.30000000000001},{"$f":"VLOOKUP($K218,SpanRange,3,FALSE)","v":2},{"$f":"Find_Table(Spans!$I$2,I218)","v":10},{"$f":"IF(R218=0,Spans!$C$10,VLOOKUP(P218,INDIRECT(\"Table\"&R218),Q218,TRUE))","v":21},"No","No"]
[620,"W12153430N3953218",39.532179999999897,-121.5343,81.799999999999898,27.4,15.3,"[Other, GrayPine, DouglasFir]","Other",-38.1,"W12153419N3953235-W12153419N3953172","Tier 2-3","YES","2019-11-20T17:46:46",{"$f":"VLOOKUP($K219,SpanRange,4,FALSE)","v":166},{"$f":"VLOOKUP($K219,SpanRange,2,FALSE)","v":228.3},{"$f":"VLOOKUP($K219,SpanRange,3,FALSE)","v":2},{"$f":"Find_Table(Spans!$I$2,I219)","v":11},{"$f":"IF(R219=0,Spans!$C$10,VLOOKUP(P219,INDIRECT(\"Table\"&R219),Q219,TRUE))","v":30},"Yes","No"]
[622,"W12149697N3967038",39.670380000000002,-121.49697,52,30.3,9.5,"[MontereyPine, GrayPine, CoastalLiveOak]","MontereyPine",-3.6,"W12149727N3967099-W12149700N3966999","Tier 2-3","YES","2019-11-20T17:46:46",{"$f":"VLOOKUP($K220,SpanRange,4,FALSE)","v":214},{"$f":"VLOOKUP($K220,SpanRange,2,FALSE)","v":373.89999999999901},{"$f":"VLOOKUP($K220,SpanRange,3,FALSE)","v":2},{"$f":"Find_Table(Spans!$I$2,I220)","v":10},{"$f":"IF(R220=0,Spans!$C$10,VLOOKUP(P220,INDIRECT(\"Table\"&R220),Q220,TRUE))","v":36},"No","No"]
[623,"W12153199N3953232",39.532319999999899,-121.53198999999999,41,18.600000000000001,4.7,"[GrayPine, Other, DouglasFir]","GrayPine",-10.5,"W12153206N3953192-W12153205N3953245","Tier 2-3","YES","2019-11-20T17:46:46",{"$f":"VLOOKUP($K221,SpanRange,4,FALSE)","v":168},{"$f":"VLOOKUP($K221,SpanRange,2,FALSE)","v":195.5},{"$f":"VLOOKUP($K221,SpanRange,3,FALSE)","v":2},{"$f":"Find_Table(Spans!$I$2,I221)","v":10},{"$f":"IF(R221=0,Spans!$C$10,VLOOKUP(P221,INDIRECT(\"Table\"&R221),Q221,TRUE))","v":26},"No","No"]
[626,"W12153242N3953028",39.530279999999898,-121.53242,71.299999999999898,68.299999999999898,49.7,"[GrayPine, DouglasFir, Eucalyptus/BlueGum]","GrayPine",0,"W12153269N3953048-W12153206N3953048","Tier 2-3","YES","2019-11-20T17:46:46",{"$f":"VLOOKUP($K222,SpanRange,4,FALSE)","v":133},{"$f":"VLOOKUP($K222,SpanRange,2,FALSE)","v":176.5},{"$f":"VLOOKUP($K222,SpanRange,3,FALSE)","v":2},{"$f":"Find_Table(Spans!$I$2,I222)","v":10},{"$f":"IF(R222=0,Spans!$C$10,VLOOKUP(P222,INDIRECT(\"Table\"&R222),Q222,TRUE))","v":26},"No","No"]
[628,"W12153259N3953032",39.530319999999897,-121.532589999999,75.2,54.7,43.399999999999899,"[Eucalyptus/BlueGum, DouglasFir, CoastalLiveOak]","Eucalyptus/BlueGum",-14.9,"W12153269N3953048-W12153206N3953048","Tier 2-3","YES","2019-11-20T17:46:46",{"$f":"VLOOKUP($K223,SpanRange,4,FALSE)","v":133},{"$f":"VLOOKUP($K223,SpanRange,2,FALSE)","v":176.5},{"$f":"VLOOKUP($K223,SpanRange,3,FALSE)","v":2},{"$f":"Find_Table(Spans!$I$2,I223)","v":12},{"$f":"IF(R223=0,Spans!$C$10,VLOOKUP(P223,INDIRECT(\"Table\"&R223),Q223,TRUE))","v":30},"No","No"]
[629,"W12153297N3953035",39.530349999999899,-121.53297000000001,71.400000000000006,44.8,33.700000000000003,"[GrayPine, DouglasFir, Other]","GrayPine",-16.600000000000001,"W12153269N3953048-W12153323N3953048","Tier 2-3","YES","2019-11-20T17:46:46",{"$f":"VLOOKUP($K224,SpanRange,4,FALSE)","v":132},{"$f":"VLOOKUP($K224,SpanRange,2,FALSE)","v":153.80000000000001},{"$f":"VLOOKUP($K224,SpanRange,3,FALSE)","v":2},{"$f":"Find_Table(Spans!$I$2,I224)","v":10},{"$f":"IF(R224=0,Spans!$C$10,VLOOKUP(P224,INDIRECT(\"Table\"&R224),Q224,TRUE))","v":26},"No","No"]
[631,"W12154093N3953122",39.531219999999898,-121.54093,66.099999999999895,37.1,28.4,"[GrayPine, Other, DouglasFir]","GrayPine",-16.6999999999999,"W12154084N3953131-W12154086N3953214","Tier 2-3","YES","2019-11-20T17:46:46",{"$f":"VLOOKUP($K225,SpanRange,4,FALSE)","v":162},{"$f":"VLOOKUP($K225,SpanRange,2,FALSE)","v":302.60000000000002},{"$f":"VLOOKUP($K225,SpanRange,3,FALSE)","v":2},{"$f":"Find_Table(Spans!$I$2,I225)","v":10},{"$f":"IF(R225=0,Spans!$C$10,VLOOKUP(P225,INDIRECT(\"Table\"&R225),Q225,TRUE))","v":36},"No","No"]
[635,"W12152023N3953016",39.530159999999903,-121.520229999999,82.2,10.9,10.9,"[GrayPine, Other, DouglasFir]","GrayPine",-45.5,"W12152005N3953021-W12152091N3953014","Tier 2-3","YES","2019-11-20T17:46:46",{"$f":"VLOOKUP($K226,SpanRange,4,FALSE)","v":127},{"$f":"VLOOKUP($K226,SpanRange,2,FALSE)","v":241.69999999999899},{"$f":"VLOOKUP($K226,SpanRange,3,FALSE)","v":2},{"$f":"Find_Table(Spans!$I$2,I226)","v":10},{"$f":"IF(R226=0,Spans!$C$10,VLOOKUP(P226,INDIRECT(\"Table\"&R226),Q226,TRUE))","v":32},"Yes","No"]
[636,"W12152483N3952940",39.529400000000003,-121.524829999999,46.2,36.299999999999997,23.1999999999999,"[CoastalLiveOak, DouglasFir, Other]","CoastalLiveOak",-3.9,"W12152508N3952949-W12152414N3952959","Tier 2-3","YES","2019-11-20T17:46:46",{"$f":"VLOOKUP($K227,SpanRange,4,FALSE)","v":114},{"$f":"VLOOKUP($K227,SpanRange,2,FALSE)","v":267.5},{"$f":"VLOOKUP($K227,SpanRange,3,FALSE)","v":2},{"$f":"Find_Table(Spans!$I$2,I227)","v":11},{"$f":"IF(R227=0,Spans!$C$10,VLOOKUP(P227,INDIRECT(\"Table\"&R227),Q227,TRUE))","v":30},"No","No"]
[638,"W12154226N3953611",39.536110000000001,-121.542259999999,87.5,78.5,57.3,"[GrayPine, DouglasFir, CoastalLiveOak]","GrayPine",-8.9,"W12154256N3953592-W12154253N3953660","Tier 2-3","YES","2019-11-20T17:46:46",{"$f":"VLOOKUP($K228,SpanRange,4,FALSE)","v":194},{"$f":"VLOOKUP($K228,SpanRange,2,FALSE)","v":247.599999999999},{"$f":"VLOOKUP($K228,SpanRange,3,FALSE)","v":2},{"$f":"Find_Table(Spans!$I$2,I228)","v":10},{"$f":"IF(R228=0,Spans!$C$10,VLOOKUP(P228,INDIRECT(\"Table\"&R228),Q228,TRUE))","v":32},"No","No"]
[646,"W12154096N3953312",39.533119999999897,-121.540959999999,83.2,34.5,21.9,"[GrayPine, DouglasFir, Other]","GrayPine",-24.5,"W12154087N3953327-W12154073N3953285","Tier 2-3","YES","2019-11-20T17:46:46",{"$f":"VLOOKUP($K229,SpanRange,4,FALSE)","v":187},{"$f":"VLOOKUP($K229,SpanRange,2,FALSE)","v":159.9},{"$f":"VLOOKUP($K229,SpanRange,3,FALSE)","v":2},{"$f":"Find_Table(Spans!$I$2,I229)","v":10},{"$f":"IF(R229=0,Spans!$C$10,VLOOKUP(P229,INDIRECT(\"Table\"&R229),Q229,TRUE))","v":26},"No","No"]
[647,"W12152903N3952718",39.527180000000001,-121.52903000000001,52.3,24.6,7.7,"[GrayPine, Other, ValleyOak]","GrayPine",-12.3,"W12152971N3952716-W12152907N3952726","Tier 2-3","YES","2019-11-20T17:46:46",{"$f":"VLOOKUP($K230,SpanRange,4,FALSE)","v":79},{"$f":"VLOOKUP($K230,SpanRange,2,FALSE)","v":184.9},{"$f":"VLOOKUP($K230,SpanRange,3,FALSE)","v":2},{"$f":"Find_Table(Spans!$I$2,I230)","v":10},{"$f":"IF(R230=0,Spans!$C$10,VLOOKUP(P230,INDIRECT(\"Table\"&R230),Q230,TRUE))","v":26},"No","No"]
[649,"W12153886N3953247",39.532469999999897,-121.53886,40,12,6.7,"[TanOak, DouglasFir, LiveOak]","TanOak",-7.4,"W12153810N3953244-W12153905N3953243","Tier 2-3","YES","2019-11-20T17:46:46",{"$f":"VLOOKUP($K231,SpanRange,4,FALSE)","v":176},{"$f":"VLOOKUP($K231,SpanRange,2,FALSE)","v":270.10000000000002},{"$f":"VLOOKUP($K231,SpanRange,3,FALSE)","v":2},{"$f":"Find_Table(Spans!$I$2,I231)","v":11},{"$f":"IF(R231=0,Spans!$C$10,VLOOKUP(P231,INDIRECT(\"Table\"&R231),Q231,TRUE))","v":30},"No","No"]
[651,"W12153557N3952696",39.526959999999903,-121.53557000000001,68.900000000000006,57.7,48.8,"[GrayPine, Other, MontereyPine]","GrayPine",-3.2,"W12153536N3952706-W12153535N3952637","Tier 2-3","YES","2019-11-20T17:46:46",{"$f":"VLOOKUP($K232,SpanRange,4,FALSE)","v":74},{"$f":"VLOOKUP($K232,SpanRange,2,FALSE)","v":252.3},{"$f":"VLOOKUP($K232,SpanRange,3,FALSE)","v":2},{"$f":"Find_Table(Spans!$I$2,I232)","v":10},{"$f":"IF(R232=0,Spans!$C$10,VLOOKUP(P232,INDIRECT(\"Table\"&R232),Q232,TRUE))","v":32},"No","No"]
[655,"W12153221N3953178",39.531779999999898,-121.532209999999,65,39.299999999999997,27.3,"[GrayPine, Other, MontereyPine]","GrayPine",-12.9,"W12153206N3953192-W12153206N3953153","Tier 2-3","YES","2019-11-20T17:46:46",{"$f":"VLOOKUP($K233,SpanRange,4,FALSE)","v":164},{"$f":"VLOOKUP($K233,SpanRange,2,FALSE)","v":140.599999999999},{"$f":"VLOOKUP($K233,SpanRange,3,FALSE)","v":2},{"$f":"Find_Table(Spans!$I$2,I233)","v":10},{"$f":"IF(R233=0,Spans!$C$10,VLOOKUP(P233,INDIRECT(\"Table\"&R233),Q233,TRUE))","v":21},"No","No"]
[658,"W12152078N3953004",39.53004,-121.52078,78.2,34.1,15.9,"[GrayPine, Other, MontereyPine]","GrayPine",-32.399999999999899,"W12152091N3953014-W12152091N3952965","Tier 2-3","YES","2019-11-20T17:46:46",{"$f":"VLOOKUP($K234,SpanRange,4,FALSE)","v":123},{"$f":"VLOOKUP($K234,SpanRange,2,FALSE)","v":178.3},{"$f":"VLOOKUP($K234,SpanRange,3,FALSE)","v":2},{"$f":"Find_Table(Spans!$I$2,I234)","v":10},{"$f":"IF(R234=0,Spans!$C$10,VLOOKUP(P234,INDIRECT(\"Table\"&R234),Q234,TRUE))","v":26},"Yes","No"]
[659,"W12153186N3953279",39.532789999999899,-121.531859999999,44,17.3,8.3000000000000007,"[GrayPine, Other, DouglasFir]","GrayPine",-12.6,"W12153118N3953282-W12153205N3953285","Tier 2-3","YES","2019-11-20T17:46:46",{"$f":"VLOOKUP($K235,SpanRange,4,FALSE)","v":186},{"$f":"VLOOKUP($K235,SpanRange,2,FALSE)","v":244.599999999999},{"$f":"VLOOKUP($K235,SpanRange,3,FALSE)","v":2},{"$f":"Find_Table(Spans!$I$2,I235)","v":10},{"$f":"IF(R235=0,Spans!$C$10,VLOOKUP(P235,INDIRECT(\"Table\"&R235),Q235,TRUE))","v":32},"No","No"]
[660,"W12153647N3953056",39.530560000000001,-121.536469999999,43.399999999999899,23.1,8.3000000000000007,"[GrayPine, DouglasFir, CoastalLiveOak]","GrayPine",-5.8,"W12153655N3953063-W12153538N3953063","Tier 2-3","YES","2019-11-20T17:46:46",{"$f":"VLOOKUP($K236,SpanRange,4,FALSE)","v":140},{"$f":"VLOOKUP($K236,SpanRange,2,FALSE)","v":329.19999999999902},{"$f":"VLOOKUP($K236,SpanRange,3,FALSE)","v":2},{"$f":"Find_Table(Spans!$I$2,I236)","v":10},{"$f":"IF(R236=0,Spans!$C$10,VLOOKUP(P236,INDIRECT(\"Table\"&R236),Q236,TRUE))","v":36},"No","No"]
[662,"W12153527N3952723",39.527229999999903,-121.535269999999,77.400000000000006,20.8,5.3,"[TanOak, DouglasFir, GrayPine]","TanOak",-45.2,"W12153536N3952706-W12153535N3952774","Tier 2-3","YES","2019-11-20T17:46:46",{"$f":"VLOOKUP($K237,SpanRange,4,FALSE)","v":82},{"$f":"VLOOKUP($K237,SpanRange,2,FALSE)","v":246.599999999999},{"$f":"VLOOKUP($K237,SpanRange,3,FALSE)","v":2},{"$f":"Find_Table(Spans!$I$2,I237)","v":11},{"$f":"IF(R237=0,Spans!$C$10,VLOOKUP(P237,INDIRECT(\"Table\"&R237),Q237,TRUE))","v":30},"Yes","No"]
[663,"W12152014N3952998",39.529979999999902,-121.520139999999,77.599999999999994,59.1,46.899999999999899,"[Other, DouglasFir, GrayPine]","Other",-5.7,"W12152005N3953021-W12151936N3952926","Tier 2-3","YES","2019-11-20T17:46:46",{"$f":"VLOOKUP($K238,SpanRange,4,FALSE)","v":121},{"$f":"VLOOKUP($K238,SpanRange,2,FALSE)","v":398},{"$f":"VLOOKUP($K238,SpanRange,3,FALSE)","v":2},{"$f":"Find_Table(Spans!$I$2,I238)","v":11},{"$f":"IF(R238=0,Spans!$C$10,VLOOKUP(P238,INDIRECT(\"Table\"&R238),Q238,TRUE))","v":30},"No","No"]
[664,"W12153855N3953227",39.532269999999897,-121.53855,69.7,58.899999999999899,44.8,"[Other, GrayPine, DouglasFir]","Other",-9.8000000000000007,"W12153810N3953244-W12153905N3953243","Tier 2-3","YES","2019-11-20T17:46:46",{"$f":"VLOOKUP($K239,SpanRange,4,FALSE)","v":176},{"$f":"VLOOKUP($K239,SpanRange,2,FALSE)","v":270.10000000000002},{"$f":"VLOOKUP($K239,SpanRange,3,FALSE)","v":2},{"$f":"Find_Table(Spans!$I$2,I239)","v":11},{"$f":"IF(R239=0,Spans!$C$10,VLOOKUP(P239,INDIRECT(\"Table\"&R239),Q239,TRUE))","v":30},"No","No"]
[665,"W12153782N3952495",39.524949999999897,-121.537819999999,34,15.3,5.6,"[GrayPine, DouglasFir, Other]","GrayPine",-1.7,"W12153809N3952504-W12153745N3952470","Tier 2-3","YES","2019-11-20T17:46:46",{"$f":"VLOOKUP($K240,SpanRange,4,FALSE)","v":50},{"$f":"VLOOKUP($K240,SpanRange,2,FALSE)","v":218.599999999999},{"$f":"VLOOKUP($K240,SpanRange,3,FALSE)","v":2},{"$f":"Find_Table(Spans!$I$2,I240)","v":10},{"$f":"IF(R240=0,Spans!$C$10,VLOOKUP(P240,INDIRECT(\"Table\"&R240),Q240,TRUE))","v":32},"No","No"]
[676,"W12153223N3953161",39.531610000000001,-121.532229999999,64.2,29,8.4,"[GrayPine, ValleyOak, MontereyPine]","GrayPine",-23.8,"W12153261N3953152-W12153206N3953153","Tier 2-3","YES","2019-11-20T17:46:46",{"$f":"VLOOKUP($K241,SpanRange,4,FALSE)","v":156},{"$f":"VLOOKUP($K241,SpanRange,2,FALSE)","v":152.69999999999899},{"$f":"VLOOKUP($K241,SpanRange,3,FALSE)","v":2},{"$f":"Find_Table(Spans!$I$2,I241)","v":10},{"$f":"IF(R241=0,Spans!$C$10,VLOOKUP(P241,INDIRECT(\"Table\"&R241),Q241,TRUE))","v":26},"No","No"]
[677,"W12153910N3953127",39.5312699999999,-121.5391,43.3,5.3,4.8,"[DouglasFir, TanOak, Other]","DouglasFir",-11.3,"W12153907N3953103-W12153907N3953151","Tier 2-3","YES","2019-11-20T17:46:46",{"$f":"VLOOKUP($K242,SpanRange,4,FALSE)","v":150},{"$f":"VLOOKUP($K242,SpanRange,2,FALSE)","v":174.9},{"$f":"VLOOKUP($K242,SpanRange,3,FALSE)","v":2},{"$f":"Find_Table(Spans!$I$2,I242)","v":9},{"$f":"IF(R242=0,Spans!$C$10,VLOOKUP(P242,INDIRECT(\"Table\"&R242),Q242,TRUE))","v":21},"No","Yes"]
[683,"W12154096N3953207",39.532069999999898,-121.540959999999,57.1,26.4,14.4,"[GrayPine, MontereyPine, DouglasFir]","GrayPine",-11,"W12154084N3953131-W12154086N3953214","Tier 2-3","YES","2019-11-20T17:46:46",{"$f":"VLOOKUP($K243,SpanRange,4,FALSE)","v":162},{"$f":"VLOOKUP($K243,SpanRange,2,FALSE)","v":302.60000000000002},{"$f":"VLOOKUP($K243,SpanRange,3,FALSE)","v":2},{"$f":"Find_Table(Spans!$I$2,I243)","v":10},{"$f":"IF(R243=0,Spans!$C$10,VLOOKUP(P243,INDIRECT(\"Table\"&R243),Q243,TRUE))","v":36},"No","No"]
[684,"W12151920N3952892",39.5289199999999,-121.5192,65.2,21.4,8.9,"[GrayPine, DouglasFir, Other]","GrayPine",-17.600000000000001,"W12151936N3952926-W12151911N3952893","Tier 2-3","YES","2019-11-20T17:46:46",{"$f":"VLOOKUP($K244,SpanRange,4,FALSE)","v":107},{"$f":"VLOOKUP($K244,SpanRange,2,FALSE)","v":141.4},{"$f":"VLOOKUP($K244,SpanRange,3,FALSE)","v":2},{"$f":"Find_Table(Spans!$I$2,I244)","v":10},{"$f":"IF(R244=0,Spans!$C$10,VLOOKUP(P244,INDIRECT(\"Table\"&R244),Q244,TRUE))","v":21},"No","No"]
[689,"W12153866N3953243",39.532429999999898,-121.538659999999,60.7,0.4,3.8,"[Other, DouglasFir, MontereyPine]","Other",-35,"W12153810N3953244-W12153905N3953243","Tier 2-3","YES","2019-11-20T17:46:46",{"$f":"VLOOKUP($K245,SpanRange,4,FALSE)","v":176},{"$f":"VLOOKUP($K245,SpanRange,2,FALSE)","v":270.10000000000002},{"$f":"VLOOKUP($K245,SpanRange,3,FALSE)","v":2},{"$f":"Find_Table(Spans!$I$2,I245)","v":11},{"$f":"IF(R245=0,Spans!$C$10,VLOOKUP(P245,INDIRECT(\"Table\"&R245),Q245,TRUE))","v":30},"Yes","Yes"]
[690,"W12152563N3952934",39.529339999999898,-121.52563000000001,44.7,13.7,6.4,"[GrayPine, DouglasFir, TanOak]","GrayPine",-3.6,"W12152596N3952916-W12152508N3952949","Tier 2-3","YES","2019-11-20T17:46:46",{"$f":"VLOOKUP($K246,SpanRange,4,FALSE)","v":110},{"$f":"VLOOKUP($K246,SpanRange,2,FALSE)","v":273.5},{"$f":"VLOOKUP($K246,SpanRange,3,FALSE)","v":2},{"$f":"Find_Table(Spans!$I$2,I246)","v":10},{"$f":"IF(R246=0,Spans!$C$10,VLOOKUP(P246,INDIRECT(\"Table\"&R246),Q246,TRUE))","v":32},"No","No"]
[691,"W12153647N3953101",39.531009999999903,-121.536469999999,74.599999999999994,19.100000000000001,4.5999999999999996,"[Eucalyptus/BlueGum, DouglasFir, CoastalLiveOak]","Eucalyptus/BlueGum",-35.299999999999997,"W12153655N3953063-W12153654N3953103","Tier 2-3","YES","2019-11-20T17:46:46",{"$f":"VLOOKUP($K247,SpanRange,4,FALSE)","v":144},{"$f":"VLOOKUP($K247,SpanRange,2,FALSE)","v":148},{"$f":"VLOOKUP($K247,SpanRange,3,FALSE)","v":2},{"$f":"Find_Table(Spans!$I$2,I247)","v":12},{"$f":"IF(R247=0,Spans!$C$10,VLOOKUP(P247,INDIRECT(\"Table\"&R247),Q247,TRUE))","v":30},"Yes","No"]
[694,"W12154244N3953950",39.539499999999997,-121.542439999999,69.7,47.399999999999899,32,"[DouglasFir, Other, GrayPine]","DouglasFir",-22.1999999999999,"W12154263N3953924-W12154261N3953987","Tier 2-3","YES","2019-11-20T17:46:46",{"$f":"VLOOKUP($K248,SpanRange,4,FALSE)","v":198},{"$f":"VLOOKUP($K248,SpanRange,2,FALSE)","v":231},{"$f":"VLOOKUP($K248,SpanRange,3,FALSE)","v":2},{"$f":"Find_Table(Spans!$I$2,I248)","v":9},{"$f":"IF(R248=0,Spans!$C$10,VLOOKUP(P248,INDIRECT(\"Table\"&R248),Q248,TRUE))","v":26},"No","No"]
[696,"W12151876N3953121",39.531210000000002,-121.51876,54.6,37,5.6,"[Other, DouglasFir, TanOak]","Other",-3.1,"W12151822N3953157-W12151868N3953111","Tier 2-3","YES","2019-11-20T17:46:46",{"$f":"VLOOKUP($K249,SpanRange,4,FALSE)","v":153},{"$f":"VLOOKUP($K249,SpanRange,2,FALSE)","v":210.9},{"$f":"VLOOKUP($K249,SpanRange,3,FALSE)","v":2},{"$f":"Find_Table(Spans!$I$2,I249)","v":11},{"$f":"IF(R249=0,Spans!$C$10,VLOOKUP(P249,INDIRECT(\"Table\"&R249),Q249,TRUE))","v":30},"No","No"]
[698,"W12153175N3953149",39.531489999999899,-121.53175,31.1999999999999,14.5,5.5,"[GrayPine, ValleyOak, DouglasFir]","GrayPine",-2.2000000000000002,"W12153147N3953155-W12153206N3953153","Tier 2-3","YES","2019-11-20T17:46:46",{"$f":"VLOOKUP($K250,SpanRange,4,FALSE)","v":159},{"$f":"VLOOKUP($K250,SpanRange,2,FALSE)","v":167.69999999999899},{"$f":"VLOOKUP($K250,SpanRange,3,FALSE)","v":2},{"$f":"Find_Table(Spans!$I$2,I250)","v":10},{"$f":"IF(R250=0,Spans!$C$10,VLOOKUP(P250,INDIRECT(\"Table\"&R250),Q250,TRUE))","v":26},"No","No"]
[700,"W12153203N3953138",39.531379999999899,-121.532029999999,46.6,6,3.8,"[GrayPine, DouglasFir, MontereyPine]","GrayPine",-19.1999999999999,"W12153207N3953097-W12153206N3953153","Tier 2-3","YES","2019-11-20T17:46:46",{"$f":"VLOOKUP($K251,SpanRange,4,FALSE)","v":148},{"$f":"VLOOKUP($K251,SpanRange,2,FALSE)","v":205.3},{"$f":"VLOOKUP($K251,SpanRange,3,FALSE)","v":2},{"$f":"Find_Table(Spans!$I$2,I251)","v":10},{"$f":"IF(R251=0,Spans!$C$10,VLOOKUP(P251,INDIRECT(\"Table\"&R251),Q251,TRUE))","v":32},"No","Yes"]
[707,"W12153848N3953289",39.532889999999902,-121.538479999999,57.8,28.8,12.7,"[DouglasFir, GrayPine, TanOak]","DouglasFir",-10.199999999999999,"W12153848N3953281-W12153906N3953282","Tier 2-3","YES","2019-11-20T17:46:46",{"$f":"VLOOKUP($K252,SpanRange,4,FALSE)","v":183},{"$f":"VLOOKUP($K252,SpanRange,2,FALSE)","v":163.80000000000001},{"$f":"VLOOKUP($K252,SpanRange,3,FALSE)","v":2},{"$f":"Find_Table(Spans!$I$2,I252)","v":9},{"$f":"IF(R252=0,Spans!$C$10,VLOOKUP(P252,INDIRECT(\"Table\"&R252),Q252,TRUE))","v":21},"No","No"]
[711,"W12152049N3952870",39.528700000000001,-121.520489999999,85.1,24.4,8.4,"[GrayPine, CoastalLiveOak, Other]","GrayPine",-39.700000000000003,"W12152053N3952877-W12152014N3952914","Tier 2-3","YES","2019-11-20T17:46:46",{"$f":"VLOOKUP($K253,SpanRange,4,FALSE)","v":106},{"$f":"VLOOKUP($K253,SpanRange,2,FALSE)","v":171.9},{"$f":"VLOOKUP($K253,SpanRange,3,FALSE)","v":2},{"$f":"Find_Table(Spans!$I$2,I253)","v":10},{"$f":"IF(R253=0,Spans!$C$10,VLOOKUP(P253,INDIRECT(\"Table\"&R253),Q253,TRUE))","v":26},"Yes","No"]
[715,"W12152909N3952712",39.527119999999897,-121.529089999999,69.5,44.6,25.1999999999999,"[GrayPine, Other, MontereyPine]","GrayPine",-17,"W12152971N3952716-W12152907N3952726","Tier 2-3","YES","2019-11-20T17:46:46",{"$f":"VLOOKUP($K254,SpanRange,4,FALSE)","v":79},{"$f":"VLOOKUP($K254,SpanRange,2,FALSE)","v":184.9},{"$f":"VLOOKUP($K254,SpanRange,3,FALSE)","v":2},{"$f":"Find_Table(Spans!$I$2,I254)","v":10},{"$f":"IF(R254=0,Spans!$C$10,VLOOKUP(P254,INDIRECT(\"Table\"&R254),Q254,TRUE))","v":26},"No","No"]
[718,"W12152068N3952870",39.528700000000001,-121.520679999999,98.9,49.6,38.6,"[GrayPine, DouglasFir, Other]","GrayPine",-39.899999999999899,"W12152053N3952877-W12152014N3952914","Tier 2-3","YES","2019-11-20T17:46:46",{"$f":"VLOOKUP($K255,SpanRange,4,FALSE)","v":106},{"$f":"VLOOKUP($K255,SpanRange,2,FALSE)","v":171.9},{"$f":"VLOOKUP($K255,SpanRange,3,FALSE)","v":2},{"$f":"Find_Table(Spans!$I$2,I255)","v":10},{"$f":"IF(R255=0,Spans!$C$10,VLOOKUP(P255,INDIRECT(\"Table\"&R255),Q255,TRUE))","v":26},"Yes","No"]
[719,"W12153897N3953072",39.530719999999903,-121.53897000000001,45.2,25.9,9,"[GrayPine, DouglasFir, Eucalyptus/BlueGum]","GrayPine",-8.5,"W12153908N3953063-W12153907N3953103","Tier 2-3","YES","2019-11-20T17:46:46",{"$f":"VLOOKUP($K256,SpanRange,4,FALSE)","v":143},{"$f":"VLOOKUP($K256,SpanRange,2,FALSE)","v":147.69999999999899},{"$f":"VLOOKUP($K256,SpanRange,3,FALSE)","v":2},{"$f":"Find_Table(Spans!$I$2,I256)","v":10},{"$f":"IF(R256=0,Spans!$C$10,VLOOKUP(P256,INDIRECT(\"Table\"&R256),Q256,TRUE))","v":21},"No","No"]
[721,"W12153661N3953160",39.531599999999997,-121.536609999999,45.8,18.100000000000001,5.3,"[CoastalLiveOak, Eucalyptus/BlueGum, DouglasFir]","CoastalLiveOak",-8.6999999999999993,"W12153654N3953154-W12153692N3953153","Tier 2-3","YES","2019-11-20T17:46:46",{"$f":"VLOOKUP($K257,SpanRange,4,FALSE)","v":157},{"$f":"VLOOKUP($K257,SpanRange,2,FALSE)","v":107.799999999999},{"$f":"VLOOKUP($K257,SpanRange,3,FALSE)","v":2},{"$f":"Find_Table(Spans!$I$2,I257)","v":11},{"$f":"IF(R257=0,Spans!$C$10,VLOOKUP(P257,INDIRECT(\"Table\"&R257),Q257,TRUE))","v":30},"No","No"]
[722,"W12153673N3953288",39.532879999999899,-121.53673000000001,51.899999999999899,13.6,7.6,"[DouglasFir, CoastalLiveOak, Other]","DouglasFir",-17.1999999999999,"W12153655N3953283-W12153713N3953284","Tier 2-3","YES","2019-11-20T17:46:46",{"$f":"VLOOKUP($K258,SpanRange,4,FALSE)","v":185},{"$f":"VLOOKUP($K258,SpanRange,2,FALSE)","v":163.4},{"$f":"VLOOKUP($K258,SpanRange,3,FALSE)","v":2},{"$f":"Find_Table(Spans!$I$2,I258)","v":9},{"$f":"IF(R258=0,Spans!$C$10,VLOOKUP(P258,INDIRECT(\"Table\"&R258),Q258,TRUE))","v":21},"No","No"]
[723,"W12153211N3953004",39.53004,-121.53211,36.299999999999997,10.9,5.7,"[CoastalLiveOak, GrayPine, Other]","CoastalLiveOak",-3.2,"W12153206N3952972-W12153206N3953018","Tier 2-3","YES","2019-11-20T17:46:46",{"$f":"VLOOKUP($K259,SpanRange,4,FALSE)","v":124},{"$f":"VLOOKUP($K259,SpanRange,2,FALSE)","v":166.3},{"$f":"VLOOKUP($K259,SpanRange,3,FALSE)","v":2},{"$f":"Find_Table(Spans!$I$2,I259)","v":11},{"$f":"IF(R259=0,Spans!$C$10,VLOOKUP(P259,INDIRECT(\"Table\"&R259),Q259,TRUE))","v":30},"No","No"]
[724,"W12152918N3952718",39.527180000000001,-121.529179999999,43.5,19.100000000000001,8.4,"[DouglasFir, GrayPine, Other]","DouglasFir",-6.2,"W12152971N3952716-W12152907N3952726","Tier 2-3","YES","2019-11-20T17:46:46",{"$f":"VLOOKUP($K260,SpanRange,4,FALSE)","v":79},{"$f":"VLOOKUP($K260,SpanRange,2,FALSE)","v":184.9},{"$f":"VLOOKUP($K260,SpanRange,3,FALSE)","v":2},{"$f":"Find_Table(Spans!$I$2,I260)","v":9},{"$f":"IF(R260=0,Spans!$C$10,VLOOKUP(P260,INDIRECT(\"Table\"&R260),Q260,TRUE))","v":21},{"$f":"IFERROR(IF((-1)*J260>S260,\"Yes\",\"No\"),\"No Match\")","v":"No"},{"$f":"IF(F260<=6,\"Yes\",\"No\")","v":"No"}]
[730,"W12153660N3953168",39.531680000000001,-121.53660000000001,47,16.6999999999999,6.5,"[CoastalLiveOak, Other, ValleyOak]","CoastalLiveOak",-10.5,"W12153655N3953211-W12153654N3953154","Tier 2-3","YES","2019-11-20T17:46:46",{"$f":"VLOOKUP($K261,SpanRange,4,FALSE)","v":165},{"$f":"VLOOKUP($K261,SpanRange,2,FALSE)","v":209.599999999999},{"$f":"VLOOKUP($K261,SpanRange,3,FALSE)","v":2},{"$f":"Find_Table(Spans!$I$2,I261)","v":11},{"$f":"IF(R261=0,Spans!$C$10,VLOOKUP(P261,INDIRECT(\"Table\"&R261),Q261,TRUE))","v":30},"No","No"]
[735,"W12152493N3952941",39.529409999999899,-121.524929999999,42.399999999999899,31.1,14.7,"[Eucalyptus/BlueGum, MontereyPine, TanOak]","Eucalyptus/BlueGum",-1.2,"W12152508N3952949-W12152414N3952959","Tier 2-3","YES","2019-11-20T17:46:46",{"$f":"VLOOKUP($K262,SpanRange,4,FALSE)","v":114},{"$f":"VLOOKUP($K262,SpanRange,2,FALSE)","v":267.5},{"$f":"VLOOKUP($K262,SpanRange,3,FALSE)","v":2},{"$f":"Find_Table(Spans!$I$2,I262)","v":12},{"$f":"IF(R262=0,Spans!$C$10,VLOOKUP(P262,INDIRECT(\"Table\"&R262),Q262,TRUE))","v":30},"No","No"]
[742,"W12153926N3952640",39.526400000000002,-121.539259999999,59.399999999999899,42.5,27.6,"[GrayPine, Eucalyptus/BlueGum, PonderosaPine]","GrayPine",-3,"W12153928N3952652-W12153848N3952653","Tier 2-3","YES","2019-11-20T17:46:46",{"$f":"VLOOKUP($K263,SpanRange,4,FALSE)","v":72},{"$f":"VLOOKUP($K263,SpanRange,2,FALSE)","v":226.19999999999899},{"$f":"VLOOKUP($K263,SpanRange,3,FALSE)","v":2},{"$f":"Find_Table(Spans!$I$2,I263)","v":10},{"$f":"IF(R263=0,Spans!$C$10,VLOOKUP(P263,INDIRECT(\"Table\"&R263),Q263,TRUE))","v":32},"No","No"]
[743,"W12151426N3952828",39.528279999999903,-121.51425999999999,29.8,7.8,6.4,"[Other, ValleyOak, DouglasFir]","Other",0,"W12151401N3952860-W12151441N3952799","Tier 2-3","YES","2019-11-20T17:46:46",{"$f":"VLOOKUP($K264,SpanRange,4,FALSE)","v":93},{"$f":"VLOOKUP($K264,SpanRange,2,FALSE)","v":250.8},{"$f":"VLOOKUP($K264,SpanRange,3,FALSE)","v":2},{"$f":"Find_Table(Spans!$I$2,I264)","v":11},{"$f":"IF(R264=0,Spans!$C$10,VLOOKUP(P264,INDIRECT(\"Table\"&R264),Q264,TRUE))","v":30},"No","No"]
[744,"W12153868N3953270",39.532699999999899,-121.538679999999,61.6,38.5,23.1999999999999,"[Other, DouglasFir, CoastalLiveOak]","Other",-16.1999999999999,"W12153848N3953281-W12153906N3953282","Tier 2-3","YES","2019-11-20T17:46:46",{"$f":"VLOOKUP($K265,SpanRange,4,FALSE)","v":183},{"$f":"VLOOKUP($K265,SpanRange,2,FALSE)","v":163.80000000000001},{"$f":"VLOOKUP($K265,SpanRange,3,FALSE)","v":2},{"$f":"Find_Table(Spans!$I$2,I265)","v":11},{"$f":"IF(R265=0,Spans!$C$10,VLOOKUP(P265,INDIRECT(\"Table\"&R265),Q265,TRUE))","v":30},"No","No"]
[754,"W12154083N3953340",39.5334,-121.54083,81.2,33.700000000000003,18.1999999999999,"[GrayPine, DouglasFir, TanOak]","GrayPine",-24.1999999999999,"W12154149N3953393-W12154087N3953327","Tier 2-3","YES","2019-11-20T17:46:46",{"$f":"VLOOKUP($K266,SpanRange,4,FALSE)","v":188},{"$f":"VLOOKUP($K266,SpanRange,2,FALSE)","v":296},{"$f":"VLOOKUP($K266,SpanRange,3,FALSE)","v":2},{"$f":"Find_Table(Spans!$I$2,I266)","v":10},{"$f":"IF(R266=0,Spans!$C$10,VLOOKUP(P266,INDIRECT(\"Table\"&R266),Q266,TRUE))","v":32},"No","No"]
[755,"W12153242N3952795",39.527949999999898,-121.53242,44.8,16.3,5.7,"[GrayPine, ValleyOak, DouglasFir]","GrayPine",-17,"W12153203N3952790-W12153270N3952789","Tier 2-3","YES","2019-11-20T17:46:46",{"$f":"VLOOKUP($K267,SpanRange,4,FALSE)","v":89},{"$f":"VLOOKUP($K267,SpanRange,2,FALSE)","v":189.099999999999},{"$f":"VLOOKUP($K267,SpanRange,3,FALSE)","v":2},{"$f":"Find_Table(Spans!$I$2,I267)","v":10},{"$f":"IF(R267=0,Spans!$C$10,VLOOKUP(P267,INDIRECT(\"Table\"&R267),Q267,TRUE))","v":26},"No","No"]
[756,"W12153179N3953124",39.531239999999897,-121.53179,82.6,74.2,59,"[GrayPine, Other, DouglasFir]","GrayPine",-6.1,"W12153207N3953097-W12153206N3953153","Tier 2-3","YES","2019-11-20T17:46:46",{"$f":"VLOOKUP($K268,SpanRange,4,FALSE)","v":148},{"$f":"VLOOKUP($K268,SpanRange,2,FALSE)","v":205.3},{"$f":"VLOOKUP($K268,SpanRange,3,FALSE)","v":2},{"$f":"Find_Table(Spans!$I$2,I268)","v":10},{"$f":"IF(R268=0,Spans!$C$10,VLOOKUP(P268,INDIRECT(\"Table\"&R268),Q268,TRUE))","v":32},"No","No"]
[761,"W12151931N3952907",39.529069999999898,-121.519309999999,95.6,20.6999999999999,7,"[GrayPine, DouglasFir, CoastalLiveOak]","GrayPine",-48.3,"W12151936N3952926-W12151911N3952893","Tier 2-3","YES","2019-11-20T17:46:46",{"$f":"VLOOKUP($K269,SpanRange,4,FALSE)","v":107},{"$f":"VLOOKUP($K269,SpanRange,2,FALSE)","v":141.4},{"$f":"VLOOKUP($K269,SpanRange,3,FALSE)","v":2},{"$f":"Find_Table(Spans!$I$2,I269)","v":10},{"$f":"IF(R269=0,Spans!$C$10,VLOOKUP(P269,INDIRECT(\"Table\"&R269),Q269,TRUE))","v":21},"Yes","No"]
[762,"W12152099N3953023",39.530229999999897,-121.520989999999,72.099999999999994,26.6999999999999,5.8,"[GrayPine, DouglasFir, Other]","GrayPine",-27.4,"W12152091N3953014-W12152184N3953012","Tier 2-3","YES","2019-11-20T17:46:46",{"$f":"VLOOKUP($K270,SpanRange,4,FALSE)","v":126},{"$f":"VLOOKUP($K270,SpanRange,2,FALSE)","v":264.5},{"$f":"VLOOKUP($K270,SpanRange,3,FALSE)","v":2},{"$f":"Find_Table(Spans!$I$2,I270)","v":10},{"$f":"IF(R270=0,Spans!$C$10,VLOOKUP(P270,INDIRECT(\"Table\"&R270),Q270,TRUE))","v":32},"No","No"]
[765,"W12154237N3953610",39.536099999999998,-121.54237000000001,71.2,47,32.299999999999898,"[CoastalLiveOak, DouglasFir, Eucalyptus/BlueGum]","CoastalLiveOak",-23.3,"W12154256N3953592-W12154253N3953660","Tier 2-3","YES","2019-11-20T17:46:46",{"$f":"VLOOKUP($K271,SpanRange,4,FALSE)","v":194},{"$f":"VLOOKUP($K271,SpanRange,2,FALSE)","v":247.599999999999},{"$f":"VLOOKUP($K271,SpanRange,3,FALSE)","v":2},{"$f":"Find_Table(Spans!$I$2,I271)","v":11},{"$f":"IF(R271=0,Spans!$C$10,VLOOKUP(P271,INDIRECT(\"Table\"&R271),Q271,TRUE))","v":30},"No","No"]
[767,"W12153836N3953251",39.532509999999903,-121.538359999999,75.2,22.3,9,"[GrayPine, DouglasFir, CoastalLiveOak]","GrayPine",-38.399999999999899,"W12153810N3953244-W12153905N3953243","Tier 2-3","YES","2019-11-20T17:46:46",{"$f":"VLOOKUP($K272,SpanRange,4,FALSE)","v":176},{"$f":"VLOOKUP($K272,SpanRange,2,FALSE)","v":270.10000000000002},{"$f":"VLOOKUP($K272,SpanRange,3,FALSE)","v":2},{"$f":"Find_Table(Spans!$I$2,I272)","v":10},{"$f":"IF(R272=0,Spans!$C$10,VLOOKUP(P272,INDIRECT(\"Table\"&R272),Q272,TRUE))","v":32},"Yes","No"]
[768,"W12153241N3952783",39.527830000000002,-121.532409999999,79.099999999999994,20.5,6,"[Eucalyptus/BlueGum, Other, CoastalLiveOak]","Eucalyptus/BlueGum",-39.899999999999899,"W12153203N3952790-W12153270N3952789","Tier 2-3","YES","2019-11-20T17:46:46",{"$f":"VLOOKUP($K273,SpanRange,4,FALSE)","v":89},{"$f":"VLOOKUP($K273,SpanRange,2,FALSE)","v":189.099999999999},{"$f":"VLOOKUP($K273,SpanRange,3,FALSE)","v":2},{"$f":"Find_Table(Spans!$I$2,I273)","v":12},{"$f":"IF(R273=0,Spans!$C$10,VLOOKUP(P273,INDIRECT(\"Table\"&R273),Q273,TRUE))","v":30},"Yes","No"]
[769,"W12153427N3953201",39.53201,-121.534269999999,44.3,17.399999999999999,7.2,"[DouglasFir, Other, TanOak]","DouglasFir",-8.5,"W12153419N3953235-W12153419N3953172","Tier 2-3","YES","2019-11-20T17:46:46",{"$f":"VLOOKUP($K274,SpanRange,4,FALSE)","v":166},{"$f":"VLOOKUP($K274,SpanRange,2,FALSE)","v":228.3},{"$f":"VLOOKUP($K274,SpanRange,3,FALSE)","v":2},{"$f":"Find_Table(Spans!$I$2,I274)","v":9},{"$f":"IF(R274=0,Spans!$C$10,VLOOKUP(P274,INDIRECT(\"Table\"&R274),Q274,TRUE))","v":26},"No","No"]
[770,"W12152036N3952902",39.529019999999903,-121.520359999999,44.6,18.100000000000001,10.9,"[GrayPine, DouglasFir, Other]","GrayPine",-3.7,"W12152053N3952877-W12152014N3952914","Tier 2-3","YES","2019-11-20T17:46:46",{"$f":"VLOOKUP($K275,SpanRange,4,FALSE)","v":106},{"$f":"VLOOKUP($K275,SpanRange,2,FALSE)","v":171.9},{"$f":"VLOOKUP($K275,SpanRange,3,FALSE)","v":2},{"$f":"Find_Table(Spans!$I$2,I275)","v":10},{"$f":"IF(R275=0,Spans!$C$10,VLOOKUP(P275,INDIRECT(\"Table\"&R275),Q275,TRUE))","v":26},"No","No"]
[773,"W12153893N3953214",39.532139999999899,-121.538929999999,65.400000000000006,33.899999999999899,18.600000000000001,"[GrayPine, Other, LiveOak]","GrayPine",-23.4,"W12153907N3953193-W12153905N3953243","Tier 2-3","YES","2019-11-20T17:46:46",{"$f":"VLOOKUP($K276,SpanRange,4,FALSE)","v":167},{"$f":"VLOOKUP($K276,SpanRange,2,FALSE)","v":182.3},{"$f":"VLOOKUP($K276,SpanRange,3,FALSE)","v":2},{"$f":"Find_Table(Spans!$I$2,I276)","v":10},{"$f":"IF(R276=0,Spans!$C$10,VLOOKUP(P276,INDIRECT(\"Table\"&R276),Q276,TRUE))","v":26},"No","No"]
[778,"W12153892N3953272",39.532719999999898,-121.538919999999,64.2,34.399999999999899,9.3000000000000007,"[GrayPine, DouglasFir, ValleyOak]","GrayPine",-21.9,"W12153848N3953281-W12153906N3953282","Tier 2-3","YES","2019-11-20T17:46:46",{"$f":"VLOOKUP($K277,SpanRange,4,FALSE)","v":183},{"$f":"VLOOKUP($K277,SpanRange,2,FALSE)","v":163.80000000000001},{"$f":"VLOOKUP($K277,SpanRange,3,FALSE)","v":2},{"$f":"Find_Table(Spans!$I$2,I277)","v":10},{"$f":"IF(R277=0,Spans!$C$10,VLOOKUP(P277,INDIRECT(\"Table\"&R277),Q277,TRUE))","v":26},"No","No"]
[779,"W12152651N3952897",39.528970000000001,-121.52651,53.8,19.6999999999999,9.6999999999999993,"[GrayPine, Other, DouglasFir]","GrayPine",-11.9,"W12152680N3952875-W12152596N3952916","Tier 2-3","YES","2019-11-20T17:46:46",{"$f":"VLOOKUP($K278,SpanRange,4,FALSE)","v":105},{"$f":"VLOOKUP($K278,SpanRange,2,FALSE)","v":281},{"$f":"VLOOKUP($K278,SpanRange,3,FALSE)","v":2},{"$f":"Find_Table(Spans!$I$2,I278)","v":10},{"$f":"IF(R278=0,Spans!$C$10,VLOOKUP(P278,INDIRECT(\"Table\"&R278),Q278,TRUE))","v":32},"No","No"]
[780,"W12153297N3952601",39.5260099999999,-121.53297000000001,55.899999999999899,33.5,17.5,"[Eucalyptus/BlueGum, MontereyPine, GrayPine]","Eucalyptus/BlueGum",-10.4,"W12153345N3952585-W12153295N3952615","Tier 2-3","YES","2019-11-20T17:46:46",{"$f":"VLOOKUP($K279,SpanRange,4,FALSE)","v":66},{"$f":"VLOOKUP($K279,SpanRange,2,FALSE)","v":177.9},{"$f":"VLOOKUP($K279,SpanRange,3,FALSE)","v":2},{"$f":"Find_Table(Spans!$I$2,I279)","v":12},{"$f":"IF(R279=0,Spans!$C$10,VLOOKUP(P279,INDIRECT(\"Table\"&R279),Q279,TRUE))","v":30},"No","No"]
[781,"W12154204N3953493",39.534929999999903,-121.54204,62.8,49.5,29.8,"[DouglasFir, LiveOak, Other]","DouglasFir",-9.8000000000000007,"W12154230N3953520-W12154214N3953455","Tier 2-3","YES","2019-11-20T17:46:46",{"$f":"VLOOKUP($K280,SpanRange,4,FALSE)","v":191},{"$f":"VLOOKUP($K280,SpanRange,2,FALSE)","v":240.599999999999},{"$f":"VLOOKUP($K280,SpanRange,3,FALSE)","v":2},{"$f":"Find_Table(Spans!$I$2,I280)","v":9},{"$f":"IF(R280=0,Spans!$C$10,VLOOKUP(P280,INDIRECT(\"Table\"&R280),Q280,TRUE))","v":26},"No","No"]
[782,"W12153217N3953060",39.5306,-121.53216999999999,61.399999999999899,25.5,6,"[DouglasFir, GrayPine, Other]","DouglasFir",-19.5,"W12153207N3953097-W12153206N3953048","Tier 2-3","YES","2019-11-20T17:46:46",{"$f":"VLOOKUP($K281,SpanRange,4,FALSE)","v":141},{"$f":"VLOOKUP($K281,SpanRange,2,FALSE)","v":177.19999999999899},{"$f":"VLOOKUP($K281,SpanRange,3,FALSE)","v":2},{"$f":"Find_Table(Spans!$I$2,I281)","v":9},{"$f":"IF(R281=0,Spans!$C$10,VLOOKUP(P281,INDIRECT(\"Table\"&R281),Q281,TRUE))","v":21},"No","No"]
[783,"W12153529N3952708",39.527079999999899,-121.53529,38,15.1,5.6,"[DouglasFir, TanOak, LiveOak]","DouglasFir",-7.2,"W12153536N3952706-W12153535N3952774","Tier 2-3","YES","2019-11-20T17:46:46",{"$f":"VLOOKUP($K282,SpanRange,4,FALSE)","v":82},{"$f":"VLOOKUP($K282,SpanRange,2,FALSE)","v":246.599999999999},{"$f":"VLOOKUP($K282,SpanRange,3,FALSE)","v":2},{"$f":"Find_Table(Spans!$I$2,I282)","v":9},{"$f":"IF(R282=0,Spans!$C$10,VLOOKUP(P282,INDIRECT(\"Table\"&R282),Q282,TRUE))","v":26},"No","No"]
[784,"W12153123N3952731",39.52731,-121.531229999999,43.899999999999899,26.8,7.8,"[Other, GrayPine, TanOak]","Other",-1.4,"W12153116N3952725-W12153054N3952731","Tier 2-3","YES","2019-11-20T17:46:46",{"$f":"VLOOKUP($K283,SpanRange,4,FALSE)","v":81},{"$f":"VLOOKUP($K283,SpanRange,2,FALSE)","v":176.3},{"$f":"VLOOKUP($K283,SpanRange,3,FALSE)","v":2},{"$f":"Find_Table(Spans!$I$2,I283)","v":11},{"$f":"IF(R283=0,Spans!$C$10,VLOOKUP(P283,INDIRECT(\"Table\"&R283),Q283,TRUE))","v":30},"No","No"]
[785,"W12154240N3953596",39.535959999999903,-121.5424,59.2,41.6,25.4,"[GrayPine, DouglasFir, Eucalyptus/BlueGum]","GrayPine",-15.8,"W12154256N3953592-W12154253N3953660","Tier 2-3","YES","2019-11-20T17:46:46",{"$f":"VLOOKUP($K284,SpanRange,4,FALSE)","v":194},{"$f":"VLOOKUP($K284,SpanRange,2,FALSE)","v":247.599999999999},{"$f":"VLOOKUP($K284,SpanRange,3,FALSE)","v":2},{"$f":"Find_Table(Spans!$I$2,I284)","v":10},{"$f":"IF(R284=0,Spans!$C$10,VLOOKUP(P284,INDIRECT(\"Table\"&R284),Q284,TRUE))","v":32},"No","No"]
[786,"W12153544N3952743",39.527429999999903,-121.535439999999,61.6,20,7.5,"[GrayPine, Other, DouglasFir]","GrayPine",-27.9,"W12153536N3952706-W12153535N3952774","Tier 2-3","YES","2019-11-20T17:46:46",{"$f":"VLOOKUP($K285,SpanRange,4,FALSE)","v":82},{"$f":"VLOOKUP($K285,SpanRange,2,FALSE)","v":246.599999999999},{"$f":"VLOOKUP($K285,SpanRange,3,FALSE)","v":2},{"$f":"Find_Table(Spans!$I$2,I285)","v":10},{"$f":"IF(R285=0,Spans!$C$10,VLOOKUP(P285,INDIRECT(\"Table\"&R285),Q285,TRUE))","v":32},"No","No"]
[787,"W12151844N3953113",39.531129999999898,-121.518439999999,60.3,42.899999999999899,11.7,"[Other, DouglasFir, GrayPine]","Other",-10.7,"W12151822N3953157-W12151868N3953111","Tier 2-3","YES","2019-11-20T17:46:46",{"$f":"VLOOKUP($K286,SpanRange,4,FALSE)","v":153},{"$f":"VLOOKUP($K286,SpanRange,2,FALSE)","v":210.9},{"$f":"VLOOKUP($K286,SpanRange,3,FALSE)","v":2},{"$f":"Find_Table(Spans!$I$2,I286)","v":11},{"$f":"IF(R286=0,Spans!$C$10,VLOOKUP(P286,INDIRECT(\"Table\"&R286),Q286,TRUE))","v":30},"No","No"]
[789,"W12152731N3952830",39.528300000000002,-121.52731,44.1,20.5,5.4,"[TanOak, MontereyPine, GrayPine]","TanOak",-7,"W12152750N3952825-W12152680N3952875","Tier 2-3","YES","2019-11-20T17:46:46",{"$f":"VLOOKUP($K287,SpanRange,4,FALSE)","v":98},{"$f":"VLOOKUP($K287,SpanRange,2,FALSE)","v":268.39999999999901},{"$f":"VLOOKUP($K287,SpanRange,3,FALSE)","v":2},{"$f":"Find_Table(Spans!$I$2,I287)","v":11},{"$f":"IF(R287=0,Spans!$C$10,VLOOKUP(P287,INDIRECT(\"Table\"&R287),Q287,TRUE))","v":30},"No","No"]
[790,"W12153601N3953236",39.532359999999898,-121.53601,32.399999999999899,22.9,7.7,"[Other, Eucalyptus/BlueGum, CoastalLiveOak]","Other",-0.1,"W12153644N3953230-W12153557N3953230","Tier 2-3","YES","2019-11-20T17:46:46",{"$f":"VLOOKUP($K288,SpanRange,4,FALSE)","v":171},{"$f":"VLOOKUP($K288,SpanRange,2,FALSE)","v":246.19999999999899},{"$f":"VLOOKUP($K288,SpanRange,3,FALSE)","v":2},{"$f":"Find_Table(Spans!$I$2,I288)","v":11},{"$f":"IF(R288=0,Spans!$C$10,VLOOKUP(P288,INDIRECT(\"Table\"&R288),Q288,TRUE))","v":30},"No","No"]
[791,"W12154246N3953852",39.538519999999899,-121.54246000000001,98.5,12.4,12,"[Other, LiveOak, Eucalyptus/BlueGum]","Other",-76.7,"W12154250N3953758-W12154252N3953857","Tier 2-3","YES","2019-11-20T17:46:46",{"$f":"VLOOKUP($K289,SpanRange,4,FALSE)","v":196},{"$f":"VLOOKUP($K289,SpanRange,2,FALSE)","v":362},{"$f":"VLOOKUP($K289,SpanRange,3,FALSE)","v":2},{"$f":"Find_Table(Spans!$I$2,I289)","v":11},{"$f":"IF(R289=0,Spans!$C$10,VLOOKUP(P289,INDIRECT(\"Table\"&R289),Q289,TRUE))","v":30},"Yes","No"]
[795,"W12152070N3953005",39.530049999999903,-121.52070000000001,55.399999999999899,37,7.7,"[GrayPine, Other, DouglasFir]","GrayPine",-6.8,"W12152005N3953021-W12152091N3953014","Tier 2-3","YES","2019-11-20T17:46:46",{"$f":"VLOOKUP($K290,SpanRange,4,FALSE)","v":127},{"$f":"VLOOKUP($K290,SpanRange,2,FALSE)","v":241.69999999999899},{"$f":"VLOOKUP($K290,SpanRange,3,FALSE)","v":2},{"$f":"Find_Table(Spans!$I$2,I290)","v":10},{"$f":"IF(R290=0,Spans!$C$10,VLOOKUP(P290,INDIRECT(\"Table\"&R290),Q290,TRUE))","v":32},"No","No"]
[796,"W12151451N3952486",39.524859999999897,-121.51451,37.399999999999899,22.4,5.9,"[GrayPine, DouglasFir, LiveOak]","GrayPine",-0.5,"W12151461N3952559-W12151459N3952471","Tier 2-3","YES","2019-11-20T17:46:46",{"$f":"VLOOKUP($K291,SpanRange,4,FALSE)","v":54},{"$f":"VLOOKUP($K291,SpanRange,2,FALSE)","v":322.60000000000002},{"$f":"VLOOKUP($K291,SpanRange,3,FALSE)","v":2},{"$f":"Find_Table(Spans!$I$2,I291)","v":10},{"$f":"IF(R291=0,Spans!$C$10,VLOOKUP(P291,INDIRECT(\"Table\"&R291),Q291,TRUE))","v":36},"No","No"]
[797,"W12153119N3952917",39.529170000000001,-121.531189999999,70.2,51.3,33.399999999999899,"[Other, CoastalLiveOak, GrayPine]","Other",-11.6,"W12153133N3952927-W12153130N3952973","Tier 2-3","YES","2019-11-20T17:46:46",{"$f":"VLOOKUP($K292,SpanRange,4,FALSE)","v":113},{"$f":"VLOOKUP($K292,SpanRange,2,FALSE)","v":167.4},{"$f":"VLOOKUP($K292,SpanRange,3,FALSE)","v":2},{"$f":"Find_Table(Spans!$I$2,I292)","v":11},{"$f":"IF(R292=0,Spans!$C$10,VLOOKUP(P292,INDIRECT(\"Table\"&R292),Q292,TRUE))","v":30},"No","No"]
[802,"W12154245N3953738",39.537379999999899,-121.54245,53.6,11.6,8.3000000000000007,"[DouglasFir, GrayPine, TanOak]","DouglasFir",-29.1999999999999,"W12154250N3953758-W12154253N3953660","Tier 2-3","YES","2019-11-20T17:46:46",{"$f":"VLOOKUP($K293,SpanRange,4,FALSE)","v":195},{"$f":"VLOOKUP($K293,SpanRange,2,FALSE)","v":355.89999999999901},{"$f":"VLOOKUP($K293,SpanRange,3,FALSE)","v":2},{"$f":"Find_Table(Spans!$I$2,I293)","v":9},{"$f":"IF(R293=0,Spans!$C$10,VLOOKUP(P293,INDIRECT(\"Table\"&R293),Q293,TRUE))","v":31},"No","No"]
[803,"W12152644N3952881",39.52881,-121.526439999999,43.399999999999899,36.299999999999997,15.3,"[Other, CoastalLiveOak, ValleyOak]","Other",-2,"W12152680N3952875-W12152596N3952916","Tier 2-3","YES","2019-11-20T17:46:46",{"$f":"VLOOKUP($K294,SpanRange,4,FALSE)","v":105},{"$f":"VLOOKUP($K294,SpanRange,2,FALSE)","v":281},{"$f":"VLOOKUP($K294,SpanRange,3,FALSE)","v":2},{"$f":"Find_Table(Spans!$I$2,I294)","v":11},{"$f":"IF(R294=0,Spans!$C$10,VLOOKUP(P294,INDIRECT(\"Table\"&R294),Q294,TRUE))","v":30},"No","No"]
[807,"W12152930N3952711",39.52711,-121.52930000000001,101.5,35.6,27.9,"[GrayPine, Eucalyptus/BlueGum, DouglasFir]","GrayPine",-55.899999999999899,"W12152971N3952716-W12152907N3952726","Tier 2-3","YES","2019-11-20T17:46:46",{"$f":"VLOOKUP($K295,SpanRange,4,FALSE)","v":79},{"$f":"VLOOKUP($K295,SpanRange,2,FALSE)","v":184.9},{"$f":"VLOOKUP($K295,SpanRange,3,FALSE)","v":2},{"$f":"Find_Table(Spans!$I$2,I295)","v":10},{"$f":"IF(R295=0,Spans!$C$10,VLOOKUP(P295,INDIRECT(\"Table\"&R295),Q295,TRUE))","v":26},"Yes","No"]
[808,"W12152960N3952713",39.52713,-121.5296,37.399999999999899,12.1,7.3,"[DouglasFir, CoastalLiveOak, Other]","DouglasFir",-3.7,"W12152971N3952716-W12152907N3952726","Tier 2-3","YES","2019-11-20T17:46:46",{"$f":"VLOOKUP($K296,SpanRange,4,FALSE)","v":79},{"$f":"VLOOKUP($K296,SpanRange,2,FALSE)","v":184.9},{"$f":"VLOOKUP($K296,SpanRange,3,FALSE)","v":2},{"$f":"Find_Table(Spans!$I$2,I296)","v":9},{"$f":"IF(R296=0,Spans!$C$10,VLOOKUP(P296,INDIRECT(\"Table\"&R296),Q296,TRUE))","v":21},"No","No"]
[811,"W12152907N3952734",39.527339999999903,-121.529069999999,46.2,23.1999999999999,5.6,"[Other, GrayPine, DouglasFir]","Other",-1,"W12152907N3952726-W12152800N3952774","Tier 2-3","YES","2019-11-20T17:46:46",{"$f":"VLOOKUP($K297,SpanRange,4,FALSE)","v":84},{"$f":"VLOOKUP($K297,SpanRange,2,FALSE)","v":349.69999999999902},{"$f":"VLOOKUP($K297,SpanRange,3,FALSE)","v":2},{"$f":"Find_Table(Spans!$I$2,I297)","v":11},{"$f":"IF(R297=0,Spans!$C$10,VLOOKUP(P297,INDIRECT(\"Table\"&R297),Q297,TRUE))","v":30},"No","No"]
[814,"W12153218N3953128",39.531279999999903,-121.532179999999,47.399999999999899,29.3,5.6,"[DouglasFir, GrayPine, MontereyPine]","DouglasFir",-6.3,"W12153207N3953097-W12153206N3953153","Tier 2-3","YES","2019-11-20T17:46:46",{"$f":"VLOOKUP($K298,SpanRange,4,FALSE)","v":148},{"$f":"VLOOKUP($K298,SpanRange,2,FALSE)","v":205.3},{"$f":"VLOOKUP($K298,SpanRange,3,FALSE)","v":2},{"$f":"Find_Table(Spans!$I$2,I298)","v":9},{"$f":"IF(R298=0,Spans!$C$10,VLOOKUP(P298,INDIRECT(\"Table\"&R298),Q298,TRUE))","v":26},"No","No"]
[817,"W12151902N3953110",39.531100000000002,-121.519019999999,53.399999999999899,39.200000000000003,5.5,"[MontereyPine, Other, CoastalLiveOak]","MontereyPine",-1,"W12151923N3953089-W12151868N3953111","Tier 2-3","YES","2019-11-20T17:46:46",{"$f":"VLOOKUP($K299,SpanRange,4,FALSE)","v":145},{"$f":"VLOOKUP($K299,SpanRange,2,FALSE)","v":177.599999999999},{"$f":"VLOOKUP($K299,SpanRange,3,FALSE)","v":2},{"$f":"Find_Table(Spans!$I$2,I299)","v":10},{"$f":"IF(R299=0,Spans!$C$10,VLOOKUP(P299,INDIRECT(\"Table\"&R299),Q299,TRUE))","v":26},"No","No"]
[822,"W12154244N3953986",39.539859999999898,-121.542439999999,63.399999999999899,43.6,21.3,"[DouglasFir, Eucalyptus/BlueGum, GrayPine]","DouglasFir",-19.600000000000001,"W12154263N3953924-W12154261N3953987","Tier 2-3","YES","2019-11-20T17:46:46",{"$f":"VLOOKUP($K300,SpanRange,4,FALSE)","v":198},{"$f":"VLOOKUP($K300,SpanRange,2,FALSE)","v":231},{"$f":"VLOOKUP($K300,SpanRange,3,FALSE)","v":2},{"$f":"Find_Table(Spans!$I$2,I300)","v":9},{"$f":"IF(R300=0,Spans!$C$10,VLOOKUP(P300,INDIRECT(\"Table\"&R300),Q300,TRUE))","v":26},"No","No"]
[826,"W12154246N3953907",39.539069999999903,-121.54246000000001,38.1,37.200000000000003,26.8,"[DouglasFir, LiveOak, Other]","DouglasFir",-0.9,"W12154263N3953924-W12154252N3953857","Tier 2-3","YES","2019-11-20T17:46:46",{"$f":"VLOOKUP($K301,SpanRange,4,FALSE)","v":197},{"$f":"VLOOKUP($K301,SpanRange,2,FALSE)","v":244.69999999999899},{"$f":"VLOOKUP($K301,SpanRange,3,FALSE)","v":2},{"$f":"Find_Table(Spans!$I$2,I301)","v":9},{"$f":"IF(R301=0,Spans!$C$10,VLOOKUP(P301,INDIRECT(\"Table\"&R301),Q301,TRUE))","v":26},"No","No"]
[828,"W12153897N3953195",39.531949999999902,-121.53897000000001,38.799999999999997,25.5,8.8000000000000007,"[CoastalLiveOak, Other, Eucalyptus/BlueGum]","CoastalLiveOak",-0.3,"W12153907N3953193-W12153905N3953243","Tier 2-3","YES","2019-11-20T17:46:46",{"$f":"VLOOKUP($K302,SpanRange,4,FALSE)","v":167},{"$f":"VLOOKUP($K302,SpanRange,2,FALSE)","v":182.3},{"$f":"VLOOKUP($K302,SpanRange,3,FALSE)","v":2},{"$f":"Find_Table(Spans!$I$2,I302)","v":11},{"$f":"IF(R302=0,Spans!$C$10,VLOOKUP(P302,INDIRECT(\"Table\"&R302),Q302,TRUE))","v":30},"No","No"]
[830,"W12152599N3953272",39.532719999999898,-121.52598999999999,47.1,13.6,6.5,"[Other, DouglasFir, ValleyOak]","Other",-14.7,"W12152605N3953235-W12152605N3953285","Tier 2-3","YES","2019-11-20T17:46:46",{"$f":"VLOOKUP($K303,SpanRange,4,FALSE)","v":178},{"$f":"VLOOKUP($K303,SpanRange,2,FALSE)","v":180.3},{"$f":"VLOOKUP($K303,SpanRange,3,FALSE)","v":2},{"$f":"Find_Table(Spans!$I$2,I303)","v":11},{"$f":"IF(R303=0,Spans!$C$10,VLOOKUP(P303,INDIRECT(\"Table\"&R303),Q303,TRUE))","v":30},"No","No"]
[831,"W12153151N3953150",39.531500000000001,-121.531509999999,48,12.3,7.1,"[GrayPine, DouglasFir, ValleyOak]","GrayPine",-17.100000000000001,"W12153147N3953155-W12153206N3953153","Tier 2-3","YES","2019-11-20T17:46:46",{"$f":"VLOOKUP($K304,SpanRange,4,FALSE)","v":159},{"$f":"VLOOKUP($K304,SpanRange,2,FALSE)","v":167.69999999999899},{"$f":"VLOOKUP($K304,SpanRange,3,FALSE)","v":2},{"$f":"Find_Table(Spans!$I$2,I304)","v":10},{"$f":"IF(R304=0,Spans!$C$10,VLOOKUP(P304,INDIRECT(\"Table\"&R304),Q304,TRUE))","v":26},"No","No"]
[835,"W12154094N3953323",39.533229999999897,-121.54094000000001,76.299999999999898,20.6999999999999,5.0999999999999996,"[Other, DouglasFir, GrayPine]","Other",-32.799999999999898,"W12154087N3953327-W12154073N3953285","Tier 2-3","YES","2019-11-20T17:46:46",{"$f":"VLOOKUP($K305,SpanRange,4,FALSE)","v":187},{"$f":"VLOOKUP($K305,SpanRange,2,FALSE)","v":159.9},{"$f":"VLOOKUP($K305,SpanRange,3,FALSE)","v":2},{"$f":"Find_Table(Spans!$I$2,I305)","v":11},{"$f":"IF(R305=0,Spans!$C$10,VLOOKUP(P305,INDIRECT(\"Table\"&R305),Q305,TRUE))","v":30},"Yes","No"]
[838,"W12154062N3953133",39.531329999999897,-121.54062,51,29.3,6.1,"[DouglasFir, LiveOak, CoastalLiveOak]","DouglasFir",-6.3,"W12154060N3953123-W12154084N3953131","Tier 2-3","YES","2019-11-20T17:46:46",{"$f":"VLOOKUP($K306,SpanRange,4,FALSE)","v":149},{"$f":"VLOOKUP($K306,SpanRange,2,FALSE)","v":72.099999999999895},{"$f":"VLOOKUP($K306,SpanRange,3,FALSE)","v":2},{"$f":"Find_Table(Spans!$I$2,I306)","v":9},{"$f":"IF(R306=0,Spans!$C$10,VLOOKUP(P306,INDIRECT(\"Table\"&R306),Q306,TRUE))","v":16},"No","No"]
[839,"W12153649N3953159",39.531590000000001,-121.53649,51.6,10.3,5.2,"[CoastalLiveOak, DouglasFir, Eucalyptus/BlueGum]","CoastalLiveOak",-18.100000000000001,"W12153655N3953211-W12153654N3953154","Tier 2-3","YES","2019-11-20T17:46:46",{"$f":"VLOOKUP($K307,SpanRange,4,FALSE)","v":165},{"$f":"VLOOKUP($K307,SpanRange,2,FALSE)","v":209.599999999999},{"$f":"VLOOKUP($K307,SpanRange,3,FALSE)","v":2},{"$f":"Find_Table(Spans!$I$2,I307)","v":11},{"$f":"IF(R307=0,Spans!$C$10,VLOOKUP(P307,INDIRECT(\"Table\"&R307),Q307,TRUE))","v":30},"No","No"]
[840,"W12153011N3952962",39.529620000000001,-121.53010999999999,77.099999999999994,35.1,5.4,"[DouglasFir, GrayPine, CoastalLiveOak]","DouglasFir",-26.8,"W12153068N3952972-W12152988N3952972","Tier 2-3","YES","2019-11-20T17:46:46",{"$f":"VLOOKUP($K308,SpanRange,4,FALSE)","v":117},{"$f":"VLOOKUP($K308,SpanRange,2,FALSE)","v":225.69999999999899},{"$f":"VLOOKUP($K308,SpanRange,3,FALSE)","v":2},{"$f":"Find_Table(Spans!$I$2,I308)","v":9},{"$f":"IF(R308=0,Spans!$C$10,VLOOKUP(P308,INDIRECT(\"Table\"&R308),Q308,TRUE))","v":26},"Yes","No"]
[841,"W12152041N3952867",39.528669999999899,-121.520409999999,93.1,47.8,29.4,"[CoastalLiveOak, DouglasFir, MontereyPine]","CoastalLiveOak",-30.6,"W12152053N3952877-W12152014N3952914","Tier 2-3","YES","2019-11-20T17:46:46",{"$f":"VLOOKUP($K309,SpanRange,4,FALSE)","v":106},{"$f":"VLOOKUP($K309,SpanRange,2,FALSE)","v":171.9},{"$f":"VLOOKUP($K309,SpanRange,3,FALSE)","v":2},{"$f":"Find_Table(Spans!$I$2,I309)","v":11},{"$f":"IF(R309=0,Spans!$C$10,VLOOKUP(P309,INDIRECT(\"Table\"&R309),Q309,TRUE))","v":30},"Yes","No"]
[844,"W12153226N3952992",39.529919999999898,-121.532259999999,69.900000000000006,51.2,47.899999999999899,"[GrayPine, Other, ValleyOak]","GrayPine",-9,"W12153206N3952972-W12153206N3953018","Tier 2-3","YES","2019-11-20T17:46:46",{"$f":"VLOOKUP($K310,SpanRange,4,FALSE)","v":124},{"$f":"VLOOKUP($K310,SpanRange,2,FALSE)","v":166.3},{"$f":"VLOOKUP($K310,SpanRange,3,FALSE)","v":2},{"$f":"Find_Table(Spans!$I$2,I310)","v":10},{"$f":"IF(R310=0,Spans!$C$10,VLOOKUP(P310,INDIRECT(\"Table\"&R310),Q310,TRUE))","v":26},"No","No"]
[845,"W12154231N3953781",39.53781,-121.54231,68.2,49.5,28.6999999999999,"[GrayPine, Eucalyptus/BlueGum, DouglasFir]","GrayPine",-18.399999999999999,"W12154250N3953758-W12154252N3953857","Tier 2-3","YES","2019-11-20T17:46:46",{"$f":"VLOOKUP($K311,SpanRange,4,FALSE)","v":196},{"$f":"VLOOKUP($K311,SpanRange,2,FALSE)","v":362},{"$f":"VLOOKUP($K311,SpanRange,3,FALSE)","v":2},{"$f":"Find_Table(Spans!$I$2,I311)","v":10},{"$f":"IF(R311=0,Spans!$C$10,VLOOKUP(P311,INDIRECT(\"Table\"&R311),Q311,TRUE))","v":36},"No","No"]
[847,"W12154227N3953849",39.538489999999904,-121.54227,70.299999999999898,67.299999999999898,45.6,"[DouglasFir, Eucalyptus/BlueGum, GrayPine]","DouglasFir",-1.8,"W12154250N3953758-W12154252N3953857","Tier 2-3","YES","2019-11-20T17:46:46",{"$f":"VLOOKUP($K312,SpanRange,4,FALSE)","v":196},{"$f":"VLOOKUP($K312,SpanRange,2,FALSE)","v":362},{"$f":"VLOOKUP($K312,SpanRange,3,FALSE)","v":2},{"$f":"Find_Table(Spans!$I$2,I312)","v":9},{"$f":"IF(R312=0,Spans!$C$10,VLOOKUP(P312,INDIRECT(\"Table\"&R312),Q312,TRUE))","v":31},"No","No"]
[848,"W12152486N3952934",39.529339999999898,-121.52486,61.8,59.1,41.8,"[DouglasFir, Eucalyptus/BlueGum, CoastalLiveOak]","DouglasFir",-0.3,"W12152508N3952949-W12152414N3952959","Tier 2-3","YES","2019-11-20T17:46:46",{"$f":"VLOOKUP($K313,SpanRange,4,FALSE)","v":114},{"$f":"VLOOKUP($K313,SpanRange,2,FALSE)","v":267.5},{"$f":"VLOOKUP($K313,SpanRange,3,FALSE)","v":2},{"$f":"Find_Table(Spans!$I$2,I313)","v":9},{"$f":"IF(R313=0,Spans!$C$10,VLOOKUP(P313,INDIRECT(\"Table\"&R313),Q313,TRUE))","v":26},"No","No"]
[851,"W12151856N3953112",39.531120000000001,-121.51855999999999,59.6,19.8,5.0999999999999996,"[Other, DouglasFir, GrayPine]","Other",-24.1,"W12151822N3953157-W12151868N3953111","Tier 2-3","YES","2019-11-20T17:46:46",{"$f":"VLOOKUP($K314,SpanRange,4,FALSE)","v":153},{"$f":"VLOOKUP($K314,SpanRange,2,FALSE)","v":210.9},{"$f":"VLOOKUP($K314,SpanRange,3,FALSE)","v":2},{"$f":"Find_Table(Spans!$I$2,I314)","v":11},{"$f":"IF(R314=0,Spans!$C$10,VLOOKUP(P314,INDIRECT(\"Table\"&R314),Q314,TRUE))","v":30},"No","No"]
[853,"W12153864N3953266",39.53266,-121.53864,74.900000000000006,52.399999999999899,41.1,"[GrayPine, DouglasFir, Eucalyptus/BlueGum]","GrayPine",-17.899999999999999,"W12153848N3953281-W12153906N3953282","Tier 2-3","YES","2019-11-20T17:46:46",{"$f":"VLOOKUP($K315,SpanRange,4,FALSE)","v":183},{"$f":"VLOOKUP($K315,SpanRange,2,FALSE)","v":163.80000000000001},{"$f":"VLOOKUP($K315,SpanRange,3,FALSE)","v":2},{"$f":"Find_Table(Spans!$I$2,I315)","v":10},{"$f":"IF(R315=0,Spans!$C$10,VLOOKUP(P315,INDIRECT(\"Table\"&R315),Q315,TRUE))","v":26},"No","No"]
[854,"W12153169N3953162",39.531619999999897,-121.531689999999,38.899999999999899,24.5,5.6,"[DouglasFir, CoastalLiveOak, Eucalyptus/BlueGum]","DouglasFir",-3.4,"W12153147N3953155-W12153206N3953153","Tier 2-3","YES","2019-11-20T17:46:46",{"$f":"VLOOKUP($K316,SpanRange,4,FALSE)","v":159},{"$f":"VLOOKUP($K316,SpanRange,2,FALSE)","v":167.69999999999899},{"$f":"VLOOKUP($K316,SpanRange,3,FALSE)","v":2},{"$f":"Find_Table(Spans!$I$2,I316)","v":9},{"$f":"IF(R316=0,Spans!$C$10,VLOOKUP(P316,INDIRECT(\"Table\"&R316),Q316,TRUE))","v":21},"No","No"]
[855,"W12154227N3954124",39.541239999999902,-121.54227,27.1,22.6999999999999,7.9,"[DouglasFir, CoastalLiveOak, Eucalyptus/BlueGum]","DouglasFir",-3.9,"W12154249N3954102-W12154206N3954186","Tier 2-3","YES","2019-11-20T17:46:46",{"$f":"VLOOKUP($K317,SpanRange,4,FALSE)","v":201},{"$f":"VLOOKUP($K317,SpanRange,2,FALSE)","v":330.6},{"$f":"VLOOKUP($K317,SpanRange,3,FALSE)","v":2},{"$f":"Find_Table(Spans!$I$2,I317)","v":9},{"$f":"IF(R317=0,Spans!$C$10,VLOOKUP(P317,INDIRECT(\"Table\"&R317),Q317,TRUE))","v":31},"No","No"]
[857,"W12153842N3953266",39.53266,-121.53842,80.5,55.8,36.700000000000003,"[GrayPine, Eucalyptus/BlueGum, DouglasFir]","GrayPine",-20.9,"W12153848N3953281-W12153906N3953282","Tier 2-3","YES","2019-11-20T17:46:46",{"$f":"VLOOKUP($K318,SpanRange,4,FALSE)","v":183},{"$f":"VLOOKUP($K318,SpanRange,2,FALSE)","v":163.80000000000001},{"$f":"VLOOKUP($K318,SpanRange,3,FALSE)","v":2},{"$f":"Find_Table(Spans!$I$2,I318)","v":10},{"$f":"IF(R318=0,Spans!$C$10,VLOOKUP(P318,INDIRECT(\"Table\"&R318),Q318,TRUE))","v":26},"No","No"]
[861,"W12151945N3952911",39.529109999999903,-121.51945000000001,54.899999999999899,45.5,32,"[GrayPine, Other, CoastalLiveOak]","GrayPine",-3.3,"W12152014N3952914-W12151936N3952926","Tier 2-3","YES","2019-11-20T17:46:46",{"$f":"VLOOKUP($K319,SpanRange,4,FALSE)","v":108},{"$f":"VLOOKUP($K319,SpanRange,2,FALSE)","v":225.099999999999},{"$f":"VLOOKUP($K319,SpanRange,3,FALSE)","v":2},{"$f":"Find_Table(Spans!$I$2,I319)","v":10},{"$f":"IF(R319=0,Spans!$C$10,VLOOKUP(P319,INDIRECT(\"Table\"&R319),Q319,TRUE))","v":32},"No","No"]
[866,"W12151962N3952970",39.529699999999998,-121.51962,78.299999999999898,10.5,8.1,"[GrayPine, MontereyPine, Other]","GrayPine",-46.8,"W12152005N3953021-W12151936N3952926","Tier 2-3","YES","2019-11-20T17:46:46",{"$f":"VLOOKUP($K320,SpanRange,4,FALSE)","v":121},{"$f":"VLOOKUP($K320,SpanRange,2,FALSE)","v":398},{"$f":"VLOOKUP($K320,SpanRange,3,FALSE)","v":2},{"$f":"Find_Table(Spans!$I$2,I320)","v":10},{"$f":"IF(R320=0,Spans!$C$10,VLOOKUP(P320,INDIRECT(\"Table\"&R320),Q320,TRUE))","v":36},"Yes","No"]
[872,"W12151779N3953165",39.5316499999999,-121.517789999999,47.7,13.7,4.9000000000000004,"[MontereyPine, DouglasFir, CoastalLiveOak]","MontereyPine",-6.2,"W12151765N3953162-W12151822N3953157","Tier 2-3","YES","2019-11-20T17:46:46",{"$f":"VLOOKUP($K321,SpanRange,4,FALSE)","v":160},{"$f":"VLOOKUP($K321,SpanRange,2,FALSE)","v":161.30000000000001},{"$f":"VLOOKUP($K321,SpanRange,3,FALSE)","v":2},{"$f":"Find_Table(Spans!$I$2,I321)","v":10},{"$f":"IF(R321=0,Spans!$C$10,VLOOKUP(P321,INDIRECT(\"Table\"&R321),Q321,TRUE))","v":26},"No","No"]
[874,"W12153408N3953251",39.532509999999903,-121.53408,67.7,30.6,10.4,"[GrayPine, DouglasFir, TanOak]","GrayPine",-24.1,"W12153421N3953300-W12153419N3953235","Tier 2-3","YES","2019-11-20T17:46:46",{"$f":"VLOOKUP($K322,SpanRange,4,FALSE)","v":182},{"$f":"VLOOKUP($K322,SpanRange,2,FALSE)","v":237.3},{"$f":"VLOOKUP($K322,SpanRange,3,FALSE)","v":2},{"$f":"Find_Table(Spans!$I$2,I322)","v":10},{"$f":"IF(R322=0,Spans!$C$10,VLOOKUP(P322,INDIRECT(\"Table\"&R322),Q322,TRUE))","v":32},"No","No"]
[881,"W12153305N3952590",39.5259,-121.53305,86.299999999999898,51.2,33.899999999999899,"[GrayPine, DouglasFir, Eucalyptus/BlueGum]","GrayPine",-28.5,"W12153345N3952585-W12153295N3952615","Tier 2-3","YES","2019-11-20T17:46:46",{"$f":"VLOOKUP($K323,SpanRange,4,FALSE)","v":66},{"$f":"VLOOKUP($K323,SpanRange,2,FALSE)","v":177.9},{"$f":"VLOOKUP($K323,SpanRange,3,FALSE)","v":2},{"$f":"Find_Table(Spans!$I$2,I323)","v":10},{"$f":"IF(R323=0,Spans!$C$10,VLOOKUP(P323,INDIRECT(\"Table\"&R323),Q323,TRUE))","v":26},"Yes","No"]
[882,"W12153906N3953043",39.530429999999903,-121.53906000000001,81.400000000000006,66.299999999999898,53.5,"[LiveOak, Other, GrayPine]","LiveOak",-2.9,"W12153843N3953063-W12153908N3953063","Tier 2-3","YES","2019-11-20T17:46:46",{"$f":"VLOOKUP($K324,SpanRange,4,FALSE)","v":137},{"$f":"VLOOKUP($K324,SpanRange,2,FALSE)","v":182.3},{"$f":"VLOOKUP($K324,SpanRange,3,FALSE)","v":2},{"$f":"Find_Table(Spans!$I$2,I324)","v":11},{"$f":"IF(R324=0,Spans!$C$10,VLOOKUP(P324,INDIRECT(\"Table\"&R324),Q324,TRUE))","v":30},{"$f":"IFERROR(IF((-1)*J324>S324,\"Yes\",\"No\"),\"No Match\")","v":"No"},{"$f":"IF(F324<=6,\"Yes\",\"No\")","v":"No"}]
[883,"W12152009N3953030",39.530299999999997,-121.520089999999,58,25.6999999999999,19.1999999999999,"[GrayPine, Other, ValleyOak]","GrayPine",-12.2,"W12152005N3953021-W12151923N3953089","Tier 2-3","YES","2019-11-20T17:46:46",{"$f":"VLOOKUP($K325,SpanRange,4,FALSE)","v":136},{"$f":"VLOOKUP($K325,SpanRange,2,FALSE)","v":336.89999999999901},{"$f":"VLOOKUP($K325,SpanRange,3,FALSE)","v":2},{"$f":"Find_Table(Spans!$I$2,I325)","v":10},{"$f":"IF(R325=0,Spans!$C$10,VLOOKUP(P325,INDIRECT(\"Table\"&R325),Q325,TRUE))","v":36},"No","No"]
[889,"W12153726N3953068",39.530679999999897,-121.53726,34.799999999999997,15.2,6.9,"[DouglasFir, LiveOak, MontereyPine]","DouglasFir",-1.8,"W12153655N3953063-W12153771N3953063","Tier 2-3","YES","2019-11-20T17:46:46",{"$f":"VLOOKUP($K326,SpanRange,4,FALSE)","v":139},{"$f":"VLOOKUP($K326,SpanRange,2,FALSE)","v":328.19999999999902},{"$f":"VLOOKUP($K326,SpanRange,3,FALSE)","v":2},{"$f":"Find_Table(Spans!$I$2,I326)","v":9},{"$f":"IF(R326=0,Spans!$C$10,VLOOKUP(P326,INDIRECT(\"Table\"&R326),Q326,TRUE))","v":31},"No","No"]
[891,"W12153855N3952644",39.526440000000001,-121.53855,58.6,30.9,18.6999999999999,"[GrayPine, Other, Eucalyptus/BlueGum]","GrayPine",-9.6,"W12153928N3952652-W12153848N3952653","Tier 2-3","YES","2019-11-20T17:46:46",{"$f":"VLOOKUP($K327,SpanRange,4,FALSE)","v":72},{"$f":"VLOOKUP($K327,SpanRange,2,FALSE)","v":226.19999999999899},{"$f":"VLOOKUP($K327,SpanRange,3,FALSE)","v":2},{"$f":"Find_Table(Spans!$I$2,I327)","v":10},{"$f":"IF(R327=0,Spans!$C$10,VLOOKUP(P327,INDIRECT(\"Table\"&R327),Q327,TRUE))","v":32},"No","No"]
[892,"W12153189N3952663",39.526629999999898,-121.53189,65.400000000000006,38.5,17.5,"[Eucalyptus/BlueGum, GrayPine, Other]","Eucalyptus/BlueGum",-16.899999999999899,"W12153224N3952655-W12153152N3952699","Tier 2-3","YES","2019-11-20T17:46:46",{"$f":"VLOOKUP($K328,SpanRange,4,FALSE)","v":75},{"$f":"VLOOKUP($K328,SpanRange,2,FALSE)","v":257.60000000000002},{"$f":"VLOOKUP($K328,SpanRange,3,FALSE)","v":2},{"$f":"Find_Table(Spans!$I$2,I328)","v":12},{"$f":"IF(R328=0,Spans!$C$10,VLOOKUP(P328,INDIRECT(\"Table\"&R328),Q328,TRUE))","v":30},"No","No"]
[893,"W12153269N3953053",39.530529999999899,-121.53269,79.5,15.6,8.5,"[GrayPine, DouglasFir, CoastalLiveOak]","GrayPine",-39.6,"W12153269N3953048-W12153206N3953048","Tier 2-3","YES","2019-11-20T17:46:46",{"$f":"VLOOKUP($K329,SpanRange,4,FALSE)","v":133},{"$f":"VLOOKUP($K329,SpanRange,2,FALSE)","v":176.5},{"$f":"VLOOKUP($K329,SpanRange,3,FALSE)","v":2},{"$f":"Find_Table(Spans!$I$2,I329)","v":10},{"$f":"IF(R329=0,Spans!$C$10,VLOOKUP(P329,INDIRECT(\"Table\"&R329),Q329,TRUE))","v":26},"Yes","No"]
[895,"W12153541N3952651",39.526509999999902,-121.535409999999,40.200000000000003,12.1,6.7,"[DouglasFir, LiveOak, ValleyOak]","DouglasFir",-5,"W12153536N3952706-W12153535N3952637","Tier 2-3","YES","2019-11-20T17:46:46",{"$f":"VLOOKUP($K330,SpanRange,4,FALSE)","v":74},{"$f":"VLOOKUP($K330,SpanRange,2,FALSE)","v":252.3},{"$f":"VLOOKUP($K330,SpanRange,3,FALSE)","v":2},{"$f":"Find_Table(Spans!$I$2,I330)","v":9},{"$f":"IF(R330=0,Spans!$C$10,VLOOKUP(P330,INDIRECT(\"Table\"&R330),Q330,TRUE))","v":26},"No","No"]
[896,"W12154249N3954000",39.5399999999999,-121.54249,66.400000000000006,28.6,13.3,"[DouglasFir, GrayPine, Eucalyptus/BlueGum]","DouglasFir",-36.399999999999899,"W12154261N3953987-W12154258N3954066","Tier 2-3","YES","2019-11-20T17:46:46",{"$f":"VLOOKUP($K331,SpanRange,4,FALSE)","v":199},{"$f":"VLOOKUP($K331,SpanRange,2,FALSE)","v":286.69999999999902},{"$f":"VLOOKUP($K331,SpanRange,3,FALSE)","v":2},{"$f":"Find_Table(Spans!$I$2,I331)","v":9},{"$f":"IF(R331=0,Spans!$C$10,VLOOKUP(P331,INDIRECT(\"Table\"&R331),Q331,TRUE))","v":26},"Yes","No"]
[897,"W12153653N3953053",39.530529999999899,-121.536529999999,62.7,35.200000000000003,15.9,"[LiveOak, DouglasFir, GrayPine]","LiveOak",-17.399999999999999,"W12153655N3953063-W12153654N3953103","Tier 2-3","YES","2019-11-20T17:46:46",{"$f":"VLOOKUP($K332,SpanRange,4,FALSE)","v":144},{"$f":"VLOOKUP($K332,SpanRange,2,FALSE)","v":148},{"$f":"VLOOKUP($K332,SpanRange,3,FALSE)","v":2},{"$f":"Find_Table(Spans!$I$2,I332)","v":11},{"$f":"IF(R332=0,Spans!$C$10,VLOOKUP(P332,INDIRECT(\"Table\"&R332),Q332,TRUE))","v":30},"No","No"]
[899,"W12153427N3953254",39.532539999999898,-121.534269999999,36.399999999999899,16.899999999999899,9.5,"[LiveOak, MontereyPine, Other]","LiveOak",-0.2,"W12153421N3953300-W12153419N3953235","Tier 2-3","YES","2019-11-20T17:46:46",{"$f":"VLOOKUP($K333,SpanRange,4,FALSE)","v":182},{"$f":"VLOOKUP($K333,SpanRange,2,FALSE)","v":237.3},{"$f":"VLOOKUP($K333,SpanRange,3,FALSE)","v":2},{"$f":"Find_Table(Spans!$I$2,I333)","v":11},{"$f":"IF(R333=0,Spans!$C$10,VLOOKUP(P333,INDIRECT(\"Table\"&R333),Q333,TRUE))","v":30},"No","No"]
[901,"W12153482N3953238",39.532379999999897,-121.534819999999,31.1,19,12,"[DouglasFir, LiveOak, TanOak]","DouglasFir",-3.1,"W12153419N3953235-W12153557N3953230","Tier 2-3","YES","2019-11-20T17:46:46",{"$f":"VLOOKUP($K334,SpanRange,4,FALSE)","v":172},{"$f":"VLOOKUP($K334,SpanRange,2,FALSE)","v":388.6},{"$f":"VLOOKUP($K334,SpanRange,3,FALSE)","v":2},{"$f":"Find_Table(Spans!$I$2,I334)","v":9},{"$f":"IF(R334=0,Spans!$C$10,VLOOKUP(P334,INDIRECT(\"Table\"&R334),Q334,TRUE))","v":31},"No","No"]
[902,"W12152699N3952839",39.528390000000002,-121.526989999999,81.299999999999898,59,41.7,"[Eucalyptus/BlueGum, BlackOak, Other]","Eucalyptus/BlueGum",-19.3,"W12152750N3952825-W12152680N3952875","Tier 2-3","YES","2019-11-20T17:46:46",{"$f":"VLOOKUP($K335,SpanRange,4,FALSE)","v":98},{"$f":"VLOOKUP($K335,SpanRange,2,FALSE)","v":268.39999999999901},{"$f":"VLOOKUP($K335,SpanRange,3,FALSE)","v":2},{"$f":"Find_Table(Spans!$I$2,I335)","v":12},{"$f":"IF(R335=0,Spans!$C$10,VLOOKUP(P335,INDIRECT(\"Table\"&R335),Q335,TRUE))","v":30},"No","No"]
[911,"W12154229N3953822",39.538219999999903,-121.542289999999,88.1,59.2,49.1,null,null,-28.6,"W12154250N3953758-W12154252N3953857","Tier 2-3","YES","2019-11-20T17:46:46",{"$f":"VLOOKUP($K336,SpanRange,4,FALSE)","v":196},{"$f":"VLOOKUP($K336,SpanRange,2,FALSE)","v":362},{"$f":"VLOOKUP($K336,SpanRange,3,FALSE)","v":2},{"$f":"Find_Table(Spans!$I$2,I336)","v":11},{"$f":"IF(R336=0,Spans!$C$10,VLOOKUP(P336,INDIRECT(\"Table\"&R336),Q336,TRUE))","v":30},"No","No"]
[915,"W12154179N3953432",39.534320000000001,-121.541789999999,54.899999999999899,13.8,9,"[DouglasFir, GrayPine, Eucalyptus/BlueGum]","DouglasFir",-23.6,"W12154179N3953424-W12154214N3953455","Tier 2-3","YES","2019-11-20T17:46:46",{"$f":"VLOOKUP($K337,SpanRange,4,FALSE)","v":190},{"$f":"VLOOKUP($K337,SpanRange,2,FALSE)","v":149.30000000000001},{"$f":"VLOOKUP($K337,SpanRange,3,FALSE)","v":2},{"$f":"Find_Table(Spans!$I$2,I337)","v":9},{"$f":"IF(R337=0,Spans!$C$10,VLOOKUP(P337,INDIRECT(\"Table\"&R337),Q337,TRUE))","v":16},"Yes","No"]
[919,"W12153530N3952702",39.52702,-121.53530000000001,45.3,14.1,6.1,"[TanOak, DouglasFir, LiveOak]","TanOak",-14.4,"W12153536N3952706-W12153535N3952637","Tier 2-3","YES","2019-11-20T17:46:46",{"$f":"VLOOKUP($K338,SpanRange,4,FALSE)","v":74},{"$f":"VLOOKUP($K338,SpanRange,2,FALSE)","v":252.3},{"$f":"VLOOKUP($K338,SpanRange,3,FALSE)","v":2},{"$f":"Find_Table(Spans!$I$2,I338)","v":11},{"$f":"IF(R338=0,Spans!$C$10,VLOOKUP(P338,INDIRECT(\"Table\"&R338),Q338,TRUE))","v":30},"No","No"]
[922,"W12154229N3953740",39.537399999999998,-121.542289999999,74,55.3,39.5,null,null,-16.600000000000001,"W12154250N3953758-W12154253N3953660","Tier 2-3","YES","2019-11-20T17:46:46",{"$f":"VLOOKUP($K339,SpanRange,4,FALSE)","v":195},{"$f":"VLOOKUP($K339,SpanRange,2,FALSE)","v":355.89999999999901},{"$f":"VLOOKUP($K339,SpanRange,3,FALSE)","v":2},{"$f":"Find_Table(Spans!$I$2,I339)","v":11},{"$f":"IF(R339=0,Spans!$C$10,VLOOKUP(P339,INDIRECT(\"Table\"&R339),Q339,TRUE))","v":30},"No","No"]
[923,"W12154069N3953113",39.531129999999898,-121.540689999999,65.299999999999898,37.700000000000003,22.3,"[GrayPine, Other, MontereyPine]","GrayPine",-15.7,"W12154060N3953123-W12154084N3953131","Tier 2-3","YES","2019-11-20T17:46:46",{"$f":"VLOOKUP($K340,SpanRange,4,FALSE)","v":149},{"$f":"VLOOKUP($K340,SpanRange,2,FALSE)","v":72.099999999999895},{"$f":"VLOOKUP($K340,SpanRange,3,FALSE)","v":2},{"$f":"Find_Table(Spans!$I$2,I340)","v":10},{"$f":"IF(R340=0,Spans!$C$10,VLOOKUP(P340,INDIRECT(\"Table\"&R340),Q340,TRUE))","v":19},"No","No"]
[924,"W12152829N3952749",39.52749,-121.528289999999,48.2,34.799999999999997,4.5999999999999996,"[DouglasFir, CoastalLiveOak, Eucalyptus/BlueGum]","DouglasFir",-2.6,"W12152907N3952726-W12152800N3952774","Tier 2-3","YES","2019-11-20T17:46:46",{"$f":"VLOOKUP($K341,SpanRange,4,FALSE)","v":84},{"$f":"VLOOKUP($K341,SpanRange,2,FALSE)","v":349.69999999999902},{"$f":"VLOOKUP($K341,SpanRange,3,FALSE)","v":2},{"$f":"Find_Table(Spans!$I$2,I341)","v":9},{"$f":"IF(R341=0,Spans!$C$10,VLOOKUP(P341,INDIRECT(\"Table\"&R341),Q341,TRUE))","v":31},"No","No"]
[932,"W12154077N3953347",39.533470000000001,-121.540769999999,94.9,60.399999999999899,44.1,"[GrayPine, DouglasFir, CoastalLiveOak]","GrayPine",-12.4,"W12154149N3953393-W12154087N3953327","Tier 2-3","YES","2019-11-20T17:46:46",{"$f":"VLOOKUP($K342,SpanRange,4,FALSE)","v":188},{"$f":"VLOOKUP($K342,SpanRange,2,FALSE)","v":296},{"$f":"VLOOKUP($K342,SpanRange,3,FALSE)","v":2},{"$f":"Find_Table(Spans!$I$2,I342)","v":10},{"$f":"IF(R342=0,Spans!$C$10,VLOOKUP(P342,INDIRECT(\"Table\"&R342),Q342,TRUE))","v":32},"No","No"]
[935,"W12153828N3952661",39.526609999999899,-121.53828,65.299999999999898,53,38.5,"[GrayPine, DouglasFir, TanOak]","GrayPine",-1.3,"W12153767N3952612-W12153848N3952653","Tier 2-3","YES","2019-11-20T17:46:46",{"$f":"VLOOKUP($K343,SpanRange,4,FALSE)","v":70},{"$f":"VLOOKUP($K343,SpanRange,2,FALSE)","v":273},{"$f":"VLOOKUP($K343,SpanRange,3,FALSE)","v":2},{"$f":"Find_Table(Spans!$I$2,I343)","v":10},{"$f":"IF(R343=0,Spans!$C$10,VLOOKUP(P343,INDIRECT(\"Table\"&R343),Q343,TRUE))","v":32},"No","No"]
[936,"W12153731N3952539",39.525390000000002,-121.537309999999,36,16.1999999999999,6.3,"[DouglasFir, Other, GrayPine]","DouglasFir",-2.1,"W12153709N3952512-W12153742N3952569","Tier 2-3","YES","2019-11-20T17:46:46",{"$f":"VLOOKUP($K344,SpanRange,4,FALSE)","v":58},{"$f":"VLOOKUP($K344,SpanRange,2,FALSE)","v":227.69999999999899},{"$f":"VLOOKUP($K344,SpanRange,3,FALSE)","v":2},{"$f":"Find_Table(Spans!$I$2,I344)","v":9},{"$f":"IF(R344=0,Spans!$C$10,VLOOKUP(P344,INDIRECT(\"Table\"&R344),Q344,TRUE))","v":26},"No","No"]
[943,"W12154064N3953195",39.531949999999902,-121.540639999999,68.5,57.399999999999899,37.5,"[DouglasFir, Eucalyptus/BlueGum, GrayPine]","DouglasFir",-8.1,"W12154084N3953131-W12154086N3953214","Tier 2-3","YES","2019-11-20T17:46:46",{"$f":"VLOOKUP($K345,SpanRange,4,FALSE)","v":162},{"$f":"VLOOKUP($K345,SpanRange,2,FALSE)","v":302.60000000000002},{"$f":"VLOOKUP($K345,SpanRange,3,FALSE)","v":2},{"$f":"Find_Table(Spans!$I$2,I345)","v":9},{"$f":"IF(R345=0,Spans!$C$10,VLOOKUP(P345,INDIRECT(\"Table\"&R345),Q345,TRUE))","v":31},"No","No"]
[945,"W12153931N3953288",39.532879999999899,-121.53931,40.399999999999899,20.399999999999999,12,"[LiveOak, DouglasFir, CoastalLiveOak]","LiveOak",-1.5,"W12153944N3953282-W12153906N3953282","Tier 2-3","YES","2019-11-20T17:46:46",{"$f":"VLOOKUP($K346,SpanRange,4,FALSE)","v":184},{"$f":"VLOOKUP($K346,SpanRange,2,FALSE)","v":108.2},{"$f":"VLOOKUP($K346,SpanRange,3,FALSE)","v":2},{"$f":"Find_Table(Spans!$I$2,I346)","v":11},{"$f":"IF(R346=0,Spans!$C$10,VLOOKUP(P346,INDIRECT(\"Table\"&R346),Q346,TRUE))","v":30},"No","No"]
[947,"W12154243N3953971",39.5397099999999,-121.542429999999,76.299999999999898,48.6,28.6999999999999,"[DouglasFir, GrayPine, MontereyPine]","DouglasFir",-27.6,"W12154263N3953924-W12154261N3953987","Tier 2-3","YES","2019-11-20T17:46:46",{"$f":"VLOOKUP($K347,SpanRange,4,FALSE)","v":198},{"$f":"VLOOKUP($K347,SpanRange,2,FALSE)","v":231},{"$f":"VLOOKUP($K347,SpanRange,3,FALSE)","v":2},{"$f":"Find_Table(Spans!$I$2,I347)","v":9},{"$f":"IF(R347=0,Spans!$C$10,VLOOKUP(P347,INDIRECT(\"Table\"&R347),Q347,TRUE))","v":26},"Yes","No"]
[957,"W12154244N3953670",39.536700000000003,-121.542439999999,97.5,22.5,12,"[MontereyPine, Other, GrayPine]","MontereyPine",-69.5,"W12154250N3953758-W12154253N3953660","Tier 2-3","YES","2019-11-20T17:46:46",{"$f":"VLOOKUP($K348,SpanRange,4,FALSE)","v":195},{"$f":"VLOOKUP($K348,SpanRange,2,FALSE)","v":355.89999999999901},{"$f":"VLOOKUP($K348,SpanRange,3,FALSE)","v":2},{"$f":"Find_Table(Spans!$I$2,I348)","v":10},{"$f":"IF(R348=0,Spans!$C$10,VLOOKUP(P348,INDIRECT(\"Table\"&R348),Q348,TRUE))","v":36},"Yes","No"]
[963,"W12152635N3952887",39.528869999999898,-121.52634999999999,45.2,28.6,5.8,"[CoastalLiveOak, Eucalyptus/BlueGum, Other]","CoastalLiveOak",-9.8000000000000007,"W12152680N3952875-W12152596N3952916","Tier 2-3","YES","2019-11-20T17:46:46",{"$f":"VLOOKUP($K349,SpanRange,4,FALSE)","v":105},{"$f":"VLOOKUP($K349,SpanRange,2,FALSE)","v":281},{"$f":"VLOOKUP($K349,SpanRange,3,FALSE)","v":2},{"$f":"Find_Table(Spans!$I$2,I349)","v":11},{"$f":"IF(R349=0,Spans!$C$10,VLOOKUP(P349,INDIRECT(\"Table\"&R349),Q349,TRUE))","v":30},"No","No"]
[966,"W12154213N3954161",39.541609999999899,-121.54213,53.3,10.8,8.1999999999999904,"[DouglasFir, CoastalLiveOak, MontereyPine]","DouglasFir",-15.6,"W12154249N3954102-W12154206N3954186","Tier 2-3","YES","2019-11-20T17:46:46",{"$f":"VLOOKUP($K350,SpanRange,4,FALSE)","v":201},{"$f":"VLOOKUP($K350,SpanRange,2,FALSE)","v":330.6},{"$f":"VLOOKUP($K350,SpanRange,3,FALSE)","v":2},{"$f":"Find_Table(Spans!$I$2,I350)","v":9},{"$f":"IF(R350=0,Spans!$C$10,VLOOKUP(P350,INDIRECT(\"Table\"&R350),Q350,TRUE))","v":31},"No","No"]
[967,"W12153505N3952886",39.528860000000002,-121.535049999999,36.399999999999899,12.1,7.7,"[DouglasFir, GrayPine, Other]","DouglasFir",-5.2,"W12153537N3952882-W12153422N3952882","Tier 2-3","YES","2019-11-20T17:46:46",{"$f":"VLOOKUP($K351,SpanRange,4,FALSE)","v":102},{"$f":"VLOOKUP($K351,SpanRange,2,FALSE)","v":324.39999999999901},{"$f":"VLOOKUP($K351,SpanRange,3,FALSE)","v":2},{"$f":"Find_Table(Spans!$I$2,I351)","v":9},{"$f":"IF(R351=0,Spans!$C$10,VLOOKUP(P351,INDIRECT(\"Table\"&R351),Q351,TRUE))","v":31},"No","No"]
[969,"W12154240N3953802",39.538019999999896,-121.5424,95,25.6,10,"[LiveOak, GrayPine, Other]","LiveOak",-69.299999999999898,"W12154250N3953758-W12154252N3953857","Tier 2-3","YES","2019-11-20T17:46:46",{"$f":"VLOOKUP($K352,SpanRange,4,FALSE)","v":196},{"$f":"VLOOKUP($K352,SpanRange,2,FALSE)","v":362},{"$f":"VLOOKUP($K352,SpanRange,3,FALSE)","v":2},{"$f":"Find_Table(Spans!$I$2,I352)","v":11},{"$f":"IF(R352=0,Spans!$C$10,VLOOKUP(P352,INDIRECT(\"Table\"&R352),Q352,TRUE))","v":30},"Yes","No"]
[972,"W12153650N3953074",39.530740000000002,-121.5365,43.3,11.9,5.2,"[Other, CoastalLiveOak, Eucalyptus/BlueGum]","Other",-13.1,"W12153655N3953063-W12153654N3953103","Tier 2-3","YES","2019-11-20T17:46:46",{"$f":"VLOOKUP($K353,SpanRange,4,FALSE)","v":144},{"$f":"VLOOKUP($K353,SpanRange,2,FALSE)","v":148},{"$f":"VLOOKUP($K353,SpanRange,3,FALSE)","v":2},{"$f":"Find_Table(Spans!$I$2,I353)","v":11},{"$f":"IF(R353=0,Spans!$C$10,VLOOKUP(P353,INDIRECT(\"Table\"&R353),Q353,TRUE))","v":30},"No","No"]
[976,"W12152600N3952908",39.52908,-121.526,40.6,15.2,9.6,"[LiveOak, Other, Eucalyptus/BlueGum]","LiveOak",-4.7,"W12152680N3952875-W12152596N3952916","Tier 2-3","YES","2019-11-20T17:46:46",{"$f":"VLOOKUP($K354,SpanRange,4,FALSE)","v":105},{"$f":"VLOOKUP($K354,SpanRange,2,FALSE)","v":281},{"$f":"VLOOKUP($K354,SpanRange,3,FALSE)","v":2},{"$f":"Find_Table(Spans!$I$2,I354)","v":11},{"$f":"IF(R354=0,Spans!$C$10,VLOOKUP(P354,INDIRECT(\"Table\"&R354),Q354,TRUE))","v":30},"No","No"]
[977,"W12151851N3953107",39.53107,-121.518509999999,50.7,42.5,24.9,"[Other, DouglasFir, GrayPine]","Other",-1.5,"W12151822N3953157-W12151868N3953111","Tier 2-3","YES","2019-11-20T17:46:46",{"$f":"VLOOKUP($K355,SpanRange,4,FALSE)","v":153},{"$f":"VLOOKUP($K355,SpanRange,2,FALSE)","v":210.9},{"$f":"VLOOKUP($K355,SpanRange,3,FALSE)","v":2},{"$f":"Find_Table(Spans!$I$2,I355)","v":11},{"$f":"IF(R355=0,Spans!$C$10,VLOOKUP(P355,INDIRECT(\"Table\"&R355),Q355,TRUE))","v":30},"No","No"]
[980,"W12154261N3953584",39.53584,-121.542609999999,67,22.9,17.3,"[GrayPine, DouglasFir, ValleyOak]","GrayPine",-18.899999999999999,"W12154242N3953570-W12154256N3953592","Tier 2-3","YES","2019-11-20T17:46:46",{"$f":"VLOOKUP($K356,SpanRange,4,FALSE)","v":193},{"$f":"VLOOKUP($K356,SpanRange,2,FALSE)","v":92.299999999999898},{"$f":"VLOOKUP($K356,SpanRange,3,FALSE)","v":2},{"$f":"Find_Table(Spans!$I$2,I356)","v":10},{"$f":"IF(R356=0,Spans!$C$10,VLOOKUP(P356,INDIRECT(\"Table\"&R356),Q356,TRUE))","v":19},"No","No"]
[981,"W12151457N3952626",39.526260000000001,-121.514569999999,39.299999999999997,12.8,4.8,"[Other, GrayPine, ValleyOak]","Other",-8.3000000000000007,"W12151461N3952559-W12151463N3952642","Tier 2-3","YES","2019-11-20T17:46:46",{"$f":"VLOOKUP($K357,SpanRange,4,FALSE)","v":67},{"$f":"VLOOKUP($K357,SpanRange,2,FALSE)","v":301.39999999999901},{"$f":"VLOOKUP($K357,SpanRange,3,FALSE)","v":2},{"$f":"Find_Table(Spans!$I$2,I357)","v":11},{"$f":"IF(R357=0,Spans!$C$10,VLOOKUP(P357,INDIRECT(\"Table\"&R357),Q357,TRUE))","v":30},"No","No"]
[982,"W12152951N3952714",39.527139999999903,-121.52951,37.5,15.8,7.7,"[DouglasFir, Other, GrayPine]","DouglasFir",-2.7,"W12152971N3952716-W12152907N3952726","Tier 2-3","YES","2019-11-20T17:46:46",{"$f":"VLOOKUP($K358,SpanRange,4,FALSE)","v":79},{"$f":"VLOOKUP($K358,SpanRange,2,FALSE)","v":184.9},{"$f":"VLOOKUP($K358,SpanRange,3,FALSE)","v":2},{"$f":"Find_Table(Spans!$I$2,I358)","v":9},{"$f":"IF(R358=0,Spans!$C$10,VLOOKUP(P358,INDIRECT(\"Table\"&R358),Q358,TRUE))","v":21},"No","No"]
[985,"W12154246N3953940",39.539400000000001,-121.54246000000001,76.599999999999994,43.2,23.9,"[DouglasFir, GrayPine, Other]","DouglasFir",-33,"W12154263N3953924-W12154261N3953987","Tier 2-3","YES","2019-11-20T17:46:46",{"$f":"VLOOKUP($K359,SpanRange,4,FALSE)","v":198},{"$f":"VLOOKUP($K359,SpanRange,2,FALSE)","v":231},{"$f":"VLOOKUP($K359,SpanRange,3,FALSE)","v":2},{"$f":"Find_Table(Spans!$I$2,I359)","v":9},{"$f":"IF(R359=0,Spans!$C$10,VLOOKUP(P359,INDIRECT(\"Table\"&R359),Q359,TRUE))","v":26},"Yes","No"]
[988,"W12153540N3952689",39.526890000000002,-121.5354,61.7,9.6999999999999993,7.8,"[DouglasFir, TanOak, LiveOak]","DouglasFir",-31,"W12153536N3952706-W12153535N3952637","Tier 2-3","YES","2019-11-20T17:46:46",{"$f":"VLOOKUP($K360,SpanRange,4,FALSE)","v":74},{"$f":"VLOOKUP($K360,SpanRange,2,FALSE)","v":252.3},{"$f":"VLOOKUP($K360,SpanRange,3,FALSE)","v":2},{"$f":"Find_Table(Spans!$I$2,I360)","v":9},{"$f":"IF(R360=0,Spans!$C$10,VLOOKUP(P360,INDIRECT(\"Table\"&R360),Q360,TRUE))","v":26},"Yes","No"]
[989,"W12151451N3952494",39.524940000000001,-121.51451,41,21.6,6,"[DouglasFir, GrayPine, Other]","DouglasFir",-6.5,"W12151461N3952559-W12151459N3952471","Tier 2-3","YES","2019-11-20T17:46:46",{"$f":"VLOOKUP($K361,SpanRange,4,FALSE)","v":54},{"$f":"VLOOKUP($K361,SpanRange,2,FALSE)","v":322.60000000000002},{"$f":"VLOOKUP($K361,SpanRange,3,FALSE)","v":2},{"$f":"Find_Table(Spans!$I$2,I361)","v":9},{"$f":"IF(R361=0,Spans!$C$10,VLOOKUP(P361,INDIRECT(\"Table\"&R361),Q361,TRUE))","v":31},"No","No"]
[994,"W12154241N3953795",39.537949999999903,-121.54241,24.6999999999999,23.3,12,null,null,-1.1000000000000001,"W12154250N3953758-W12154252N3953857","Tier 2-3","YES","2019-11-20T17:46:46",{"$f":"VLOOKUP($K362,SpanRange,4,FALSE)","v":196},{"$f":"VLOOKUP($K362,SpanRange,2,FALSE)","v":362},{"$f":"VLOOKUP($K362,SpanRange,3,FALSE)","v":2},{"$f":"Find_Table(Spans!$I$2,I362)","v":11},{"$f":"IF(R362=0,Spans!$C$10,VLOOKUP(P362,INDIRECT(\"Table\"&R362),Q362,TRUE))","v":30},"No","No"]
[995,"W12154106N3953379",39.533789999999897,-121.54106,81,64.599999999999895,47.8,"[GrayPine, DouglasFir, CoastalLiveOak]","GrayPine",-12.3,"W12154149N3953393-W12154087N3953327","Tier 2-3","YES","2019-11-20T17:46:46",{"$f":"VLOOKUP($K363,SpanRange,4,FALSE)","v":188},{"$f":"VLOOKUP($K363,SpanRange,2,FALSE)","v":296},{"$f":"VLOOKUP($K363,SpanRange,3,FALSE)","v":2},{"$f":"Find_Table(Spans!$I$2,I363)","v":10},{"$f":"IF(R363=0,Spans!$C$10,VLOOKUP(P363,INDIRECT(\"Table\"&R363),Q363,TRUE))","v":32},"No","No"]
[997,"W12153899N3953085",39.530850000000001,-121.538989999999,51.3,18.600000000000001,5.2,"[GrayPine, DouglasFir, LiveOak]","GrayPine",-20.399999999999999,"W12153908N3953063-W12153907N3953103","Tier 2-3","YES","2019-11-20T17:46:46",{"$f":"VLOOKUP($K364,SpanRange,4,FALSE)","v":143},{"$f":"VLOOKUP($K364,SpanRange,2,FALSE)","v":147.69999999999899},{"$f":"VLOOKUP($K364,SpanRange,3,FALSE)","v":2},{"$f":"Find_Table(Spans!$I$2,I364)","v":10},{"$f":"IF(R364=0,Spans!$C$10,VLOOKUP(P364,INDIRECT(\"Table\"&R364),Q364,TRUE))","v":21},"No","No"]
[1001,"W12154088N3953294",39.532939999999897,-121.54088,85.9,29.4,18.899999999999999,"[GrayPine, DouglasFir, TanOak]","GrayPine",-36.1,"W12154087N3953327-W12154073N3953285","Tier 2-3","YES","2019-11-20T17:46:46",{"$f":"VLOOKUP($K365,SpanRange,4,FALSE)","v":187},{"$f":"VLOOKUP($K365,SpanRange,2,FALSE)","v":159.9},{"$f":"VLOOKUP($K365,SpanRange,3,FALSE)","v":2},{"$f":"Find_Table(Spans!$I$2,I365)","v":10},{"$f":"IF(R365=0,Spans!$C$10,VLOOKUP(P365,INDIRECT(\"Table\"&R365),Q365,TRUE))","v":26},"Yes","No"]
[1003,"W12153153N3953275",39.53275,-121.53153,44.5,28.4,7.2,"[Other, LiveOak, DouglasFir]","Other",-9.1999999999999993,"W12153118N3953282-W12153205N3953285","Tier 2-3","YES","2019-11-20T17:46:46",{"$f":"VLOOKUP($K366,SpanRange,4,FALSE)","v":186},{"$f":"VLOOKUP($K366,SpanRange,2,FALSE)","v":244.599999999999},{"$f":"VLOOKUP($K366,SpanRange,3,FALSE)","v":2},{"$f":"Find_Table(Spans!$I$2,I366)","v":11},{"$f":"IF(R366=0,Spans!$C$10,VLOOKUP(P366,INDIRECT(\"Table\"&R366),Q366,TRUE))","v":30},"No","No"]
[1004,"W12151865N3952850",39.528500000000001,-121.518649999999,36.6,13.3,7,"[Other, CoastalLiveOak, DouglasFir]","Other",-0.4,"W12151852N3952834-W12151873N3952887","Tier 2-3","YES","2019-11-20T17:46:46",{"$f":"VLOOKUP($K367,SpanRange,4,FALSE)","v":100},{"$f":"VLOOKUP($K367,SpanRange,2,FALSE)","v":200.8},{"$f":"VLOOKUP($K367,SpanRange,3,FALSE)","v":2},{"$f":"Find_Table(Spans!$I$2,I367)","v":11},{"$f":"IF(R367=0,Spans!$C$10,VLOOKUP(P367,INDIRECT(\"Table\"&R367),Q367,TRUE))","v":30},"No","No"]
[1009,"W12151877N3952859",39.528590000000001,-121.51877,60.899999999999899,38.299999999999997,25.8,"[Other, GrayPine, CoastalLiveOak]","Other",-13.5,"W12151852N3952834-W12151873N3952887","Tier 2-3","YES","2019-11-20T17:46:46",{"$f":"VLOOKUP($K368,SpanRange,4,FALSE)","v":100},{"$f":"VLOOKUP($K368,SpanRange,2,FALSE)","v":200.8},{"$f":"VLOOKUP($K368,SpanRange,3,FALSE)","v":2},{"$f":"Find_Table(Spans!$I$2,I368)","v":11},{"$f":"IF(R368=0,Spans!$C$10,VLOOKUP(P368,INDIRECT(\"Table\"&R368),Q368,TRUE))","v":30},"No","No"]
[1020,"W12153833N3953235",39.532350000000001,-121.53833,62.7,32.899999999999899,6.9,"[GrayPine, DouglasFir, CoastalLiveOak]","GrayPine",-26.5,"W12153810N3953244-W12153905N3953243","Tier 2-3","YES","2019-11-20T17:46:46",{"$f":"VLOOKUP($K369,SpanRange,4,FALSE)","v":176},{"$f":"VLOOKUP($K369,SpanRange,2,FALSE)","v":270.10000000000002},{"$f":"VLOOKUP($K369,SpanRange,3,FALSE)","v":2},{"$f":"Find_Table(Spans!$I$2,I369)","v":10},{"$f":"IF(R369=0,Spans!$C$10,VLOOKUP(P369,INDIRECT(\"Table\"&R369),Q369,TRUE))","v":32},"No","No"]
[1021,"W12153237N3952626",39.526260000000001,-121.53237,72.7,60.7,49.2,"[GrayPine, MontereyPine, DouglasFir]","GrayPine",-8.3000000000000007,"W12153295N3952615-W12153224N3952655","Tier 2-3","YES","2019-11-20T17:46:46",{"$f":"VLOOKUP($K370,SpanRange,4,FALSE)","v":71},{"$f":"VLOOKUP($K370,SpanRange,2,FALSE)","v":249.099999999999},{"$f":"VLOOKUP($K370,SpanRange,3,FALSE)","v":2},{"$f":"Find_Table(Spans!$I$2,I370)","v":10},{"$f":"IF(R370=0,Spans!$C$10,VLOOKUP(P370,INDIRECT(\"Table\"&R370),Q370,TRUE))","v":32},"No","No"]
[1023,"W12151900N3953085",39.530850000000001,-121.51900000000001,82,40.399999999999899,7.4,"[GrayPine, Other, DouglasFir]","GrayPine",-33.899999999999899,"W12151923N3953089-W12151868N3953111","Tier 2-3","YES","2019-11-20T17:46:46",{"$f":"VLOOKUP($K371,SpanRange,4,FALSE)","v":145},{"$f":"VLOOKUP($K371,SpanRange,2,FALSE)","v":177.599999999999},{"$f":"VLOOKUP($K371,SpanRange,3,FALSE)","v":2},{"$f":"Find_Table(Spans!$I$2,I371)","v":10},{"$f":"IF(R371=0,Spans!$C$10,VLOOKUP(P371,INDIRECT(\"Table\"&R371),Q371,TRUE))","v":26},"Yes","No"]
[1024,"W12154096N3953291",39.532910000000001,-121.540959999999,98.799999999999898,54.399999999999899,45,"[GrayPine, DouglasFir, CoastalLiveOak]","GrayPine",-19.399999999999999,"W12154087N3953327-W12154073N3953285","Tier 2-3","YES","2019-11-20T17:46:46",{"$f":"VLOOKUP($K372,SpanRange,4,FALSE)","v":187},{"$f":"VLOOKUP($K372,SpanRange,2,FALSE)","v":159.9},{"$f":"VLOOKUP($K372,SpanRange,3,FALSE)","v":2},{"$f":"Find_Table(Spans!$I$2,I372)","v":10},{"$f":"IF(R372=0,Spans!$C$10,VLOOKUP(P372,INDIRECT(\"Table\"&R372),Q372,TRUE))","v":26},"No","No"]
[1025,"W12153511N3953237",39.53237,-121.53511,39.6,20.100000000000001,4.7,"[DouglasFir, GrayPine, Other]","DouglasFir",-8.9,"W12153419N3953235-W12153557N3953230","Tier 2-3","YES","2019-11-20T17:46:46",{"$f":"VLOOKUP($K373,SpanRange,4,FALSE)","v":172},{"$f":"VLOOKUP($K373,SpanRange,2,FALSE)","v":388.6},{"$f":"VLOOKUP($K373,SpanRange,3,FALSE)","v":2},{"$f":"Find_Table(Spans!$I$2,I373)","v":9},{"$f":"IF(R373=0,Spans!$C$10,VLOOKUP(P373,INDIRECT(\"Table\"&R373),Q373,TRUE))","v":31},"No","No"]
[1026,"W12152864N3952740",39.5274,-121.528639999999,42.8,11.1,4.0999999999999996,"[GrayPine, DouglasFir, Other]","GrayPine",-5.9,"W12152907N3952726-W12152800N3952774","Tier 2-3","YES","2019-11-20T17:46:46",{"$f":"VLOOKUP($K374,SpanRange,4,FALSE)","v":84},{"$f":"VLOOKUP($K374,SpanRange,2,FALSE)","v":349.69999999999902},{"$f":"VLOOKUP($K374,SpanRange,3,FALSE)","v":2},{"$f":"Find_Table(Spans!$I$2,I374)","v":10},{"$f":"IF(R374=0,Spans!$C$10,VLOOKUP(P374,INDIRECT(\"Table\"&R374),Q374,TRUE))","v":36},"No","No"]
[1027,"W12151952N3952914",39.529139999999899,-121.51952,57.7,31.9,11.2,"[GrayPine, Other, DouglasFir]","GrayPine",-16.899999999999899,"W12152014N3952914-W12151936N3952926","Tier 2-3","YES","2019-11-20T17:46:46",{"$f":"VLOOKUP($K375,SpanRange,4,FALSE)","v":108},{"$f":"VLOOKUP($K375,SpanRange,2,FALSE)","v":225.099999999999},{"$f":"VLOOKUP($K375,SpanRange,3,FALSE)","v":2},{"$f":"Find_Table(Spans!$I$2,I375)","v":10},{"$f":"IF(R375=0,Spans!$C$10,VLOOKUP(P375,INDIRECT(\"Table\"&R375),Q375,TRUE))","v":32},"No","No"]
[1028,"W12153025N3952979",39.529789999999899,-121.530249999999,37.700000000000003,20.399999999999999,5.8,"[Other, CoastalLiveOak, Eucalyptus/BlueGum]","Other",-1.5,"W12153068N3952972-W12152988N3952972","Tier 2-3","YES","2019-11-20T17:46:46",{"$f":"VLOOKUP($K376,SpanRange,4,FALSE)","v":117},{"$f":"VLOOKUP($K376,SpanRange,2,FALSE)","v":225.69999999999899},{"$f":"VLOOKUP($K376,SpanRange,3,FALSE)","v":2},{"$f":"Find_Table(Spans!$I$2,I376)","v":11},{"$f":"IF(R376=0,Spans!$C$10,VLOOKUP(P376,INDIRECT(\"Table\"&R376),Q376,TRUE))","v":30},"No","No"]
[1029,"W12152941N3952714",39.527139999999903,-121.529409999999,47.8,20.6,6.9,"[DouglasFir, Other, CoastalLiveOak]","DouglasFir",-11,"W12152971N3952716-W12152907N3952726","Tier 2-3","YES","2019-11-20T17:46:46",{"$f":"VLOOKUP($K377,SpanRange,4,FALSE)","v":79},{"$f":"VLOOKUP($K377,SpanRange,2,FALSE)","v":184.9},{"$f":"VLOOKUP($K377,SpanRange,3,FALSE)","v":2},{"$f":"Find_Table(Spans!$I$2,I377)","v":9},{"$f":"IF(R377=0,Spans!$C$10,VLOOKUP(P377,INDIRECT(\"Table\"&R377),Q377,TRUE))","v":21},"No","No"]
[1032,"W12153298N3952619",39.52619,-121.532979999999,54.7,12.6,8.3000000000000007,"[GrayPine, DouglasFir, Eucalyptus/BlueGum]","GrayPine",-10.8,"W12153295N3952615-W12153224N3952655","Tier 2-3","YES","2019-11-20T17:46:46",{"$f":"VLOOKUP($K378,SpanRange,4,FALSE)","v":71},{"$f":"VLOOKUP($K378,SpanRange,2,FALSE)","v":249.099999999999},{"$f":"VLOOKUP($K378,SpanRange,3,FALSE)","v":2},{"$f":"Find_Table(Spans!$I$2,I378)","v":10},{"$f":"IF(R378=0,Spans!$C$10,VLOOKUP(P378,INDIRECT(\"Table\"&R378),Q378,TRUE))","v":32},"No","No"]
[1034,"W12153321N3952593",39.525929999999903,-121.533209999999,75,14.1,7.1,"[GrayPine, Eucalyptus/BlueGum, ValleyOak]","GrayPine",-36.299999999999997,"W12153345N3952585-W12153295N3952615","Tier 2-3","YES","2019-11-20T17:46:46",{"$f":"VLOOKUP($K379,SpanRange,4,FALSE)","v":66},{"$f":"VLOOKUP($K379,SpanRange,2,FALSE)","v":177.9},{"$f":"VLOOKUP($K379,SpanRange,3,FALSE)","v":2},{"$f":"Find_Table(Spans!$I$2,I379)","v":10},{"$f":"IF(R379=0,Spans!$C$10,VLOOKUP(P379,INDIRECT(\"Table\"&R379),Q379,TRUE))","v":26},"Yes","No"]
[1038,"W12154252N3953950",39.539499999999997,-121.542519999999,70.099999999999994,24.5,9,"[Other, DouglasFir, GrayPine]","Other",-44.7,"W12154263N3953924-W12154261N3953987","Tier 2-3","YES","2019-11-20T17:46:46",{"$f":"VLOOKUP($K380,SpanRange,4,FALSE)","v":198},{"$f":"VLOOKUP($K380,SpanRange,2,FALSE)","v":231},{"$f":"VLOOKUP($K380,SpanRange,3,FALSE)","v":2},{"$f":"Find_Table(Spans!$I$2,I380)","v":11},{"$f":"IF(R380=0,Spans!$C$10,VLOOKUP(P380,INDIRECT(\"Table\"&R380),Q380,TRUE))","v":30},"Yes","No"]
[1046,"W12152701N3952847",39.528469999999899,-121.52701,48.2,35.1,13.3,"[GrayPine, Other, MontereyPine]","GrayPine",-2.6,"W12152750N3952825-W12152680N3952875","Tier 2-3","YES","2019-11-20T17:46:46",{"$f":"VLOOKUP($K381,SpanRange,4,FALSE)","v":98},{"$f":"VLOOKUP($K381,SpanRange,2,FALSE)","v":268.39999999999901},{"$f":"VLOOKUP($K381,SpanRange,3,FALSE)","v":2},{"$f":"Find_Table(Spans!$I$2,I381)","v":10},{"$f":"IF(R381=0,Spans!$C$10,VLOOKUP(P381,INDIRECT(\"Table\"&R381),Q381,TRUE))","v":32},"No","No"]
[1052,"W12153831N3953243",39.532429999999898,-121.538309999999,78.599999999999994,1.7,3.2,"[GrayPine, DouglasFir, CoastalLiveOak]","GrayPine",-54.7,"W12153810N3953244-W12153905N3953243","Tier 2-3","YES","2019-11-20T17:46:46",{"$f":"VLOOKUP($K382,SpanRange,4,FALSE)","v":176},{"$f":"VLOOKUP($K382,SpanRange,2,FALSE)","v":270.10000000000002},{"$f":"VLOOKUP($K382,SpanRange,3,FALSE)","v":2},{"$f":"Find_Table(Spans!$I$2,I382)","v":10},{"$f":"IF(R382=0,Spans!$C$10,VLOOKUP(P382,INDIRECT(\"Table\"&R382),Q382,TRUE))","v":32},"Yes","Yes"]
[1054,"W12153048N3952876",39.528759999999899,-121.530479999999,47.3,14.2,8.4,"[DouglasFir, Other, GrayPine]","DouglasFir",-11.2,"W12153054N3952815-W12153053N3952876","Tier 2-3","YES","2019-11-20T17:46:46",{"$f":"VLOOKUP($K383,SpanRange,4,FALSE)","v":97},{"$f":"VLOOKUP($K383,SpanRange,2,FALSE)","v":221.19999999999899},{"$f":"VLOOKUP($K383,SpanRange,3,FALSE)","v":2},{"$f":"Find_Table(Spans!$I$2,I383)","v":9},{"$f":"IF(R383=0,Spans!$C$10,VLOOKUP(P383,INDIRECT(\"Table\"&R383),Q383,TRUE))","v":26},"No","No"]
[1057,"W12153139N3953222",39.532219999999903,-121.53139,86.5,63,47.6,"[Eucalyptus/BlueGum, MontereyPine, GrayPine]","Eucalyptus/BlueGum",-16.1999999999999,"W12153117N3953239-W12153205N3953245","Tier 2-3","YES","2019-11-20T17:46:46",{"$f":"VLOOKUP($K384,SpanRange,4,FALSE)","v":174},{"$f":"VLOOKUP($K384,SpanRange,2,FALSE)","v":250.19999999999899},{"$f":"VLOOKUP($K384,SpanRange,3,FALSE)","v":2},{"$f":"Find_Table(Spans!$I$2,I384)","v":12},{"$f":"IF(R384=0,Spans!$C$10,VLOOKUP(P384,INDIRECT(\"Table\"&R384),Q384,TRUE))","v":30},"No","No"]
[1058,"W12152129N3952515",39.525149999999897,-121.521289999999,45.899999999999899,16.100000000000001,5.6,"[DouglasFir, GrayPine, ValleyOak]","DouglasFir",-13.4,"W12152123N3952539-W12152121N3952468","Tier 2-3","YES","2019-11-20T17:46:46",{"$f":"VLOOKUP($K385,SpanRange,4,FALSE)","v":53},{"$f":"VLOOKUP($K385,SpanRange,2,FALSE)","v":258.89999999999901},{"$f":"VLOOKUP($K385,SpanRange,3,FALSE)","v":2},{"$f":"Find_Table(Spans!$I$2,I385)","v":9},{"$f":"IF(R385=0,Spans!$C$10,VLOOKUP(P385,INDIRECT(\"Table\"&R385),Q385,TRUE))","v":26},"No","No"]
[1059,"W12153541N3953073",39.530729999999899,-121.535409999999,63,34,17.8,"[GrayPine, DouglasFir, MontereyPine]","GrayPine",-14.2,"W12153655N3953063-W12153538N3953063","Tier 2-3","YES","2019-11-20T17:46:46",{"$f":"VLOOKUP($K386,SpanRange,4,FALSE)","v":140},{"$f":"VLOOKUP($K386,SpanRange,2,FALSE)","v":329.19999999999902},{"$f":"VLOOKUP($K386,SpanRange,3,FALSE)","v":2},{"$f":"Find_Table(Spans!$I$2,I386)","v":10},{"$f":"IF(R386=0,Spans!$C$10,VLOOKUP(P386,INDIRECT(\"Table\"&R386),Q386,TRUE))","v":36},"No","No"]
[1060,"W12153010N3952987",39.529869999999903,-121.5301,60,48.7,34.799999999999997,"[GrayPine, Eucalyptus/BlueGum, MontereyPine]","GrayPine",-3.1,"W12153068N3952972-W12152988N3952972","Tier 2-3","YES","2019-11-20T17:46:46",{"$f":"VLOOKUP($K387,SpanRange,4,FALSE)","v":117},{"$f":"VLOOKUP($K387,SpanRange,2,FALSE)","v":225.69999999999899},{"$f":"VLOOKUP($K387,SpanRange,3,FALSE)","v":2},{"$f":"Find_Table(Spans!$I$2,I387)","v":10},{"$f":"IF(R387=0,Spans!$C$10,VLOOKUP(P387,INDIRECT(\"Table\"&R387),Q387,TRUE))","v":32},"No","No"]
[1063,"W12153808N3953260",39.532600000000002,-121.53807999999999,67.099999999999895,53.899999999999899,37.200000000000003,"[GrayPine, Other, DouglasFir]","GrayPine",-0.6,"W12153810N3953244-W12153905N3953243","Tier 2-3","YES","2019-11-20T17:46:46",{"$f":"VLOOKUP($K388,SpanRange,4,FALSE)","v":176},{"$f":"VLOOKUP($K388,SpanRange,2,FALSE)","v":270.10000000000002},{"$f":"VLOOKUP($K388,SpanRange,3,FALSE)","v":2},{"$f":"Find_Table(Spans!$I$2,I388)","v":10},{"$f":"IF(R388=0,Spans!$C$10,VLOOKUP(P388,INDIRECT(\"Table\"&R388),Q388,TRUE))","v":32},{"$f":"IFERROR(IF((-1)*J388>S388,\"Yes\",\"No\"),\"No Match\")","v":"No"},{"$f":"IF(F388<=6,\"Yes\",\"No\")","v":"No"}]
[1065,"W12153919N3953085",39.530850000000001,-121.539189999999,43.8,28.8,5.6,"[Other, CoastalLiveOak, Eucalyptus/BlueGum]","Other",-1.7,"W12153908N3953063-W12153907N3953103","Tier 2-3","YES","2019-11-20T17:46:46",{"$f":"VLOOKUP($K389,SpanRange,4,FALSE)","v":143},{"$f":"VLOOKUP($K389,SpanRange,2,FALSE)","v":147.69999999999899},{"$f":"VLOOKUP($K389,SpanRange,3,FALSE)","v":2},{"$f":"Find_Table(Spans!$I$2,I389)","v":11},{"$f":"IF(R389=0,Spans!$C$10,VLOOKUP(P389,INDIRECT(\"Table\"&R389),Q389,TRUE))","v":30},"No","No"]
[1066,"W12153943N3953289",39.532889999999902,-121.539429999999,44.399999999999899,21.8,7,"[DouglasFir, Eucalyptus/BlueGum, CoastalLiveOak]","DouglasFir",-3.1,"W12153944N3953282-W12153906N3953282","Tier 2-3","YES","2019-11-20T17:46:46",{"$f":"VLOOKUP($K390,SpanRange,4,FALSE)","v":184},{"$f":"VLOOKUP($K390,SpanRange,2,FALSE)","v":108.2},{"$f":"VLOOKUP($K390,SpanRange,3,FALSE)","v":2},{"$f":"Find_Table(Spans!$I$2,I390)","v":9},{"$f":"IF(R390=0,Spans!$C$10,VLOOKUP(P390,INDIRECT(\"Table\"&R390),Q390,TRUE))","v":16},"No","No"]
[1068,"W12151956N3952964",39.529640000000001,-121.519559999999,36.299999999999997,14.1,9.1,"[GrayPine, MontereyPine, Eucalyptus/BlueGum]","GrayPine",-3.5,"W12152005N3953021-W12151936N3952926","Tier 2-3","YES","2019-11-20T17:46:46",{"$f":"VLOOKUP($K391,SpanRange,4,FALSE)","v":121},{"$f":"VLOOKUP($K391,SpanRange,2,FALSE)","v":398},{"$f":"VLOOKUP($K391,SpanRange,3,FALSE)","v":2},{"$f":"Find_Table(Spans!$I$2,I391)","v":10},{"$f":"IF(R391=0,Spans!$C$10,VLOOKUP(P391,INDIRECT(\"Table\"&R391),Q391,TRUE))","v":36},"No","No"]
[1069,"W12153270N3952605",39.526049999999898,-121.53270000000001,90.5,66.599999999999895,50.3,"[GrayPine, DouglasFir, Other]","GrayPine",-21.8,"W12153295N3952615-W12153224N3952655","Tier 2-3","YES","2019-11-20T17:46:46",{"$f":"VLOOKUP($K392,SpanRange,4,FALSE)","v":71},{"$f":"VLOOKUP($K392,SpanRange,2,FALSE)","v":249.099999999999},{"$f":"VLOOKUP($K392,SpanRange,3,FALSE)","v":2},{"$f":"Find_Table(Spans!$I$2,I392)","v":10},{"$f":"IF(R392=0,Spans!$C$10,VLOOKUP(P392,INDIRECT(\"Table\"&R392),Q392,TRUE))","v":32},"No","No"]
[1074,"W12153285N3953057",39.530569999999898,-121.532849999999,84.7,29.1999999999999,6.7,"[GrayPine, DouglasFir, LiveOak]","GrayPine",-38.299999999999997,"W12153269N3953048-W12153323N3953048","Tier 2-3","YES","2019-11-20T17:46:46",{"$f":"VLOOKUP($K393,SpanRange,4,FALSE)","v":132},{"$f":"VLOOKUP($K393,SpanRange,2,FALSE)","v":153.80000000000001},{"$f":"VLOOKUP($K393,SpanRange,3,FALSE)","v":2},{"$f":"Find_Table(Spans!$I$2,I393)","v":10},{"$f":"IF(R393=0,Spans!$C$10,VLOOKUP(P393,INDIRECT(\"Table\"&R393),Q393,TRUE))","v":26},"Yes","No"]
[1075,"W12153216N3953123",39.531230000000001,-121.53216,41.5,22.8,16.5,"[DouglasFir, GrayPine, Other]","DouglasFir",-6.1,"W12153207N3953097-W12153206N3953153","Tier 2-3","YES","2019-11-20T17:46:46",{"$f":"VLOOKUP($K394,SpanRange,4,FALSE)","v":148},{"$f":"VLOOKUP($K394,SpanRange,2,FALSE)","v":205.3},{"$f":"VLOOKUP($K394,SpanRange,3,FALSE)","v":2},{"$f":"Find_Table(Spans!$I$2,I394)","v":9},{"$f":"IF(R394=0,Spans!$C$10,VLOOKUP(P394,INDIRECT(\"Table\"&R394),Q394,TRUE))","v":26},"No","No"]
[1076,"W12153194N3953240",39.532400000000003,-121.531939999999,61.1,15,7.1,"[DouglasFir, CoastalLiveOak, MontereyPine]","DouglasFir",-32.799999999999898,"W12153117N3953239-W12153205N3953245","Tier 2-3","YES","2019-11-20T17:46:46",{"$f":"VLOOKUP($K395,SpanRange,4,FALSE)","v":174},{"$f":"VLOOKUP($K395,SpanRange,2,FALSE)","v":250.19999999999899},{"$f":"VLOOKUP($K395,SpanRange,3,FALSE)","v":2},{"$f":"Find_Table(Spans!$I$2,I395)","v":9},{"$f":"IF(R395=0,Spans!$C$10,VLOOKUP(P395,INDIRECT(\"Table\"&R395),Q395,TRUE))","v":26},"Yes","No"]
[1079,"W12154086N3953249",39.532489999999903,-121.540859999999,47,14.5,9,"[DouglasFir, Other, TanOak]","DouglasFir",-2.7,"W12154086N3953214-W12154073N3953285","Tier 2-3","YES","2019-11-20T17:46:46",{"$f":"VLOOKUP($K396,SpanRange,4,FALSE)","v":177},{"$f":"VLOOKUP($K396,SpanRange,2,FALSE)","v":261},{"$f":"VLOOKUP($K396,SpanRange,3,FALSE)","v":2},{"$f":"Find_Table(Spans!$I$2,I396)","v":9},{"$f":"IF(R396=0,Spans!$C$10,VLOOKUP(P396,INDIRECT(\"Table\"&R396),Q396,TRUE))","v":26},"No","No"]
[1083,"W12153289N3952603",39.526029999999899,-121.532889999999,66.599999999999895,38.5,22.9,"[DouglasFir, Other, Eucalyptus/BlueGum]","DouglasFir",-18.1999999999999,"W12153345N3952585-W12153295N3952615","Tier 2-3","YES","2019-11-20T17:46:46",{"$f":"VLOOKUP($K397,SpanRange,4,FALSE)","v":66},{"$f":"VLOOKUP($K397,SpanRange,2,FALSE)","v":177.9},{"$f":"VLOOKUP($K397,SpanRange,3,FALSE)","v":2},{"$f":"Find_Table(Spans!$I$2,I397)","v":9},{"$f":"IF(R397=0,Spans!$C$10,VLOOKUP(P397,INDIRECT(\"Table\"&R397),Q397,TRUE))","v":21},"No","No"]
[1084,"W12153195N3952956",39.529559999999897,-121.531949999999,44.399999999999899,28.6,12,"[LiveOak, DouglasFir, Other]","LiveOak",-2.4,"W12153206N3952972-W12153206N3952881","Tier 2-3","YES","2019-11-20T17:46:46",{"$f":"VLOOKUP($K398,SpanRange,4,FALSE)","v":109},{"$f":"VLOOKUP($K398,SpanRange,2,FALSE)","v":332.19999999999902},{"$f":"VLOOKUP($K398,SpanRange,3,FALSE)","v":2},{"$f":"Find_Table(Spans!$I$2,I398)","v":11},{"$f":"IF(R398=0,Spans!$C$10,VLOOKUP(P398,INDIRECT(\"Table\"&R398),Q398,TRUE))","v":30},"No","No"]
[1089,"W12153391N3952776",39.527760000000001,-121.533909999999,73.599999999999994,56.1,39.399999999999899,"[GrayPine, MontereyPine, DouglasFir]","GrayPine",-2.2999999999999998,"W12153385N3952791-W12153270N3952789","Tier 2-3","YES","2019-11-20T17:46:46",{"$f":"VLOOKUP($K399,SpanRange,4,FALSE)","v":88},{"$f":"VLOOKUP($K399,SpanRange,2,FALSE)","v":324.19999999999902},{"$f":"VLOOKUP($K399,SpanRange,3,FALSE)","v":2},{"$f":"Find_Table(Spans!$I$2,I399)","v":10},{"$f":"IF(R399=0,Spans!$C$10,VLOOKUP(P399,INDIRECT(\"Table\"&R399),Q399,TRUE))","v":36},"No","No"]
[1097,"W12153860N3953270",39.532699999999899,-121.5386,63.899999999999899,37.700000000000003,8.1999999999999904,"[DouglasFir, Other, Eucalyptus/BlueGum]","DouglasFir",-18.6999999999999,"W12153848N3953281-W12153906N3953282","Tier 2-3","YES","2019-11-20T17:46:46",{"$f":"VLOOKUP($K400,SpanRange,4,FALSE)","v":183},{"$f":"VLOOKUP($K400,SpanRange,2,FALSE)","v":163.80000000000001},{"$f":"VLOOKUP($K400,SpanRange,3,FALSE)","v":2},{"$f":"Find_Table(Spans!$I$2,I400)","v":9},{"$f":"IF(R400=0,Spans!$C$10,VLOOKUP(P400,INDIRECT(\"Table\"&R400),Q400,TRUE))","v":21},"No","No"]
[1098,"W12154229N3953840",39.538400000000003,-121.542289999999,93.6,59.7,44.7,"[DouglasFir, Eucalyptus/BlueGum, MontereyPine]","DouglasFir",-33.299999999999898,"W12154250N3953758-W12154252N3953857","Tier 2-3","YES","2019-11-20T17:46:46",{"$f":"VLOOKUP($K401,SpanRange,4,FALSE)","v":196},{"$f":"VLOOKUP($K401,SpanRange,2,FALSE)","v":362},{"$f":"VLOOKUP($K401,SpanRange,3,FALSE)","v":2},{"$f":"Find_Table(Spans!$I$2,I401)","v":9},{"$f":"IF(R401=0,Spans!$C$10,VLOOKUP(P401,INDIRECT(\"Table\"&R401),Q401,TRUE))","v":31},"Yes","No"]
[1099,"W12153584N3953069",39.53069,-121.53583999999999,48.6,20,3.7,"[DouglasFir, LiveOak, TanOak]","DouglasFir",-15,"W12153655N3953063-W12153538N3953063","Tier 2-3","YES","2019-11-20T17:46:46",{"$f":"VLOOKUP($K402,SpanRange,4,FALSE)","v":140},{"$f":"VLOOKUP($K402,SpanRange,2,FALSE)","v":329.19999999999902},{"$f":"VLOOKUP($K402,SpanRange,3,FALSE)","v":2},{"$f":"Find_Table(Spans!$I$2,I402)","v":9},{"$f":"IF(R402=0,Spans!$C$10,VLOOKUP(P402,INDIRECT(\"Table\"&R402),Q402,TRUE))","v":31},"No","No"]
[1100,"W12153664N3953086",39.530859999999898,-121.53664000000001,43.8,24.1999999999999,8.3000000000000007,"[LiveOak, GrayPine, DouglasFir]","LiveOak",-2.2999999999999998,"W12153655N3953063-W12153654N3953103","Tier 2-3","YES","2019-11-20T17:46:46",{"$f":"VLOOKUP($K403,SpanRange,4,FALSE)","v":144},{"$f":"VLOOKUP($K403,SpanRange,2,FALSE)","v":148},{"$f":"VLOOKUP($K403,SpanRange,3,FALSE)","v":2},{"$f":"Find_Table(Spans!$I$2,I403)","v":11},{"$f":"IF(R403=0,Spans!$C$10,VLOOKUP(P403,INDIRECT(\"Table\"&R403),Q403,TRUE))","v":30},"No","No"]
[1103,"W12153200N3953261",39.532609999999899,-121.532,34.700000000000003,12.7,7.7,"[CoastalLiveOak, DouglasFir, MontereyPine]","CoastalLiveOak",-3.7,"W12153205N3953245-W12153205N3953285","Tier 2-3","YES","2019-11-20T17:46:46",{"$f":"VLOOKUP($K404,SpanRange,4,FALSE)","v":181},{"$f":"VLOOKUP($K404,SpanRange,2,FALSE)","v":144.599999999999},{"$f":"VLOOKUP($K404,SpanRange,3,FALSE)","v":2},{"$f":"Find_Table(Spans!$I$2,I404)","v":11},{"$f":"IF(R404=0,Spans!$C$10,VLOOKUP(P404,INDIRECT(\"Table\"&R404),Q404,TRUE))","v":30},"No","No"]
[1104,"W12152598N3953174",39.5317399999999,-121.52598,34.899999999999899,18.5,8.1999999999999904,"[GrayPine, MontereyPine, ValleyOak]","GrayPine",-2.8,"W12152606N3953202-W12152604N3953139","Tier 2-3","YES","2019-11-20T17:46:46",{"$f":"VLOOKUP($K405,SpanRange,4,FALSE)","v":161},{"$f":"VLOOKUP($K405,SpanRange,2,FALSE)","v":231.19999999999899},{"$f":"VLOOKUP($K405,SpanRange,3,FALSE)","v":2},{"$f":"Find_Table(Spans!$I$2,I405)","v":10},{"$f":"IF(R405=0,Spans!$C$10,VLOOKUP(P405,INDIRECT(\"Table\"&R405),Q405,TRUE))","v":32},"No","No"]
[1111,"W12149712N3967264",39.672640000000001,-121.497119999999,23.5,18.600000000000001,8.6,null,null,-0.9,"W12149755N3967217-W12149658N3967347","Tier 2-3","YES","2019-11-20T17:46:46",{"$f":"VLOOKUP($K406,SpanRange,4,FALSE)","v":217},{"$f":"VLOOKUP($K406,SpanRange,2,FALSE)","v":546.39999999999895},{"$f":"VLOOKUP($K406,SpanRange,3,FALSE)","v":2},{"$f":"Find_Table(Spans!$I$2,I406)","v":11},{"$f":"IF(R406=0,Spans!$C$10,VLOOKUP(P406,INDIRECT(\"Table\"&R406),Q406,TRUE))","v":30},"No","No"]
[1113,"W12153916N3953287",39.532869999999903,-121.539159999999,41.5,15.2,4.5,"[DouglasFir, LiveOak, TanOak]","DouglasFir",-6.1,"W12153944N3953282-W12153906N3953282","Tier 2-3","YES","2019-11-20T17:46:46",{"$f":"VLOOKUP($K407,SpanRange,4,FALSE)","v":184},{"$f":"VLOOKUP($K407,SpanRange,2,FALSE)","v":108.2},{"$f":"VLOOKUP($K407,SpanRange,3,FALSE)","v":2},{"$f":"Find_Table(Spans!$I$2,I407)","v":9},{"$f":"IF(R407=0,Spans!$C$10,VLOOKUP(P407,INDIRECT(\"Table\"&R407),Q407,TRUE))","v":16},"No","No"]
[1118,"W12152007N3952899",39.52899,-121.52007,83.4,46,31.3,"[GrayPine, CoastalLiveOak, DouglasFir]","GrayPine",-30,"W12152053N3952877-W12152014N3952914","Tier 2-3","YES","2019-11-20T17:46:46",{"$f":"VLOOKUP($K408,SpanRange,4,FALSE)","v":106},{"$f":"VLOOKUP($K408,SpanRange,2,FALSE)","v":171.9},{"$f":"VLOOKUP($K408,SpanRange,3,FALSE)","v":2},{"$f":"Find_Table(Spans!$I$2,I408)","v":10},{"$f":"IF(R408=0,Spans!$C$10,VLOOKUP(P408,INDIRECT(\"Table\"&R408),Q408,TRUE))","v":26},"Yes","No"]
[1120,"W12153217N3953181",39.53181,-121.53216999999999,72.099999999999994,27.1,8.6999999999999993,"[GrayPine, CoastalLiveOak, Other]","GrayPine",-28.6999999999999,"W12153206N3953192-W12153206N3953153","Tier 2-3","YES","2019-11-20T17:46:46",{"$f":"VLOOKUP($K409,SpanRange,4,FALSE)","v":164},{"$f":"VLOOKUP($K409,SpanRange,2,FALSE)","v":140.599999999999},{"$f":"VLOOKUP($K409,SpanRange,3,FALSE)","v":2},{"$f":"Find_Table(Spans!$I$2,I409)","v":10},{"$f":"IF(R409=0,Spans!$C$10,VLOOKUP(P409,INDIRECT(\"Table\"&R409),Q409,TRUE))","v":21},"Yes","No"]
[1121,"W12153161N3953158",39.531579999999899,-121.53161,41.6,10.7,5.3,"[GrayPine, DouglasFir, Other]","GrayPine",-13.1,"W12153147N3953155-W12153206N3953153","Tier 2-3","YES","2019-11-20T17:46:46",{"$f":"VLOOKUP($K410,SpanRange,4,FALSE)","v":159},{"$f":"VLOOKUP($K410,SpanRange,2,FALSE)","v":167.69999999999899},{"$f":"VLOOKUP($K410,SpanRange,3,FALSE)","v":2},{"$f":"Find_Table(Spans!$I$2,I410)","v":10},{"$f":"IF(R410=0,Spans!$C$10,VLOOKUP(P410,INDIRECT(\"Table\"&R410),Q410,TRUE))","v":26},"No","No"]
[1124,"W12153198N3952952",39.529519999999899,-121.53198,45.7,19.1999999999999,6,"[DouglasFir, LiveOak, CoastalLiveOak]","DouglasFir",-8.4,"W12153206N3952972-W12153206N3952881","Tier 2-3","YES","2019-11-20T17:46:46",{"$f":"VLOOKUP($K411,SpanRange,4,FALSE)","v":109},{"$f":"VLOOKUP($K411,SpanRange,2,FALSE)","v":332.19999999999902},{"$f":"VLOOKUP($K411,SpanRange,3,FALSE)","v":2},{"$f":"Find_Table(Spans!$I$2,I411)","v":9},{"$f":"IF(R411=0,Spans!$C$10,VLOOKUP(P411,INDIRECT(\"Table\"&R411),Q411,TRUE))","v":31},"No","No"]
[1127,"W12153200N3953180",39.531799999999997,-121.532,54.5,14.5,6.5,"[GrayPine, DouglasFir, MontereyPine]","GrayPine",-19.5,"W12153206N3953192-W12153206N3953153","Tier 2-3","YES","2019-11-20T17:46:46",{"$f":"VLOOKUP($K412,SpanRange,4,FALSE)","v":164},{"$f":"VLOOKUP($K412,SpanRange,2,FALSE)","v":140.599999999999},{"$f":"VLOOKUP($K412,SpanRange,3,FALSE)","v":2},{"$f":"Find_Table(Spans!$I$2,I412)","v":10},{"$f":"IF(R412=0,Spans!$C$10,VLOOKUP(P412,INDIRECT(\"Table\"&R412),Q412,TRUE))","v":21},"No","No"]
[1128,"W12153429N3953241",39.532409999999899,-121.534289999999,47.3,22,5.8,"[DouglasFir, Eucalyptus/BlueGum, CoastalLiveOak]","DouglasFir",-8.3000000000000007,"W12153419N3953235-W12153557N3953230","Tier 2-3","YES","2019-11-20T17:46:46",{"$f":"VLOOKUP($K413,SpanRange,4,FALSE)","v":172},{"$f":"VLOOKUP($K413,SpanRange,2,FALSE)","v":388.6},{"$f":"VLOOKUP($K413,SpanRange,3,FALSE)","v":2},{"$f":"Find_Table(Spans!$I$2,I413)","v":9},{"$f":"IF(R413=0,Spans!$C$10,VLOOKUP(P413,INDIRECT(\"Table\"&R413),Q413,TRUE))","v":31},"No","No"]
[1133,"W12151755N3953164",39.531639999999904,-121.51755,69.400000000000006,28.5,12,"[Other, LiveOak, DouglasFir]","Other",-21.3,"W12151765N3953162-W12151822N3953157","Tier 2-3","YES","2019-11-20T17:46:46",{"$f":"VLOOKUP($K414,SpanRange,4,FALSE)","v":160},{"$f":"VLOOKUP($K414,SpanRange,2,FALSE)","v":161.30000000000001},{"$f":"VLOOKUP($K414,SpanRange,3,FALSE)","v":2},{"$f":"Find_Table(Spans!$I$2,I414)","v":11},{"$f":"IF(R414=0,Spans!$C$10,VLOOKUP(P414,INDIRECT(\"Table\"&R414),Q414,TRUE))","v":30},"No","No"]
[1139,"W12154244N3953676",39.536760000000001,-121.542439999999,67.400000000000006,20.1999999999999,12,"[Other, GrayPine, DouglasFir]","Other",-39.299999999999997,"W12154250N3953758-W12154253N3953660","Tier 2-3","YES","2019-11-20T17:46:46",{"$f":"VLOOKUP($K415,SpanRange,4,FALSE)","v":195},{"$f":"VLOOKUP($K415,SpanRange,2,FALSE)","v":355.89999999999901},{"$f":"VLOOKUP($K415,SpanRange,3,FALSE)","v":2},{"$f":"Find_Table(Spans!$I$2,I415)","v":11},{"$f":"IF(R415=0,Spans!$C$10,VLOOKUP(P415,INDIRECT(\"Table\"&R415),Q415,TRUE))","v":30},"Yes","No"]
[1140,"W12154074N3953175",39.531749999999903,-121.54074,57.3,27.1,12,"[DouglasFir, Eucalyptus/BlueGum, GrayPine]","DouglasFir",-24.8,"W12154084N3953131-W12154086N3953214","Tier 2-3","YES","2019-11-20T17:46:46",{"$f":"VLOOKUP($K416,SpanRange,4,FALSE)","v":162},{"$f":"VLOOKUP($K416,SpanRange,2,FALSE)","v":302.60000000000002},{"$f":"VLOOKUP($K416,SpanRange,3,FALSE)","v":2},{"$f":"Find_Table(Spans!$I$2,I416)","v":9},{"$f":"IF(R416=0,Spans!$C$10,VLOOKUP(P416,INDIRECT(\"Table\"&R416),Q416,TRUE))","v":31},"No","No"]
[1141,"W12153439N3953223",39.532229999999899,-121.53439,59.7,37.700000000000003,18.8,"[DouglasFir, GrayPine, LiveOak]","DouglasFir",-4,"W12153419N3953235-W12153557N3953230","Tier 2-3","YES","2019-11-20T17:46:46",{"$f":"VLOOKUP($K417,SpanRange,4,FALSE)","v":172},{"$f":"VLOOKUP($K417,SpanRange,2,FALSE)","v":388.6},{"$f":"VLOOKUP($K417,SpanRange,3,FALSE)","v":2},{"$f":"Find_Table(Spans!$I$2,I417)","v":9},{"$f":"IF(R417=0,Spans!$C$10,VLOOKUP(P417,INDIRECT(\"Table\"&R417),Q417,TRUE))","v":31},"No","No"]
[1146,"W12154263N3953580",39.535800000000002,-121.54263,69.400000000000006,34.200000000000003,23.4,"[ValleyOak, GrayPine, DouglasFir]","ValleyOak",-13.7,"W12154242N3953570-W12154256N3953592","Tier 2-3","YES","2019-11-20T17:46:46",{"$f":"VLOOKUP($K418,SpanRange,4,FALSE)","v":193},{"$f":"VLOOKUP($K418,SpanRange,2,FALSE)","v":92.299999999999898},{"$f":"VLOOKUP($K418,SpanRange,3,FALSE)","v":2},{"$f":"Find_Table(Spans!$I$2,I418)","v":11},{"$f":"IF(R418=0,Spans!$C$10,VLOOKUP(P418,INDIRECT(\"Table\"&R418),Q418,TRUE))","v":30},"No","No"]
[1147,"W12153779N3952246",39.522459999999903,-121.53779,70,32.1,8.4,"[GrayPine, DouglasFir, Eucalyptus/BlueGum]","GrayPine",-17.100000000000001,"W12153775N3952283-W12153791N3952249","Tier 2-3","YES","2019-11-20T17:46:46",{"$f":"VLOOKUP($K419,SpanRange,4,FALSE)","v":{"$error":"#N/A"}},{"$f":"VLOOKUP($K419,SpanRange,2,FALSE)","v":{"$error":"#N/A"}},{"$f":"VLOOKUP($K419,SpanRange,3,FALSE)","v":{"$error":"#N/A"}},{"$f":"Find_Table(Spans!$I$2,I419)","v":10},{"$f":"IF(R419=0,Spans!$C$10,VLOOKUP(P419,INDIRECT(\"Table\"&R419),Q419,TRUE))","v":{"$error":"#N/A"}},"No Match","No"]
[1152,"W12152066N3952877",39.528770000000002,-121.520659999999,60.3,35.799999999999997,36.799999999999997,"[GrayPine, Other, CoastalLiveOak]","GrayPine",-11.5,"W12152053N3952877-W12152014N3952914","Tier 2-3","YES","2019-11-20T17:46:46",{"$f":"VLOOKUP($K420,SpanRange,4,FALSE)","v":106},{"$f":"VLOOKUP($K420,SpanRange,2,FALSE)","v":171.9},{"$f":"VLOOKUP($K420,SpanRange,3,FALSE)","v":2},{"$f":"Find_Table(Spans!$I$2,I420)","v":10},{"$f":"IF(R420=0,Spans!$C$10,VLOOKUP(P420,INDIRECT(\"Table\"&R420),Q420,TRUE))","v":26},"No","No"]
[1162,"W12152083N3952868",39.528680000000001,-121.52083,94.9,89.4,76.5,"[GrayPine, Other, ValleyOak]","GrayPine",-1.3,"W12152053N3952877-W12152014N3952914","Tier 2-3","YES","2019-11-20T17:46:46",{"$f":"VLOOKUP($K421,SpanRange,4,FALSE)","v":106},{"$f":"VLOOKUP($K421,SpanRange,2,FALSE)","v":171.9},{"$f":"VLOOKUP($K421,SpanRange,3,FALSE)","v":2},{"$f":"Find_Table(Spans!$I$2,I421)","v":10},{"$f":"IF(R421=0,Spans!$C$10,VLOOKUP(P421,INDIRECT(\"Table\"&R421),Q421,TRUE))","v":26},"No","No"]
[1165,"W12153180N3952674",39.526739999999897,-121.5318,43.899999999999899,21.9,6.9,"[ValleyOak, GrayPine, MontereyPine]","ValleyOak",-5.7,"W12153224N3952655-W12153152N3952699","Tier 2-3","YES","2019-11-20T17:46:46",{"$f":"VLOOKUP($K422,SpanRange,4,FALSE)","v":75},{"$f":"VLOOKUP($K422,SpanRange,2,FALSE)","v":257.60000000000002},{"$f":"VLOOKUP($K422,SpanRange,3,FALSE)","v":2},{"$f":"Find_Table(Spans!$I$2,I422)","v":11},{"$f":"IF(R422=0,Spans!$C$10,VLOOKUP(P422,INDIRECT(\"Table\"&R422),Q422,TRUE))","v":30},"No","No"]
[1166,"W12153707N3952450",39.524500000000003,-121.53707,48.8,29.6999999999999,9.1999999999999993,"[DouglasFir, CoastalLiveOak, Eucalyptus/BlueGum]","DouglasFir",-3.8,"W12153751N3952386-W12153716N3952455","Tier 2-3","YES","2019-11-20T17:46:46",{"$f":"VLOOKUP($K423,SpanRange,4,FALSE)","v":42},{"$f":"VLOOKUP($K423,SpanRange,2,FALSE)","v":271.10000000000002},{"$f":"VLOOKUP($K423,SpanRange,3,FALSE)","v":2},{"$f":"Find_Table(Spans!$I$2,I423)","v":9},{"$f":"IF(R423=0,Spans!$C$10,VLOOKUP(P423,INDIRECT(\"Table\"&R423),Q423,TRUE))","v":26},"No","No"]
[1167,"W12153647N3953113",39.531129999999898,-121.536469999999,54.399999999999899,18.8,5.3,"[CoastalLiveOak, Other, Eucalyptus/BlueGum]","CoastalLiveOak",-17.5,"W12153654N3953154-W12153654N3953103","Tier 2-3","YES","2019-11-20T17:46:46",{"$f":"VLOOKUP($K424,SpanRange,4,FALSE)","v":151},{"$f":"VLOOKUP($K424,SpanRange,2,FALSE)","v":182.69999999999899},{"$f":"VLOOKUP($K424,SpanRange,3,FALSE)","v":2},{"$f":"Find_Table(Spans!$I$2,I424)","v":11},{"$f":"IF(R424=0,Spans!$C$10,VLOOKUP(P424,INDIRECT(\"Table\"&R424),Q424,TRUE))","v":30},"No","No"]
[1168,"W12153649N3953167",39.531669999999899,-121.53649,46.6,10.199999999999999,5.4,"[Other, CoastalLiveOak, Eucalyptus/BlueGum]","Other",-14.9,"W12153655N3953211-W12153654N3953154","Tier 2-3","YES","2019-11-20T17:46:46",{"$f":"VLOOKUP($K425,SpanRange,4,FALSE)","v":165},{"$f":"VLOOKUP($K425,SpanRange,2,FALSE)","v":209.599999999999},{"$f":"VLOOKUP($K425,SpanRange,3,FALSE)","v":2},{"$f":"Find_Table(Spans!$I$2,I425)","v":11},{"$f":"IF(R425=0,Spans!$C$10,VLOOKUP(P425,INDIRECT(\"Table\"&R425),Q425,TRUE))","v":30},"No","No"]
[1172,"W12154243N3953591",39.535910000000001,-121.542429999999,65.599999999999895,29.4,12,"[Other, LiveOak, GrayPine]","Other",-31.3,"W12154242N3953570-W12154256N3953592","Tier 2-3","YES","2019-11-20T17:46:46",{"$f":"VLOOKUP($K426,SpanRange,4,FALSE)","v":193},{"$f":"VLOOKUP($K426,SpanRange,2,FALSE)","v":92.299999999999898},{"$f":"VLOOKUP($K426,SpanRange,3,FALSE)","v":2},{"$f":"Find_Table(Spans!$I$2,I426)","v":11},{"$f":"IF(R426=0,Spans!$C$10,VLOOKUP(P426,INDIRECT(\"Table\"&R426),Q426,TRUE))","v":30},"Yes","No"]
[1173,"W12153197N3953225",39.532249999999898,-121.53197,62.6,22.1,12,"[GrayPine, Other, DouglasFir]","GrayPine",-30.8,"W12153206N3953192-W12153205N3953245","Tier 2-3","YES","2019-11-20T17:46:46",{"$f":"VLOOKUP($K427,SpanRange,4,FALSE)","v":168},{"$f":"VLOOKUP($K427,SpanRange,2,FALSE)","v":195.5},{"$f":"VLOOKUP($K427,SpanRange,3,FALSE)","v":2},{"$f":"Find_Table(Spans!$I$2,I427)","v":10},{"$f":"IF(R427=0,Spans!$C$10,VLOOKUP(P427,INDIRECT(\"Table\"&R427),Q427,TRUE))","v":26},"Yes","No"]
[1175,"W12152587N3953275",39.53275,-121.525869999999,84.1,49.399999999999899,30.1,"[MontereyPine, ValleyOak, Other]","MontereyPine",-30.8,"W12152605N3953235-W12152605N3953285","Tier 2-3","YES","2019-11-20T17:46:46",{"$f":"VLOOKUP($K428,SpanRange,4,FALSE)","v":178},{"$f":"VLOOKUP($K428,SpanRange,2,FALSE)","v":180.3},{"$f":"VLOOKUP($K428,SpanRange,3,FALSE)","v":2},{"$f":"Find_Table(Spans!$I$2,I428)","v":10},{"$f":"IF(R428=0,Spans!$C$10,VLOOKUP(P428,INDIRECT(\"Table\"&R428),Q428,TRUE))","v":26},"Yes","No"]
[1177,"W12150716N3965239",39.652389999999897,-121.507159999999,40.5,20.399999999999999,12,null,null,-1.1000000000000001,"W12150660N3965474-W12150742N3965186","Tier 2-3","YES","2019-11-20T17:46:46",{"$f":"VLOOKUP($K429,SpanRange,4,FALSE)","v":205},{"$f":"VLOOKUP($K429,SpanRange,2,FALSE)","v":1075.2},{"$f":"VLOOKUP($K429,SpanRange,3,FALSE)","v":2},{"$f":"Find_Table(Spans!$I$2,I429)","v":11},{"$f":"IF(R429=0,Spans!$C$10,VLOOKUP(P429,INDIRECT(\"Table\"&R429),Q429,TRUE))","v":30},"No","No"]
[1179,"W12153281N3953039",39.530389999999898,-121.532809999999,63.899999999999899,30.6999999999999,7.7,"[GrayPine, DouglasFir, LiveOak]","GrayPine",-20.5,"W12153269N3953048-W12153323N3953048","Tier 2-3","YES","2019-11-20T17:46:46",{"$f":"VLOOKUP($K430,SpanRange,4,FALSE)","v":132},{"$f":"VLOOKUP($K430,SpanRange,2,FALSE)","v":153.80000000000001},{"$f":"VLOOKUP($K430,SpanRange,3,FALSE)","v":2},{"$f":"Find_Table(Spans!$I$2,I430)","v":10},{"$f":"IF(R430=0,Spans!$C$10,VLOOKUP(P430,INDIRECT(\"Table\"&R430),Q430,TRUE))","v":26},"No","No"]
[1180,"W12153404N3953241",39.532409999999899,-121.53404,73,39,17.5,"[GrayPine, DouglasFir, TanOak]","GrayPine",-20.6,"W12153421N3953300-W12153419N3953235","Tier 2-3","YES","2019-11-20T17:46:46",{"$f":"VLOOKUP($K431,SpanRange,4,FALSE)","v":182},{"$f":"VLOOKUP($K431,SpanRange,2,FALSE)","v":237.3},{"$f":"VLOOKUP($K431,SpanRange,3,FALSE)","v":2},{"$f":"Find_Table(Spans!$I$2,I431)","v":10},{"$f":"IF(R431=0,Spans!$C$10,VLOOKUP(P431,INDIRECT(\"Table\"&R431),Q431,TRUE))","v":32},"No","No"]
[1184,"W12152917N3952710",39.527099999999997,-121.529169999999,89.1,46.6,29.5,"[GrayPine, Other, ValleyOak]","GrayPine",-35,"W12152971N3952716-W12152907N3952726","Tier 2-3","YES","2019-11-20T17:46:46",{"$f":"VLOOKUP($K432,SpanRange,4,FALSE)","v":79},{"$f":"VLOOKUP($K432,SpanRange,2,FALSE)","v":184.9},{"$f":"VLOOKUP($K432,SpanRange,3,FALSE)","v":2},{"$f":"Find_Table(Spans!$I$2,I432)","v":10},{"$f":"IF(R432=0,Spans!$C$10,VLOOKUP(P432,INDIRECT(\"Table\"&R432),Q432,TRUE))","v":26},"Yes","No"]
[1185,"W12153957N3953156",39.531559999999899,-121.539569999999,48.7,13.1,8.4,"[DouglasFir, Other, CoastalLiveOak]","DouglasFir",-10.7,"W12153966N3953151-W12153907N3953151","Tier 2-3","YES","2019-11-20T17:46:46",{"$f":"VLOOKUP($K433,SpanRange,4,FALSE)","v":155},{"$f":"VLOOKUP($K433,SpanRange,2,FALSE)","v":165.5},{"$f":"VLOOKUP($K433,SpanRange,3,FALSE)","v":2},{"$f":"Find_Table(Spans!$I$2,I433)","v":9},{"$f":"IF(R433=0,Spans!$C$10,VLOOKUP(P433,INDIRECT(\"Table\"&R433),Q433,TRUE))","v":21},"No","No"]
[1186,"W12152711N3952864",39.528639999999903,-121.527109999999,56.8,26.3,13.3,"[GrayPine, DouglasFir, Other]","GrayPine",-6.8,"W12152750N3952825-W12152680N3952875","Tier 2-3","YES","2019-11-20T17:46:46",{"$f":"VLOOKUP($K434,SpanRange,4,FALSE)","v":98},{"$f":"VLOOKUP($K434,SpanRange,2,FALSE)","v":268.39999999999901},{"$f":"VLOOKUP($K434,SpanRange,3,FALSE)","v":2},{"$f":"Find_Table(Spans!$I$2,I434)","v":10},{"$f":"IF(R434=0,Spans!$C$10,VLOOKUP(P434,INDIRECT(\"Table\"&R434),Q434,TRUE))","v":32},"No","No"]
[1188,"W12154244N3953489",39.534889999999898,-121.542439999999,95,57.1,44.3,"[DouglasFir, GrayPine, Eucalyptus/BlueGum]","DouglasFir",-17.1999999999999,"W12154230N3953520-W12154214N3953455","Tier 2-3","YES","2019-11-20T17:46:46",{"$f":"VLOOKUP($K435,SpanRange,4,FALSE)","v":191},{"$f":"VLOOKUP($K435,SpanRange,2,FALSE)","v":240.599999999999},{"$f":"VLOOKUP($K435,SpanRange,3,FALSE)","v":2},{"$f":"Find_Table(Spans!$I$2,I435)","v":9},{"$f":"IF(R435=0,Spans!$C$10,VLOOKUP(P435,INDIRECT(\"Table\"&R435),Q435,TRUE))","v":26},"No","No"]
[1189,"W12153184N3953121",39.531210000000002,-121.53184,82.9,60,43,"[Eucalyptus/BlueGum, GrayPine, DouglasFir]","Eucalyptus/BlueGum",-19.600000000000001,"W12153207N3953097-W12153206N3953153","Tier 2-3","YES","2019-11-20T17:46:46",{"$f":"VLOOKUP($K436,SpanRange,4,FALSE)","v":148},{"$f":"VLOOKUP($K436,SpanRange,2,FALSE)","v":205.3},{"$f":"VLOOKUP($K436,SpanRange,3,FALSE)","v":2},{"$f":"Find_Table(Spans!$I$2,I436)","v":12},{"$f":"IF(R436=0,Spans!$C$10,VLOOKUP(P436,INDIRECT(\"Table\"&R436),Q436,TRUE))","v":30},"No","No"]
[1190,"W12153220N3953210",39.5321,-121.5322,52.3,38.299999999999997,32.200000000000003,"[GrayPine, MontereyPine, Eucalyptus/BlueGum]","GrayPine",-4.5999999999999996,"W12153206N3953192-W12153205N3953245","Tier 2-3","YES","2019-11-20T17:46:46",{"$f":"VLOOKUP($K437,SpanRange,4,FALSE)","v":168},{"$f":"VLOOKUP($K437,SpanRange,2,FALSE)","v":195.5},{"$f":"VLOOKUP($K437,SpanRange,3,FALSE)","v":2},{"$f":"Find_Table(Spans!$I$2,I437)","v":10},{"$f":"IF(R437=0,Spans!$C$10,VLOOKUP(P437,INDIRECT(\"Table\"&R437),Q437,TRUE))","v":26},"No","No"]
[1193,"W12151779N3953150",39.531500000000001,-121.517789999999,50.2,35.200000000000003,11.3,"[CoastalLiveOak, DouglasFir, Other]","CoastalLiveOak",-3.9,"W12151765N3953162-W12151822N3953157","Tier 2-3","YES","2019-11-20T17:46:46",{"$f":"VLOOKUP($K438,SpanRange,4,FALSE)","v":160},{"$f":"VLOOKUP($K438,SpanRange,2,FALSE)","v":161.30000000000001},{"$f":"VLOOKUP($K438,SpanRange,3,FALSE)","v":2},{"$f":"Find_Table(Spans!$I$2,I438)","v":11},{"$f":"IF(R438=0,Spans!$C$10,VLOOKUP(P438,INDIRECT(\"Table\"&R438),Q438,TRUE))","v":30},"No","No"]
[1194,"W12151966N3953063",39.530629999999903,-121.51966,39,20.8,9.3000000000000007,"[ValleyOak, GrayPine, Other]","ValleyOak",-3.4,"W12152005N3953021-W12151923N3953089","Tier 2-3","YES","2019-11-20T17:46:46",{"$f":"VLOOKUP($K439,SpanRange,4,FALSE)","v":136},{"$f":"VLOOKUP($K439,SpanRange,2,FALSE)","v":336.89999999999901},{"$f":"VLOOKUP($K439,SpanRange,3,FALSE)","v":2},{"$f":"Find_Table(Spans!$I$2,I439)","v":11},{"$f":"IF(R439=0,Spans!$C$10,VLOOKUP(P439,INDIRECT(\"Table\"&R439),Q439,TRUE))","v":30},"No","No"]
[1201,"W12151464N3952500",39.524999999999899,-121.51464,34.299999999999997,11.5,3.9,"[GrayPine, MontereyPine, ValleyOak]","GrayPine",-2.2999999999999998,"W12151461N3952559-W12151459N3952471","Tier 2-3","YES","2019-11-20T17:46:46",{"$f":"VLOOKUP($K440,SpanRange,4,FALSE)","v":54},{"$f":"VLOOKUP($K440,SpanRange,2,FALSE)","v":322.60000000000002},{"$f":"VLOOKUP($K440,SpanRange,3,FALSE)","v":2},{"$f":"Find_Table(Spans!$I$2,I440)","v":10},{"$f":"IF(R440=0,Spans!$C$10,VLOOKUP(P440,INDIRECT(\"Table\"&R440),Q440,TRUE))","v":36},"No","No"]
[1203,"W12154233N3953730",39.537300000000002,-121.542329999999,50.899999999999899,46.5,37.1,"[GrayPine, Other, Eucalyptus/BlueGum]","GrayPine",-2.2999999999999998,"W12154250N3953758-W12154253N3953660","Tier 2-3","YES","2019-11-20T17:46:46",{"$f":"VLOOKUP($K441,SpanRange,4,FALSE)","v":195},{"$f":"VLOOKUP($K441,SpanRange,2,FALSE)","v":355.89999999999901},{"$f":"VLOOKUP($K441,SpanRange,3,FALSE)","v":2},{"$f":"Find_Table(Spans!$I$2,I441)","v":10},{"$f":"IF(R441=0,Spans!$C$10,VLOOKUP(P441,INDIRECT(\"Table\"&R441),Q441,TRUE))","v":36},"No","No"]
[1205,"W12154243N3953665",39.536650000000002,-121.542429999999,99.1,23.8,12,"[GrayPine, DouglasFir, Other]","GrayPine",-71.099999999999994,"W12154250N3953758-W12154253N3953660","Tier 2-3","YES","2019-11-20T17:46:46",{"$f":"VLOOKUP($K442,SpanRange,4,FALSE)","v":195},{"$f":"VLOOKUP($K442,SpanRange,2,FALSE)","v":355.89999999999901},{"$f":"VLOOKUP($K442,SpanRange,3,FALSE)","v":2},{"$f":"Find_Table(Spans!$I$2,I442)","v":10},{"$f":"IF(R442=0,Spans!$C$10,VLOOKUP(P442,INDIRECT(\"Table\"&R442),Q442,TRUE))","v":36},"Yes","No"]
[1220,"W12154077N3953208",39.532080000000001,-121.540769999999,69.099999999999994,21.6999999999999,12,"[DouglasFir, GrayPine, CoastalLiveOak]","DouglasFir",-33.299999999999898,"W12154084N3953131-W12154086N3953214","Tier 2-3","YES","2019-11-20T17:46:46",{"$f":"VLOOKUP($K443,SpanRange,4,FALSE)","v":162},{"$f":"VLOOKUP($K443,SpanRange,2,FALSE)","v":302.60000000000002},{"$f":"VLOOKUP($K443,SpanRange,3,FALSE)","v":2},{"$f":"Find_Table(Spans!$I$2,I443)","v":9},{"$f":"IF(R443=0,Spans!$C$10,VLOOKUP(P443,INDIRECT(\"Table\"&R443),Q443,TRUE))","v":31},"Yes","No"]
[1222,"W12153265N3952799",39.527989999999903,-121.53265,43.6,32.899999999999899,27.5,"[GrayPine, Other, DouglasFir]","GrayPine",-0.2,"W12153203N3952790-W12153270N3952789","Tier 2-3","YES","2019-11-20T17:46:46",{"$f":"VLOOKUP($K444,SpanRange,4,FALSE)","v":89},{"$f":"VLOOKUP($K444,SpanRange,2,FALSE)","v":189.099999999999},{"$f":"VLOOKUP($K444,SpanRange,3,FALSE)","v":2},{"$f":"Find_Table(Spans!$I$2,I444)","v":10},{"$f":"IF(R444=0,Spans!$C$10,VLOOKUP(P444,INDIRECT(\"Table\"&R444),Q444,TRUE))","v":26},"No","No"]
[1226,"W12151988N3953016",39.530159999999903,-121.51988,72.900000000000006,33,9.6,"[GrayPine, DouglasFir, LiveOak]","GrayPine",-20.6,"W12152005N3953021-W12151936N3952926","Tier 2-3","YES","2019-11-20T17:46:46",{"$f":"VLOOKUP($K445,SpanRange,4,FALSE)","v":121},{"$f":"VLOOKUP($K445,SpanRange,2,FALSE)","v":398},{"$f":"VLOOKUP($K445,SpanRange,3,FALSE)","v":2},{"$f":"Find_Table(Spans!$I$2,I445)","v":10},{"$f":"IF(R445=0,Spans!$C$10,VLOOKUP(P445,INDIRECT(\"Table\"&R445),Q445,TRUE))","v":36},"No","No"]
[1232,"W12153844N3953275",39.53275,-121.538439999999,60.7,22.4,12,"[Eucalyptus/BlueGum, GrayPine, DouglasFir]","Eucalyptus/BlueGum",-25.1,"W12153848N3953281-W12153906N3953282","Tier 2-3","YES","2019-11-20T17:46:46",{"$f":"VLOOKUP($K446,SpanRange,4,FALSE)","v":183},{"$f":"VLOOKUP($K446,SpanRange,2,FALSE)","v":163.80000000000001},{"$f":"VLOOKUP($K446,SpanRange,3,FALSE)","v":2},{"$f":"Find_Table(Spans!$I$2,I446)","v":12},{"$f":"IF(R446=0,Spans!$C$10,VLOOKUP(P446,INDIRECT(\"Table\"&R446),Q446,TRUE))","v":30},"No","No"]
[1233,"W12154085N3953274",39.532739999999897,-121.54085000000001,65.099999999999895,25.4,10,"[GrayPine, DouglasFir, LiveOak]","GrayPine",-17.3,"W12154086N3953214-W12154073N3953285","Tier 2-3","YES","2019-11-20T17:46:46",{"$f":"VLOOKUP($K447,SpanRange,4,FALSE)","v":177},{"$f":"VLOOKUP($K447,SpanRange,2,FALSE)","v":261},{"$f":"VLOOKUP($K447,SpanRange,3,FALSE)","v":2},{"$f":"Find_Table(Spans!$I$2,I447)","v":10},{"$f":"IF(R447=0,Spans!$C$10,VLOOKUP(P447,INDIRECT(\"Table\"&R447),Q447,TRUE))","v":32},"No","No"]
[1234,"W12153688N3953290",39.532899999999998,-121.536879999999,49.3,19.6999999999999,6.9,"[DouglasFir, CoastalLiveOak, Eucalyptus/BlueGum]","DouglasFir",-10.6,"W12153655N3953283-W12153713N3953284","Tier 2-3","YES","2019-11-20T17:46:46",{"$f":"VLOOKUP($K448,SpanRange,4,FALSE)","v":185},{"$f":"VLOOKUP($K448,SpanRange,2,FALSE)","v":163.4},{"$f":"VLOOKUP($K448,SpanRange,3,FALSE)","v":2},{"$f":"Find_Table(Spans!$I$2,I448)","v":9},{"$f":"IF(R448=0,Spans!$C$10,VLOOKUP(P448,INDIRECT(\"Table\"&R448),Q448,TRUE))","v":21},"No","No"]
[1235,"W12154207N3954168",39.5416799999999,-121.542069999999,44.3,19.3,8.1999999999999904,"[DouglasFir, LiveOak, TanOak]","DouglasFir",-0.7,"W12154249N3954102-W12154206N3954186","Tier 2-3","YES","2019-11-20T17:46:46",{"$f":"VLOOKUP($K449,SpanRange,4,FALSE)","v":201},{"$f":"VLOOKUP($K449,SpanRange,2,FALSE)","v":330.6},{"$f":"VLOOKUP($K449,SpanRange,3,FALSE)","v":2},{"$f":"Find_Table(Spans!$I$2,I449)","v":9},{"$f":"IF(R449=0,Spans!$C$10,VLOOKUP(P449,INDIRECT(\"Table\"&R449),Q449,TRUE))","v":31},"No","No"]
[1236,"W12154242N3953878",39.538779999999903,-121.542419999999,81,35,15.6,"[DouglasFir, Other, GrayPine]","DouglasFir",-46,"W12154263N3953924-W12154252N3953857","Tier 2-3","YES","2019-11-20T17:46:46",{"$f":"VLOOKUP($K450,SpanRange,4,FALSE)","v":197},{"$f":"VLOOKUP($K450,SpanRange,2,FALSE)","v":244.69999999999899},{"$f":"VLOOKUP($K450,SpanRange,3,FALSE)","v":2},{"$f":"Find_Table(Spans!$I$2,I450)","v":9},{"$f":"IF(R450=0,Spans!$C$10,VLOOKUP(P450,INDIRECT(\"Table\"&R450),Q450,TRUE))","v":26},"Yes","No"]
[1243,"W12151951N3953051",39.53051,-121.519509999999,67.7,34.700000000000003,11.3,"[GrayPine, Other, DouglasFir]","GrayPine",-25.6999999999999,"W12152005N3953021-W12151923N3953089","Tier 2-3","YES","2019-11-20T17:46:46",{"$f":"VLOOKUP($K451,SpanRange,4,FALSE)","v":136},{"$f":"VLOOKUP($K451,SpanRange,2,FALSE)","v":336.89999999999901},{"$f":"VLOOKUP($K451,SpanRange,3,FALSE)","v":2},{"$f":"Find_Table(Spans!$I$2,I451)","v":10},{"$f":"IF(R451=0,Spans!$C$10,VLOOKUP(P451,INDIRECT(\"Table\"&R451),Q451,TRUE))","v":36},"No","No"]
[1244,"W12151960N3952912",39.529119999999899,-121.5196,52.3,32.700000000000003,15.3,"[GrayPine, Other, MontereyPine]","GrayPine",-12,"W12152014N3952914-W12151936N3952926","Tier 2-3","YES","2019-11-20T17:46:46",{"$f":"VLOOKUP($K452,SpanRange,4,FALSE)","v":108},{"$f":"VLOOKUP($K452,SpanRange,2,FALSE)","v":225.099999999999},{"$f":"VLOOKUP($K452,SpanRange,3,FALSE)","v":2},{"$f":"Find_Table(Spans!$I$2,I452)","v":10},{"$f":"IF(R452=0,Spans!$C$10,VLOOKUP(P452,INDIRECT(\"Table\"&R452),Q452,TRUE))","v":32},{"$f":"IFERROR(IF((-1)*J452>S452,\"Yes\",\"No\"),\"No Match\")","v":"No"},{"$f":"IF(F452<=6,\"Yes\",\"No\")","v":"No"}]
[1248,"W12152692N3952842",39.528419999999898,-121.52692,86.7,66.099999999999895,47,null,null,-18.399999999999999,"W12152750N3952825-W12152680N3952875","Tier 2-3","YES","2019-11-20T17:46:46",{"$f":"VLOOKUP($K453,SpanRange,4,FALSE)","v":98},{"$f":"VLOOKUP($K453,SpanRange,2,FALSE)","v":268.39999999999901},{"$f":"VLOOKUP($K453,SpanRange,3,FALSE)","v":2},{"$f":"Find_Table(Spans!$I$2,I453)","v":11},{"$f":"IF(R453=0,Spans!$C$10,VLOOKUP(P453,INDIRECT(\"Table\"&R453),Q453,TRUE))","v":30},"No","No"]
[1249,"W12153663N3953070",39.530700000000003,-121.53663,49,21.1,7.5,"[Other, DouglasFir, LiveOak]","Other",-10,"W12153655N3953063-W12153654N3953103","Tier 2-3","YES","2019-11-20T17:46:46",{"$f":"VLOOKUP($K454,SpanRange,4,FALSE)","v":144},{"$f":"VLOOKUP($K454,SpanRange,2,FALSE)","v":148},{"$f":"VLOOKUP($K454,SpanRange,3,FALSE)","v":2},{"$f":"Find_Table(Spans!$I$2,I454)","v":11},{"$f":"IF(R454=0,Spans!$C$10,VLOOKUP(P454,INDIRECT(\"Table\"&R454),Q454,TRUE))","v":30},"No","No"]
[1252,"W12151852N3953116",39.53116,-121.518519999999,61.2,21.8,5.4,"[Other, MontereyPine, Eucalyptus/BlueGum]","Other",-24.6999999999999,"W12151822N3953157-W12151868N3953111","Tier 2-3","YES","2019-11-20T17:46:46",{"$f":"VLOOKUP($K455,SpanRange,4,FALSE)","v":153},{"$f":"VLOOKUP($K455,SpanRange,2,FALSE)","v":210.9},{"$f":"VLOOKUP($K455,SpanRange,3,FALSE)","v":2},{"$f":"Find_Table(Spans!$I$2,I455)","v":11},{"$f":"IF(R455=0,Spans!$C$10,VLOOKUP(P455,INDIRECT(\"Table\"&R455),Q455,TRUE))","v":30},"No","No"]
[1253,"W12151479N3952643",39.526429999999898,-121.51479,66.599999999999895,45.2,36.5,"[GrayPine, DouglasFir, Other]","GrayPine",-2.2999999999999998,"W12151461N3952559-W12151463N3952642","Tier 2-3","YES","2019-11-20T17:46:46",{"$f":"VLOOKUP($K456,SpanRange,4,FALSE)","v":67},{"$f":"VLOOKUP($K456,SpanRange,2,FALSE)","v":301.39999999999901},{"$f":"VLOOKUP($K456,SpanRange,3,FALSE)","v":2},{"$f":"Find_Table(Spans!$I$2,I456)","v":10},{"$f":"IF(R456=0,Spans!$C$10,VLOOKUP(P456,INDIRECT(\"Table\"&R456),Q456,TRUE))","v":36},"No","No"]
[1254,"W12153541N3952751",39.5275099999999,-121.535409999999,31.6999999999999,13,6.7,"[CoastalLiveOak, Other, MontereyPine]","CoastalLiveOak",-0.5,"W12153536N3952706-W12153535N3952774","Tier 2-3","YES","2019-11-20T17:46:46",{"$f":"VLOOKUP($K457,SpanRange,4,FALSE)","v":82},{"$f":"VLOOKUP($K457,SpanRange,2,FALSE)","v":246.599999999999},{"$f":"VLOOKUP($K457,SpanRange,3,FALSE)","v":2},{"$f":"Find_Table(Spans!$I$2,I457)","v":11},{"$f":"IF(R457=0,Spans!$C$10,VLOOKUP(P457,INDIRECT(\"Table\"&R457),Q457,TRUE))","v":30},"No","No"]
[1257,"W12153932N3952641",39.526409999999899,-121.53932,75.799999999999898,39.899999999999899,24.8,"[GrayPine, Other, DouglasFir]","GrayPine",-20.8,"W12153928N3952652-W12153848N3952653","Tier 2-3","YES","2019-11-20T17:46:46",{"$f":"VLOOKUP($K458,SpanRange,4,FALSE)","v":72},{"$f":"VLOOKUP($K458,SpanRange,2,FALSE)","v":226.19999999999899},{"$f":"VLOOKUP($K458,SpanRange,3,FALSE)","v":2},{"$f":"Find_Table(Spans!$I$2,I458)","v":10},{"$f":"IF(R458=0,Spans!$C$10,VLOOKUP(P458,INDIRECT(\"Table\"&R458),Q458,TRUE))","v":32},"No","No"]
[1259,"W12153236N3952962",39.529620000000001,-121.532359999999,54.6,35.1,20.3,"[LiveOak, Other, DouglasFir]","LiveOak",-11.1,"W12153284N3952973-W12153206N3952972","Tier 2-3","YES","2019-11-20T17:46:46",{"$f":"VLOOKUP($K459,SpanRange,4,FALSE)","v":118},{"$f":"VLOOKUP($K459,SpanRange,2,FALSE)","v":221.5},{"$f":"VLOOKUP($K459,SpanRange,3,FALSE)","v":2},{"$f":"Find_Table(Spans!$I$2,I459)","v":11},{"$f":"IF(R459=0,Spans!$C$10,VLOOKUP(P459,INDIRECT(\"Table\"&R459),Q459,TRUE))","v":30},"No","No"]
[1262,"W12153818N3952507",39.5250699999999,-121.538179999999,53.8,27.4,15.4,"[DouglasFir, CoastalLiveOak, MontereyPine]","DouglasFir",-9,"W12153809N3952504-W12153745N3952470","Tier 2-3","YES","2019-11-20T17:46:46",{"$f":"VLOOKUP($K460,SpanRange,4,FALSE)","v":50},{"$f":"VLOOKUP($K460,SpanRange,2,FALSE)","v":218.599999999999},{"$f":"VLOOKUP($K460,SpanRange,3,FALSE)","v":2},{"$f":"Find_Table(Spans!$I$2,I460)","v":9},{"$f":"IF(R460=0,Spans!$C$10,VLOOKUP(P460,INDIRECT(\"Table\"&R460),Q460,TRUE))","v":26},"No","No"]
[1271,"W12153598N3953067",39.530670000000001,-121.535979999999,41.899999999999899,14,4.5,"[TanOak, LiveOak, DouglasFir]","TanOak",-13.5,"W12153655N3953063-W12153538N3953063","Tier 2-3","YES","2019-11-20T17:46:46",{"$f":"VLOOKUP($K461,SpanRange,4,FALSE)","v":140},{"$f":"VLOOKUP($K461,SpanRange,2,FALSE)","v":329.19999999999902},{"$f":"VLOOKUP($K461,SpanRange,3,FALSE)","v":2},{"$f":"Find_Table(Spans!$I$2,I461)","v":11},{"$f":"IF(R461=0,Spans!$C$10,VLOOKUP(P461,INDIRECT(\"Table\"&R461),Q461,TRUE))","v":30},"No","No"]
[1272,"W12153177N3953292",39.532919999999898,-121.531769999999,38.1,26.8,7.2,"[DouglasFir, TanOak, LiveOak]","DouglasFir",-1.4,"W12153118N3953282-W12153205N3953285","Tier 2-3","YES","2019-11-20T17:46:46",{"$f":"VLOOKUP($K462,SpanRange,4,FALSE)","v":186},{"$f":"VLOOKUP($K462,SpanRange,2,FALSE)","v":244.599999999999},{"$f":"VLOOKUP($K462,SpanRange,3,FALSE)","v":2},{"$f":"Find_Table(Spans!$I$2,I462)","v":9},{"$f":"IF(R462=0,Spans!$C$10,VLOOKUP(P462,INDIRECT(\"Table\"&R462),Q462,TRUE))","v":26},"No","No"]
[1273,"W12151795N3953148",39.531479999999902,-121.517949999999,49.399999999999899,37.6,21.6999999999999,"[CoastalLiveOak, Other, DouglasFir]","CoastalLiveOak",-1,"W12151765N3953162-W12151822N3953157","Tier 2-3","YES","2019-11-20T17:46:46",{"$f":"VLOOKUP($K463,SpanRange,4,FALSE)","v":160},{"$f":"VLOOKUP($K463,SpanRange,2,FALSE)","v":161.30000000000001},{"$f":"VLOOKUP($K463,SpanRange,3,FALSE)","v":2},{"$f":"Find_Table(Spans!$I$2,I463)","v":11},{"$f":"IF(R463=0,Spans!$C$10,VLOOKUP(P463,INDIRECT(\"Table\"&R463),Q463,TRUE))","v":30},"No","No"]
[1276,"W12153166N3953038",39.530380000000001,-121.53166,45.899999999999899,32.200000000000003,7.7,"[DouglasFir, LiveOak, ValleyOak]","DouglasFir",-0.2,"W12153157N3953048-W12153206N3953048","Tier 2-3","YES","2019-11-20T17:46:46",{"$f":"VLOOKUP($K464,SpanRange,4,FALSE)","v":134},{"$f":"VLOOKUP($K464,SpanRange,2,FALSE)","v":140.099999999999},{"$f":"VLOOKUP($K464,SpanRange,3,FALSE)","v":2},{"$f":"Find_Table(Spans!$I$2,I464)","v":9},{"$f":"IF(R464=0,Spans!$C$10,VLOOKUP(P464,INDIRECT(\"Table\"&R464),Q464,TRUE))","v":16},"No","No"]
[1284,"W12152999N3952967",39.529669999999903,-121.529989999999,45.6,16.899999999999899,8.4,"[CoastalLiveOak, DouglasFir, Other]","CoastalLiveOak",-5.2,"W12153068N3952972-W12152988N3952972","Tier 2-3","YES","2019-11-20T17:46:46",{"$f":"VLOOKUP($K465,SpanRange,4,FALSE)","v":117},{"$f":"VLOOKUP($K465,SpanRange,2,FALSE)","v":225.69999999999899},{"$f":"VLOOKUP($K465,SpanRange,3,FALSE)","v":2},{"$f":"Find_Table(Spans!$I$2,I465)","v":11},{"$f":"IF(R465=0,Spans!$C$10,VLOOKUP(P465,INDIRECT(\"Table\"&R465),Q465,TRUE))","v":30},"No","No"]
[1288,"W12152024N3952924",39.529240000000001,-121.52024,63.6,43.1,35,"[Eucalyptus/BlueGum, DouglasFir, CoastalLiveOak]","Eucalyptus/BlueGum",-4.7,"W12152053N3952877-W12152014N3952914","Tier 2-3","YES","2019-11-20T17:46:46",{"$f":"VLOOKUP($K466,SpanRange,4,FALSE)","v":106},{"$f":"VLOOKUP($K466,SpanRange,2,FALSE)","v":171.9},{"$f":"VLOOKUP($K466,SpanRange,3,FALSE)","v":2},{"$f":"Find_Table(Spans!$I$2,I466)","v":12},{"$f":"IF(R466=0,Spans!$C$10,VLOOKUP(P466,INDIRECT(\"Table\"&R466),Q466,TRUE))","v":30},"No","No"]
[1290,"W12153739N3952479",39.524789999999904,-121.53739,77.799999999999898,32.5,15.1,"[GrayPine, DouglasFir, Other]","GrayPine",-30.6,"W12153809N3952504-W12153745N3952470","Tier 2-3","YES","2019-11-20T17:46:46",{"$f":"VLOOKUP($K467,SpanRange,4,FALSE)","v":50},{"$f":"VLOOKUP($K467,SpanRange,2,FALSE)","v":218.599999999999},{"$f":"VLOOKUP($K467,SpanRange,3,FALSE)","v":2},{"$f":"Find_Table(Spans!$I$2,I467)","v":10},{"$f":"IF(R467=0,Spans!$C$10,VLOOKUP(P467,INDIRECT(\"Table\"&R467),Q467,TRUE))","v":32},"No","No"]
[1291,"W12152378N3952967",39.529669999999903,-121.52378,36.899999999999899,12.6,8.6999999999999993,"[Other, DouglasFir, GrayPine]","Other",-0.8,"W12152414N3952959-W12152351N3952966","Tier 2-3","YES","2019-11-20T17:46:46",{"$f":"VLOOKUP($K468,SpanRange,4,FALSE)","v":115},{"$f":"VLOOKUP($K468,SpanRange,2,FALSE)","v":181.69999999999899},{"$f":"VLOOKUP($K468,SpanRange,3,FALSE)","v":2},{"$f":"Find_Table(Spans!$I$2,I468)","v":11},{"$f":"IF(R468=0,Spans!$C$10,VLOOKUP(P468,INDIRECT(\"Table\"&R468),Q468,TRUE))","v":30},"No","No"]
[1292,"W12151957N3952934",39.529339999999898,-121.51957,60.899999999999899,35.200000000000003,20.1999999999999,"[DouglasFir, MontereyPine, Other]","DouglasFir",-11.7,"W12152014N3952914-W12151936N3952926","Tier 2-3","YES","2019-11-20T17:46:46",{"$f":"VLOOKUP($K469,SpanRange,4,FALSE)","v":108},{"$f":"VLOOKUP($K469,SpanRange,2,FALSE)","v":225.099999999999},{"$f":"VLOOKUP($K469,SpanRange,3,FALSE)","v":2},{"$f":"Find_Table(Spans!$I$2,I469)","v":9},{"$f":"IF(R469=0,Spans!$C$10,VLOOKUP(P469,INDIRECT(\"Table\"&R469),Q469,TRUE))","v":26},"No","No"]
[1295,"W12154241N3953871",39.538709999999902,-121.54241,105.5,34.200000000000003,14.8,"[GrayPine, PonderosaPine, DouglasFir]","GrayPine",-71.299999999999898,"W12154263N3953924-W12154252N3953857","Tier 2-3","YES","2019-11-20T17:46:46",{"$f":"VLOOKUP($K470,SpanRange,4,FALSE)","v":197},{"$f":"VLOOKUP($K470,SpanRange,2,FALSE)","v":244.69999999999899},{"$f":"VLOOKUP($K470,SpanRange,3,FALSE)","v":2},{"$f":"Find_Table(Spans!$I$2,I470)","v":10},{"$f":"IF(R470=0,Spans!$C$10,VLOOKUP(P470,INDIRECT(\"Table\"&R470),Q470,TRUE))","v":32},"Yes","No"]
[1297,"W12154244N3953959",39.539589999999897,-121.542439999999,74.799999999999898,45.2,24.1,"[DouglasFir, Other, GrayPine]","DouglasFir",-29.1999999999999,"W12154263N3953924-W12154261N3953987","Tier 2-3","YES","2019-11-20T17:46:46",{"$f":"VLOOKUP($K471,SpanRange,4,FALSE)","v":198},{"$f":"VLOOKUP($K471,SpanRange,2,FALSE)","v":231},{"$f":"VLOOKUP($K471,SpanRange,3,FALSE)","v":2},{"$f":"Find_Table(Spans!$I$2,I471)","v":9},{"$f":"IF(R471=0,Spans!$C$10,VLOOKUP(P471,INDIRECT(\"Table\"&R471),Q471,TRUE))","v":26},"Yes","No"]
[1306,"W12153868N3953277",39.5327699999999,-121.538679999999,67.099999999999895,12.8,5.8,"[Other, DouglasFir, CoastalLiveOak]","Other",-36.399999999999899,"W12153848N3953281-W12153906N3953282","Tier 2-3","YES","2019-11-20T17:46:46",{"$f":"VLOOKUP($K472,SpanRange,4,FALSE)","v":183},{"$f":"VLOOKUP($K472,SpanRange,2,FALSE)","v":163.80000000000001},{"$f":"VLOOKUP($K472,SpanRange,3,FALSE)","v":2},{"$f":"Find_Table(Spans!$I$2,I472)","v":11},{"$f":"IF(R472=0,Spans!$C$10,VLOOKUP(P472,INDIRECT(\"Table\"&R472),Q472,TRUE))","v":30},"Yes","No"]
[1308,"W12153907N3953049",39.53049,-121.539069999999,79.2,47,29,"[GrayPine, LiveOak, MontereyPine]","GrayPine",-17.600000000000001,"W12153843N3953063-W12153908N3953063","Tier 2-3","YES","2019-11-20T17:46:46",{"$f":"VLOOKUP($K473,SpanRange,4,FALSE)","v":137},{"$f":"VLOOKUP($K473,SpanRange,2,FALSE)","v":182.3},{"$f":"VLOOKUP($K473,SpanRange,3,FALSE)","v":2},{"$f":"Find_Table(Spans!$I$2,I473)","v":10},{"$f":"IF(R473=0,Spans!$C$10,VLOOKUP(P473,INDIRECT(\"Table\"&R473),Q473,TRUE))","v":26},"No","No"]
[1313,"W12153441N3952827",39.5282699999999,-121.534409999999,44.8,14,5,"[LiveOak, DouglasFir, ValleyOak]","LiveOak",-8,"W12153427N3952831-W12153496N3952831","Tier 2-3","YES","2019-11-20T17:46:46",{"$f":"VLOOKUP($K474,SpanRange,4,FALSE)","v":95},{"$f":"VLOOKUP($K474,SpanRange,2,FALSE)","v":196.599999999999},{"$f":"VLOOKUP($K474,SpanRange,3,FALSE)","v":2},{"$f":"Find_Table(Spans!$I$2,I474)","v":11},{"$f":"IF(R474=0,Spans!$C$10,VLOOKUP(P474,INDIRECT(\"Table\"&R474),Q474,TRUE))","v":30},"No","No"]
[1317,"W12153426N3953209",39.532089999999897,-121.53426,73.7,14.7,12,"[DouglasFir, GrayPine, TanOak]","DouglasFir",-39.299999999999997,"W12153419N3953235-W12153419N3953172","Tier 2-3","YES","2019-11-20T17:46:46",{"$f":"VLOOKUP($K475,SpanRange,4,FALSE)","v":166},{"$f":"VLOOKUP($K475,SpanRange,2,FALSE)","v":228.3},{"$f":"VLOOKUP($K475,SpanRange,3,FALSE)","v":2},{"$f":"Find_Table(Spans!$I$2,I475)","v":9},{"$f":"IF(R475=0,Spans!$C$10,VLOOKUP(P475,INDIRECT(\"Table\"&R475),Q475,TRUE))","v":26},"Yes","No"]
[1319,"W12152109N3953024",39.5302399999999,-121.52109,61.7,32.1,7,"[GrayPine, Other, ValleyOak]","GrayPine",-14,"W12152091N3953014-W12152184N3953012","Tier 2-3","YES","2019-11-20T17:46:46",{"$f":"VLOOKUP($K476,SpanRange,4,FALSE)","v":126},{"$f":"VLOOKUP($K476,SpanRange,2,FALSE)","v":264.5},{"$f":"VLOOKUP($K476,SpanRange,3,FALSE)","v":2},{"$f":"Find_Table(Spans!$I$2,I476)","v":10},{"$f":"IF(R476=0,Spans!$C$10,VLOOKUP(P476,INDIRECT(\"Table\"&R476),Q476,TRUE))","v":32},"No","No"]
[1322,"W12153144N3953236",39.532359999999898,-121.53144,38.700000000000003,14.4,7.8,"[CoastalLiveOak, MontereyPine, GrayPine]","CoastalLiveOak",-4.9000000000000004,"W12153117N3953239-W12153205N3953245","Tier 2-3","YES","2019-11-20T17:46:46",{"$f":"VLOOKUP($K477,SpanRange,4,FALSE)","v":174},{"$f":"VLOOKUP($K477,SpanRange,2,FALSE)","v":250.19999999999899},{"$f":"VLOOKUP($K477,SpanRange,3,FALSE)","v":2},{"$f":"Find_Table(Spans!$I$2,I477)","v":11},{"$f":"IF(R477=0,Spans!$C$10,VLOOKUP(P477,INDIRECT(\"Table\"&R477),Q477,TRUE))","v":30},"No","No"]
[1324,"W12153906N3952643",39.526429999999898,-121.53906000000001,67.400000000000006,32.6,15.6,"[GrayPine, Other, DouglasFir]","GrayPine",-18.8,"W12153928N3952652-W12153848N3952653","Tier 2-3","YES","2019-11-20T17:46:46",{"$f":"VLOOKUP($K478,SpanRange,4,FALSE)","v":72},{"$f":"VLOOKUP($K478,SpanRange,2,FALSE)","v":226.19999999999899},{"$f":"VLOOKUP($K478,SpanRange,3,FALSE)","v":2},{"$f":"Find_Table(Spans!$I$2,I478)","v":10},{"$f":"IF(R478=0,Spans!$C$10,VLOOKUP(P478,INDIRECT(\"Table\"&R478),Q478,TRUE))","v":32},"No","No"]
[1332,"W12153027N3952957",39.52957,-121.53027,71.400000000000006,51.1,31.5,"[DouglasFir, Other, LiveOak]","DouglasFir",-9.6,"W12153068N3952972-W12152988N3952972","Tier 2-3","YES","2019-11-20T17:46:46",{"$f":"VLOOKUP($K479,SpanRange,4,FALSE)","v":117},{"$f":"VLOOKUP($K479,SpanRange,2,FALSE)","v":225.69999999999899},{"$f":"VLOOKUP($K479,SpanRange,3,FALSE)","v":2},{"$f":"Find_Table(Spans!$I$2,I479)","v":9},{"$f":"IF(R479=0,Spans!$C$10,VLOOKUP(P479,INDIRECT(\"Table\"&R479),Q479,TRUE))","v":26},"No","No"]
[1342,"W12152001N3952902",39.529019999999903,-121.520009999999,89.4,44.6,25.6,"[GrayPine, DouglasFir, CoastalLiveOak]","GrayPine",-36,"W12152014N3952914-W12151936N3952926","Tier 2-3","YES","2019-11-20T17:46:46",{"$f":"VLOOKUP($K480,SpanRange,4,FALSE)","v":108},{"$f":"VLOOKUP($K480,SpanRange,2,FALSE)","v":225.099999999999},{"$f":"VLOOKUP($K480,SpanRange,3,FALSE)","v":2},{"$f":"Find_Table(Spans!$I$2,I480)","v":10},{"$f":"IF(R480=0,Spans!$C$10,VLOOKUP(P480,INDIRECT(\"Table\"&R480),Q480,TRUE))","v":32},"Yes","No"]
[1349,"W12153199N3953133",39.531329999999897,-121.53198999999999,46.3,19,3.5,"[DouglasFir, Other, GrayPine]","DouglasFir",-15.6,"W12153207N3953097-W12153206N3953153","Tier 2-3","YES","2019-11-20T17:46:46",{"$f":"VLOOKUP($K481,SpanRange,4,FALSE)","v":148},{"$f":"VLOOKUP($K481,SpanRange,2,FALSE)","v":205.3},{"$f":"VLOOKUP($K481,SpanRange,3,FALSE)","v":2},{"$f":"Find_Table(Spans!$I$2,I481)","v":9},{"$f":"IF(R481=0,Spans!$C$10,VLOOKUP(P481,INDIRECT(\"Table\"&R481),Q481,TRUE))","v":26},"No","No"]
[1351,"W12153851N3953259",39.5325899999999,-121.53851,89.9,54.8,38.299999999999997,"[GrayPine, Other, CoastalLiveOak]","GrayPine",-23.6999999999999,"W12153810N3953244-W12153905N3953243","Tier 2-3","YES","2019-11-20T17:46:46",{"$f":"VLOOKUP($K482,SpanRange,4,FALSE)","v":176},{"$f":"VLOOKUP($K482,SpanRange,2,FALSE)","v":270.10000000000002},{"$f":"VLOOKUP($K482,SpanRange,3,FALSE)","v":2},{"$f":"Find_Table(Spans!$I$2,I482)","v":10},{"$f":"IF(R482=0,Spans!$C$10,VLOOKUP(P482,INDIRECT(\"Table\"&R482),Q482,TRUE))","v":32},"No","No"]
[1352,"W12153345N3953055",39.530549999999899,-121.53345,43.1,30.3,11,"[CoastalLiveOak, DouglasFir, Eucalyptus/BlueGum]","CoastalLiveOak",-2.9,"W12153323N3953048-W12153355N3953046","Tier 2-3","YES","2019-11-20T17:46:46",{"$f":"VLOOKUP($K483,SpanRange,4,FALSE)","v":131},{"$f":"VLOOKUP($K483,SpanRange,2,FALSE)","v":90.599999999999895},{"$f":"VLOOKUP($K483,SpanRange,3,FALSE)","v":2},{"$f":"Find_Table(Spans!$I$2,I483)","v":11},{"$f":"IF(R483=0,Spans!$C$10,VLOOKUP(P483,INDIRECT(\"Table\"&R483),Q483,TRUE))","v":30},"No","No"]
[1356,"W12154094N3953231",39.532309999999903,-121.54094000000001,70.900000000000006,27.1999999999999,17.3,"[GrayPine, DouglasFir, TanOak]","GrayPine",-22.9,"W12154086N3953214-W12154073N3953285","Tier 2-3","YES","2019-11-20T17:46:46",{"$f":"VLOOKUP($K484,SpanRange,4,FALSE)","v":177},{"$f":"VLOOKUP($K484,SpanRange,2,FALSE)","v":261},{"$f":"VLOOKUP($K484,SpanRange,3,FALSE)","v":2},{"$f":"Find_Table(Spans!$I$2,I484)","v":10},{"$f":"IF(R484=0,Spans!$C$10,VLOOKUP(P484,INDIRECT(\"Table\"&R484),Q484,TRUE))","v":32},"No","No"]
[1364,"W12154073N3953217",39.532170000000001,-121.540729999999,58.8,30.5,12,"[Other, LiveOak, DouglasFir]","Other",-17.3,"W12154086N3953214-W12154073N3953285","Tier 2-3","YES","2019-11-20T17:46:46",{"$f":"VLOOKUP($K485,SpanRange,4,FALSE)","v":177},{"$f":"VLOOKUP($K485,SpanRange,2,FALSE)","v":261},{"$f":"VLOOKUP($K485,SpanRange,3,FALSE)","v":2},{"$f":"Find_Table(Spans!$I$2,I485)","v":11},{"$f":"IF(R485=0,Spans!$C$10,VLOOKUP(P485,INDIRECT(\"Table\"&R485),Q485,TRUE))","v":30},"No","No"]
[1368,"W12152110N3953028",39.530279999999898,-121.5211,66.400000000000006,48.7,41,"[GrayPine, MontereyPine, ValleyOak]","GrayPine",-5.5,"W12152091N3953014-W12152184N3953012","Tier 2-3","YES","2019-11-20T17:46:46",{"$f":"VLOOKUP($K486,SpanRange,4,FALSE)","v":126},{"$f":"VLOOKUP($K486,SpanRange,2,FALSE)","v":264.5},{"$f":"VLOOKUP($K486,SpanRange,3,FALSE)","v":2},{"$f":"Find_Table(Spans!$I$2,I486)","v":10},{"$f":"IF(R486=0,Spans!$C$10,VLOOKUP(P486,INDIRECT(\"Table\"&R486),Q486,TRUE))","v":32},"No","No"]
[1369,"W12154250N3954055",39.540549999999897,-121.5425,41.2,20.100000000000001,12,null,null,-6,"W12154261N3953987-W12154258N3954066","Tier 2-3","YES","2019-11-20T17:46:46",{"$f":"VLOOKUP($K487,SpanRange,4,FALSE)","v":199},{"$f":"VLOOKUP($K487,SpanRange,2,FALSE)","v":286.69999999999902},{"$f":"VLOOKUP($K487,SpanRange,3,FALSE)","v":2},{"$f":"Find_Table(Spans!$I$2,I487)","v":11},{"$f":"IF(R487=0,Spans!$C$10,VLOOKUP(P487,INDIRECT(\"Table\"&R487),Q487,TRUE))","v":30},"No","No"]
[1373,"W12154221N3953530",39.5352999999999,-121.542209999999,94.799999999999898,29,12,null,null,-57.399999999999899,"W12154230N3953520-W12154242N3953570","Tier 2-3","YES","2019-11-20T17:46:46",{"$f":"VLOOKUP($K488,SpanRange,4,FALSE)","v":192},{"$f":"VLOOKUP($K488,SpanRange,2,FALSE)","v":184.9},{"$f":"VLOOKUP($K488,SpanRange,3,FALSE)","v":2},{"$f":"Find_Table(Spans!$I$2,I488)","v":11},{"$f":"IF(R488=0,Spans!$C$10,VLOOKUP(P488,INDIRECT(\"Table\"&R488),Q488,TRUE))","v":30},"Yes","No"]
[1379,"W12154229N3953621",39.536209999999897,-121.542289999999,95.4,69.900000000000006,48.3,"[Other, DouglasFir, CoastalLiveOak]","Other",-25.4,"W12154256N3953592-W12154253N3953660","Tier 2-3","YES","2019-11-20T17:46:46",{"$f":"VLOOKUP($K489,SpanRange,4,FALSE)","v":194},{"$f":"VLOOKUP($K489,SpanRange,2,FALSE)","v":247.599999999999},{"$f":"VLOOKUP($K489,SpanRange,3,FALSE)","v":2},{"$f":"Find_Table(Spans!$I$2,I489)","v":11},{"$f":"IF(R489=0,Spans!$C$10,VLOOKUP(P489,INDIRECT(\"Table\"&R489),Q489,TRUE))","v":30},"No","No"]
[1381,"W12149731N3967067",39.670670000000001,-121.497309999999,29.1,27.6,17.6999999999999,"[ValleyOak, Other, GrayPine]","ValleyOak",0,"W12149727N3967099-W12149700N3966999","Tier 2-3","YES","2019-11-20T17:46:46",{"$f":"VLOOKUP($K490,SpanRange,4,FALSE)","v":214},{"$f":"VLOOKUP($K490,SpanRange,2,FALSE)","v":373.89999999999901},{"$f":"VLOOKUP($K490,SpanRange,3,FALSE)","v":2},{"$f":"Find_Table(Spans!$I$2,I490)","v":11},{"$f":"IF(R490=0,Spans!$C$10,VLOOKUP(P490,INDIRECT(\"Table\"&R490),Q490,TRUE))","v":30},"No","No"]
[1382,"W12154246N3953843",39.538429999999899,-121.54246000000001,89,11.8,6.2,"[DouglasFir, CoastalLiveOak, Other]","DouglasFir",-69.400000000000006,"W12154250N3953758-W12154252N3953857","Tier 2-3","YES","2019-11-20T17:46:46",{"$f":"VLOOKUP($K491,SpanRange,4,FALSE)","v":196},{"$f":"VLOOKUP($K491,SpanRange,2,FALSE)","v":362},{"$f":"VLOOKUP($K491,SpanRange,3,FALSE)","v":2},{"$f":"Find_Table(Spans!$I$2,I491)","v":9},{"$f":"IF(R491=0,Spans!$C$10,VLOOKUP(P491,INDIRECT(\"Table\"&R491),Q491,TRUE))","v":31},"Yes","No"]
[1384,"W12153851N3953273",39.532730000000001,-121.53851,70.099999999999994,28,17.5,"[DouglasFir, GrayPine, CoastalLiveOak]","DouglasFir",-30.9,"W12153848N3953281-W12153906N3953282","Tier 2-3","YES","2019-11-20T17:46:46",{"$f":"VLOOKUP($K492,SpanRange,4,FALSE)","v":183},{"$f":"VLOOKUP($K492,SpanRange,2,FALSE)","v":163.80000000000001},{"$f":"VLOOKUP($K492,SpanRange,3,FALSE)","v":2},{"$f":"Find_Table(Spans!$I$2,I492)","v":9},{"$f":"IF(R492=0,Spans!$C$10,VLOOKUP(P492,INDIRECT(\"Table\"&R492),Q492,TRUE))","v":21},"Yes","No"]
[1386,"W12153213N3953150",39.531500000000001,-121.532129999999,53.6,10.199999999999999,5.0999999999999996,"[GrayPine, DouglasFir, Other]","GrayPine",-24,"W12153261N3953152-W12153206N3953153","Tier 2-3","YES","2019-11-20T17:46:46",{"$f":"VLOOKUP($K493,SpanRange,4,FALSE)","v":156},{"$f":"VLOOKUP($K493,SpanRange,2,FALSE)","v":152.69999999999899},{"$f":"VLOOKUP($K493,SpanRange,3,FALSE)","v":2},{"$f":"Find_Table(Spans!$I$2,I493)","v":10},{"$f":"IF(R493=0,Spans!$C$10,VLOOKUP(P493,INDIRECT(\"Table\"&R493),Q493,TRUE))","v":26},"No","No"]
[1387,"W12153542N3952697",39.526969999999899,-121.53542,41.2,15.5,8,"[DouglasFir, TanOak, ValleyOak]","DouglasFir",-7.6,"W12153536N3952706-W12153535N3952637","Tier 2-3","YES","2019-11-20T17:46:46",{"$f":"VLOOKUP($K494,SpanRange,4,FALSE)","v":74},{"$f":"VLOOKUP($K494,SpanRange,2,FALSE)","v":252.3},{"$f":"VLOOKUP($K494,SpanRange,3,FALSE)","v":2},{"$f":"Find_Table(Spans!$I$2,I494)","v":9},{"$f":"IF(R494=0,Spans!$C$10,VLOOKUP(P494,INDIRECT(\"Table\"&R494),Q494,TRUE))","v":26},"No","No"]
[1389,"W12153716N3953053",39.530529999999899,-121.53716,46.2,30.9,4.0999999999999996,"[DouglasFir, LiveOak, Other]","DouglasFir",-5.6,"W12153655N3953063-W12153771N3953063","Tier 2-3","YES","2019-11-20T17:46:46",{"$f":"VLOOKUP($K495,SpanRange,4,FALSE)","v":139},{"$f":"VLOOKUP($K495,SpanRange,2,FALSE)","v":328.19999999999902},{"$f":"VLOOKUP($K495,SpanRange,3,FALSE)","v":2},{"$f":"Find_Table(Spans!$I$2,I495)","v":9},{"$f":"IF(R495=0,Spans!$C$10,VLOOKUP(P495,INDIRECT(\"Table\"&R495),Q495,TRUE))","v":31},"No","No"]
[1390,"W12152598N3953044",39.530439999999899,-121.52598,26.1999999999999,11.5,4.4000000000000004,"[GrayPine, DouglasFir, Other]","GrayPine",-0.4,"W12152603N3953064-W12152603N3952974","Tier 2-3","YES","2019-11-20T17:46:46",{"$f":"VLOOKUP($K496,SpanRange,4,FALSE)","v":128},{"$f":"VLOOKUP($K496,SpanRange,2,FALSE)","v":329.1},{"$f":"VLOOKUP($K496,SpanRange,3,FALSE)","v":2},{"$f":"Find_Table(Spans!$I$2,I496)","v":10},{"$f":"IF(R496=0,Spans!$C$10,VLOOKUP(P496,INDIRECT(\"Table\"&R496),Q496,TRUE))","v":36},"No","No"]
[1392,"W12153712N3952435",39.524349999999899,-121.53712,68.900000000000006,37.299999999999997,10.3,"[GrayPine, DouglasFir, MontereyPine]","GrayPine",-26.1999999999999,"W12153751N3952386-W12153716N3952455","Tier 2-3","YES","2019-11-20T17:46:46",{"$f":"VLOOKUP($K497,SpanRange,4,FALSE)","v":42},{"$f":"VLOOKUP($K497,SpanRange,2,FALSE)","v":271.10000000000002},{"$f":"VLOOKUP($K497,SpanRange,3,FALSE)","v":2},{"$f":"Find_Table(Spans!$I$2,I497)","v":10},{"$f":"IF(R497=0,Spans!$C$10,VLOOKUP(P497,INDIRECT(\"Table\"&R497),Q497,TRUE))","v":32},"No","No"]
[1394,"W12153895N3953182",39.531819999999897,-121.53895,44.8,31.1999999999999,10.8,"[Other, TanOak, LiveOak]","Other",-4.0999999999999996,"W12153907N3953151-W12153907N3953193","Tier 2-3","YES","2019-11-20T17:46:46",{"$f":"VLOOKUP($K498,SpanRange,4,FALSE)","v":163},{"$f":"VLOOKUP($K498,SpanRange,2,FALSE)","v":153.19999999999899},{"$f":"VLOOKUP($K498,SpanRange,3,FALSE)","v":2},{"$f":"Find_Table(Spans!$I$2,I498)","v":11},{"$f":"IF(R498=0,Spans!$C$10,VLOOKUP(P498,INDIRECT(\"Table\"&R498),Q498,TRUE))","v":30},"No","No"]
[1402,"W12153186N3953291",39.532910000000001,-121.531859999999,46.3,21.9,9.6999999999999993,"[Other, GrayPine, ValleyOak]","Other",-11.6,"W12153118N3953282-W12153205N3953285","Tier 2-3","YES","2019-11-20T17:46:46",{"$f":"VLOOKUP($K499,SpanRange,4,FALSE)","v":186},{"$f":"VLOOKUP($K499,SpanRange,2,FALSE)","v":244.599999999999},{"$f":"VLOOKUP($K499,SpanRange,3,FALSE)","v":2},{"$f":"Find_Table(Spans!$I$2,I499)","v":11},{"$f":"IF(R499=0,Spans!$C$10,VLOOKUP(P499,INDIRECT(\"Table\"&R499),Q499,TRUE))","v":30},"No","No"]
[1403,"W12153168N3953290",39.532899999999998,-121.531679999999,43.399999999999899,19.899999999999999,5.8,"[DouglasFir, TanOak, CoastalLiveOak]","DouglasFir",-12.2,"W12153118N3953282-W12153205N3953285","Tier 2-3","YES","2019-11-20T17:46:46",{"$f":"VLOOKUP($K500,SpanRange,4,FALSE)","v":186},{"$f":"VLOOKUP($K500,SpanRange,2,FALSE)","v":244.599999999999},{"$f":"VLOOKUP($K500,SpanRange,3,FALSE)","v":2},{"$f":"Find_Table(Spans!$I$2,I500)","v":9},{"$f":"IF(R500=0,Spans!$C$10,VLOOKUP(P500,INDIRECT(\"Table\"&R500),Q500,TRUE))","v":26},"No","No"]
[1417,"W12153527N3952858",39.528579999999899,-121.535269999999,41.3,21.4,7,"[DouglasFir, Other, LiveOak]","DouglasFir",-8.5,"W12153534N3952830-W12153534N3952830","Tier 2-3","YES","2019-11-20T17:46:46",{"$f":"VLOOKUP($K501,SpanRange,4,FALSE)","v":99},{"$f":"VLOOKUP($K501,SpanRange,2,FALSE)","v":189.9},{"$f":"VLOOKUP($K501,SpanRange,3,FALSE)","v":2},{"$f":"Find_Table(Spans!$I$2,I501)","v":9},{"$f":"IF(R501=0,Spans!$C$10,VLOOKUP(P501,INDIRECT(\"Table\"&R501),Q501,TRUE))","v":21},"No","No"]
[1420,"W12153042N3952880",39.528799999999997,-121.530419999999,51.3,32.700000000000003,19.899999999999999,"[GrayPine, DouglasFir, Other]","GrayPine",-4,"W12153054N3952815-W12153053N3952876","Tier 2-3","YES","2019-11-20T17:46:46",{"$f":"VLOOKUP($K502,SpanRange,4,FALSE)","v":97},{"$f":"VLOOKUP($K502,SpanRange,2,FALSE)","v":221.19999999999899},{"$f":"VLOOKUP($K502,SpanRange,3,FALSE)","v":2},{"$f":"Find_Table(Spans!$I$2,I502)","v":10},{"$f":"IF(R502=0,Spans!$C$10,VLOOKUP(P502,INDIRECT(\"Table\"&R502),Q502,TRUE))","v":32},"No","No"]
[1421,"W12153917N3953109",39.531089999999899,-121.539169999999,44.899999999999899,25.4,4.4000000000000004,"[DouglasFir, GrayPine, Other]","DouglasFir",-4.0999999999999996,"W12153907N3953103-W12153907N3953151","Tier 2-3","YES","2019-11-20T17:46:46",{"$f":"VLOOKUP($K503,SpanRange,4,FALSE)","v":150},{"$f":"VLOOKUP($K503,SpanRange,2,FALSE)","v":174.9},{"$f":"VLOOKUP($K503,SpanRange,3,FALSE)","v":2},{"$f":"Find_Table(Spans!$I$2,I503)","v":9},{"$f":"IF(R503=0,Spans!$C$10,VLOOKUP(P503,INDIRECT(\"Table\"&R503),Q503,TRUE))","v":21},"No","No"]
[1425,"W12151921N3952896",39.528959999999898,-121.51921,53.6,16.600000000000001,9.9,"[GrayPine, DouglasFir, Other]","GrayPine",-7.7,"W12151936N3952926-W12151911N3952893","Tier 2-3","YES","2019-11-20T17:46:46",{"$f":"VLOOKUP($K504,SpanRange,4,FALSE)","v":107},{"$f":"VLOOKUP($K504,SpanRange,2,FALSE)","v":141.4},{"$f":"VLOOKUP($K504,SpanRange,3,FALSE)","v":2},{"$f":"Find_Table(Spans!$I$2,I504)","v":10},{"$f":"IF(R504=0,Spans!$C$10,VLOOKUP(P504,INDIRECT(\"Table\"&R504),Q504,TRUE))","v":21},"No","No"]
[1426,"W12154098N3953160",39.531599999999997,-121.540979999999,60.1,35.200000000000003,30.1999999999999,"[GrayPine, Other, CoastalLiveOak]","GrayPine",-11.7,"W12154084N3953131-W12154086N3953214","Tier 2-3","YES","2019-11-20T17:46:46",{"$f":"VLOOKUP($K505,SpanRange,4,FALSE)","v":162},{"$f":"VLOOKUP($K505,SpanRange,2,FALSE)","v":302.60000000000002},{"$f":"VLOOKUP($K505,SpanRange,3,FALSE)","v":2},{"$f":"Find_Table(Spans!$I$2,I505)","v":10},{"$f":"IF(R505=0,Spans!$C$10,VLOOKUP(P505,INDIRECT(\"Table\"&R505),Q505,TRUE))","v":36},"No","No"]
[1427,"W12154240N3953717",39.537169999999897,-121.5424,43.3,29.3,17.100000000000001,null,null,-13.5,"W12154250N3953758-W12154253N3953660","Tier 2-3","YES","2019-11-20T17:46:46",{"$f":"VLOOKUP($K506,SpanRange,4,FALSE)","v":195},{"$f":"VLOOKUP($K506,SpanRange,2,FALSE)","v":355.89999999999901},{"$f":"VLOOKUP($K506,SpanRange,3,FALSE)","v":2},{"$f":"Find_Table(Spans!$I$2,I506)","v":11},{"$f":"IF(R506=0,Spans!$C$10,VLOOKUP(P506,INDIRECT(\"Table\"&R506),Q506,TRUE))","v":30},"No","No"]
[1433,"W12154231N3953707",39.53707,-121.54231,64.5,54.3,39.700000000000003,null,null,-7.2,"W12154250N3953758-W12154253N3953660","Tier 2-3","YES","2019-11-20T17:46:46",{"$f":"VLOOKUP($K507,SpanRange,4,FALSE)","v":195},{"$f":"VLOOKUP($K507,SpanRange,2,FALSE)","v":355.89999999999901},{"$f":"VLOOKUP($K507,SpanRange,3,FALSE)","v":2},{"$f":"Find_Table(Spans!$I$2,I507)","v":11},{"$f":"IF(R507=0,Spans!$C$10,VLOOKUP(P507,INDIRECT(\"Table\"&R507),Q507,TRUE))","v":30},"No","No"]
[1434,"W12153200N3953115",39.531149999999897,-121.532,34.6,14.6,4.4000000000000004,"[DouglasFir, LiveOak, Eucalyptus/BlueGum]","DouglasFir",-8.6999999999999993,"W12153207N3953097-W12153206N3953153","Tier 2-3","YES","2019-11-20T17:46:46",{"$f":"VLOOKUP($K508,SpanRange,4,FALSE)","v":148},{"$f":"VLOOKUP($K508,SpanRange,2,FALSE)","v":205.3},{"$f":"VLOOKUP($K508,SpanRange,3,FALSE)","v":2},{"$f":"Find_Table(Spans!$I$2,I508)","v":9},{"$f":"IF(R508=0,Spans!$C$10,VLOOKUP(P508,INDIRECT(\"Table\"&R508),Q508,TRUE))","v":26},"No","No"]
[1435,"W12153875N3952190",39.521900000000002,-121.538749999999,39,22.6999999999999,12,"[Other, GrayPine, DouglasFir]","Other",-3.4,"W12153891N3952195-W12153812N3952205","Tier 2-3","YES","2019-11-20T17:46:46",{"$f":"VLOOKUP($K509,SpanRange,4,FALSE)","v":21},{"$f":"VLOOKUP($K509,SpanRange,2,FALSE)","v":226.3},{"$f":"VLOOKUP($K509,SpanRange,3,FALSE)","v":2},{"$f":"Find_Table(Spans!$I$2,I509)","v":11},{"$f":"IF(R509=0,Spans!$C$10,VLOOKUP(P509,INDIRECT(\"Table\"&R509),Q509,TRUE))","v":30},"No","No"]
[1436,"W12153759N3952374",39.523739999999897,-121.537589999999,41.1,14.8,6.8,"[DouglasFir, ValleyOak, GrayPine]","DouglasFir",-1.8,"W12153751N3952386-W12153761N3952311","Tier 2-3","YES","2019-11-20T17:46:46",{"$f":"VLOOKUP($K510,SpanRange,4,FALSE)","v":{"$error":"#N/A"}},{"$f":"VLOOKUP($K510,SpanRange,2,FALSE)","v":{"$error":"#N/A"}},{"$f":"VLOOKUP($K510,SpanRange,3,FALSE)","v":{"$error":"#N/A"}},{"$f":"Find_Table(Spans!$I$2,I510)","v":9},{"$f":"IF(R510=0,Spans!$C$10,VLOOKUP(P510,INDIRECT(\"Table\"&R510),Q510,TRUE))","v":{"$error":"#N/A"}},"No Match","No"]
[1441,"W12153223N3952929",39.529289999999897,-121.532229999999,70.599999999999994,45.399999999999899,39.1,"[GrayPine, DouglasFir, Eucalyptus/BlueGum]","GrayPine",-10.199999999999999,"W12153206N3952972-W12153206N3952881","Tier 2-3","YES","2019-11-20T17:46:46",{"$f":"VLOOKUP($K511,SpanRange,4,FALSE)","v":109},{"$f":"VLOOKUP($K511,SpanRange,2,FALSE)","v":332.19999999999902},{"$f":"VLOOKUP($K511,SpanRange,3,FALSE)","v":2},{"$f":"Find_Table(Spans!$I$2,I511)","v":10},{"$f":"IF(R511=0,Spans!$C$10,VLOOKUP(P511,INDIRECT(\"Table\"&R511),Q511,TRUE))","v":36},"No","No"]
[1452,"W12151859N3953105",39.53105,-121.51859,50,27.5,12.9,"[Other, GrayPine, DouglasFir]","Other",-10.9,"W12151822N3953157-W12151868N3953111","Tier 2-3","YES","2019-11-20T17:46:46",{"$f":"VLOOKUP($K512,SpanRange,4,FALSE)","v":153},{"$f":"VLOOKUP($K512,SpanRange,2,FALSE)","v":210.9},{"$f":"VLOOKUP($K512,SpanRange,3,FALSE)","v":2},{"$f":"Find_Table(Spans!$I$2,I512)","v":11},{"$f":"IF(R512=0,Spans!$C$10,VLOOKUP(P512,INDIRECT(\"Table\"&R512),Q512,TRUE))","v":30},"No","No"]
[1458,"W12153882N3953277",39.5327699999999,-121.53882,37.399999999999899,16.100000000000001,12,"[GrayPine, DouglasFir, ValleyOak]","GrayPine",-6.3,"W12153848N3953281-W12153906N3953282","Tier 2-3","YES","2019-11-20T17:46:46",{"$f":"VLOOKUP($K513,SpanRange,4,FALSE)","v":183},{"$f":"VLOOKUP($K513,SpanRange,2,FALSE)","v":163.80000000000001},{"$f":"VLOOKUP($K513,SpanRange,3,FALSE)","v":2},{"$f":"Find_Table(Spans!$I$2,I513)","v":10},{"$f":"IF(R513=0,Spans!$C$10,VLOOKUP(P513,INDIRECT(\"Table\"&R513),Q513,TRUE))","v":26},"No","No"]
[1460,"W12152444N3952964",39.529640000000001,-121.524439999999,65.799999999999898,27.5,7,"[GrayPine, MontereyPine, Other]","GrayPine",-15.7,"W12152508N3952949-W12152414N3952959","Tier 2-3","YES","2019-11-20T17:46:46",{"$f":"VLOOKUP($K514,SpanRange,4,FALSE)","v":114},{"$f":"VLOOKUP($K514,SpanRange,2,FALSE)","v":267.5},{"$f":"VLOOKUP($K514,SpanRange,3,FALSE)","v":2},{"$f":"Find_Table(Spans!$I$2,I514)","v":10},{"$f":"IF(R514=0,Spans!$C$10,VLOOKUP(P514,INDIRECT(\"Table\"&R514),Q514,TRUE))","v":32},"No","No"]
[1463,"W12154097N3953306",39.5330599999999,-121.54097,78.799999999999898,42.5,28.3,"[GrayPine, DouglasFir, Eucalyptus/BlueGum]","GrayPine",-12.3,"W12154087N3953327-W12154073N3953285","Tier 2-3","YES","2019-11-20T17:46:46",{"$f":"VLOOKUP($K515,SpanRange,4,FALSE)","v":187},{"$f":"VLOOKUP($K515,SpanRange,2,FALSE)","v":159.9},{"$f":"VLOOKUP($K515,SpanRange,3,FALSE)","v":2},{"$f":"Find_Table(Spans!$I$2,I515)","v":10},{"$f":"IF(R515=0,Spans!$C$10,VLOOKUP(P515,INDIRECT(\"Table\"&R515),Q515,TRUE))","v":26},"No","No"]
[1471,"W12153571N3953074",39.530740000000002,-121.535709999999,66,39.899999999999899,6.6,"[DouglasFir, GrayPine, LiveOak]","DouglasFir",-16.399999999999899,"W12153655N3953063-W12153538N3953063","Tier 2-3","YES","2019-11-20T17:46:46",{"$f":"VLOOKUP($K516,SpanRange,4,FALSE)","v":140},{"$f":"VLOOKUP($K516,SpanRange,2,FALSE)","v":329.19999999999902},{"$f":"VLOOKUP($K516,SpanRange,3,FALSE)","v":2},{"$f":"Find_Table(Spans!$I$2,I516)","v":9},{"$f":"IF(R516=0,Spans!$C$10,VLOOKUP(P516,INDIRECT(\"Table\"&R516),Q516,TRUE))","v":31},{"$f":"IFERROR(IF((-1)*J516>S516,\"Yes\",\"No\"),\"No Match\")","v":"No"},{"$f":"IF(F516<=6,\"Yes\",\"No\")","v":"No"}]
[1474,"W12154252N3954014",39.540140000000001,-121.542519999999,33.5,18.5,12,"[DouglasFir, Eucalyptus/BlueGum, GrayPine]","DouglasFir",-8.9,"W12154261N3953987-W12154258N3954066","Tier 2-3","YES","2019-11-20T17:46:46",{"$f":"VLOOKUP($K517,SpanRange,4,FALSE)","v":199},{"$f":"VLOOKUP($K517,SpanRange,2,FALSE)","v":286.69999999999902},{"$f":"VLOOKUP($K517,SpanRange,3,FALSE)","v":2},{"$f":"Find_Table(Spans!$I$2,I517)","v":9},{"$f":"IF(R517=0,Spans!$C$10,VLOOKUP(P517,INDIRECT(\"Table\"&R517),Q517,TRUE))","v":26},"No","No"]
[1477,"W12153865N3953244",39.532440000000001,-121.53865,60.7,0.5,6.7,"[DouglasFir, GrayPine, CoastalLiveOak]","DouglasFir",-34.700000000000003,"W12153810N3953244-W12153905N3953243","Tier 2-3","YES","2019-11-20T17:46:46",{"$f":"VLOOKUP($K518,SpanRange,4,FALSE)","v":176},{"$f":"VLOOKUP($K518,SpanRange,2,FALSE)","v":270.10000000000002},{"$f":"VLOOKUP($K518,SpanRange,3,FALSE)","v":2},{"$f":"Find_Table(Spans!$I$2,I518)","v":9},{"$f":"IF(R518=0,Spans!$C$10,VLOOKUP(P518,INDIRECT(\"Table\"&R518),Q518,TRUE))","v":26},"Yes","Yes"]
[1478,"W12151974N3953055",39.530549999999899,-121.519739999999,51.7,17.100000000000001,8.1,"[DouglasFir, MontereyPine, CoastalLiveOak]","DouglasFir",-17.600000000000001,"W12152005N3953021-W12151923N3953089","Tier 2-3","YES","2019-11-20T17:46:46",{"$f":"VLOOKUP($K519,SpanRange,4,FALSE)","v":136},{"$f":"VLOOKUP($K519,SpanRange,2,FALSE)","v":336.89999999999901},{"$f":"VLOOKUP($K519,SpanRange,3,FALSE)","v":2},{"$f":"Find_Table(Spans!$I$2,I519)","v":9},{"$f":"IF(R519=0,Spans!$C$10,VLOOKUP(P519,INDIRECT(\"Table\"&R519),Q519,TRUE))","v":31},"No","No"]
[1481,"W12151974N3953035",39.530349999999899,-121.519739999999,43.399999999999899,27.5,9.9,"[CoastalLiveOak, Other, LiveOak]","CoastalLiveOak",-2,"W12152005N3953021-W12151923N3953089","Tier 2-3","YES","2019-11-20T17:46:46",{"$f":"VLOOKUP($K520,SpanRange,4,FALSE)","v":136},{"$f":"VLOOKUP($K520,SpanRange,2,FALSE)","v":336.89999999999901},{"$f":"VLOOKUP($K520,SpanRange,3,FALSE)","v":2},{"$f":"Find_Table(Spans!$I$2,I520)","v":11},{"$f":"IF(R520=0,Spans!$C$10,VLOOKUP(P520,INDIRECT(\"Table\"&R520),Q520,TRUE))","v":30},"No","No"]
[1482,"W12154094N3953302",39.53302,-121.54094000000001,87.4,38.700000000000003,10.7,"[GrayPine, DouglasFir, TanOak]","GrayPine",-24.9,"W12154087N3953327-W12154073N3953285","Tier 2-3","YES","2019-11-20T17:46:46",{"$f":"VLOOKUP($K521,SpanRange,4,FALSE)","v":187},{"$f":"VLOOKUP($K521,SpanRange,2,FALSE)","v":159.9},{"$f":"VLOOKUP($K521,SpanRange,3,FALSE)","v":2},{"$f":"Find_Table(Spans!$I$2,I521)","v":10},{"$f":"IF(R521=0,Spans!$C$10,VLOOKUP(P521,INDIRECT(\"Table\"&R521),Q521,TRUE))","v":26},"No","No"]
[1489,"W12153678N3953058",39.53058,-121.536779999999,33.700000000000003,13.1,4.9000000000000004,"[LiveOak, DouglasFir, CoastalLiveOak]","LiveOak",-0.9,"W12153655N3953063-W12153771N3953063","Tier 2-3","YES","2019-11-20T17:46:46",{"$f":"VLOOKUP($K522,SpanRange,4,FALSE)","v":139},{"$f":"VLOOKUP($K522,SpanRange,2,FALSE)","v":328.19999999999902},{"$f":"VLOOKUP($K522,SpanRange,3,FALSE)","v":2},{"$f":"Find_Table(Spans!$I$2,I522)","v":11},{"$f":"IF(R522=0,Spans!$C$10,VLOOKUP(P522,INDIRECT(\"Table\"&R522),Q522,TRUE))","v":30},"No","No"]
[1490,"W12153188N3952657",39.52657,-121.53188,67.099999999999895,53.7,37.1,"[Eucalyptus/BlueGum, MontereyPine, Other]","Eucalyptus/BlueGum",-6.5,"W12153224N3952655-W12153152N3952699","Tier 2-3","YES","2019-11-20T17:46:46",{"$f":"VLOOKUP($K523,SpanRange,4,FALSE)","v":75},{"$f":"VLOOKUP($K523,SpanRange,2,FALSE)","v":257.60000000000002},{"$f":"VLOOKUP($K523,SpanRange,3,FALSE)","v":2},{"$f":"Find_Table(Spans!$I$2,I523)","v":12},{"$f":"IF(R523=0,Spans!$C$10,VLOOKUP(P523,INDIRECT(\"Table\"&R523),Q523,TRUE))","v":30},"No","No"]
[1493,"W12153168N3953250",39.532499999999899,-121.531679999999,43.2,26.6999999999999,9.4,"[CoastalLiveOak, DouglasFir, Other]","CoastalLiveOak",-4.9000000000000004,"W12153117N3953239-W12153205N3953245","Tier 2-3","YES","2019-11-20T17:46:46",{"$f":"VLOOKUP($K524,SpanRange,4,FALSE)","v":174},{"$f":"VLOOKUP($K524,SpanRange,2,FALSE)","v":250.19999999999899},{"$f":"VLOOKUP($K524,SpanRange,3,FALSE)","v":2},{"$f":"Find_Table(Spans!$I$2,I524)","v":11},{"$f":"IF(R524=0,Spans!$C$10,VLOOKUP(P524,INDIRECT(\"Table\"&R524),Q524,TRUE))","v":30},"No","No"]
[1497,"W12153839N3953279",39.532789999999899,-121.538389999999,62,23.1,9.1,"[DouglasFir, TanOak, GrayPine]","DouglasFir",-24.5,"W12153848N3953281-W12153906N3953282","Tier 2-3","YES","2019-11-20T17:46:46",{"$f":"VLOOKUP($K525,SpanRange,4,FALSE)","v":183},{"$f":"VLOOKUP($K525,SpanRange,2,FALSE)","v":163.80000000000001},{"$f":"VLOOKUP($K525,SpanRange,3,FALSE)","v":2},{"$f":"Find_Table(Spans!$I$2,I525)","v":9},{"$f":"IF(R525=0,Spans!$C$10,VLOOKUP(P525,INDIRECT(\"Table\"&R525),Q525,TRUE))","v":21},"Yes","No"]
[1506,"W12154113N3953375",39.533749999999898,-121.541129999999,75.2,39.899999999999899,27.8,"[GrayPine, DouglasFir, CoastalLiveOak]","GrayPine",-28.5,"W12154149N3953393-W12154087N3953327","Tier 2-3","YES","2019-11-20T17:46:46",{"$f":"VLOOKUP($K526,SpanRange,4,FALSE)","v":188},{"$f":"VLOOKUP($K526,SpanRange,2,FALSE)","v":296},{"$f":"VLOOKUP($K526,SpanRange,3,FALSE)","v":2},{"$f":"Find_Table(Spans!$I$2,I526)","v":10},{"$f":"IF(R526=0,Spans!$C$10,VLOOKUP(P526,INDIRECT(\"Table\"&R526),Q526,TRUE))","v":32},"No","No"]
[1512,"W12154242N3953754",39.53754,-121.542419999999,24.6999999999999,19.5,12,null,null,-1,"W12154250N3953758-W12154253N3953660","Tier 2-3","YES","2019-11-20T17:46:46",{"$f":"VLOOKUP($K527,SpanRange,4,FALSE)","v":195},{"$f":"VLOOKUP($K527,SpanRange,2,FALSE)","v":355.89999999999901},{"$f":"VLOOKUP($K527,SpanRange,3,FALSE)","v":2},{"$f":"Find_Table(Spans!$I$2,I527)","v":11},{"$f":"IF(R527=0,Spans!$C$10,VLOOKUP(P527,INDIRECT(\"Table\"&R527),Q527,TRUE))","v":30},"No","No"]
[1516,"W12154129N3953397",39.533969999999897,-121.54129,75.900000000000006,50.3,29.8,"[CoastalLiveOak, DouglasFir, MontereyPine]","CoastalLiveOak",-21.5,"W12154149N3953393-W12154087N3953327","Tier 2-3","YES","2019-11-20T17:46:46",{"$f":"VLOOKUP($K528,SpanRange,4,FALSE)","v":188},{"$f":"VLOOKUP($K528,SpanRange,2,FALSE)","v":296},{"$f":"VLOOKUP($K528,SpanRange,3,FALSE)","v":2},{"$f":"Find_Table(Spans!$I$2,I528)","v":11},{"$f":"IF(R528=0,Spans!$C$10,VLOOKUP(P528,INDIRECT(\"Table\"&R528),Q528,TRUE))","v":30},"No","No"]
[1518,"W12153997N3953139",39.531389999999902,-121.539969999999,70.2,5,7,"[Eucalyptus/BlueGum, DouglasFir, CoastalLiveOak]","Eucalyptus/BlueGum",-41.399999999999899,"W12153966N3953151-W12154021N3953134","Tier 2-3","YES","2019-11-20T17:46:46",{"$f":"VLOOKUP($K529,SpanRange,4,FALSE)","v":154},{"$f":"VLOOKUP($K529,SpanRange,2,FALSE)","v":168.19999999999899},{"$f":"VLOOKUP($K529,SpanRange,3,FALSE)","v":2},{"$f":"Find_Table(Spans!$I$2,I529)","v":12},{"$f":"IF(R529=0,Spans!$C$10,VLOOKUP(P529,INDIRECT(\"Table\"&R529),Q529,TRUE))","v":30},"Yes","Yes"]
[1519,"W12151449N3952780",39.5277999999999,-121.514489999999,43.8,21.9,6.5,"[MontereyPine, CoastalLiveOak, LiveOak]","MontereyPine",-3.4,"W12151441N3952799-W12151437N3952744","Tier 2-3","YES","2019-11-20T17:46:46",{"$f":"VLOOKUP($K530,SpanRange,4,FALSE)","v":86},{"$f":"VLOOKUP($K530,SpanRange,2,FALSE)","v":199.3},{"$f":"VLOOKUP($K530,SpanRange,3,FALSE)","v":2},{"$f":"Find_Table(Spans!$I$2,I530)","v":10},{"$f":"IF(R530=0,Spans!$C$10,VLOOKUP(P530,INDIRECT(\"Table\"&R530),Q530,TRUE))","v":26},"No","No"]
[1521,"W12154091N3953221",39.5322099999999,-121.540909999999,58.899999999999899,14.2,7.4,"[GrayPine, Other, MontereyPine]","GrayPine",-18.3,"W12154086N3953214-W12154073N3953285","Tier 2-3","YES","2019-11-20T17:46:46",{"$f":"VLOOKUP($K531,SpanRange,4,FALSE)","v":177},{"$f":"VLOOKUP($K531,SpanRange,2,FALSE)","v":261},{"$f":"VLOOKUP($K531,SpanRange,3,FALSE)","v":2},{"$f":"Find_Table(Spans!$I$2,I531)","v":10},{"$f":"IF(R531=0,Spans!$C$10,VLOOKUP(P531,INDIRECT(\"Table\"&R531),Q531,TRUE))","v":32},"No","No"]
[1524,"W12153518N3952696",39.526959999999903,-121.535179999999,54.7,47.2,32.399999999999899,"[DouglasFir, GrayPine, LiveOak]","DouglasFir",-1.1000000000000001,"W12153536N3952706-W12153535N3952637","Tier 2-3","YES","2019-11-20T17:46:46",{"$f":"VLOOKUP($K532,SpanRange,4,FALSE)","v":74},{"$f":"VLOOKUP($K532,SpanRange,2,FALSE)","v":252.3},{"$f":"VLOOKUP($K532,SpanRange,3,FALSE)","v":2},{"$f":"Find_Table(Spans!$I$2,I532)","v":9},{"$f":"IF(R532=0,Spans!$C$10,VLOOKUP(P532,INDIRECT(\"Table\"&R532),Q532,TRUE))","v":26},"No","No"]
[1526,"W12153164N3952677",39.5267699999999,-121.531639999999,78.2,41.1,25.4,"[Other, DouglasFir, CoastalLiveOak]","Other",-26.9,"W12153224N3952655-W12153152N3952699","Tier 2-3","YES","2019-11-20T17:46:46",{"$f":"VLOOKUP($K533,SpanRange,4,FALSE)","v":75},{"$f":"VLOOKUP($K533,SpanRange,2,FALSE)","v":257.60000000000002},{"$f":"VLOOKUP($K533,SpanRange,3,FALSE)","v":2},{"$f":"Find_Table(Spans!$I$2,I533)","v":11},{"$f":"IF(R533=0,Spans!$C$10,VLOOKUP(P533,INDIRECT(\"Table\"&R533),Q533,TRUE))","v":30},"No","No"]
[1532,"W12153364N3952892",39.5289199999999,-121.533639999999,70.5,35.700000000000003,19.3,"[GrayPine, Other, DouglasFir]","GrayPine",-18.600000000000001,"W12153363N3952882-W12153422N3952882","Tier 2-3","YES","2019-11-20T17:46:46",{"$f":"VLOOKUP($K534,SpanRange,4,FALSE)","v":103},{"$f":"VLOOKUP($K534,SpanRange,2,FALSE)","v":165.4},{"$f":"VLOOKUP($K534,SpanRange,3,FALSE)","v":2},{"$f":"Find_Table(Spans!$I$2,I534)","v":10},{"$f":"IF(R534=0,Spans!$C$10,VLOOKUP(P534,INDIRECT(\"Table\"&R534),Q534,TRUE))","v":26},"No","No"]
[1533,"W12153126N3952920",39.529200000000003,-121.53126,46.6,31,12,"[DouglasFir, CoastalLiveOak, GrayPine]","DouglasFir",-2.7,"W12153133N3952927-W12153130N3952973","Tier 2-3","YES","2019-11-20T17:46:46",{"$f":"VLOOKUP($K535,SpanRange,4,FALSE)","v":113},{"$f":"VLOOKUP($K535,SpanRange,2,FALSE)","v":167.4},{"$f":"VLOOKUP($K535,SpanRange,3,FALSE)","v":2},{"$f":"Find_Table(Spans!$I$2,I535)","v":9},{"$f":"IF(R535=0,Spans!$C$10,VLOOKUP(P535,INDIRECT(\"Table\"&R535),Q535,TRUE))","v":21},"No","No"]
[1536,"W12151885N3953110",39.531100000000002,-121.51885,46.399999999999899,15,4.9000000000000004,"[GrayPine, DouglasFir, Other]","GrayPine",-9.8000000000000007,"W12151923N3953089-W12151868N3953111","Tier 2-3","YES","2019-11-20T17:46:46",{"$f":"VLOOKUP($K536,SpanRange,4,FALSE)","v":145},{"$f":"VLOOKUP($K536,SpanRange,2,FALSE)","v":177.599999999999},{"$f":"VLOOKUP($K536,SpanRange,3,FALSE)","v":2},{"$f":"Find_Table(Spans!$I$2,I536)","v":10},{"$f":"IF(R536=0,Spans!$C$10,VLOOKUP(P536,INDIRECT(\"Table\"&R536),Q536,TRUE))","v":26},"No","No"]
[1537,"W12154231N3954120",39.541200000000003,-121.54231,33,19,6.8,"[DouglasFir, CoastalLiveOak, Other]","DouglasFir",-12.7,"W12154249N3954102-W12154206N3954186","Tier 2-3","YES","2019-11-20T17:46:46",{"$f":"VLOOKUP($K537,SpanRange,4,FALSE)","v":201},{"$f":"VLOOKUP($K537,SpanRange,2,FALSE)","v":330.6},{"$f":"VLOOKUP($K537,SpanRange,3,FALSE)","v":2},{"$f":"Find_Table(Spans!$I$2,I537)","v":9},{"$f":"IF(R537=0,Spans!$C$10,VLOOKUP(P537,INDIRECT(\"Table\"&R537),Q537,TRUE))","v":31},"No","No"]
[1539,"W12153280N3953030",39.530299999999997,-121.53279999999999,78,63.6,47.2,"[Eucalyptus/BlueGum, DouglasFir, MontereyPine]","Eucalyptus/BlueGum",-7.6,"W12153269N3953048-W12153323N3953048","Tier 2-3","YES","2019-11-20T17:46:46",{"$f":"VLOOKUP($K538,SpanRange,4,FALSE)","v":132},{"$f":"VLOOKUP($K538,SpanRange,2,FALSE)","v":153.80000000000001},{"$f":"VLOOKUP($K538,SpanRange,3,FALSE)","v":2},{"$f":"Find_Table(Spans!$I$2,I538)","v":12},{"$f":"IF(R538=0,Spans!$C$10,VLOOKUP(P538,INDIRECT(\"Table\"&R538),Q538,TRUE))","v":30},"No","No"]
[1540,"W12153256N3952782",39.527819999999899,-121.53256,58.5,25.9,12,"[Eucalyptus/BlueGum, DouglasFir, LiveOak]","Eucalyptus/BlueGum",-12.2,"W12153203N3952790-W12153270N3952789","Tier 2-3","YES","2019-11-20T17:46:46",{"$f":"VLOOKUP($K539,SpanRange,4,FALSE)","v":89},{"$f":"VLOOKUP($K539,SpanRange,2,FALSE)","v":189.099999999999},{"$f":"VLOOKUP($K539,SpanRange,3,FALSE)","v":2},{"$f":"Find_Table(Spans!$I$2,I539)","v":12},{"$f":"IF(R539=0,Spans!$C$10,VLOOKUP(P539,INDIRECT(\"Table\"&R539),Q539,TRUE))","v":30},"No","No"]
[1543,"W12153156N3953247",39.532469999999897,-121.531559999999,46.1,19,7.8,"[CoastalLiveOak, DouglasFir, Other]","CoastalLiveOak",-11.5,"W12153117N3953239-W12153205N3953245","Tier 2-3","YES","2019-11-20T17:46:46",{"$f":"VLOOKUP($K540,SpanRange,4,FALSE)","v":174},{"$f":"VLOOKUP($K540,SpanRange,2,FALSE)","v":250.19999999999899},{"$f":"VLOOKUP($K540,SpanRange,3,FALSE)","v":2},{"$f":"Find_Table(Spans!$I$2,I540)","v":11},{"$f":"IF(R540=0,Spans!$C$10,VLOOKUP(P540,INDIRECT(\"Table\"&R540),Q540,TRUE))","v":30},"No","No"]
[1544,"W12153870N3953235",39.532350000000001,-121.53870000000001,39.5,28.8,7.8,"[DouglasFir, LiveOak, CoastalLiveOak]","DouglasFir",-4,"W12153810N3953244-W12153905N3953243","Tier 2-3","YES","2019-11-20T17:46:46",{"$f":"VLOOKUP($K541,SpanRange,4,FALSE)","v":176},{"$f":"VLOOKUP($K541,SpanRange,2,FALSE)","v":270.10000000000002},{"$f":"VLOOKUP($K541,SpanRange,3,FALSE)","v":2},{"$f":"Find_Table(Spans!$I$2,I541)","v":9},{"$f":"IF(R541=0,Spans!$C$10,VLOOKUP(P541,INDIRECT(\"Table\"&R541),Q541,TRUE))","v":26},"No","No"]
[1549,"W12154091N3953339",39.533389999999898,-121.540909999999,86,12.8,12,"[DouglasFir, GrayPine, CoastalLiveOak]","DouglasFir",-33.899999999999899,"W12154149N3953393-W12154087N3953327","Tier 2-3","YES","2019-11-20T17:46:46",{"$f":"VLOOKUP($K542,SpanRange,4,FALSE)","v":188},{"$f":"VLOOKUP($K542,SpanRange,2,FALSE)","v":296},{"$f":"VLOOKUP($K542,SpanRange,3,FALSE)","v":2},{"$f":"Find_Table(Spans!$I$2,I542)","v":9},{"$f":"IF(R542=0,Spans!$C$10,VLOOKUP(P542,INDIRECT(\"Table\"&R542),Q542,TRUE))","v":26},"Yes","No"]
[1552,"W12153978N3953157",39.531569999999903,-121.53977999999999,67.599999999999895,28.4,7.8,"[DouglasFir, GrayPine, LiveOak]","DouglasFir",-21.8,"W12153966N3953151-W12154021N3953134","Tier 2-3","YES","2019-11-20T17:46:46",{"$f":"VLOOKUP($K543,SpanRange,4,FALSE)","v":154},{"$f":"VLOOKUP($K543,SpanRange,2,FALSE)","v":168.19999999999899},{"$f":"VLOOKUP($K543,SpanRange,3,FALSE)","v":2},{"$f":"Find_Table(Spans!$I$2,I543)","v":9},{"$f":"IF(R543=0,Spans!$C$10,VLOOKUP(P543,INDIRECT(\"Table\"&R543),Q543,TRUE))","v":21},"Yes","No"]
[1558,"W12154229N3953796",39.537959999999899,-121.542289999999,69.799999999999898,57,35.5,"[GrayPine, Eucalyptus/BlueGum, DouglasFir]","GrayPine",-12,"W12154250N3953758-W12154252N3953857","Tier 2-3","YES","2019-11-20T17:46:46",{"$f":"VLOOKUP($K544,SpanRange,4,FALSE)","v":196},{"$f":"VLOOKUP($K544,SpanRange,2,FALSE)","v":362},{"$f":"VLOOKUP($K544,SpanRange,3,FALSE)","v":2},{"$f":"Find_Table(Spans!$I$2,I544)","v":10},{"$f":"IF(R544=0,Spans!$C$10,VLOOKUP(P544,INDIRECT(\"Table\"&R544),Q544,TRUE))","v":36},"No","No"]
[1559,"W12153197N3952662",39.526620000000001,-121.53197,66,26.6,8.5,"[Eucalyptus/BlueGum, GrayPine, Other]","Eucalyptus/BlueGum",-25,"W12153224N3952655-W12153152N3952699","Tier 2-3","YES","2019-11-20T17:46:46",{"$f":"VLOOKUP($K545,SpanRange,4,FALSE)","v":75},{"$f":"VLOOKUP($K545,SpanRange,2,FALSE)","v":257.60000000000002},{"$f":"VLOOKUP($K545,SpanRange,3,FALSE)","v":2},{"$f":"Find_Table(Spans!$I$2,I545)","v":12},{"$f":"IF(R545=0,Spans!$C$10,VLOOKUP(P545,INDIRECT(\"Table\"&R545),Q545,TRUE))","v":30},"No","No"]
[1560,"W12153231N3952931",39.529309999999903,-121.532309999999,84.5,65.299999999999898,55.2,"[GrayPine, Eucalyptus/BlueGum, DouglasFir]","GrayPine",-7.9,"W12153206N3952972-W12153206N3952881","Tier 2-3","YES","2019-11-20T17:46:46",{"$f":"VLOOKUP($K546,SpanRange,4,FALSE)","v":109},{"$f":"VLOOKUP($K546,SpanRange,2,FALSE)","v":332.19999999999902},{"$f":"VLOOKUP($K546,SpanRange,3,FALSE)","v":2},{"$f":"Find_Table(Spans!$I$2,I546)","v":10},{"$f":"IF(R546=0,Spans!$C$10,VLOOKUP(P546,INDIRECT(\"Table\"&R546),Q546,TRUE))","v":36},"No","No"]
[1561,"W12153891N3953264",39.532640000000001,-121.53891,52.899999999999899,37.899999999999899,22.6,"[GrayPine, Other, LiveOak]","GrayPine",-5.7,"W12153905N3953243-W12153906N3953282","Tier 2-3","YES","2019-11-20T17:46:46",{"$f":"VLOOKUP($K547,SpanRange,4,FALSE)","v":179},{"$f":"VLOOKUP($K547,SpanRange,2,FALSE)","v":140.4},{"$f":"VLOOKUP($K547,SpanRange,3,FALSE)","v":2},{"$f":"Find_Table(Spans!$I$2,I547)","v":10},{"$f":"IF(R547=0,Spans!$C$10,VLOOKUP(P547,INDIRECT(\"Table\"&R547),Q547,TRUE))","v":21},"No","No"]
[1562,"W12151420N3952727",39.527270000000001,-121.5142,72.900000000000006,42.899999999999899,6.4,"[GrayPine, DouglasFir, MontereyPine]","GrayPine",-18.1999999999999,"W12151437N3952744-W12151433N3952690","Tier 2-3","YES","2019-11-20T17:46:46",{"$f":"VLOOKUP($K548,SpanRange,4,FALSE)","v":77},{"$f":"VLOOKUP($K548,SpanRange,2,FALSE)","v":198.099999999999},{"$f":"VLOOKUP($K548,SpanRange,3,FALSE)","v":2},{"$f":"Find_Table(Spans!$I$2,I548)","v":10},{"$f":"IF(R548=0,Spans!$C$10,VLOOKUP(P548,INDIRECT(\"Table\"&R548),Q548,TRUE))","v":26},"No","No"]
[1567,"W12152007N3952908",39.52908,-121.52007,70.599999999999994,22.1999999999999,7.7,"[GrayPine, DouglasFir, ValleyOak]","GrayPine",-30.3,"W12152053N3952877-W12152014N3952914","Tier 2-3","YES","2019-11-20T17:46:46",{"$f":"VLOOKUP($K549,SpanRange,4,FALSE)","v":106},{"$f":"VLOOKUP($K549,SpanRange,2,FALSE)","v":171.9},{"$f":"VLOOKUP($K549,SpanRange,3,FALSE)","v":2},{"$f":"Find_Table(Spans!$I$2,I549)","v":10},{"$f":"IF(R549=0,Spans!$C$10,VLOOKUP(P549,INDIRECT(\"Table\"&R549),Q549,TRUE))","v":26},"Yes","No"]
[1569,"W12153525N3952747",39.527470000000001,-121.535249999999,46.6,26.1999999999999,7.3,"[GrayPine, DouglasFir, ValleyOak]","GrayPine",-9.8000000000000007,"W12153536N3952706-W12153535N3952774","Tier 2-3","YES","2019-11-20T17:46:46",{"$f":"VLOOKUP($K550,SpanRange,4,FALSE)","v":82},{"$f":"VLOOKUP($K550,SpanRange,2,FALSE)","v":246.599999999999},{"$f":"VLOOKUP($K550,SpanRange,3,FALSE)","v":2},{"$f":"Find_Table(Spans!$I$2,I550)","v":10},{"$f":"IF(R550=0,Spans!$C$10,VLOOKUP(P550,INDIRECT(\"Table\"&R550),Q550,TRUE))","v":32},"No","No"]
[1573,"W12153275N3952608",39.52608,-121.532749999999,70.799999999999898,49.1,30.6999999999999,"[Eucalyptus/BlueGum, DouglasFir, GrayPine]","Eucalyptus/BlueGum",-16.1999999999999,"W12153295N3952615-W12153224N3952655","Tier 2-3","YES","2019-11-20T17:46:46",{"$f":"VLOOKUP($K551,SpanRange,4,FALSE)","v":71},{"$f":"VLOOKUP($K551,SpanRange,2,FALSE)","v":249.099999999999},{"$f":"VLOOKUP($K551,SpanRange,3,FALSE)","v":2},{"$f":"Find_Table(Spans!$I$2,I551)","v":12},{"$f":"IF(R551=0,Spans!$C$10,VLOOKUP(P551,INDIRECT(\"Table\"&R551),Q551,TRUE))","v":30},"No","No"]
[1575,"W12154241N3953731",39.537309999999898,-121.54241,54.899999999999899,23.5,12,"[Other, GrayPine, MontereyPine]","Other",-29.6,"W12154250N3953758-W12154253N3953660","Tier 2-3","YES","2019-11-20T17:46:46",{"$f":"VLOOKUP($K552,SpanRange,4,FALSE)","v":195},{"$f":"VLOOKUP($K552,SpanRange,2,FALSE)","v":355.89999999999901},{"$f":"VLOOKUP($K552,SpanRange,3,FALSE)","v":2},{"$f":"Find_Table(Spans!$I$2,I552)","v":11},{"$f":"IF(R552=0,Spans!$C$10,VLOOKUP(P552,INDIRECT(\"Table\"&R552),Q552,TRUE))","v":30},"No","No"]
[1578,"W12153017N3952991",39.529910000000001,-121.530169999999,84.7,63.6,47.8,"[GrayPine, Eucalyptus/BlueGum, MontereyPine]","GrayPine",-15,"W12153068N3952972-W12152988N3952972","Tier 2-3","YES","2019-11-20T17:46:46",{"$f":"VLOOKUP($K553,SpanRange,4,FALSE)","v":117},{"$f":"VLOOKUP($K553,SpanRange,2,FALSE)","v":225.69999999999899},{"$f":"VLOOKUP($K553,SpanRange,3,FALSE)","v":2},{"$f":"Find_Table(Spans!$I$2,I553)","v":10},{"$f":"IF(R553=0,Spans!$C$10,VLOOKUP(P553,INDIRECT(\"Table\"&R553),Q553,TRUE))","v":32},"No","No"]
[1581,"W12154087N3953287",39.532869999999903,-121.540869999999,72.599999999999994,35,7.5,"[GrayPine, DouglasFir, TanOak]","GrayPine",-15.2,"W12154087N3953327-W12154073N3953285","Tier 2-3","YES","2019-11-20T17:46:46",{"$f":"VLOOKUP($K554,SpanRange,4,FALSE)","v":187},{"$f":"VLOOKUP($K554,SpanRange,2,FALSE)","v":159.9},{"$f":"VLOOKUP($K554,SpanRange,3,FALSE)","v":2},{"$f":"Find_Table(Spans!$I$2,I554)","v":10},{"$f":"IF(R554=0,Spans!$C$10,VLOOKUP(P554,INDIRECT(\"Table\"&R554),Q554,TRUE))","v":26},"No","No"]
[1583,"W12153921N3953286",39.5328599999999,-121.539209999999,34.700000000000003,11.3,5.3,"[LiveOak, DouglasFir, CoastalLiveOak]","LiveOak",-1,"W12153944N3953282-W12153906N3953282","Tier 2-3","YES","2019-11-20T17:46:46",{"$f":"VLOOKUP($K555,SpanRange,4,FALSE)","v":184},{"$f":"VLOOKUP($K555,SpanRange,2,FALSE)","v":108.2},{"$f":"VLOOKUP($K555,SpanRange,3,FALSE)","v":2},{"$f":"Find_Table(Spans!$I$2,I555)","v":11},{"$f":"IF(R555=0,Spans!$C$10,VLOOKUP(P555,INDIRECT(\"Table\"&R555),Q555,TRUE))","v":30},"No","No"]
[1584,"W12153151N3953234",39.532339999999898,-121.531509999999,72.799999999999898,24.6999999999999,10.199999999999999,"[Eucalyptus/BlueGum, DouglasFir, CoastalLiveOak]","Eucalyptus/BlueGum",-36,"W12153117N3953239-W12153205N3953245","Tier 2-3","YES","2019-11-20T17:46:46",{"$f":"VLOOKUP($K556,SpanRange,4,FALSE)","v":174},{"$f":"VLOOKUP($K556,SpanRange,2,FALSE)","v":250.19999999999899},{"$f":"VLOOKUP($K556,SpanRange,3,FALSE)","v":2},{"$f":"Find_Table(Spans!$I$2,I556)","v":12},{"$f":"IF(R556=0,Spans!$C$10,VLOOKUP(P556,INDIRECT(\"Table\"&R556),Q556,TRUE))","v":30},"Yes","No"]
[1586,"W12153973N3953160",39.531599999999997,-121.539729999999,68.400000000000006,32.5,17.399999999999999,"[DouglasFir, GrayPine, LiveOak]","DouglasFir",-17.5,"W12153966N3953151-W12154021N3953134","Tier 2-3","YES","2019-11-20T17:46:46",{"$f":"VLOOKUP($K557,SpanRange,4,FALSE)","v":154},{"$f":"VLOOKUP($K557,SpanRange,2,FALSE)","v":168.19999999999899},{"$f":"VLOOKUP($K557,SpanRange,3,FALSE)","v":2},{"$f":"Find_Table(Spans!$I$2,I557)","v":9},{"$f":"IF(R557=0,Spans!$C$10,VLOOKUP(P557,INDIRECT(\"Table\"&R557),Q557,TRUE))","v":21},"No","No"]
[1588,"W12154231N3953872",39.538719999999898,-121.54231,80.799999999999898,62.399999999999899,44.899999999999899,"[DouglasFir, GrayPine, Other]","DouglasFir",-16.399999999999899,"W12154263N3953924-W12154252N3953857","Tier 2-3","YES","2019-11-20T17:46:46",{"$f":"VLOOKUP($K558,SpanRange,4,FALSE)","v":197},{"$f":"VLOOKUP($K558,SpanRange,2,FALSE)","v":244.69999999999899},{"$f":"VLOOKUP($K558,SpanRange,3,FALSE)","v":2},{"$f":"Find_Table(Spans!$I$2,I558)","v":9},{"$f":"IF(R558=0,Spans!$C$10,VLOOKUP(P558,INDIRECT(\"Table\"&R558),Q558,TRUE))","v":26},"No","No"]
[1595,"W12154256N3953991",39.5399099999999,-121.542559999999,98.799999999999898,8.1999999999999904,12,"[Other, GrayPine, CoastalLiveOak]","Other",-69.299999999999898,"W12154261N3953987-W12154258N3954066","Tier 2-3","YES","2019-11-20T17:46:46",{"$f":"VLOOKUP($K559,SpanRange,4,FALSE)","v":199},{"$f":"VLOOKUP($K559,SpanRange,2,FALSE)","v":286.69999999999902},{"$f":"VLOOKUP($K559,SpanRange,3,FALSE)","v":2},{"$f":"Find_Table(Spans!$I$2,I559)","v":11},{"$f":"IF(R559=0,Spans!$C$10,VLOOKUP(P559,INDIRECT(\"Table\"&R559),Q559,TRUE))","v":30},"Yes","No"]
[1596,"W12151992N3952934",39.529339999999898,-121.519919999999,73.599999999999994,55.2,44.399999999999899,"[CoastalLiveOak, GrayPine, Other]","CoastalLiveOak",-6.9,"W12152014N3952914-W12151936N3952926","Tier 2-3","YES","2019-11-20T17:46:46",{"$f":"VLOOKUP($K560,SpanRange,4,FALSE)","v":108},{"$f":"VLOOKUP($K560,SpanRange,2,FALSE)","v":225.099999999999},{"$f":"VLOOKUP($K560,SpanRange,3,FALSE)","v":2},{"$f":"Find_Table(Spans!$I$2,I560)","v":11},{"$f":"IF(R560=0,Spans!$C$10,VLOOKUP(P560,INDIRECT(\"Table\"&R560),Q560,TRUE))","v":30},"No","No"]
[1597,"W12152886N3952727",39.527270000000001,-121.528859999999,40.799999999999997,21.1999999999999,6.1,"[Other, DouglasFir, TanOak]","Other",-2.6,"W12152907N3952726-W12152800N3952774","Tier 2-3","YES","2019-11-20T17:46:46",{"$f":"VLOOKUP($K561,SpanRange,4,FALSE)","v":84},{"$f":"VLOOKUP($K561,SpanRange,2,FALSE)","v":349.69999999999902},{"$f":"VLOOKUP($K561,SpanRange,3,FALSE)","v":2},{"$f":"Find_Table(Spans!$I$2,I561)","v":11},{"$f":"IF(R561=0,Spans!$C$10,VLOOKUP(P561,INDIRECT(\"Table\"&R561),Q561,TRUE))","v":30},"No","No"]
[1600,"W12154196N3953459",39.534590000000001,-121.54196,75.7,44.3,27.1,"[DouglasFir, Other, LiveOak]","DouglasFir",-24.8,"W12154179N3953424-W12154214N3953455","Tier 2-3","YES","2019-11-20T17:46:46",{"$f":"VLOOKUP($K562,SpanRange,4,FALSE)","v":190},{"$f":"VLOOKUP($K562,SpanRange,2,FALSE)","v":149.30000000000001},{"$f":"VLOOKUP($K562,SpanRange,3,FALSE)","v":2},{"$f":"Find_Table(Spans!$I$2,I562)","v":9},{"$f":"IF(R562=0,Spans!$C$10,VLOOKUP(P562,INDIRECT(\"Table\"&R562),Q562,TRUE))","v":16},"Yes","No"]
[1602,"W12154223N3953621",39.536209999999897,-121.54223,87.7,86.4,72.400000000000006,"[Other, DouglasFir, GrayPine]","Other",-0.8,"W12154256N3953592-W12154253N3953660","Tier 2-3","YES","2019-11-20T17:46:46",{"$f":"VLOOKUP($K563,SpanRange,4,FALSE)","v":194},{"$f":"VLOOKUP($K563,SpanRange,2,FALSE)","v":247.599999999999},{"$f":"VLOOKUP($K563,SpanRange,3,FALSE)","v":2},{"$f":"Find_Table(Spans!$I$2,I563)","v":11},{"$f":"IF(R563=0,Spans!$C$10,VLOOKUP(P563,INDIRECT(\"Table\"&R563),Q563,TRUE))","v":30},"No","No"]
[1613,"W12154237N3953689",39.53689,-121.54237000000001,79.7,40.399999999999899,24.6999999999999,"[Other, LiveOak, DouglasFir]","Other",-39.1,"W12154250N3953758-W12154253N3953660","Tier 2-3","YES","2019-11-20T17:46:46",{"$f":"VLOOKUP($K564,SpanRange,4,FALSE)","v":195},{"$f":"VLOOKUP($K564,SpanRange,2,FALSE)","v":355.89999999999901},{"$f":"VLOOKUP($K564,SpanRange,3,FALSE)","v":2},{"$f":"Find_Table(Spans!$I$2,I564)","v":11},{"$f":"IF(R564=0,Spans!$C$10,VLOOKUP(P564,INDIRECT(\"Table\"&R564),Q564,TRUE))","v":30},"Yes","No"]
[1614,"W12153232N3952798",39.5279799999999,-121.532319999999,61.7,27.1,5.2,"[GrayPine, Other, ValleyOak]","GrayPine",-27.1,"W12153203N3952790-W12153270N3952789","Tier 2-3","YES","2019-11-20T17:46:46",{"$f":"VLOOKUP($K565,SpanRange,4,FALSE)","v":89},{"$f":"VLOOKUP($K565,SpanRange,2,FALSE)","v":189.099999999999},{"$f":"VLOOKUP($K565,SpanRange,3,FALSE)","v":2},{"$f":"Find_Table(Spans!$I$2,I565)","v":10},{"$f":"IF(R565=0,Spans!$C$10,VLOOKUP(P565,INDIRECT(\"Table\"&R565),Q565,TRUE))","v":26},"Yes","No"]
[1623,"W12152597N3953066",39.530659999999898,-121.52597,45.899999999999899,15.2,5.3,"[Other, GrayPine, DouglasFir]","Other",-13.8,"W12152604N3953139-W12152603N3953064","Tier 2-3","YES","2019-11-20T17:46:46",{"$f":"VLOOKUP($K566,SpanRange,4,FALSE)","v":146},{"$f":"VLOOKUP($K566,SpanRange,2,FALSE)","v":273.19999999999902},{"$f":"VLOOKUP($K566,SpanRange,3,FALSE)","v":2},{"$f":"Find_Table(Spans!$I$2,I566)","v":11},{"$f":"IF(R566=0,Spans!$C$10,VLOOKUP(P566,INDIRECT(\"Table\"&R566),Q566,TRUE))","v":30},"No","No"]
[1633,"W12154087N3953124",39.531239999999897,-121.540869999999,44.399999999999899,21.5,11.2,"[GrayPine, Other, DouglasFir]","GrayPine",-5.4,"W12154084N3953131-W12154086N3953214","Tier 2-3","YES","2019-11-20T17:46:46",{"$f":"VLOOKUP($K567,SpanRange,4,FALSE)","v":162},{"$f":"VLOOKUP($K567,SpanRange,2,FALSE)","v":302.60000000000002},{"$f":"VLOOKUP($K567,SpanRange,3,FALSE)","v":2},{"$f":"Find_Table(Spans!$I$2,I567)","v":10},{"$f":"IF(R567=0,Spans!$C$10,VLOOKUP(P567,INDIRECT(\"Table\"&R567),Q567,TRUE))","v":36},"No","No"]
[1634,"W12151955N3953044",39.530439999999899,-121.519549999999,52.399999999999899,43.1,21.1999999999999,"[DouglasFir, CoastalLiveOak, Eucalyptus/BlueGum]","DouglasFir",-3.3,"W12152005N3953021-W12151923N3953089","Tier 2-3","YES","2019-11-20T17:46:46",{"$f":"VLOOKUP($K568,SpanRange,4,FALSE)","v":136},{"$f":"VLOOKUP($K568,SpanRange,2,FALSE)","v":336.89999999999901},{"$f":"VLOOKUP($K568,SpanRange,3,FALSE)","v":2},{"$f":"Find_Table(Spans!$I$2,I568)","v":9},{"$f":"IF(R568=0,Spans!$C$10,VLOOKUP(P568,INDIRECT(\"Table\"&R568),Q568,TRUE))","v":31},"No","No"]
[1637,"W12154247N3954009",39.5400899999999,-121.542469999999,66.900000000000006,34.1,16.8,"[DouglasFir, Eucalyptus/BlueGum, GrayPine]","DouglasFir",-32.299999999999898,"W12154261N3953987-W12154258N3954066","Tier 2-3","YES","2019-11-20T17:46:46",{"$f":"VLOOKUP($K569,SpanRange,4,FALSE)","v":199},{"$f":"VLOOKUP($K569,SpanRange,2,FALSE)","v":286.69999999999902},{"$f":"VLOOKUP($K569,SpanRange,3,FALSE)","v":2},{"$f":"Find_Table(Spans!$I$2,I569)","v":9},{"$f":"IF(R569=0,Spans!$C$10,VLOOKUP(P569,INDIRECT(\"Table\"&R569),Q569,TRUE))","v":26},"Yes","No"]
[1638,"W12153196N3953090",39.530900000000003,-121.531959999999,67,26.3,10.5,"[GrayPine, DouglasFir, ValleyOak]","GrayPine",-28.6999999999999,"W12153207N3953097-W12153206N3953048","Tier 2-3","YES","2019-11-20T17:46:46",{"$f":"VLOOKUP($K570,SpanRange,4,FALSE)","v":141},{"$f":"VLOOKUP($K570,SpanRange,2,FALSE)","v":177.19999999999899},{"$f":"VLOOKUP($K570,SpanRange,3,FALSE)","v":2},{"$f":"Find_Table(Spans!$I$2,I570)","v":10},{"$f":"IF(R570=0,Spans!$C$10,VLOOKUP(P570,INDIRECT(\"Table\"&R570),Q570,TRUE))","v":26},"Yes","No"]
[1639,"W12153148N3953226",39.532260000000001,-121.53148,72.799999999999898,53.3,35.799999999999997,"[DouglasFir, Eucalyptus/BlueGum, GrayPine]","DouglasFir",-12.9,"W12153117N3953239-W12153205N3953245","Tier 2-3","YES","2019-11-20T17:46:46",{"$f":"VLOOKUP($K571,SpanRange,4,FALSE)","v":174},{"$f":"VLOOKUP($K571,SpanRange,2,FALSE)","v":250.19999999999899},{"$f":"VLOOKUP($K571,SpanRange,3,FALSE)","v":2},{"$f":"Find_Table(Spans!$I$2,I571)","v":9},{"$f":"IF(R571=0,Spans!$C$10,VLOOKUP(P571,INDIRECT(\"Table\"&R571),Q571,TRUE))","v":26},"No","No"]
[1643,"W12152050N3952899",39.52899,-121.5205,61.2,40.799999999999997,32.6,"[GrayPine, ValleyOak, Other]","GrayPine",-8.9,"W12152053N3952877-W12152014N3952914","Tier 2-3","YES","2019-11-20T17:46:46",{"$f":"VLOOKUP($K572,SpanRange,4,FALSE)","v":106},{"$f":"VLOOKUP($K572,SpanRange,2,FALSE)","v":171.9},{"$f":"VLOOKUP($K572,SpanRange,3,FALSE)","v":2},{"$f":"Find_Table(Spans!$I$2,I572)","v":10},{"$f":"IF(R572=0,Spans!$C$10,VLOOKUP(P572,INDIRECT(\"Table\"&R572),Q572,TRUE))","v":26},"No","No"]
[1644,"W12151923N3953062",39.5306199999999,-121.519229999999,70.099999999999994,65.2,56,"[Eucalyptus/BlueGum, GrayPine, DouglasFir]","Eucalyptus/BlueGum",-1.4,"W12152005N3953021-W12151923N3953089","Tier 2-3","YES","2019-11-20T17:46:46",{"$f":"VLOOKUP($K573,SpanRange,4,FALSE)","v":136},{"$f":"VLOOKUP($K573,SpanRange,2,FALSE)","v":336.89999999999901},{"$f":"VLOOKUP($K573,SpanRange,3,FALSE)","v":2},{"$f":"Find_Table(Spans!$I$2,I573)","v":12},{"$f":"IF(R573=0,Spans!$C$10,VLOOKUP(P573,INDIRECT(\"Table\"&R573),Q573,TRUE))","v":30},"No","No"]
[1652,"W12153257N3952977",39.5297699999999,-121.532569999999,39.299999999999997,13.9,6.2,"[CoastalLiveOak, Other, MontereyPine]","CoastalLiveOak",-6.5,"W12153284N3952973-W12153206N3952972","Tier 2-3","YES","2019-11-20T17:46:46",{"$f":"VLOOKUP($K574,SpanRange,4,FALSE)","v":118},{"$f":"VLOOKUP($K574,SpanRange,2,FALSE)","v":221.5},{"$f":"VLOOKUP($K574,SpanRange,3,FALSE)","v":2},{"$f":"Find_Table(Spans!$I$2,I574)","v":11},{"$f":"IF(R574=0,Spans!$C$10,VLOOKUP(P574,INDIRECT(\"Table\"&R574),Q574,TRUE))","v":30},"No","No"]
[1663,"W12151954N3952976",39.529759999999897,-121.51954000000001,73.5,41.8,22.6,"[CoastalLiveOak, Other, GrayPine]","CoastalLiveOak",-24.3,"W12152005N3953021-W12151936N3952926","Tier 2-3","YES","2019-11-20T17:46:46",{"$f":"VLOOKUP($K575,SpanRange,4,FALSE)","v":121},{"$f":"VLOOKUP($K575,SpanRange,2,FALSE)","v":398},{"$f":"VLOOKUP($K575,SpanRange,3,FALSE)","v":2},{"$f":"Find_Table(Spans!$I$2,I575)","v":11},{"$f":"IF(R575=0,Spans!$C$10,VLOOKUP(P575,INDIRECT(\"Table\"&R575),Q575,TRUE))","v":30},"No","No"]
[1666,"W12154102N3953142",39.531419999999898,-121.54102,68.7,47.7,40,"[GrayPine, DouglasFir, LiveOak]","GrayPine",-4.2,"W12154084N3953131-W12154086N3953214","Tier 2-3","YES","2019-11-20T17:46:46",{"$f":"VLOOKUP($K576,SpanRange,4,FALSE)","v":162},{"$f":"VLOOKUP($K576,SpanRange,2,FALSE)","v":302.60000000000002},{"$f":"VLOOKUP($K576,SpanRange,3,FALSE)","v":2},{"$f":"Find_Table(Spans!$I$2,I576)","v":10},{"$f":"IF(R576=0,Spans!$C$10,VLOOKUP(P576,INDIRECT(\"Table\"&R576),Q576,TRUE))","v":36},"No","No"]
[1671,"W12153842N3952211",39.522109999999898,-121.53842,49.6,33.200000000000003,19.899999999999999,"[GrayPine, DouglasFir, Other]","GrayPine",-12.9,"W12153891N3952195-W12153812N3952205","Tier 2-3","YES","2019-11-20T17:46:46",{"$f":"VLOOKUP($K577,SpanRange,4,FALSE)","v":21},{"$f":"VLOOKUP($K577,SpanRange,2,FALSE)","v":226.3},{"$f":"VLOOKUP($K577,SpanRange,3,FALSE)","v":2},{"$f":"Find_Table(Spans!$I$2,I577)","v":10},{"$f":"IF(R577=0,Spans!$C$10,VLOOKUP(P577,INDIRECT(\"Table\"&R577),Q577,TRUE))","v":32},"No","No"]
[1672,"W12153923N3953248",39.53248,-121.53923,39.399999999999899,18.399999999999999,8.4,"[DouglasFir, Eucalyptus/BlueGum, CoastalLiveOak]","DouglasFir",-2.2999999999999998,"W12153963N3953242-W12153905N3953243","Tier 2-3","YES","2019-11-20T17:46:46",{"$f":"VLOOKUP($K578,SpanRange,4,FALSE)","v":175},{"$f":"VLOOKUP($K578,SpanRange,2,FALSE)","v":161.30000000000001},{"$f":"VLOOKUP($K578,SpanRange,3,FALSE)","v":2},{"$f":"Find_Table(Spans!$I$2,I578)","v":9},{"$f":"IF(R578=0,Spans!$C$10,VLOOKUP(P578,INDIRECT(\"Table\"&R578),Q578,TRUE))","v":21},"No","No"]
[1674,"W12153213N3952946",39.52946,-121.532129999999,42.2,16.399999999999899,6.6,"[DouglasFir, Other, LiveOak]","DouglasFir",-1.2,"W12153206N3952972-W12153206N3952881","Tier 2-3","YES","2019-11-20T17:46:46",{"$f":"VLOOKUP($K579,SpanRange,4,FALSE)","v":109},{"$f":"VLOOKUP($K579,SpanRange,2,FALSE)","v":332.19999999999902},{"$f":"VLOOKUP($K579,SpanRange,3,FALSE)","v":2},{"$f":"Find_Table(Spans!$I$2,I579)","v":9},{"$f":"IF(R579=0,Spans!$C$10,VLOOKUP(P579,INDIRECT(\"Table\"&R579),Q579,TRUE))","v":31},"No","No"]
[1675,"W12153204N3952663",39.526629999999898,-121.532039999999,65.799999999999898,9,8,"[Eucalyptus/BlueGum, GrayPine, Other]","Eucalyptus/BlueGum",-29.9,"W12153224N3952655-W12153152N3952699","Tier 2-3","YES","2019-11-20T17:46:46",{"$f":"VLOOKUP($K580,SpanRange,4,FALSE)","v":75},{"$f":"VLOOKUP($K580,SpanRange,2,FALSE)","v":257.60000000000002},{"$f":"VLOOKUP($K580,SpanRange,3,FALSE)","v":2},{"$f":"Find_Table(Spans!$I$2,I580)","v":12},{"$f":"IF(R580=0,Spans!$C$10,VLOOKUP(P580,INDIRECT(\"Table\"&R580),Q580,TRUE))","v":30},{"$f":"IFERROR(IF((-1)*J580>S580,\"Yes\",\"No\"),\"No Match\")","v":"No"},{"$f":"IF(F580<=6,\"Yes\",\"No\")","v":"No"}]
[1683,"W12153183N3953246",39.53246,-121.531829999999,25.8,6.7,5.9,"[CoastalLiveOak, DouglasFir, MontereyPine]","CoastalLiveOak",-0.3,"W12153117N3953239-W12153205N3953245","Tier 2-3","YES","2019-11-20T17:46:46",{"$f":"VLOOKUP($K581,SpanRange,4,FALSE)","v":174},{"$f":"VLOOKUP($K581,SpanRange,2,FALSE)","v":250.19999999999899},{"$f":"VLOOKUP($K581,SpanRange,3,FALSE)","v":2},{"$f":"Find_Table(Spans!$I$2,I581)","v":11},{"$f":"IF(R581=0,Spans!$C$10,VLOOKUP(P581,INDIRECT(\"Table\"&R581),Q581,TRUE))","v":30},"No","No"]
[1684,"W12153212N3953075",39.530749999999898,-121.532119999999,41.6,12.5,5.6,"[LiveOak, DouglasFir, TanOak]","LiveOak",-7.6,"W12153207N3953097-W12153206N3953048","Tier 2-3","YES","2019-11-20T17:46:46",{"$f":"VLOOKUP($K582,SpanRange,4,FALSE)","v":141},{"$f":"VLOOKUP($K582,SpanRange,2,FALSE)","v":177.19999999999899},{"$f":"VLOOKUP($K582,SpanRange,3,FALSE)","v":2},{"$f":"Find_Table(Spans!$I$2,I582)","v":11},{"$f":"IF(R582=0,Spans!$C$10,VLOOKUP(P582,INDIRECT(\"Table\"&R582),Q582,TRUE))","v":30},"No","No"]
[1688,"W12152026N3953011",39.530110000000001,-121.52025999999999,80.900000000000006,27.8,13,"[GrayPine, Other, DouglasFir]","GrayPine",-37.299999999999997,"W12152005N3953021-W12152091N3953014","Tier 2-3","YES","2019-11-20T17:46:46",{"$f":"VLOOKUP($K583,SpanRange,4,FALSE)","v":127},{"$f":"VLOOKUP($K583,SpanRange,2,FALSE)","v":241.69999999999899},{"$f":"VLOOKUP($K583,SpanRange,3,FALSE)","v":2},{"$f":"Find_Table(Spans!$I$2,I583)","v":10},{"$f":"IF(R583=0,Spans!$C$10,VLOOKUP(P583,INDIRECT(\"Table\"&R583),Q583,TRUE))","v":32},"Yes","No"]
[1691,"W12153858N3953240",39.532400000000003,-121.538579999999,65.2,11.5,7.3,"[GrayPine, DouglasFir, TanOak]","GrayPine",-39,"W12153810N3953244-W12153905N3953243","Tier 2-3","YES","2019-11-20T17:46:46",{"$f":"VLOOKUP($K584,SpanRange,4,FALSE)","v":176},{"$f":"VLOOKUP($K584,SpanRange,2,FALSE)","v":270.10000000000002},{"$f":"VLOOKUP($K584,SpanRange,3,FALSE)","v":2},{"$f":"Find_Table(Spans!$I$2,I584)","v":10},{"$f":"IF(R584=0,Spans!$C$10,VLOOKUP(P584,INDIRECT(\"Table\"&R584),Q584,TRUE))","v":32},"Yes","No"]
[1694,"W12153143N3952960",39.529600000000002,-121.53143,45.7,31.6,17.5,"[CoastalLiveOak, Eucalyptus/BlueGum, MontereyPine]","CoastalLiveOak",-1,"W12153133N3952927-W12153130N3952973","Tier 2-3","YES","2019-11-20T17:46:46",{"$f":"VLOOKUP($K585,SpanRange,4,FALSE)","v":113},{"$f":"VLOOKUP($K585,SpanRange,2,FALSE)","v":167.4},{"$f":"VLOOKUP($K585,SpanRange,3,FALSE)","v":2},{"$f":"Find_Table(Spans!$I$2,I585)","v":11},{"$f":"IF(R585=0,Spans!$C$10,VLOOKUP(P585,INDIRECT(\"Table\"&R585),Q585,TRUE))","v":30},"No","No"]
[1696,"W12149717N3967260",39.672600000000003,-121.497169999999,23.8,12.6,7.6,null,null,-5.0999999999999996,"W12149755N3967217-W12149658N3967347","Tier 2-3","YES","2019-11-20T17:46:46",{"$f":"VLOOKUP($K586,SpanRange,4,FALSE)","v":217},{"$f":"VLOOKUP($K586,SpanRange,2,FALSE)","v":546.39999999999895},{"$f":"VLOOKUP($K586,SpanRange,3,FALSE)","v":2},{"$f":"Find_Table(Spans!$I$2,I586)","v":11},{"$f":"IF(R586=0,Spans!$C$10,VLOOKUP(P586,INDIRECT(\"Table\"&R586),Q586,TRUE))","v":30},"No","No"]
[1697,"W12151960N3953040",39.5304,-121.5196,95.9,44.1,23.4,"[Other, GrayPine, DouglasFir]","Other",-45.5,"W12152005N3953021-W12151923N3953089","Tier 2-3","YES","2019-11-20T17:46:46",{"$f":"VLOOKUP($K587,SpanRange,4,FALSE)","v":136},{"$f":"VLOOKUP($K587,SpanRange,2,FALSE)","v":336.89999999999901},{"$f":"VLOOKUP($K587,SpanRange,3,FALSE)","v":2},{"$f":"Find_Table(Spans!$I$2,I587)","v":11},{"$f":"IF(R587=0,Spans!$C$10,VLOOKUP(P587,INDIRECT(\"Table\"&R587),Q587,TRUE))","v":30},"Yes","No"]
[1700,"W12154228N3953854",39.538539999999898,-121.54228000000001,94.799999999999898,62.3,43.3,"[Eucalyptus/BlueGum, GrayPine, MontereyPine]","Eucalyptus/BlueGum",-31.6,"W12154250N3953758-W12154252N3953857","Tier 2-3","YES","2019-11-20T17:46:46",{"$f":"VLOOKUP($K588,SpanRange,4,FALSE)","v":196},{"$f":"VLOOKUP($K588,SpanRange,2,FALSE)","v":362},{"$f":"VLOOKUP($K588,SpanRange,3,FALSE)","v":2},{"$f":"Find_Table(Spans!$I$2,I588)","v":12},{"$f":"IF(R588=0,Spans!$C$10,VLOOKUP(P588,INDIRECT(\"Table\"&R588),Q588,TRUE))","v":30},"Yes","No"]
[1702,"W12154097N3953129",39.531289999999899,-121.54097,73.099999999999994,35.299999999999997,22,"[GrayPine, DouglasFir, CoastalLiveOak]","GrayPine",-25.1999999999999,"W12154084N3953131-W12154086N3953214","Tier 2-3","YES","2019-11-20T17:46:46",{"$f":"VLOOKUP($K589,SpanRange,4,FALSE)","v":162},{"$f":"VLOOKUP($K589,SpanRange,2,FALSE)","v":302.60000000000002},{"$f":"VLOOKUP($K589,SpanRange,3,FALSE)","v":2},{"$f":"Find_Table(Spans!$I$2,I589)","v":10},{"$f":"IF(R589=0,Spans!$C$10,VLOOKUP(P589,INDIRECT(\"Table\"&R589),Q589,TRUE))","v":36},"No","No"]
[1703,"W12153108N3953285",39.532849999999897,-121.53108,49.899999999999899,28.9,12,"[DouglasFir, GrayPine, LiveOak]","DouglasFir",-11.4,"W12153118N3953282-W12153205N3953285","Tier 2-3","YES","2019-11-20T17:46:46",{"$f":"VLOOKUP($K590,SpanRange,4,FALSE)","v":186},{"$f":"VLOOKUP($K590,SpanRange,2,FALSE)","v":244.599999999999},{"$f":"VLOOKUP($K590,SpanRange,3,FALSE)","v":2},{"$f":"Find_Table(Spans!$I$2,I590)","v":9},{"$f":"IF(R590=0,Spans!$C$10,VLOOKUP(P590,INDIRECT(\"Table\"&R590),Q590,TRUE))","v":26},"No","No"]
[1705,"W12152765N3952801",39.528009999999902,-121.527649999999,33.5,16.6999999999999,7.4,"[GrayPine, Other, DouglasFir]","GrayPine",-3.6,"W12152800N3952774-W12152750N3952825","Tier 2-3","YES","2019-11-20T17:46:46",{"$f":"VLOOKUP($K591,SpanRange,4,FALSE)","v":90},{"$f":"VLOOKUP($K591,SpanRange,2,FALSE)","v":233.599999999999},{"$f":"VLOOKUP($K591,SpanRange,3,FALSE)","v":2},{"$f":"Find_Table(Spans!$I$2,I591)","v":10},{"$f":"IF(R591=0,Spans!$C$10,VLOOKUP(P591,INDIRECT(\"Table\"&R591),Q591,TRUE))","v":32},"No","No"]
[1707,"W12153837N3953274",39.532739999999897,-121.53837,74.599999999999994,37,25.1,"[DouglasFir, GrayPine, MontereyPine]","DouglasFir",-29.6999999999999,"W12153848N3953281-W12153906N3953282","Tier 2-3","YES","2019-11-20T17:46:46",{"$f":"VLOOKUP($K592,SpanRange,4,FALSE)","v":183},{"$f":"VLOOKUP($K592,SpanRange,2,FALSE)","v":163.80000000000001},{"$f":"VLOOKUP($K592,SpanRange,3,FALSE)","v":2},{"$f":"Find_Table(Spans!$I$2,I592)","v":9},{"$f":"IF(R592=0,Spans!$C$10,VLOOKUP(P592,INDIRECT(\"Table\"&R592),Q592,TRUE))","v":21},"Yes","No"]
[1711,"W12154199N3954164",39.541640000000001,-121.541989999999,46.8,44.1,24.6,"[DouglasFir, LiveOak, TanOak]","DouglasFir",-2.6,"W12154249N3954102-W12154206N3954186","Tier 2-3","YES","2019-11-20T17:46:46",{"$f":"VLOOKUP($K593,SpanRange,4,FALSE)","v":201},{"$f":"VLOOKUP($K593,SpanRange,2,FALSE)","v":330.6},{"$f":"VLOOKUP($K593,SpanRange,3,FALSE)","v":2},{"$f":"Find_Table(Spans!$I$2,I593)","v":9},{"$f":"IF(R593=0,Spans!$C$10,VLOOKUP(P593,INDIRECT(\"Table\"&R593),Q593,TRUE))","v":31},"No","No"]
[1714,"W12153204N3952657",39.52657,-121.532039999999,45.399999999999899,27,12,"[Eucalyptus/BlueGum, Other, GrayPine]","Eucalyptus/BlueGum",-3.4,"W12153224N3952655-W12153152N3952699","Tier 2-3","YES","2019-11-20T17:46:46",{"$f":"VLOOKUP($K594,SpanRange,4,FALSE)","v":75},{"$f":"VLOOKUP($K594,SpanRange,2,FALSE)","v":257.60000000000002},{"$f":"VLOOKUP($K594,SpanRange,3,FALSE)","v":2},{"$f":"Find_Table(Spans!$I$2,I594)","v":12},{"$f":"IF(R594=0,Spans!$C$10,VLOOKUP(P594,INDIRECT(\"Table\"&R594),Q594,TRUE))","v":30},"No","No"]
[1717,"W12153251N3953034",39.530339999999903,-121.53251,81.799999999999898,46.8,30.3,"[Eucalyptus/BlueGum, CoastalLiveOak, DouglasFir]","Eucalyptus/BlueGum",-29.3,"W12153269N3953048-W12153206N3953048","Tier 2-3","YES","2019-11-20T17:46:46",{"$f":"VLOOKUP($K595,SpanRange,4,FALSE)","v":133},{"$f":"VLOOKUP($K595,SpanRange,2,FALSE)","v":176.5},{"$f":"VLOOKUP($K595,SpanRange,3,FALSE)","v":2},{"$f":"Find_Table(Spans!$I$2,I595)","v":12},{"$f":"IF(R595=0,Spans!$C$10,VLOOKUP(P595,INDIRECT(\"Table\"&R595),Q595,TRUE))","v":30},"No","No"]
[1718,"W12150534N3965845",39.658449999999903,-121.50534,48,35.6,17.1999999999999,null,null,-8.8000000000000007,"W12150561N3965801-W12150545N3965863","Tier 2-3","YES","2019-11-20T17:46:46",{"$f":"VLOOKUP($K596,SpanRange,4,FALSE)","v":209},{"$f":"VLOOKUP($K596,SpanRange,2,FALSE)","v":230},{"$f":"VLOOKUP($K596,SpanRange,3,FALSE)","v":2},{"$f":"Find_Table(Spans!$I$2,I596)","v":11},{"$f":"IF(R596=0,Spans!$C$10,VLOOKUP(P596,INDIRECT(\"Table\"&R596),Q596,TRUE))","v":30},"No","No"]
[1719,"W12153245N3952628",39.52628,-121.532449999999,63.2,41.6,24.5,"[GrayPine, MontereyPine, TanOak]","GrayPine",-14.9,"W12153295N3952615-W12153224N3952655","Tier 2-3","YES","2019-11-20T17:46:46",{"$f":"VLOOKUP($K597,SpanRange,4,FALSE)","v":71},{"$f":"VLOOKUP($K597,SpanRange,2,FALSE)","v":249.099999999999},{"$f":"VLOOKUP($K597,SpanRange,3,FALSE)","v":2},{"$f":"Find_Table(Spans!$I$2,I597)","v":10},{"$f":"IF(R597=0,Spans!$C$10,VLOOKUP(P597,INDIRECT(\"Table\"&R597),Q597,TRUE))","v":32},"No","No"]
[1724,"W12153980N3953153",39.531529999999897,-121.5398,55.2,16.600000000000001,6.2,"[DouglasFir, MontereyPine, CoastalLiveOak]","DouglasFir",-18.1999999999999,"W12153966N3953151-W12154021N3953134","Tier 2-3","YES","2019-11-20T17:46:46",{"$f":"VLOOKUP($K598,SpanRange,4,FALSE)","v":154},{"$f":"VLOOKUP($K598,SpanRange,2,FALSE)","v":168.19999999999899},{"$f":"VLOOKUP($K598,SpanRange,3,FALSE)","v":2},{"$f":"Find_Table(Spans!$I$2,I598)","v":9},{"$f":"IF(R598=0,Spans!$C$10,VLOOKUP(P598,INDIRECT(\"Table\"&R598),Q598,TRUE))","v":21},"No","No"]
[1725,"W12151857N3953099",39.530989999999903,-121.518569999999,64.099999999999895,51.7,39.5,"[Other, DouglasFir, CoastalLiveOak]","Other",-8,"W12151822N3953157-W12151868N3953111","Tier 2-3","YES","2019-11-20T17:46:46",{"$f":"VLOOKUP($K599,SpanRange,4,FALSE)","v":153},{"$f":"VLOOKUP($K599,SpanRange,2,FALSE)","v":210.9},{"$f":"VLOOKUP($K599,SpanRange,3,FALSE)","v":2},{"$f":"Find_Table(Spans!$I$2,I599)","v":11},{"$f":"IF(R599=0,Spans!$C$10,VLOOKUP(P599,INDIRECT(\"Table\"&R599),Q599,TRUE))","v":30},"No","No"]
[1728,"W12153551N3952713",39.52713,-121.53551,65.599999999999895,39.399999999999899,8.8000000000000007,"[GrayPine, Other, DouglasFir]","GrayPine",-16.399999999999899,"W12153536N3952706-W12153535N3952774","Tier 2-3","YES","2019-11-20T17:46:46",{"$f":"VLOOKUP($K600,SpanRange,4,FALSE)","v":82},{"$f":"VLOOKUP($K600,SpanRange,2,FALSE)","v":246.599999999999},{"$f":"VLOOKUP($K600,SpanRange,3,FALSE)","v":2},{"$f":"Find_Table(Spans!$I$2,I600)","v":10},{"$f":"IF(R600=0,Spans!$C$10,VLOOKUP(P600,INDIRECT(\"Table\"&R600),Q600,TRUE))","v":32},"No","No"]
[1731,"W12153846N3953236",39.532359999999898,-121.53846,40.899999999999899,27.6,6.9,"[DouglasFir, TanOak, GrayPine]","DouglasFir",-8.4,"W12153810N3953244-W12153905N3953243","Tier 2-3","YES","2019-11-20T17:46:46",{"$f":"VLOOKUP($K601,SpanRange,4,FALSE)","v":176},{"$f":"VLOOKUP($K601,SpanRange,2,FALSE)","v":270.10000000000002},{"$f":"VLOOKUP($K601,SpanRange,3,FALSE)","v":2},{"$f":"Find_Table(Spans!$I$2,I601)","v":9},{"$f":"IF(R601=0,Spans!$C$10,VLOOKUP(P601,INDIRECT(\"Table\"&R601),Q601,TRUE))","v":26},"No","No"]
[1734,"W12151957N3952940",39.529400000000003,-121.51957,66.7,25.4,10,"[DouglasFir, MontereyPine, GrayPine]","DouglasFir",-20.1999999999999,"W12152005N3953021-W12151936N3952926","Tier 2-3","YES","2019-11-20T17:46:46",{"$f":"VLOOKUP($K602,SpanRange,4,FALSE)","v":121},{"$f":"VLOOKUP($K602,SpanRange,2,FALSE)","v":398},{"$f":"VLOOKUP($K602,SpanRange,3,FALSE)","v":2},{"$f":"Find_Table(Spans!$I$2,I602)","v":9},{"$f":"IF(R602=0,Spans!$C$10,VLOOKUP(P602,INDIRECT(\"Table\"&R602),Q602,TRUE))","v":31},"No","No"]
[1736,"W12152935N3952707",39.527069999999902,-121.529349999999,104.5,49.1,30.9,"[CoastalLiveOak, DouglasFir, Eucalyptus/BlueGum]","CoastalLiveOak",-48.8,"W12152971N3952716-W12152907N3952726","Tier 2-3","YES","2019-11-20T17:46:46",{"$f":"VLOOKUP($K603,SpanRange,4,FALSE)","v":79},{"$f":"VLOOKUP($K603,SpanRange,2,FALSE)","v":184.9},{"$f":"VLOOKUP($K603,SpanRange,3,FALSE)","v":2},{"$f":"Find_Table(Spans!$I$2,I603)","v":11},{"$f":"IF(R603=0,Spans!$C$10,VLOOKUP(P603,INDIRECT(\"Table\"&R603),Q603,TRUE))","v":30},"Yes","No"]
[1737,"W12149463N3967517",39.675170000000001,-121.49463,106.1,42.899999999999899,25.3,"[GrayPine, DouglasFir, Other]","GrayPine",-8.8000000000000007,"W12149366N3967635-W12149590N3967413","Tier 2-3","YES","2019-11-20T17:46:46",{"$f":"VLOOKUP($K604,SpanRange,4,FALSE)","v":219},{"$f":"VLOOKUP($K604,SpanRange,2,FALSE)","v":1024.0999999999899},{"$f":"VLOOKUP($K604,SpanRange,3,FALSE)","v":2},{"$f":"Find_Table(Spans!$I$2,I604)","v":10},{"$f":"IF(R604=0,Spans!$C$10,VLOOKUP(P604,INDIRECT(\"Table\"&R604),Q604,TRUE))","v":46},"No","No"]
[1740,"W12154153N3953377",39.533769999999897,-121.541529999999,72.400000000000006,39.6,24.9,"[GrayPine, Eucalyptus/BlueGum, DouglasFir]","GrayPine",-13.2,"W12154149N3953393-W12154087N3953327","Tier 2-3","YES","2019-11-20T17:46:46",{"$f":"VLOOKUP($K605,SpanRange,4,FALSE)","v":188},{"$f":"VLOOKUP($K605,SpanRange,2,FALSE)","v":296},{"$f":"VLOOKUP($K605,SpanRange,3,FALSE)","v":2},{"$f":"Find_Table(Spans!$I$2,I605)","v":10},{"$f":"IF(R605=0,Spans!$C$10,VLOOKUP(P605,INDIRECT(\"Table\"&R605),Q605,TRUE))","v":32},"No","No"]
[1741,"W12152550N3952926",39.529260000000001,-121.52549999999999,39.700000000000003,20.6999999999999,12,"[Other, GrayPine, MontereyPine]","Other",-2.1,"W12152596N3952916-W12152508N3952949","Tier 2-3","YES","2019-11-20T17:46:46",{"$f":"VLOOKUP($K606,SpanRange,4,FALSE)","v":110},{"$f":"VLOOKUP($K606,SpanRange,2,FALSE)","v":273.5},{"$f":"VLOOKUP($K606,SpanRange,3,FALSE)","v":2},{"$f":"Find_Table(Spans!$I$2,I606)","v":11},{"$f":"IF(R606=0,Spans!$C$10,VLOOKUP(P606,INDIRECT(\"Table\"&R606),Q606,TRUE))","v":30},"No","No"]
[1744,"W12154214N3953534",39.535339999999898,-121.54214,70.5,49.3,28.6,"[Other, LiveOak, CoastalLiveOak]","Other",-18.3,"W12154230N3953520-W12154242N3953570","Tier 2-3","YES","2019-11-20T17:46:46",{"$f":"VLOOKUP($K607,SpanRange,4,FALSE)","v":192},{"$f":"VLOOKUP($K607,SpanRange,2,FALSE)","v":184.9},{"$f":"VLOOKUP($K607,SpanRange,3,FALSE)","v":2},{"$f":"Find_Table(Spans!$I$2,I607)","v":11},{"$f":"IF(R607=0,Spans!$C$10,VLOOKUP(P607,INDIRECT(\"Table\"&R607),Q607,TRUE))","v":30},"No","No"]
[1749,"W12154070N3953335",39.533349999999899,-121.5407,67.900000000000006,51.2,30.4,"[Other, DouglasFir, GrayPine]","Other",-6.9,"W12154087N3953327-W12154073N3953285","Tier 2-3","YES","2019-11-20T17:46:46",{"$f":"VLOOKUP($K608,SpanRange,4,FALSE)","v":187},{"$f":"VLOOKUP($K608,SpanRange,2,FALSE)","v":159.9},{"$f":"VLOOKUP($K608,SpanRange,3,FALSE)","v":2},{"$f":"Find_Table(Spans!$I$2,I608)","v":11},{"$f":"IF(R608=0,Spans!$C$10,VLOOKUP(P608,INDIRECT(\"Table\"&R608),Q608,TRUE))","v":30},"No","No"]
[1756,"W12153216N3953162",39.531619999999897,-121.53216,61.8,22.9,5.0999999999999996,"[GrayPine, ValleyOak, MontereyPine]","GrayPine",-23.9,"W12153206N3953192-W12153206N3953153","Tier 2-3","YES","2019-11-20T17:46:46",{"$f":"VLOOKUP($K609,SpanRange,4,FALSE)","v":164},{"$f":"VLOOKUP($K609,SpanRange,2,FALSE)","v":140.599999999999},{"$f":"VLOOKUP($K609,SpanRange,3,FALSE)","v":2},{"$f":"Find_Table(Spans!$I$2,I609)","v":10},{"$f":"IF(R609=0,Spans!$C$10,VLOOKUP(P609,INDIRECT(\"Table\"&R609),Q609,TRUE))","v":21},"Yes","No"]
[1763,"W12154242N3953744",39.537439999999897,-121.542419999999,36.899999999999899,20.100000000000001,12,"[DouglasFir, GrayPine, TanOak]","DouglasFir",-13.7,"W12154250N3953758-W12154253N3953660","Tier 2-3","YES","2019-11-20T17:46:46",{"$f":"VLOOKUP($K610,SpanRange,4,FALSE)","v":195},{"$f":"VLOOKUP($K610,SpanRange,2,FALSE)","v":355.89999999999901},{"$f":"VLOOKUP($K610,SpanRange,3,FALSE)","v":2},{"$f":"Find_Table(Spans!$I$2,I610)","v":9},{"$f":"IF(R610=0,Spans!$C$10,VLOOKUP(P610,INDIRECT(\"Table\"&R610),Q610,TRUE))","v":31},"No","No"]
[1767,"W12153701N3953288",39.532879999999899,-121.537009999999,54.399999999999899,12.3,4.4000000000000004,"[TanOak, DouglasFir, CoastalLiveOak]","TanOak",-18.399999999999999,"W12153655N3953283-W12153713N3953284","Tier 2-3","YES","2019-11-20T17:46:46",{"$f":"VLOOKUP($K611,SpanRange,4,FALSE)","v":185},{"$f":"VLOOKUP($K611,SpanRange,2,FALSE)","v":163.4},{"$f":"VLOOKUP($K611,SpanRange,3,FALSE)","v":2},{"$f":"Find_Table(Spans!$I$2,I611)","v":11},{"$f":"IF(R611=0,Spans!$C$10,VLOOKUP(P611,INDIRECT(\"Table\"&R611),Q611,TRUE))","v":30},"No","No"]
[1771,"W12153740N3952473",39.524729999999899,-121.53740000000001,56.6,13.6,10.1,"[GrayPine, DouglasFir, CoastalLiveOak]","GrayPine",-19.1999999999999,"W12153809N3952504-W12153745N3952470","Tier 2-3","YES","2019-11-20T17:46:46",{"$f":"VLOOKUP($K612,SpanRange,4,FALSE)","v":50},{"$f":"VLOOKUP($K612,SpanRange,2,FALSE)","v":218.599999999999},{"$f":"VLOOKUP($K612,SpanRange,3,FALSE)","v":2},{"$f":"Find_Table(Spans!$I$2,I612)","v":10},{"$f":"IF(R612=0,Spans!$C$10,VLOOKUP(P612,INDIRECT(\"Table\"&R612),Q612,TRUE))","v":32},"No","No"]
[1772,"W12151413N3952727",39.527270000000001,-121.514129999999,81.7,62.399999999999899,46.8,"[GrayPine, DouglasFir, CoastalLiveOak]","GrayPine",-10.9,"W12151437N3952744-W12151433N3952690","Tier 2-3","YES","2019-11-20T17:46:46",{"$f":"VLOOKUP($K613,SpanRange,4,FALSE)","v":77},{"$f":"VLOOKUP($K613,SpanRange,2,FALSE)","v":198.099999999999},{"$f":"VLOOKUP($K613,SpanRange,3,FALSE)","v":2},{"$f":"Find_Table(Spans!$I$2,I613)","v":10},{"$f":"IF(R613=0,Spans!$C$10,VLOOKUP(P613,INDIRECT(\"Table\"&R613),Q613,TRUE))","v":26},"No","No"]
[1779,"W12153189N3953160",39.531599999999997,-121.53189,50.5,19.3,6.2,"[GrayPine, Other, DouglasFir]","GrayPine",-19.5,"W12153147N3953155-W12153206N3953153","Tier 2-3","YES","2019-11-20T17:46:46",{"$f":"VLOOKUP($K614,SpanRange,4,FALSE)","v":159},{"$f":"VLOOKUP($K614,SpanRange,2,FALSE)","v":167.69999999999899},{"$f":"VLOOKUP($K614,SpanRange,3,FALSE)","v":2},{"$f":"Find_Table(Spans!$I$2,I614)","v":10},{"$f":"IF(R614=0,Spans!$C$10,VLOOKUP(P614,INDIRECT(\"Table\"&R614),Q614,TRUE))","v":26},"No","No"]
[1780,"W12152060N3952861",39.52861,-121.5206,77.599999999999994,60.2,44.7,"[Other, LiveOak, MontereyPine]","Other",-7.9,"W12152053N3952877-W12152014N3952914","Tier 2-3","YES","2019-11-20T17:46:46",{"$f":"VLOOKUP($K615,SpanRange,4,FALSE)","v":106},{"$f":"VLOOKUP($K615,SpanRange,2,FALSE)","v":171.9},{"$f":"VLOOKUP($K615,SpanRange,3,FALSE)","v":2},{"$f":"Find_Table(Spans!$I$2,I615)","v":11},{"$f":"IF(R615=0,Spans!$C$10,VLOOKUP(P615,INDIRECT(\"Table\"&R615),Q615,TRUE))","v":30},"No","No"]
[1785,"W12152927N3952707",39.527069999999902,-121.529269999999,99.299999999999898,53.8,41.2,"[GrayPine, Eucalyptus/BlueGum, DouglasFir]","GrayPine",-39.700000000000003,"W12152971N3952716-W12152907N3952726","Tier 2-3","YES","2019-11-20T17:46:46",{"$f":"VLOOKUP($K616,SpanRange,4,FALSE)","v":79},{"$f":"VLOOKUP($K616,SpanRange,2,FALSE)","v":184.9},{"$f":"VLOOKUP($K616,SpanRange,3,FALSE)","v":2},{"$f":"Find_Table(Spans!$I$2,I616)","v":10},{"$f":"IF(R616=0,Spans!$C$10,VLOOKUP(P616,INDIRECT(\"Table\"&R616),Q616,TRUE))","v":26},"Yes","No"]
[1787,"W12153929N3953155",39.531549999999903,-121.539289999999,40.899999999999899,11.9,4.5,"[LiveOak, DouglasFir, Other]","LiveOak",-7.9,"W12153966N3953151-W12153907N3953151","Tier 2-3","YES","2019-11-20T17:46:46",{"$f":"VLOOKUP($K617,SpanRange,4,FALSE)","v":155},{"$f":"VLOOKUP($K617,SpanRange,2,FALSE)","v":165.5},{"$f":"VLOOKUP($K617,SpanRange,3,FALSE)","v":2},{"$f":"Find_Table(Spans!$I$2,I617)","v":11},{"$f":"IF(R617=0,Spans!$C$10,VLOOKUP(P617,INDIRECT(\"Table\"&R617),Q617,TRUE))","v":30},"No","No"]
[1791,"W12152624N3952895",39.528949999999902,-121.52624,42.899999999999899,19.600000000000001,5.5,"[DouglasFir, Other, CoastalLiveOak]","DouglasFir",-7.4,"W12152680N3952875-W12152596N3952916","Tier 2-3","YES","2019-11-20T17:46:46",{"$f":"VLOOKUP($K618,SpanRange,4,FALSE)","v":105},{"$f":"VLOOKUP($K618,SpanRange,2,FALSE)","v":281},{"$f":"VLOOKUP($K618,SpanRange,3,FALSE)","v":2},{"$f":"Find_Table(Spans!$I$2,I618)","v":9},{"$f":"IF(R618=0,Spans!$C$10,VLOOKUP(P618,INDIRECT(\"Table\"&R618),Q618,TRUE))","v":26},"No","No"]
[1792,"W12154097N3953167",39.531669999999899,-121.54097,48.399999999999899,30.1999999999999,23.8,"[GrayPine, Other, DouglasFir]","GrayPine",-5.6,"W12154084N3953131-W12154086N3953214","Tier 2-3","YES","2019-11-20T17:46:46",{"$f":"VLOOKUP($K619,SpanRange,4,FALSE)","v":162},{"$f":"VLOOKUP($K619,SpanRange,2,FALSE)","v":302.60000000000002},{"$f":"VLOOKUP($K619,SpanRange,3,FALSE)","v":2},{"$f":"Find_Table(Spans!$I$2,I619)","v":10},{"$f":"IF(R619=0,Spans!$C$10,VLOOKUP(P619,INDIRECT(\"Table\"&R619),Q619,TRUE))","v":36},"No","No"]
[1793,"W12153387N3952827",39.5282699999999,-121.53386999999999,35.5,15,6.2,"[CoastalLiveOak, Other, ValleyOak]","CoastalLiveOak",-0.2,"W12153379N3952832-W12153427N3952831","Tier 2-3","YES","2019-11-20T17:46:46",{"$f":"VLOOKUP($K620,SpanRange,4,FALSE)","v":96},{"$f":"VLOOKUP($K620,SpanRange,2,FALSE)","v":134},{"$f":"VLOOKUP($K620,SpanRange,3,FALSE)","v":2},{"$f":"Find_Table(Spans!$I$2,I620)","v":11},{"$f":"IF(R620=0,Spans!$C$10,VLOOKUP(P620,INDIRECT(\"Table\"&R620),Q620,TRUE))","v":30},"No","No"]
[1794,"W12152011N3953006",39.530059999999899,-121.52011,72.799999999999898,39.799999999999997,27.1,"[Other, CoastalLiveOak, MontereyPine]","Other",-17.6999999999999,"W12152005N3953021-W12151936N3952926","Tier 2-3","YES","2019-11-20T17:46:46",{"$f":"VLOOKUP($K621,SpanRange,4,FALSE)","v":121},{"$f":"VLOOKUP($K621,SpanRange,2,FALSE)","v":398},{"$f":"VLOOKUP($K621,SpanRange,3,FALSE)","v":2},{"$f":"Find_Table(Spans!$I$2,I621)","v":11},{"$f":"IF(R621=0,Spans!$C$10,VLOOKUP(P621,INDIRECT(\"Table\"&R621),Q621,TRUE))","v":30},"No","No"]
[1806,"W12151993N3952993",39.52993,-121.51993,60.6,18.8,9.6999999999999993,"[Other, DouglasFir, GrayPine]","Other",-18.8,"W12152005N3953021-W12151936N3952926","Tier 2-3","YES","2019-11-20T17:46:46",{"$f":"VLOOKUP($K622,SpanRange,4,FALSE)","v":121},{"$f":"VLOOKUP($K622,SpanRange,2,FALSE)","v":398},{"$f":"VLOOKUP($K622,SpanRange,3,FALSE)","v":2},{"$f":"Find_Table(Spans!$I$2,I622)","v":11},{"$f":"IF(R622=0,Spans!$C$10,VLOOKUP(P622,INDIRECT(\"Table\"&R622),Q622,TRUE))","v":30},"No","No"]
[1807,"W12149731N3967075",39.670749999999899,-121.497309999999,41.6,22.4,17.6999999999999,"[ValleyOak, Other, CoastalLiveOak]","ValleyOak",-15.9,"W12149727N3967099-W12149700N3966999","Tier 2-3","YES","2019-11-20T17:46:46",{"$f":"VLOOKUP($K623,SpanRange,4,FALSE)","v":214},{"$f":"VLOOKUP($K623,SpanRange,2,FALSE)","v":373.89999999999901},{"$f":"VLOOKUP($K623,SpanRange,3,FALSE)","v":2},{"$f":"Find_Table(Spans!$I$2,I623)","v":11},{"$f":"IF(R623=0,Spans!$C$10,VLOOKUP(P623,INDIRECT(\"Table\"&R623),Q623,TRUE))","v":30},"No","No"]
[1808,"W12152620N3952885",39.528849999999899,-121.5262,70.299999999999898,58,46.2,"[DouglasFir, MontereyPine, Other]","DouglasFir",-10.9,"W12152680N3952875-W12152596N3952916","Tier 2-3","YES","2019-11-20T17:46:46",{"$f":"VLOOKUP($K624,SpanRange,4,FALSE)","v":105},{"$f":"VLOOKUP($K624,SpanRange,2,FALSE)","v":281},{"$f":"VLOOKUP($K624,SpanRange,3,FALSE)","v":2},{"$f":"Find_Table(Spans!$I$2,I624)","v":9},{"$f":"IF(R624=0,Spans!$C$10,VLOOKUP(P624,INDIRECT(\"Table\"&R624),Q624,TRUE))","v":26},"No","No"]
[1810,"W12153542N3952737",39.527369999999898,-121.53542,79.099999999999994,16.8,7.5,"[GrayPine, Other, DouglasFir]","GrayPine",-48.399999999999899,"W12153536N3952706-W12153535N3952774","Tier 2-3","YES","2019-11-20T17:46:46",{"$f":"VLOOKUP($K625,SpanRange,4,FALSE)","v":82},{"$f":"VLOOKUP($K625,SpanRange,2,FALSE)","v":246.599999999999},{"$f":"VLOOKUP($K625,SpanRange,3,FALSE)","v":2},{"$f":"Find_Table(Spans!$I$2,I625)","v":10},{"$f":"IF(R625=0,Spans!$C$10,VLOOKUP(P625,INDIRECT(\"Table\"&R625),Q625,TRUE))","v":32},"Yes","No"]
[1814,"W12153879N3953272",39.532719999999898,-121.53879000000001,67.7,32.399999999999899,7.8,"[Other, DouglasFir, Eucalyptus/BlueGum]","Other",-27.1999999999999,"W12153848N3953281-W12153906N3953282","Tier 2-3","YES","2019-11-20T17:46:46",{"$f":"VLOOKUP($K626,SpanRange,4,FALSE)","v":183},{"$f":"VLOOKUP($K626,SpanRange,2,FALSE)","v":163.80000000000001},{"$f":"VLOOKUP($K626,SpanRange,3,FALSE)","v":2},{"$f":"Find_Table(Spans!$I$2,I626)","v":11},{"$f":"IF(R626=0,Spans!$C$10,VLOOKUP(P626,INDIRECT(\"Table\"&R626),Q626,TRUE))","v":30},"No","No"]
[1817,"W12153434N3953225",39.532249999999898,-121.53434,70.900000000000006,29.6999999999999,5.4,"[DouglasFir, GrayPine, Other]","DouglasFir",-21,"W12153419N3953235-W12153557N3953230","Tier 2-3","YES","2019-11-20T17:46:46",{"$f":"VLOOKUP($K627,SpanRange,4,FALSE)","v":172},{"$f":"VLOOKUP($K627,SpanRange,2,FALSE)","v":388.6},{"$f":"VLOOKUP($K627,SpanRange,3,FALSE)","v":2},{"$f":"Find_Table(Spans!$I$2,I627)","v":9},{"$f":"IF(R627=0,Spans!$C$10,VLOOKUP(P627,INDIRECT(\"Table\"&R627),Q627,TRUE))","v":31},"No","No"]
[1820,"W12153604N3953159",39.531590000000001,-121.53604,47.5,17.899999999999999,5.0999999999999996,"[DouglasFir, Other, LiveOak]","DouglasFir",-12.5,"W12153654N3953154-W12153585N3953154","Tier 2-3","YES","2019-11-20T17:46:46",{"$f":"VLOOKUP($K628,SpanRange,4,FALSE)","v":158},{"$f":"VLOOKUP($K628,SpanRange,2,FALSE)","v":195.19999999999899},{"$f":"VLOOKUP($K628,SpanRange,3,FALSE)","v":2},{"$f":"Find_Table(Spans!$I$2,I628)","v":9},{"$f":"IF(R628=0,Spans!$C$10,VLOOKUP(P628,INDIRECT(\"Table\"&R628),Q628,TRUE))","v":21},"No","No"]
[1823,"W12153191N3953086",39.530859999999898,-121.531909999999,65.400000000000006,40.399999999999899,7.1,"[DouglasFir, LiveOak, GrayPine]","DouglasFir",-16.1999999999999,"W12153207N3953097-W12153206N3953048","Tier 2-3","YES","2019-11-20T17:46:46",{"$f":"VLOOKUP($K629,SpanRange,4,FALSE)","v":141},{"$f":"VLOOKUP($K629,SpanRange,2,FALSE)","v":177.19999999999899},{"$f":"VLOOKUP($K629,SpanRange,3,FALSE)","v":2},{"$f":"Find_Table(Spans!$I$2,I629)","v":9},{"$f":"IF(R629=0,Spans!$C$10,VLOOKUP(P629,INDIRECT(\"Table\"&R629),Q629,TRUE))","v":21},"No","No"]
[1825,"W12153694N3952463",39.524629999999902,-121.53694,46.6,29.5,12,"[Other, DouglasFir, TanOak]","Other",-3.1,"W12153716N3952455-W12153682N3952487","Tier 2-3","YES","2019-11-20T17:46:46",{"$f":"VLOOKUP($K630,SpanRange,4,FALSE)","v":49},{"$f":"VLOOKUP($K630,SpanRange,2,FALSE)","v":150.69999999999899},{"$f":"VLOOKUP($K630,SpanRange,3,FALSE)","v":2},{"$f":"Find_Table(Spans!$I$2,I630)","v":11},{"$f":"IF(R630=0,Spans!$C$10,VLOOKUP(P630,INDIRECT(\"Table\"&R630),Q630,TRUE))","v":30},"No","No"]
[1831,"W12154221N3953720",39.537199999999899,-121.542209999999,87.299999999999898,81,62.7,"[DouglasFir, Eucalyptus/BlueGum, BlackOak]","DouglasFir",-3.2,"W12154250N3953758-W12154253N3953660","Tier 2-3","YES","2019-11-20T17:46:46",{"$f":"VLOOKUP($K631,SpanRange,4,FALSE)","v":195},{"$f":"VLOOKUP($K631,SpanRange,2,FALSE)","v":355.89999999999901},{"$f":"VLOOKUP($K631,SpanRange,3,FALSE)","v":2},{"$f":"Find_Table(Spans!$I$2,I631)","v":9},{"$f":"IF(R631=0,Spans!$C$10,VLOOKUP(P631,INDIRECT(\"Table\"&R631),Q631,TRUE))","v":31},"No","No"]
[1832,"W12153811N3952510",39.525100000000002,-121.53811,42,22.6,7.4,"[DouglasFir, GrayPine, Other]","DouglasFir",-0.7,"W12153809N3952504-W12153745N3952470","Tier 2-3","YES","2019-11-20T17:46:46",{"$f":"VLOOKUP($K632,SpanRange,4,FALSE)","v":50},{"$f":"VLOOKUP($K632,SpanRange,2,FALSE)","v":218.599999999999},{"$f":"VLOOKUP($K632,SpanRange,3,FALSE)","v":2},{"$f":"Find_Table(Spans!$I$2,I632)","v":9},{"$f":"IF(R632=0,Spans!$C$10,VLOOKUP(P632,INDIRECT(\"Table\"&R632),Q632,TRUE))","v":26},"No","No"]
[1835,"W12153405N3953207",39.532069999999898,-121.53404999999999,48.3,38.5,16.6999999999999,"[LiveOak, Other, TanOak]","LiveOak",-1.4,"W12153419N3953235-W12153419N3953172","Tier 2-3","YES","2019-11-20T17:46:46",{"$f":"VLOOKUP($K633,SpanRange,4,FALSE)","v":166},{"$f":"VLOOKUP($K633,SpanRange,2,FALSE)","v":228.3},{"$f":"VLOOKUP($K633,SpanRange,3,FALSE)","v":2},{"$f":"Find_Table(Spans!$I$2,I633)","v":11},{"$f":"IF(R633=0,Spans!$C$10,VLOOKUP(P633,INDIRECT(\"Table\"&R633),Q633,TRUE))","v":30},"No","No"]
[1838,"W12152025N3952918",39.529179999999897,-121.52025,81.099999999999994,30.6999999999999,10,"[GrayPine, Other, DouglasFir]","GrayPine",-31,"W12152053N3952877-W12152014N3952914","Tier 2-3","YES","2019-11-20T17:46:46",{"$f":"VLOOKUP($K634,SpanRange,4,FALSE)","v":106},{"$f":"VLOOKUP($K634,SpanRange,2,FALSE)","v":171.9},{"$f":"VLOOKUP($K634,SpanRange,3,FALSE)","v":2},{"$f":"Find_Table(Spans!$I$2,I634)","v":10},{"$f":"IF(R634=0,Spans!$C$10,VLOOKUP(P634,INDIRECT(\"Table\"&R634),Q634,TRUE))","v":26},"Yes","No"]
[1841,"W12154247N3953976",39.539760000000001,-121.542469999999,80.7,36.899999999999899,14.9,"[GrayPine, DouglasFir, Eucalyptus/BlueGum]","GrayPine",-43.399999999999899,"W12154263N3953924-W12154261N3953987","Tier 2-3","YES","2019-11-20T17:46:46",{"$f":"VLOOKUP($K635,SpanRange,4,FALSE)","v":198},{"$f":"VLOOKUP($K635,SpanRange,2,FALSE)","v":231},{"$f":"VLOOKUP($K635,SpanRange,3,FALSE)","v":2},{"$f":"Find_Table(Spans!$I$2,I635)","v":10},{"$f":"IF(R635=0,Spans!$C$10,VLOOKUP(P635,INDIRECT(\"Table\"&R635),Q635,TRUE))","v":32},"Yes","No"]
[1847,"W12153546N3952675",39.52675,-121.53546,46.7,25.3,9.3000000000000007,"[DouglasFir, CoastalLiveOak, Eucalyptus/BlueGum]","DouglasFir",-5.2,"W12153536N3952706-W12153535N3952637","Tier 2-3","YES","2019-11-20T17:46:46",{"$f":"VLOOKUP($K636,SpanRange,4,FALSE)","v":74},{"$f":"VLOOKUP($K636,SpanRange,2,FALSE)","v":252.3},{"$f":"VLOOKUP($K636,SpanRange,3,FALSE)","v":2},{"$f":"Find_Table(Spans!$I$2,I636)","v":9},{"$f":"IF(R636=0,Spans!$C$10,VLOOKUP(P636,INDIRECT(\"Table\"&R636),Q636,TRUE))","v":26},"No","No"]
[1849,"W12152598N3953093",39.530929999999898,-121.52598,37.6,12,7.7,"[GrayPine, Other, TanOak]","GrayPine",-2.4,"W12152604N3953139-W12152603N3953064","Tier 2-3","YES","2019-11-20T17:46:46",{"$f":"VLOOKUP($K637,SpanRange,4,FALSE)","v":146},{"$f":"VLOOKUP($K637,SpanRange,2,FALSE)","v":273.19999999999902},{"$f":"VLOOKUP($K637,SpanRange,3,FALSE)","v":2},{"$f":"Find_Table(Spans!$I$2,I637)","v":10},{"$f":"IF(R637=0,Spans!$C$10,VLOOKUP(P637,INDIRECT(\"Table\"&R637),Q637,TRUE))","v":32},"No","No"]
[1851,"W12153881N3953250",39.532499999999899,-121.538809999999,38.6,20.1999999999999,7.7,"[Eucalyptus/BlueGum, Other, CoastalLiveOak]","Eucalyptus/BlueGum",-2,"W12153810N3953244-W12153905N3953243","Tier 2-3","YES","2019-11-20T17:46:46",{"$f":"VLOOKUP($K638,SpanRange,4,FALSE)","v":176},{"$f":"VLOOKUP($K638,SpanRange,2,FALSE)","v":270.10000000000002},{"$f":"VLOOKUP($K638,SpanRange,3,FALSE)","v":2},{"$f":"Find_Table(Spans!$I$2,I638)","v":12},{"$f":"IF(R638=0,Spans!$C$10,VLOOKUP(P638,INDIRECT(\"Table\"&R638),Q638,TRUE))","v":30},"No","No"]
[1854,"W12154084N3953302",39.53302,-121.54084,42.6,11.7,12,"[GrayPine, DouglasFir, LiveOak]","GrayPine",-9.6,"W12154087N3953327-W12154073N3953285","Tier 2-3","YES","2019-11-20T17:46:46",{"$f":"VLOOKUP($K639,SpanRange,4,FALSE)","v":187},{"$f":"VLOOKUP($K639,SpanRange,2,FALSE)","v":159.9},{"$f":"VLOOKUP($K639,SpanRange,3,FALSE)","v":2},{"$f":"Find_Table(Spans!$I$2,I639)","v":10},{"$f":"IF(R639=0,Spans!$C$10,VLOOKUP(P639,INDIRECT(\"Table\"&R639),Q639,TRUE))","v":26},"No","No"]
[1858,"W12151960N3952978",39.529779999999903,-121.5196,59.399999999999899,32.899999999999899,10.5,"[GrayPine, MontereyPine, ValleyOak]","GrayPine",-16.8,"W12152005N3953021-W12151936N3952926","Tier 2-3","YES","2019-11-20T17:46:46",{"$f":"VLOOKUP($K640,SpanRange,4,FALSE)","v":121},{"$f":"VLOOKUP($K640,SpanRange,2,FALSE)","v":398},{"$f":"VLOOKUP($K640,SpanRange,3,FALSE)","v":2},{"$f":"Find_Table(Spans!$I$2,I640)","v":10},{"$f":"IF(R640=0,Spans!$C$10,VLOOKUP(P640,INDIRECT(\"Table\"&R640),Q640,TRUE))","v":36},"No","No"]
[1864,"W12154069N3953148",39.531479999999902,-121.540689999999,54.7,40,19.1999999999999,"[DouglasFir, LiveOak, Eucalyptus/BlueGum]","DouglasFir",-12.7,"W12154084N3953131-W12154086N3953214","Tier 2-3","YES","2019-11-20T17:46:46",{"$f":"VLOOKUP($K641,SpanRange,4,FALSE)","v":162},{"$f":"VLOOKUP($K641,SpanRange,2,FALSE)","v":302.60000000000002},{"$f":"VLOOKUP($K641,SpanRange,3,FALSE)","v":2},{"$f":"Find_Table(Spans!$I$2,I641)","v":9},{"$f":"IF(R641=0,Spans!$C$10,VLOOKUP(P641,INDIRECT(\"Table\"&R641),Q641,TRUE))","v":31},"No","No"]
[1866,"W12154238N3953576",39.535759999999897,-121.542379999999,52.2,15.1,6.7,"[DouglasFir, GrayPine, Other]","DouglasFir",-19.3,"W12154242N3953570-W12154256N3953592","Tier 2-3","YES","2019-11-20T17:46:46",{"$f":"VLOOKUP($K642,SpanRange,4,FALSE)","v":193},{"$f":"VLOOKUP($K642,SpanRange,2,FALSE)","v":92.299999999999898},{"$f":"VLOOKUP($K642,SpanRange,3,FALSE)","v":2},{"$f":"Find_Table(Spans!$I$2,I642)","v":9},{"$f":"IF(R642=0,Spans!$C$10,VLOOKUP(P642,INDIRECT(\"Table\"&R642),Q642,TRUE))","v":16},"Yes","No"]
[1867,"W12153212N3952799",39.527989999999903,-121.532119999999,53.5,23.5,6.1,"[GrayPine, DouglasFir, Other]","GrayPine",-13.6,"W12153203N3952790-W12153270N3952789","Tier 2-3","YES","2019-11-20T17:46:46",{"$f":"VLOOKUP($K643,SpanRange,4,FALSE)","v":89},{"$f":"VLOOKUP($K643,SpanRange,2,FALSE)","v":189.099999999999},{"$f":"VLOOKUP($K643,SpanRange,3,FALSE)","v":2},{"$f":"Find_Table(Spans!$I$2,I643)","v":10},{"$f":"IF(R643=0,Spans!$C$10,VLOOKUP(P643,INDIRECT(\"Table\"&R643),Q643,TRUE))","v":26},"No","No"]
[1869,"W12152598N3952999",39.529989999999898,-121.52598,29.1999999999999,10.3,6.6,"[GrayPine, DouglasFir, ValleyOak]","GrayPine",-2.1,"W12152603N3953064-W12152603N3952974","Tier 2-3","YES","2019-11-20T17:46:46",{"$f":"VLOOKUP($K644,SpanRange,4,FALSE)","v":128},{"$f":"VLOOKUP($K644,SpanRange,2,FALSE)","v":329.1},{"$f":"VLOOKUP($K644,SpanRange,3,FALSE)","v":2},{"$f":"Find_Table(Spans!$I$2,I644)","v":10},{"$f":"IF(R644=0,Spans!$C$10,VLOOKUP(P644,INDIRECT(\"Table\"&R644),Q644,TRUE))","v":36},{"$f":"IFERROR(IF((-1)*J644>S644,\"Yes\",\"No\"),\"No Match\")","v":"No"},{"$f":"IF(F644<=6,\"Yes\",\"No\")","v":"No"}]
[1873,"W12153539N3952685",39.526849999999897,-121.53539000000001,62.6,5.0999999999999996,8.1999999999999904,"[DouglasFir, CoastalLiveOak, LiveOak]","DouglasFir",-31.9,"W12153536N3952706-W12153535N3952637","Tier 2-3","YES","2019-11-20T17:46:46",{"$f":"VLOOKUP($K645,SpanRange,4,FALSE)","v":74},{"$f":"VLOOKUP($K645,SpanRange,2,FALSE)","v":252.3},{"$f":"VLOOKUP($K645,SpanRange,3,FALSE)","v":2},{"$f":"Find_Table(Spans!$I$2,I645)","v":9},{"$f":"IF(R645=0,Spans!$C$10,VLOOKUP(P645,INDIRECT(\"Table\"&R645),Q645,TRUE))","v":26},"Yes","Yes"]
[1875,"W12153649N3953219",39.53219,-121.53649,34.1,12.8,7.2,"[Other, CoastalLiveOak, DouglasFir]","Other",-0.3,"W12153655N3953245-W12153655N3953211","Tier 2-3","YES","2019-11-20T17:46:46",{"$f":"VLOOKUP($K646,SpanRange,4,FALSE)","v":170},{"$f":"VLOOKUP($K646,SpanRange,2,FALSE)","v":121.799999999999},{"$f":"VLOOKUP($K646,SpanRange,3,FALSE)","v":2},{"$f":"Find_Table(Spans!$I$2,I646)","v":11},{"$f":"IF(R646=0,Spans!$C$10,VLOOKUP(P646,INDIRECT(\"Table\"&R646),Q646,TRUE))","v":30},"No","No"]
[1876,"W12152809N3952764",39.527639999999899,-121.528089999999,43.2,13.9,7.1,"[GrayPine, ValleyOak, DouglasFir]","GrayPine",-5.2,"W12152907N3952726-W12152800N3952774","Tier 2-3","YES","2019-11-20T17:46:46",{"$f":"VLOOKUP($K647,SpanRange,4,FALSE)","v":84},{"$f":"VLOOKUP($K647,SpanRange,2,FALSE)","v":349.69999999999902},{"$f":"VLOOKUP($K647,SpanRange,3,FALSE)","v":2},{"$f":"Find_Table(Spans!$I$2,I647)","v":10},{"$f":"IF(R647=0,Spans!$C$10,VLOOKUP(P647,INDIRECT(\"Table\"&R647),Q647,TRUE))","v":36},"No","No"]
[1877,"W12153169N3952679",39.526789999999899,-121.531689999999,45.6,25.4,8.9,"[ValleyOak, GrayPine, Other]","ValleyOak",-4.7,"W12153224N3952655-W12153152N3952699","Tier 2-3","YES","2019-11-20T17:46:46",{"$f":"VLOOKUP($K648,SpanRange,4,FALSE)","v":75},{"$f":"VLOOKUP($K648,SpanRange,2,FALSE)","v":257.60000000000002},{"$f":"VLOOKUP($K648,SpanRange,3,FALSE)","v":2},{"$f":"Find_Table(Spans!$I$2,I648)","v":11},{"$f":"IF(R648=0,Spans!$C$10,VLOOKUP(P648,INDIRECT(\"Table\"&R648),Q648,TRUE))","v":30},"No","No"]
[1879,"W12151456N3952424",39.524239999999899,-121.51456,61.399999999999899,11.9,12,"[Other, CoastalLiveOak, ValleyOak]","Other",-23.9,"W12151456N3952437-W12151473N3952396","Tier 2-3","YES","2019-11-20T17:46:46",{"$f":"VLOOKUP($K649,SpanRange,4,FALSE)","v":{"$error":"#N/A"}},{"$f":"VLOOKUP($K649,SpanRange,2,FALSE)","v":{"$error":"#N/A"}},{"$f":"VLOOKUP($K649,SpanRange,3,FALSE)","v":{"$error":"#N/A"}},{"$f":"Find_Table(Spans!$I$2,I649)","v":11},{"$f":"IF(R649=0,Spans!$C$10,VLOOKUP(P649,INDIRECT(\"Table\"&R649),Q649,TRUE))","v":{"$error":"#N/A"}},"No Match","No"]
[1884,"W12154236N3953856",39.538559999999897,-121.54236,90.4,41.899999999999899,27.8,"[GrayPine, DouglasFir, Eucalyptus/BlueGum]","GrayPine",-48.6,"W12154250N3953758-W12154252N3953857","Tier 2-3","YES","2019-11-20T17:46:46",{"$f":"VLOOKUP($K650,SpanRange,4,FALSE)","v":196},{"$f":"VLOOKUP($K650,SpanRange,2,FALSE)","v":362},{"$f":"VLOOKUP($K650,SpanRange,3,FALSE)","v":2},{"$f":"Find_Table(Spans!$I$2,I650)","v":10},{"$f":"IF(R650=0,Spans!$C$10,VLOOKUP(P650,INDIRECT(\"Table\"&R650),Q650,TRUE))","v":36},"Yes","No"]
[1886,"W12153205N3952735",39.527349999999899,-121.532049999999,53.1,15.2,8.5,"[Eucalyptus/BlueGum, Other, DouglasFir]","Eucalyptus/BlueGum",-14.6,"W12153200N3952739-W12153152N3952699","Tier 2-3","YES","2019-11-20T17:46:46",{"$f":"VLOOKUP($K651,SpanRange,4,FALSE)","v":78},{"$f":"VLOOKUP($K651,SpanRange,2,FALSE)","v":197.19999999999899},{"$f":"VLOOKUP($K651,SpanRange,3,FALSE)","v":2},{"$f":"Find_Table(Spans!$I$2,I651)","v":12},{"$f":"IF(R651=0,Spans!$C$10,VLOOKUP(P651,INDIRECT(\"Table\"&R651),Q651,TRUE))","v":30},"No","No"]
[1889,"W12153553N3952718",39.527180000000001,-121.535529999999,64.7,46.5,34.6,"[GrayPine, Other, MontereyPine]","GrayPine",-10.199999999999999,"W12153536N3952706-W12153535N3952774","Tier 2-3","YES","2019-11-20T17:46:46",{"$f":"VLOOKUP($K652,SpanRange,4,FALSE)","v":82},{"$f":"VLOOKUP($K652,SpanRange,2,FALSE)","v":246.599999999999},{"$f":"VLOOKUP($K652,SpanRange,3,FALSE)","v":2},{"$f":"Find_Table(Spans!$I$2,I652)","v":10},{"$f":"IF(R652=0,Spans!$C$10,VLOOKUP(P652,INDIRECT(\"Table\"&R652),Q652,TRUE))","v":32},"No","No"]
[1895,"W12153478N3953223",39.532229999999899,-121.534779999999,55.6,31.1,22.5,"[GrayPine, DouglasFir, TanOak]","GrayPine",-13.8,"W12153419N3953235-W12153557N3953230","Tier 2-3","YES","2019-11-20T17:46:46",{"$f":"VLOOKUP($K653,SpanRange,4,FALSE)","v":172},{"$f":"VLOOKUP($K653,SpanRange,2,FALSE)","v":388.6},{"$f":"VLOOKUP($K653,SpanRange,3,FALSE)","v":2},{"$f":"Find_Table(Spans!$I$2,I653)","v":10},{"$f":"IF(R653=0,Spans!$C$10,VLOOKUP(P653,INDIRECT(\"Table\"&R653),Q653,TRUE))","v":36},"No","No"]
[1898,"W12153431N3953208",39.532080000000001,-121.53431,93.7,30.4,22.4,"[DouglasFir, TanOak, GrayPine]","DouglasFir",-48.399999999999899,"W12153419N3953235-W12153419N3953172","Tier 2-3","YES","2019-11-20T17:46:46",{"$f":"VLOOKUP($K654,SpanRange,4,FALSE)","v":166},{"$f":"VLOOKUP($K654,SpanRange,2,FALSE)","v":228.3},{"$f":"VLOOKUP($K654,SpanRange,3,FALSE)","v":2},{"$f":"Find_Table(Spans!$I$2,I654)","v":9},{"$f":"IF(R654=0,Spans!$C$10,VLOOKUP(P654,INDIRECT(\"Table\"&R654),Q654,TRUE))","v":26},"Yes","No"]
[1899,"W12154193N3953427",39.5342699999999,-121.54192999999999,65.400000000000006,20.1999999999999,10.7,"[DouglasFir, GrayPine, TanOak]","DouglasFir",-25.9,"W12154179N3953424-W12154214N3953455","Tier 2-3","YES","2019-11-20T17:46:46",{"$f":"VLOOKUP($K655,SpanRange,4,FALSE)","v":190},{"$f":"VLOOKUP($K655,SpanRange,2,FALSE)","v":149.30000000000001},{"$f":"VLOOKUP($K655,SpanRange,3,FALSE)","v":2},{"$f":"Find_Table(Spans!$I$2,I655)","v":9},{"$f":"IF(R655=0,Spans!$C$10,VLOOKUP(P655,INDIRECT(\"Table\"&R655),Q655,TRUE))","v":16},"Yes","No"]
[1900,"W12154077N3953154",39.53154,-121.540769999999,38.1,16,8,"[Other, GrayPine, DouglasFir]","Other",-10.3,"W12154084N3953131-W12154086N3953214","Tier 2-3","YES","2019-11-20T17:46:46",{"$f":"VLOOKUP($K656,SpanRange,4,FALSE)","v":162},{"$f":"VLOOKUP($K656,SpanRange,2,FALSE)","v":302.60000000000002},{"$f":"VLOOKUP($K656,SpanRange,3,FALSE)","v":2},{"$f":"Find_Table(Spans!$I$2,I656)","v":11},{"$f":"IF(R656=0,Spans!$C$10,VLOOKUP(P656,INDIRECT(\"Table\"&R656),Q656,TRUE))","v":30},"No","No"]
[1901,"W12151414N3952829",39.528289999999899,-121.514139999999,35.799999999999997,19.100000000000001,11.7,null,null,-2.2999999999999998,"W12151401N3952860-W12151441N3952799","Tier 2-3","YES","2019-11-20T17:46:46",{"$f":"VLOOKUP($K657,SpanRange,4,FALSE)","v":93},{"$f":"VLOOKUP($K657,SpanRange,2,FALSE)","v":250.8},{"$f":"VLOOKUP($K657,SpanRange,3,FALSE)","v":2},{"$f":"Find_Table(Spans!$I$2,I657)","v":11},{"$f":"IF(R657=0,Spans!$C$10,VLOOKUP(P657,INDIRECT(\"Table\"&R657),Q657,TRUE))","v":30},"No","No"]
[1902,"W12153235N3952803",39.528030000000001,-121.532349999999,54.6,47,5.6,"[DouglasFir, Other, CoastalLiveOak]","DouglasFir",-3,"W12153203N3952790-W12153270N3952789","Tier 2-3","YES","2019-11-20T17:46:46",{"$f":"VLOOKUP($K658,SpanRange,4,FALSE)","v":89},{"$f":"VLOOKUP($K658,SpanRange,2,FALSE)","v":189.099999999999},{"$f":"VLOOKUP($K658,SpanRange,3,FALSE)","v":2},{"$f":"Find_Table(Spans!$I$2,I658)","v":9},{"$f":"IF(R658=0,Spans!$C$10,VLOOKUP(P658,INDIRECT(\"Table\"&R658),Q658,TRUE))","v":21},"No","No"]
[1904,"W12152600N3953262",39.532620000000001,-121.526,48.6,11.3,6.2,"[DouglasFir, Other, CoastalLiveOak]","DouglasFir",-17.6999999999999,"W12152605N3953235-W12152605N3953285","Tier 2-3","YES","2019-11-20T17:46:46",{"$f":"VLOOKUP($K659,SpanRange,4,FALSE)","v":178},{"$f":"VLOOKUP($K659,SpanRange,2,FALSE)","v":180.3},{"$f":"VLOOKUP($K659,SpanRange,3,FALSE)","v":2},{"$f":"Find_Table(Spans!$I$2,I659)","v":9},{"$f":"IF(R659=0,Spans!$C$10,VLOOKUP(P659,INDIRECT(\"Table\"&R659),Q659,TRUE))","v":21},"No","No"]
[1905,"W12152018N3952920",39.529200000000003,-121.520179999999,62.2,22,8.3000000000000007,"[Other, CoastalLiveOak, DouglasFir]","Other",-16.1999999999999,"W12152053N3952877-W12152014N3952914","Tier 2-3","YES","2019-11-20T17:46:46",{"$f":"VLOOKUP($K660,SpanRange,4,FALSE)","v":106},{"$f":"VLOOKUP($K660,SpanRange,2,FALSE)","v":171.9},{"$f":"VLOOKUP($K660,SpanRange,3,FALSE)","v":2},{"$f":"Find_Table(Spans!$I$2,I660)","v":11},{"$f":"IF(R660=0,Spans!$C$10,VLOOKUP(P660,INDIRECT(\"Table\"&R660),Q660,TRUE))","v":30},"No","No"]
[1909,"W12153201N3952729",39.527290000000001,-121.53201,67.400000000000006,22,5.7,"[Eucalyptus/BlueGum, Other, DouglasFir]","Eucalyptus/BlueGum",-28.1999999999999,"W12153200N3952739-W12153152N3952699","Tier 2-3","YES","2019-11-20T17:46:46",{"$f":"VLOOKUP($K661,SpanRange,4,FALSE)","v":78},{"$f":"VLOOKUP($K661,SpanRange,2,FALSE)","v":197.19999999999899},{"$f":"VLOOKUP($K661,SpanRange,3,FALSE)","v":2},{"$f":"Find_Table(Spans!$I$2,I661)","v":12},{"$f":"IF(R661=0,Spans!$C$10,VLOOKUP(P661,INDIRECT(\"Table\"&R661),Q661,TRUE))","v":30},"No","No"]
[1910,"W12152773N3952793",39.527929999999898,-121.527729999999,42.3,15,4.5,"[Other, DouglasFir, GrayPine]","Other",-13,"W12152800N3952774-W12152750N3952825","Tier 2-3","YES","2019-11-20T17:46:46",{"$f":"VLOOKUP($K662,SpanRange,4,FALSE)","v":90},{"$f":"VLOOKUP($K662,SpanRange,2,FALSE)","v":233.599999999999},{"$f":"VLOOKUP($K662,SpanRange,3,FALSE)","v":2},{"$f":"Find_Table(Spans!$I$2,I662)","v":11},{"$f":"IF(R662=0,Spans!$C$10,VLOOKUP(P662,INDIRECT(\"Table\"&R662),Q662,TRUE))","v":30},"No","No"]
[1913,"W12153226N3953113",39.531129999999898,-121.532259999999,85.2,51.399999999999899,40,"[GrayPine, Other, CoastalLiveOak]","GrayPine",-25.9,"W12153207N3953097-W12153206N3953153","Tier 2-3","YES","2019-11-20T17:46:46",{"$f":"VLOOKUP($K663,SpanRange,4,FALSE)","v":148},{"$f":"VLOOKUP($K663,SpanRange,2,FALSE)","v":205.3},{"$f":"VLOOKUP($K663,SpanRange,3,FALSE)","v":2},{"$f":"Find_Table(Spans!$I$2,I663)","v":10},{"$f":"IF(R663=0,Spans!$C$10,VLOOKUP(P663,INDIRECT(\"Table\"&R663),Q663,TRUE))","v":32},"No","No"]
[1917,"W12153276N3953044",39.530439999999899,-121.532759999999,43.6,13.1,7.2,"[DouglasFir, CoastalLiveOak, GrayPine]","DouglasFir",-8.8000000000000007,"W12153269N3953048-W12153323N3953048","Tier 2-3","YES","2019-11-20T17:46:46",{"$f":"VLOOKUP($K664,SpanRange,4,FALSE)","v":132},{"$f":"VLOOKUP($K664,SpanRange,2,FALSE)","v":153.80000000000001},{"$f":"VLOOKUP($K664,SpanRange,3,FALSE)","v":2},{"$f":"Find_Table(Spans!$I$2,I664)","v":9},{"$f":"IF(R664=0,Spans!$C$10,VLOOKUP(P664,INDIRECT(\"Table\"&R664),Q664,TRUE))","v":21},"No","No"]
[1918,"W12153186N3953229",39.532289999999897,-121.531859999999,69.5,50.6,32.299999999999898,"[Eucalyptus/BlueGum, GrayPine, DouglasFir]","Eucalyptus/BlueGum",-14.6,"W12153117N3953239-W12153205N3953245","Tier 2-3","YES","2019-11-20T17:46:46",{"$f":"VLOOKUP($K665,SpanRange,4,FALSE)","v":174},{"$f":"VLOOKUP($K665,SpanRange,2,FALSE)","v":250.19999999999899},{"$f":"VLOOKUP($K665,SpanRange,3,FALSE)","v":2},{"$f":"Find_Table(Spans!$I$2,I665)","v":12},{"$f":"IF(R665=0,Spans!$C$10,VLOOKUP(P665,INDIRECT(\"Table\"&R665),Q665,TRUE))","v":30},"No","No"]
[1919,"W12153541N3952840",39.528399999999998,-121.535409999999,37,12.4,6.7,"[CoastalLiveOak, DouglasFir, Other]","CoastalLiveOak",-4.3,"W12153534N3952830-W12153534N3952830","Tier 2-3","YES","2019-11-20T17:46:46",{"$f":"VLOOKUP($K666,SpanRange,4,FALSE)","v":99},{"$f":"VLOOKUP($K666,SpanRange,2,FALSE)","v":189.9},{"$f":"VLOOKUP($K666,SpanRange,3,FALSE)","v":2},{"$f":"Find_Table(Spans!$I$2,I666)","v":11},{"$f":"IF(R666=0,Spans!$C$10,VLOOKUP(P666,INDIRECT(\"Table\"&R666),Q666,TRUE))","v":30},"No","No"]
[1922,"W12151880N3952866",39.528659999999903,-121.518799999999,59.8,36.6,7.7,"[Other, LiveOak, CoastalLiveOak]","Other",-13.6,"W12151852N3952834-W12151873N3952887","Tier 2-3","YES","2019-11-20T17:46:46",{"$f":"VLOOKUP($K667,SpanRange,4,FALSE)","v":100},{"$f":"VLOOKUP($K667,SpanRange,2,FALSE)","v":200.8},{"$f":"VLOOKUP($K667,SpanRange,3,FALSE)","v":2},{"$f":"Find_Table(Spans!$I$2,I667)","v":11},{"$f":"IF(R667=0,Spans!$C$10,VLOOKUP(P667,INDIRECT(\"Table\"&R667),Q667,TRUE))","v":30},"No","No"]
[1926,"W12153580N3953055",39.530549999999899,-121.53579999999999,36.700000000000003,25.1999999999999,8.1999999999999904,"[DouglasFir, Other, CoastalLiveOak]","DouglasFir",-4.9000000000000004,"W12153655N3953063-W12153538N3953063","Tier 2-3","YES","2019-11-20T17:46:46",{"$f":"VLOOKUP($K668,SpanRange,4,FALSE)","v":140},{"$f":"VLOOKUP($K668,SpanRange,2,FALSE)","v":329.19999999999902},{"$f":"VLOOKUP($K668,SpanRange,3,FALSE)","v":2},{"$f":"Find_Table(Spans!$I$2,I668)","v":9},{"$f":"IF(R668=0,Spans!$C$10,VLOOKUP(P668,INDIRECT(\"Table\"&R668),Q668,TRUE))","v":31},"No","No"]
[1927,"W12152600N3953127",39.5312699999999,-121.526,36.899999999999899,8.1,5.4,"[CoastalLiveOak, MontereyPine, DouglasFir]","CoastalLiveOak",-1.7,"W12152604N3953139-W12152603N3953064","Tier 2-3","YES","2019-11-20T17:46:46",{"$f":"VLOOKUP($K669,SpanRange,4,FALSE)","v":146},{"$f":"VLOOKUP($K669,SpanRange,2,FALSE)","v":273.19999999999902},{"$f":"VLOOKUP($K669,SpanRange,3,FALSE)","v":2},{"$f":"Find_Table(Spans!$I$2,I669)","v":11},{"$f":"IF(R669=0,Spans!$C$10,VLOOKUP(P669,INDIRECT(\"Table\"&R669),Q669,TRUE))","v":30},"No","No"]
[1936,"W12151785N3953165",39.5316499999999,-121.517849999999,46.8,16.3,8.3000000000000007,"[DouglasFir, MontereyPine, Other]","DouglasFir",-4.0999999999999996,"W12151765N3953162-W12151822N3953157","Tier 2-3","YES","2019-11-20T17:46:46",{"$f":"VLOOKUP($K670,SpanRange,4,FALSE)","v":160},{"$f":"VLOOKUP($K670,SpanRange,2,FALSE)","v":161.30000000000001},{"$f":"VLOOKUP($K670,SpanRange,3,FALSE)","v":2},{"$f":"Find_Table(Spans!$I$2,I670)","v":9},{"$f":"IF(R670=0,Spans!$C$10,VLOOKUP(P670,INDIRECT(\"Table\"&R670),Q670,TRUE))","v":21},"No","No"]
[1938,"W12153235N3953061",39.530609999999903,-121.532349999999,59.1,44.2,28.3,"[GrayPine, DouglasFir, Other]","GrayPine",-5.9,"W12153269N3953048-W12153206N3953048","Tier 2-3","YES","2019-11-20T17:46:46",{"$f":"VLOOKUP($K671,SpanRange,4,FALSE)","v":133},{"$f":"VLOOKUP($K671,SpanRange,2,FALSE)","v":176.5},{"$f":"VLOOKUP($K671,SpanRange,3,FALSE)","v":2},{"$f":"Find_Table(Spans!$I$2,I671)","v":10},{"$f":"IF(R671=0,Spans!$C$10,VLOOKUP(P671,INDIRECT(\"Table\"&R671),Q671,TRUE))","v":26},"No","No"]
[1939,"W12153859N3953232",39.532319999999899,-121.538589999999,73.799999999999898,42,8.3000000000000007,"[DouglasFir, LiveOak, GrayPine]","DouglasFir",-28.6,"W12153810N3953244-W12153905N3953243","Tier 2-3","YES","2019-11-20T17:46:46",{"$f":"VLOOKUP($K672,SpanRange,4,FALSE)","v":176},{"$f":"VLOOKUP($K672,SpanRange,2,FALSE)","v":270.10000000000002},{"$f":"VLOOKUP($K672,SpanRange,3,FALSE)","v":2},{"$f":"Find_Table(Spans!$I$2,I672)","v":9},{"$f":"IF(R672=0,Spans!$C$10,VLOOKUP(P672,INDIRECT(\"Table\"&R672),Q672,TRUE))","v":26},"Yes","No"]
[1941,"W12153144N3953162",39.531619999999897,-121.53144,41.6,23,7.6,"[Eucalyptus/BlueGum, DouglasFir, GrayPine]","Eucalyptus/BlueGum",-5.2,"W12153147N3953155-W12153206N3953153","Tier 2-3","YES","2019-11-20T17:46:46",{"$f":"VLOOKUP($K673,SpanRange,4,FALSE)","v":159},{"$f":"VLOOKUP($K673,SpanRange,2,FALSE)","v":167.69999999999899},{"$f":"VLOOKUP($K673,SpanRange,3,FALSE)","v":2},{"$f":"Find_Table(Spans!$I$2,I673)","v":12},{"$f":"IF(R673=0,Spans!$C$10,VLOOKUP(P673,INDIRECT(\"Table\"&R673),Q673,TRUE))","v":30},"No","No"]
[1944,"W12154237N3954099",39.540990000000001,-121.54237000000001,52.2,31.4,12.1,"[DouglasFir, CoastalLiveOak, MontereyPine]","DouglasFir",-20.100000000000001,"W12154258N3954066-W12154249N3954102","Tier 2-3","YES","2019-11-20T17:46:46",{"$f":"VLOOKUP($K674,SpanRange,4,FALSE)","v":200},{"$f":"VLOOKUP($K674,SpanRange,2,FALSE)","v":133.9},{"$f":"VLOOKUP($K674,SpanRange,3,FALSE)","v":2},{"$f":"Find_Table(Spans!$I$2,I674)","v":9},{"$f":"IF(R674=0,Spans!$C$10,VLOOKUP(P674,INDIRECT(\"Table\"&R674),Q674,TRUE))","v":16},"Yes","No"]
[1947,"W12153830N3953268",39.5326799999999,-121.53830000000001,82.299999999999898,67.900000000000006,47.3,"[DouglasFir, GrayPine, Other]","DouglasFir",-12.4,"W12153848N3953281-W12153906N3953282","Tier 2-3","YES","2019-11-20T17:46:46",{"$f":"VLOOKUP($K675,SpanRange,4,FALSE)","v":183},{"$f":"VLOOKUP($K675,SpanRange,2,FALSE)","v":163.80000000000001},{"$f":"VLOOKUP($K675,SpanRange,3,FALSE)","v":2},{"$f":"Find_Table(Spans!$I$2,I675)","v":9},{"$f":"IF(R675=0,Spans!$C$10,VLOOKUP(P675,INDIRECT(\"Table\"&R675),Q675,TRUE))","v":21},"No","No"]
[1950,"W12153449N3952886",39.528860000000002,-121.53449000000001,42.5,10.7,6.2,"[LiveOak, Other, DouglasFir]","LiveOak",-6.2,"W12153537N3952882-W12153422N3952882","Tier 2-3","YES","2019-11-20T17:46:46",{"$f":"VLOOKUP($K676,SpanRange,4,FALSE)","v":102},{"$f":"VLOOKUP($K676,SpanRange,2,FALSE)","v":324.39999999999901},{"$f":"VLOOKUP($K676,SpanRange,3,FALSE)","v":2},{"$f":"Find_Table(Spans!$I$2,I676)","v":11},{"$f":"IF(R676=0,Spans!$C$10,VLOOKUP(P676,INDIRECT(\"Table\"&R676),Q676,TRUE))","v":30},"No","No"]
[1951,"W12154103N3953152",39.53152,-121.54103000000001,67.299999999999898,50.3,37.899999999999899,"[DouglasFir, GrayPine, TanOak]","DouglasFir",-1.3,"W12154084N3953131-W12154086N3953214","Tier 2-3","YES","2019-11-20T17:46:46",{"$f":"VLOOKUP($K677,SpanRange,4,FALSE)","v":162},{"$f":"VLOOKUP($K677,SpanRange,2,FALSE)","v":302.60000000000002},{"$f":"VLOOKUP($K677,SpanRange,3,FALSE)","v":2},{"$f":"Find_Table(Spans!$I$2,I677)","v":9},{"$f":"IF(R677=0,Spans!$C$10,VLOOKUP(P677,INDIRECT(\"Table\"&R677),Q677,TRUE))","v":31},"No","No"]
[1952,"W12153413N3953202",39.532019999999903,-121.53413,38.799999999999997,15.8,12,"[Other, LiveOak, TanOak]","Other",-6.2,"W12153419N3953235-W12153419N3953172","Tier 2-3","YES","2019-11-20T17:46:46",{"$f":"VLOOKUP($K678,SpanRange,4,FALSE)","v":166},{"$f":"VLOOKUP($K678,SpanRange,2,FALSE)","v":228.3},{"$f":"VLOOKUP($K678,SpanRange,3,FALSE)","v":2},{"$f":"Find_Table(Spans!$I$2,I678)","v":11},{"$f":"IF(R678=0,Spans!$C$10,VLOOKUP(P678,INDIRECT(\"Table\"&R678),Q678,TRUE))","v":30},"No","No"]
[1957,"W12153633N3953226",39.532260000000001,-121.536329999999,38.200000000000003,12.7,7.6,"[DouglasFir, TanOak, Other]","DouglasFir",-6.4,"W12153644N3953230-W12153557N3953230","Tier 2-3","YES","2019-11-20T17:46:46",{"$f":"VLOOKUP($K679,SpanRange,4,FALSE)","v":171},{"$f":"VLOOKUP($K679,SpanRange,2,FALSE)","v":246.19999999999899},{"$f":"VLOOKUP($K679,SpanRange,3,FALSE)","v":2},{"$f":"Find_Table(Spans!$I$2,I679)","v":9},{"$f":"IF(R679=0,Spans!$C$10,VLOOKUP(P679,INDIRECT(\"Table\"&R679),Q679,TRUE))","v":26},"No","No"]

{"sheet":"FEA Tables","index":3,"n_rows":559,"n_cols":34,"rows_kept":559,"cut":false,"hidden":false,"merged":[[254,9,254,13],[254,2,254,6],[268,9,268,13],[268,2,268,6],[212,9,212,13],[212,2,212,6],[226,9,226,13],[226,2,226,6],[240,9,240,13],[240,2,240,6],[170,9,170,13],[170,2,170,6],[184,9,184,13],[184,2,184,6],[198,9,198,13],[198,2,198,6],[128,9,128,13],[128,2,128,6],[142,9,142,13],[142,2,142,6],[156,9,156,13],[156,2,156,6],[86,9,86,13],[86,2,86,6],[100,9,100,13],[100,2,100,6],[114,9,114,13],[114,2,114,6],[366,2,366,6],[366,9,366,13],[380,2,380,6],[380,9,380,13],[2,9,2,13],[2,2,2,6],[16,9,16,13],[16,2,16,6],[30,9,30,13],[30,2,30,6],[44,9,44,13],[44,2,44,6],[58,9,58,13],[58,2,58,6],[72,9,72,13],[72,2,72,6],[324,2,324,6],[324,9,324,13],[338,2,338,6],[338,9,338,13],[352,2,352,6],[352,9,352,13],[282,2,282,6],[282,9,282,13],[296,2,296,6],[296,9,296,13],[310,2,310,6],[310,9,310,13],[394,2,394,6],[394,9,394,13],[408,2,408,6],[408,9,408,13],[422,2,422,6],[422,9,422,13],[436,2,436,6],[436,9,436,13],[450,2,450,6],[450,9,450,13],[464,2,464,6],[464,9,464,13],[478,2,478,6],[478,9,478,13],[492,2,492,6],[492,9,492,13],[506,2,506,6],[506,9,506,13],[520,2,520,6],[520,9,520,13],[534,2,534,6],[534,9,534,13],[548,2,548,6],[548,9,548,13]]}
[null,null,null,null,null,null,null,null,"TABLE",1,null,null,null,null,null,null,"Conductor","Breaking Strength",null,null,"Tree","Failure","Density","Tip Radius","Ixx","MOR","Static Force Breaking Branch Length (ft)"]
[null,"FEA Table:",null,null,null,null,null,null,"Span Shape:",2,3,4,5,6,null,null,"Doc 059626","(lbf)",null,null,"Species","Mode","(lb/ft3)","(in)","(in4)","(psi)","#6 Cu","4 (6/1) ACSR","2 (7/1) ACSR","715.5 AAC","#2 HD Cu XLPE","1/0 ACSR XLPE","397.5 AAC XLPE","715.5 AAC XLPE"]
[null,"Span","Allowable Overstrike Length (ft)",null,null,null,null,null,"Span","Adjusted Allowable Overstrike Length (ft)",null,null,null,null,null,null,"#6 Cu",1010,null,null,"Douglas Fir","Trunk",33,3,{"$f":"X3^4*PI()/4","v":63.617251235193308},7700,{"$f":"$Z3*$Y3/$X3/$R$3/12","v":13.472300179070089},{"$f":"$Z3*$Y3/$X3/$R$4/12","v":7.315603860677844},{"$f":"$Z3*$Y3/$X3/$R$5/12","v":3.9326656592083213},{"$f":"$Z3*$Y3/$X3/$R$6/12","v":1.0630486860047492},{"$f":"$Z3*$Y3/$X3/$R$7/12","v":6.0745639200271384},{"$f":"$Z3*$Y3/$X3/$R$8/12","v":3.2709190338607672},{"$f":"$Z3*$Y3/$X3/$R$9/12","v":2.0146614126237474},{"$f":"$Z3*$Y3/$X3/$R$10/12","v":1.1189986168471044}]
[null,"Len (ft)","Tangent","45° Turn","90° Turn","T-Tap","X-Tap",null,"Len (ft)","Tangent","45° Turn","90° Turn","T-Tap","X-Tap",null,null,"4 (6/1) ACSR",1860,null,null,"Pine","Trunk",30,3,{"$f":"X4^4*PI()/4","v":63.617251235193308},5100,{"$f":"$Z4*$Y4/$X4/$R$3/12","v":8.9232118069165534},{"$f":"$Z4*$Y4/$X4/$R$4/12","v":4.8453999596697415},{"$f":"$Z4*$Y4/$X4/$R$5/12","v":2.6047525794756416},{"$f":"$Z4*$Y4/$X4/$R$6/12","v":0.7040971816395093},{"$f":"$Z4*$Y4/$X4/$R$7/12","v":4.0234124665114814},{"$f":"$Z4*$Y4/$X4/$R$8/12","v":2.1664528665831058},{"$f":"$Z4*$Y4/$X4/$R$9/12","v":1.3343861304391058},{"$f":"$Z4*$Y4/$X4/$R$10/12","v":0.74115492804158878}]
[null,1,{"$f":"C6","v":0},{"$f":"D6","v":0},{"$f":"E6","v":0},{"$f":"F6","v":0},{"$f":"G6","v":0},null,1,{"$f":"J6","v":0},{"$f":"K6","v":0},{"$f":"L6","v":0},{"$f":"M6","v":0},{"$f":"N6","v":0},null,null,"2 (7/1) ACSR",3460,null,null,"Oak","Branch",40,3,{"$f":"X5^4*PI()/4","v":63.617251235193308},8200,{"$f":"$Z5*$Y5/$X5/$R$3/12","v":14.347124866022691},{"$f":"$Z5*$Y5/$X5/$R$4/12","v":7.7906430724101723},{"$f":"$Z5*$Y5/$X5/$R$5/12","v":4.1880335591569127},{"$f":"$Z5*$Y5/$X5/$R$6/12","v":1.132077821459603},{"$f":"$Z5*$Y5/$X5/$R$7/12","v":6.4690161226263037},{"$f":"$Z5*$Y5/$X5/$R$8/12","v":3.4833163737218555},{"$f":"$Z5*$Y5/$X5/$R$9/12","v":2.1454835822746401},{"$f":"$Z5*$Y5/$X5/$R$10/12","v":1.191660864694319}]
[null,50,0,0,0,0,0,null,50,{"$f":"C6+Spans!$C$10","v":0},{"$f":"D6+Spans!$C$10","v":0},{"$f":"E6+Spans!$C$10","v":0},{"$f":"F6+Spans!$C$10","v":0},{"$f":"G6+Spans!$C$10","v":0},null,null,"715.5 AAC",12800,null,null,"Blue Gum / Eucalyptus","Branch",51,3,{"$f":"X6^4*PI()/4","v":63.617251235193308},19530,{"$f":"$Z6*$Y6/$X6/$R$3/12","v":34.170652272368677},{"$f":"$Z6*$Y6/$X6/$R$4/12","v":18.555031610264713},{"$f":"$Z6*$Y6/$X6/$R$5/12","v":9.974670171992015},{"$f":"$Z6*$Y6/$X6/$R$6/12","v":2.696278030866591},{"$f":"$Z6*$Y6/$X6/$R$7/12","v":15.407303033523378},{"$f":"$Z6*$Y6/$X6/$R$8/12","v":8.2962400949741273},{"$f":"$Z6*$Y6/$X6/$R$9/12","v":5.1099139465638688},{"$f":"$Z6*$Y6/$X6/$R$10/12","v":2.8381874009122012}]
[null,100,0,0,0,0,0,null,100,{"$f":"C7+Spans!$C$10","v":0},{"$f":"D7+Spans!$C$10","v":0},{"$f":"E7+Spans!$C$10","v":0},{"$f":"F7+Spans!$C$10","v":0},{"$f":"G7+Spans!$C$10","v":0},null,null,"#2 HD Cu XLPE",2240]
[null,150,0,0,0,0,0,null,150,{"$f":"C8+Spans!$C$10","v":0},{"$f":"D8+Spans!$C$10","v":0},{"$f":"E8+Spans!$C$10","v":0},{"$f":"F8+Spans!$C$10","v":0},{"$f":"G8+Spans!$C$10","v":0},null,null,"1/0 ACSR XLPE",4160]
[null,200,0,0,0,0,0,null,200,{"$f":"C9+Spans!$C$10","v":0},{"$f":"D9+Spans!$C$10","v":0},{"$f":"E9+Spans!$C$10","v":0},{"$f":"F9+Spans!$C$10","v":0},{"$f":"G9+Spans!$C$10","v":0},null,null,"397.5 AAC XLPE",6754]
[null,300,0,0,0,0,0,null,300,{"$f":"C10+Spans!$C$10","v":0},{"$f":"D10+Spans!$C$10","v":0},{"$f":"E10+Spans!$C$10","v":0},{"$f":"F10+Spans!$C$10","v":0},{"$f":"G10+Spans!$C$10","v":0},null,null,"715.5 AAC XLPE",12160]
[null,400,0,0,0,0,0,null,400,{"$f":"C11+Spans!$C$10","v":0},{"$f":"D11+Spans!$C$10","v":0},{"$f":"E11+Spans!$C$10","v":0},{"$f":"F11+Spans!$C$10","v":0},{"$f":"G11+Spans!$C$10","v":0}]
[null,500,0,0,0,0,0,null,500,{"$f":"C12+Spans!$C$10","v":0},{"$f":"D12+Spans!$C$10","v":0},{"$f":"E12+Spans!$C$10","v":0},{"$f":"F12+Spans!$C$10","v":0},{"$f":"G12+Spans!$C$10","v":0}]
[null,1000,{"$f":"C12","v":0},{"$f":"D12","v":0},{"$f":"E12","v":0},{"$f":"F12","v":0},{"$f":"G12","v":0},null,1000,{"$f":"J12","v":0},{"$f":"K12","v":0},{"$f":"L12","v":0},{"$f":"M12","v":0},{"$f":"N12","v":0}]
[]
[null,null,null,null,null,null,null,null,"TABLE",2]
[null,"FEA Table:",null,null,null,null,null,null,"Span Shape:",2,3,4,5,6]
[null,"Span","Allowable Overstrike Length (ft)",null,null,null,null,null,"Span","Adjusted Allowable Overstrike Length (ft)"]
[null,"Len (ft)","Tangent","45° Turn","90° Turn","T-Tap","X-Tap",null,"Len (ft)","Tangent","45° Turn","90° Turn","T-Tap","X-Tap"]
[null,1,{"$f":"C20","v":0},{"$f":"D20","v":0},{"$f":"E20","v":0},{"$f":"F20","v":0},{"$f":"G20","v":0},null,1,{"$f":"J20","v":0},{"$f":"K20","v":0},{"$f":"L20","v":0},{"$f":"M20","v":0},{"$f":"N20","v":0}]
[null,50,null,null,null,null,null,null,50,{"$f":"C20+Spans!$C$10","v":0},{"$f":"D20+Spans!$C$10","v":0},{"$f":"E20+Spans!$C$10","v":0},{"$f":"F20+Spans!$C$10","v":0},{"$f":"G20+Spans!$C$10","v":0}]
[null,100,null,null,null,null,null,null,100,{"$f":"C21+Spans!$C$10","v":0},{"$f":"D21+Spans!$C$10","v":0},{"$f":"E21+Spans!$C$10","v":0},{"$f":"F21+Spans!$C$10","v":0},{"$f":"G21+Spans!$C$10","v":0}]
[null,150,null,null,null,null,null,null,150,{"$f":"C22+Spans!$C$10","v":0},{"$f":"D22+Spans!$C$10","v":0},{"$f":"E22+Spans!$C$10","v":0},{"$f":"F22+Spans!$C$10","v":0},{"$f":"G22+Spans!$C$10","v":0}]
[null,200,null,null,null,null,null,null,200,{"$f":"C23+Spans!$C$10","v":0},{"$f":"D23+Spans!$C$10","v":0},{"$f":"E23+Spans!$C$10","v":0},{"$f":"F23+Spans!$C$10","v":0},{"$f":"G23+Spans!$C$10","v":0}]
[null,300,null,null,null,null,null,null,300,{"$f":"C24+Spans!$C$10","v":0},{"$f":"D24+Spans!$C$10","v":0},{"$f":"E24+Spans!$C$10","v":0},{"$f":"F24+Spans!$C$10","v":0},{"$f":"G24+Spans!$C$10","v":0}]
[null,400,null,null,null,null,null,null,400,{"$f":"C25+Spans!$C$10","v":0},{"$f":"D25+Spans!$C$10","v":0},{"$f":"E25+Spans!$C$10","v":0},{"$f":"F25+Spans!$C$10","v":0},{"$f":"G25+Spans!$C$10","v":0}]
[null,500,null,null,null,null,null,null,500,{"$f":"C26+Spans!$C$10","v":0},{"$f":"D26+Spans!$C$10","v":0},{"$f":"E26+Spans!$C$10","v":0},{"$f":"F26+Spans!$C$10","v":0},{"$f":"G26+Spans!$C$10","v":0}]
[null,1000,{"$f":"C26","v":0},{"$f":"D26","v":0},{"$f":"E26","v":0},{"$f":"F26","v":0},{"$f":"G26","v":0},null,1000,{"$f":"J26","v":0},{"$f":"K26","v":0},{"$f":"L26","v":0},{"$f":"M26","v":0},{"$f":"N26","v":0}]
[]
[null,null,null,null,null,null,null,null,"TABLE",3]
[null,"FEA Table:",null,null,null,null,null,null,"Span Shape:",2,3,4,5,6]
[null,"Span","Allowable Overstrike Length (ft)",null,null,null,null,null,"Span","Adjusted Allowable Overstrike Length (ft)"]
[null,"Len (ft)","Tangent","45° Turn","90° Turn","T-Tap","X-Tap",null,"Len (ft)","Tangent","45° Turn","90° Turn","T-Tap","X-Tap"]
[null,1,{"$f":"C34","v":0},{"$f":"D34","v":0},{"$f":"E34","v":0},{"$f":"F34","v":0},{"$f":"G34","v":0},null,1,{"$f":"J34","v":0},{"$f":"K34","v":0},{"$f":"L34","v":0},{"$f":"M34","v":0},{"$f":"N34","v":0}]
[null,50,null,null,null,null,null,null,50,{"$f":"C34+Spans!$C$10","v":0},{"$f":"D34+Spans!$C$10","v":0},{"$f":"E34+Spans!$C$10","v":0},{"$f":"F34+Spans!$C$10","v":0},{"$f":"G34+Spans!$C$10","v":0}]
[null,100,null,null,null,null,null,null,100,{"$f":"C35+Spans!$C$10","v":0},{"$f":"D35+Spans!$C$10","v":0},{"$f":"E35+Spans!$C$10","v":0},{"$f":"F35+Spans!$C$10","v":0},{"$f":"G35+Spans!$C$10","v":0}]
[null,150,null,null,null,null,null,null,150,{"$f":"C36+Spans!$C$10","v":0},{"$f":"D36+Spans!$C$10","v":0},{"$f":"E36+Spans!$C$10","v":0},{"$f":"F36+Spans!$C$10","v":0},{"$f":"G36+Spans!$C$10","v":0}]
[null,200,null,null,null,null,null,null,200,{"$f":"C37+Spans!$C$10","v":0},{"$f":"D37+Spans!$C$10","v":0},{"$f":"E37+Spans!$C$10","v":0},{"$f":"F37+Spans!$C$10","v":0},{"$f":"G37+Spans!$C$10","v":0}]
[null,300,null,null,null,null,null,null,300,{"$f":"C38+Spans!$C$10","v":0},{"$f":"D38+Spans!$C$10","v":0},{"$f":"E38+Spans!$C$10","v":0},{"$f":"F38+Spans!$C$10","v":0},{"$f":"G38+Spans!$C$10","v":0}]
[null,400,null,null,null,null,null,null,400,{"$f":"C39+Spans!$C$10","v":0},{"$f":"D39+Spans!$C$10","v":0},{"$f":"E39+Spans!$C$10","v":0},{"$f":"F39+Spans!$C$10","v":0},{"$f":"G39+Spans!$C$10","v":0}]
[null,500,null,null,null,null,null,null,500,{"$f":"C40+Spans!$C$10","v":0},{"$f":"D40+Spans!$C$10","v":0},{"$f":"E40+Spans!$C$10","v":0},{"$f":"F40+Spans!$C$10","v":0},{"$f":"G40+Spans!$C$10","v":0}]
[null,1000,{"$f":"C40","v":0},{"$f":"D40","v":0},{"$f":"E40","v":0},{"$f":"F40","v":0},{"$f":"G40","v":0},null,1000,{"$f":"J40","v":0},{"$f":"K40","v":0},{"$f":"L40","v":0},{"$f":"M40","v":0},{"$f":"N40","v":0}]
[]
[null,null,null,null,null,null,null,null,"TABLE",4]
[null,"FEA Table:",null,null,null,null,null,null,"Span Shape:",2,3,4,5,6]
[null,"Span","Allowable Overstrike Length (ft)",null,null,null,null,null,"Span","Adjusted Allowable Overstrike Length (ft)"]
[null,"Len (ft)","Tangent","45° Turn","90° Turn","T-Tap","X-Tap",null,"Len (ft)","Tangent","45° Turn","90° Turn","T-Tap","X-Tap"]
[null,1,{"$f":"C48","v":0},{"$f":"D48","v":0},{"$f":"E48","v":0},{"$f":"F48","v":0},{"$f":"G48","v":0},null,1,{"$f":"J48","v":0},{"$f":"K48","v":0},{"$f":"L48","v":0},{"$f":"M48","v":0},{"$f":"N48","v":0}]
[null,50,null,null,null,null,null,null,50,{"$f":"C48+Spans!$C$10","v":0},{"$f":"D48+Spans!$C$10","v":0},{"$f":"E48+Spans!$C$10","v":0},{"$f":"F48+Spans!$C$10","v":0},{"$f":"G48+Spans!$C$10","v":0}]
[null,100,null,null,null,null,null,null,100,{"$f":"C49+Spans!$C$10","v":0},{"$f":"D49+Spans!$C$10","v":0},{"$f":"E49+Spans!$C$10","v":0},{"$f":"F49+Spans!$C$10","v":0},{"$f":"G49+Spans!$C$10","v":0}]
[null,150,null,null,null,null,null,null,150,{"$f":"C50+Spans!$C$10","v":0},{"$f":"D50+Spans!$C$10","v":0},{"$f":"E50+Spans!$C$10","v":0},{"$f":"F50+Spans!$C$10","v":0},{"$f":"G50+Spans!$C$10","v":0}]
[null,200,null,null,null,null,null,null,200,{"$f":"C51+Spans!$C$10","v":0},{"$f":"D51+Spans!$C$10","v":0},{"$f":"E51+Spans!$C$10","v":0},{"$f":"F51+Spans!$C$10","v":0},{"$f":"G51+Spans!$C$10","v":0}]
[null,300,null,null,null,null,null,null,300,{"$f":"C52+Spans!$C$10","v":0},{"$f":"D52+Spans!$C$10","v":0},{"$f":"E52+Spans!$C$10","v":0},{"$f":"F52+Spans!$C$10","v":0},{"$f":"G52+Spans!$C$10","v":0}]
[null,400,null,null,null,null,null,null,400,{"$f":"C53+Spans!$C$10","v":0},{"$f":"D53+Spans!$C$10","v":0},{"$f":"E53+Spans!$C$10","v":0},{"$f":"F53+Spans!$C$10","v":0},{"$f":"G53+Spans!$C$10","v":0}]
[null,500,null,null,null,null,null,null,500,{"$f":"C54+Spans!$C$10","v":0},{"$f":"D54+Spans!$C$10","v":0},{"$f":"E54+Spans!$C$10","v":0},{"$f":"F54+Spans!$C$10","v":0},{"$f":"G54+Spans!$C$10","v":0}]
[null,1000,{"$f":"C54","v":0},{"$f":"D54","v":0},{"$f":"E54","v":0},{"$f":"F54","v":0},{"$f":"G54","v":0},null,1000,{"$f":"J54","v":0},{"$f":"K54","v":0},{"$f":"L54","v":0},{"$f":"M54","v":0},{"$f":"N54","v":0}]
[]
[null,null,null,null,null,null,null,null,"TABLE",5]
[null,"FEA Table:","Composite, 1/0 ACSR XLPE, Douglas Fir",null,null,null,null,null,"Span Shape:",2,3,4,5,6,null,null,null,{"$f":"VLOOKUP(100, Table5, 6, FALSE)","v":4}]
[null,"Span","Allowable Overstrike Length (ft)",null,null,null,null,null,"Span","Adjusted Allowable Overstrike Length (ft)"]
[null,"Len (ft)","Tangent","45° Turn","90° Turn","T-Tap","X-Tap",null,"Len (ft)","Tangent","45° Turn","90° Turn","T-Tap","X-Tap"]
[null,1,{"$f":"C62","v":5},{"$f":"D62","v":5},{"$f":"E62","v":5},{"$f":"F62","v":5},{"$f":"G62","v":3},null,1,{"$f":"J62","v":5},{"$f":"K62","v":5},{"$f":"L62","v":5},{"$f":"M62","v":5},{"$f":"N62","v":3}]
[null,50,5,5,5,5,3,null,50,{"$f":"C62+Spans!$C$10","v":5},{"$f":"D62+Spans!$C$10","v":5},{"$f":"E62+Spans!$C$10","v":5},{"$f":"F62+Spans!$C$10","v":5},{"$f":"G62+Spans!$C$10","v":3}]
[null,100,7,7,11,12,4,null,100,{"$f":"C63+Spans!$C$10","v":7},{"$f":"D63+Spans!$C$10","v":7},{"$f":"E63+Spans!$C$10","v":11},{"$f":"F63+Spans!$C$10","v":12},{"$f":"G63+Spans!$C$10","v":4}]
[null,150,7,11,16,13,6,null,150,{"$f":"C64+Spans!$C$10","v":7},{"$f":"D64+Spans!$C$10","v":11},{"$f":"E64+Spans!$C$10","v":16},{"$f":"F64+Spans!$C$10","v":13},{"$f":"G64+Spans!$C$10","v":6}]
[null,200,11,16,16,13,7,null,200,{"$f":"C65+Spans!$C$10","v":11},{"$f":"D65+Spans!$C$10","v":16},{"$f":"E65+Spans!$C$10","v":16},{"$f":"F65+Spans!$C$10","v":13},{"$f":"G65+Spans!$C$10","v":7}]
[null,300,16,16,16,15,12,null,300,{"$f":"C66+Spans!$C$10","v":16},{"$f":"D66+Spans!$C$10","v":16},{"$f":"E66+Spans!$C$10","v":16},{"$f":"F66+Spans!$C$10","v":15},{"$f":"G66+Spans!$C$10","v":12}]
[null,400,19,16,18,15,17,null,400,{"$f":"C67+Spans!$C$10","v":19},{"$f":"D67+Spans!$C$10","v":16},{"$f":"E67+Spans!$C$10","v":18},{"$f":"F67+Spans!$C$10","v":15},{"$f":"G67+Spans!$C$10","v":17}]
[null,500,21,16,22,17,18,null,500,{"$f":"C68+Spans!$C$10","v":21},{"$f":"D68+Spans!$C$10","v":16},{"$f":"E68+Spans!$C$10","v":22},{"$f":"F68+Spans!$C$10","v":17},{"$f":"G68+Spans!$C$10","v":18}]
[null,1000,{"$f":"C68","v":21},{"$f":"D68","v":16},{"$f":"E68","v":22},{"$f":"F68","v":17},{"$f":"G68","v":18},null,1000,{"$f":"J68","v":21},{"$f":"K68","v":16},{"$f":"L68","v":22},{"$f":"M68","v":17},{"$f":"N68","v":18}]
[]
[null,null,null,null,null,null,null,null,"TABLE",6]
[null,"FEA Table:","Composite, 1/0 ACSR XLPE, Pine",null,null,null,null,null,"Span Shape:",2,3,4,5,6]
[null,"Span","Allowable Overstrike Length (ft)",null,null,null,null,null,"Span","Adjusted Allowable Overstrike Length (ft)"]
[null,"Len (ft)","Tangent","45° Turn","90° Turn","T-Tap","X-Tap",null,"Len (ft)","Tangent","45° Turn","90° Turn","T-Tap","X-Tap"]
[null,1,{"$f":"C76","v":6},{"$f":"D76","v":6},{"$f":"E76","v":8},{"$f":"F76","v":7},{"$f":"G76","v":3},null,1,{"$f":"J76","v":6},{"$f":"K76","v":6},{"$f":"L76","v":8},{"$f":"M76","v":7},{"$f":"N76","v":3}]
[null,50,6,6,8,7,3,null,50,{"$f":"C76+Spans!$C$10","v":6},{"$f":"D76+Spans!$C$10","v":6},{"$f":"E76+Spans!$C$10","v":8},{"$f":"F76+Spans!$C$10","v":7},{"$f":"G76+Spans!$C$10","v":3}]
[null,100,10,10,13,15,8,null,100,{"$f":"C77+Spans!$C$10","v":10},{"$f":"D77+Spans!$C$10","v":10},{"$f":"E77+Spans!$C$10","v":13},{"$f":"F77+Spans!$C$10","v":15},{"$f":"G77+Spans!$C$10","v":8}]
[null,150,15,15,18,16,11,null,150,{"$f":"C78+Spans!$C$10","v":15},{"$f":"D78+Spans!$C$10","v":15},{"$f":"E78+Spans!$C$10","v":18},{"$f":"F78+Spans!$C$10","v":16},{"$f":"G78+Spans!$C$10","v":11}]
[null,200,17,20,20,18,16,null,200,{"$f":"C79+Spans!$C$10","v":17},{"$f":"D79+Spans!$C$10","v":20},{"$f":"E79+Spans!$C$10","v":20},{"$f":"F79+Spans!$C$10","v":18},{"$f":"G79+Spans!$C$10","v":16}]
[null,300,22,22,21,20,20,null,300,{"$f":"C80+Spans!$C$10","v":22},{"$f":"D80+Spans!$C$10","v":22},{"$f":"E80+Spans!$C$10","v":21},{"$f":"F80+Spans!$C$10","v":20},{"$f":"G80+Spans!$C$10","v":20}]
[null,400,27,23,22,21,23,null,400,{"$f":"C81+Spans!$C$10","v":27},{"$f":"D81+Spans!$C$10","v":23},{"$f":"E81+Spans!$C$10","v":22},{"$f":"F81+Spans!$C$10","v":21},{"$f":"G81+Spans!$C$10","v":23}]
[null,500,32,27,27,22,27,null,500,{"$f":"C82+Spans!$C$10","v":32},{"$f":"D82+Spans!$C$10","v":27},{"$f":"E82+Spans!$C$10","v":27},{"$f":"F82+Spans!$C$10","v":22},{"$f":"G82+Spans!$C$10","v":27}]
[null,1000,{"$f":"C82","v":32},{"$f":"D82","v":27},{"$f":"E82","v":27},{"$f":"F82","v":22},{"$f":"G82","v":27},null,1000,{"$f":"J82","v":32},{"$f":"K82","v":27},{"$f":"L82","v":27},{"$f":"M82","v":22},{"$f":"N82","v":27}]
[]
[null,null,null,null,null,null,null,null,"TABLE",7]
[null,"FEA Table:","Composite, 1/0 ACSR XLPE, Oak",null,null,null,null,null,"Span Shape:",2,3,4,5,6]
[null,"Span","Allowable Overstrike Length (ft)",null,null,null,null,null,"Span","Adjusted Allowable Overstrike Length (ft)"]
[null,"Len (ft)","Tangent","45° Turn","90° Turn","T-Tap","X-Tap",null,"Len (ft)","Tangent","45° Turn","90° Turn","T-Tap","X-Tap"]
[null,1,{"$f":"C90","v":24},{"$f":"D90","v":24},{"$f":"E90","v":24},{"$f":"F90","v":24},{"$f":"G90","v":24},null,1,{"$f":"J90","v":24},{"$f":"K90","v":24},{"$f":"L90","v":24},{"$f":"M90","v":24},{"$f":"N90","v":24}]
[null,50,24,24,24,24,24,null,50,{"$f":"C90+Spans!$C$10","v":24},{"$f":"D90+Spans!$C$10","v":24},{"$f":"E90+Spans!$C$10","v":24},{"$f":"F90+Spans!$C$10","v":24},{"$f":"G90+Spans!$C$10","v":24}]
[null,100,24,24,24,24,24,null,100,{"$f":"C91+Spans!$C$10","v":24},{"$f":"D91+Spans!$C$10","v":24},{"$f":"E91+Spans!$C$10","v":24},{"$f":"F91+Spans!$C$10","v":24},{"$f":"G91+Spans!$C$10","v":24}]
[null,150,24,24,24,24,24,null,150,{"$f":"C92+Spans!$C$10","v":24},{"$f":"D92+Spans!$C$10","v":24},{"$f":"E92+Spans!$C$10","v":24},{"$f":"F92+Spans!$C$10","v":24},{"$f":"G92+Spans!$C$10","v":24}]
[null,200,24,24,24,24,24,null,200,{"$f":"C93+Spans!$C$10","v":24},{"$f":"D93+Spans!$C$10","v":24},{"$f":"E93+Spans!$C$10","v":24},{"$f":"F93+Spans!$C$10","v":24},{"$f":"G93+Spans!$C$10","v":24}]
[null,300,28,28,24,24,24,null,300,{"$f":"C94+Spans!$C$10","v":28},{"$f":"D94+Spans!$C$10","v":28},{"$f":"E94+Spans!$C$10","v":24},{"$f":"F94+Spans!$C$10","v":24},{"$f":"G94+Spans!$C$10","v":24}]
[null,400,30,30,27,27,24,null,400,{"$f":"C95+Spans!$C$10","v":30},{"$f":"D95+Spans!$C$10","v":30},{"$f":"E95+Spans!$C$10","v":27},{"$f":"F95+Spans!$C$10","v":27},{"$f":"G95+Spans!$C$10","v":24}]
[null,500,30,30,30,30,30,null,500,{"$f":"C96+Spans!$C$10","v":30},{"$f":"D96+Spans!$C$10","v":30},{"$f":"E96+Spans!$C$10","v":30},{"$f":"F96+Spans!$C$10","v":30},{"$f":"G96+Spans!$C$10","v":30}]
[null,1000,{"$f":"C96","v":30},{"$f":"D96","v":30},{"$f":"E96","v":30},{"$f":"F96","v":30},{"$f":"G96","v":30},null,1000,{"$f":"J96","v":30},{"$f":"K96","v":30},{"$f":"L96","v":30},{"$f":"M96","v":30},{"$f":"N96","v":30}]
[]
[null,null,null,null,null,null,null,null,"TABLE",8]
[null,"FEA Table:","Composite, 1/0 ACSR XLPE, Blue Gum / Eucalyptus",null,null,null,null,null,"Span Shape:",2,3,4,5,6]
[null,"Span","Allowable Overstrike Length (ft)",null,null,null,null,null,"Span","Adjusted Allowable Overstrike Length (ft)"]
[null,"Len (ft)","Tangent","45° Turn","90° Turn","T-Tap","X-Tap",null,"Len (ft)","Tangent","45° Turn","90° Turn","T-Tap","X-Tap"]
[null,1,{"$f":"C104","v":17},{"$f":"D104","v":17},{"$f":"E104","v":17},{"$f":"F104","v":17},{"$f":"G104","v":17},null,1,{"$f":"J104","v":17},{"$f":"K104","v":17},{"$f":"L104","v":17},{"$f":"M104","v":17},{"$f":"N104","v":17}]
[null,50,17,17,17,17,17,null,50,{"$f":"C104+Spans!$C$10","v":17},{"$f":"D104+Spans!$C$10","v":17},{"$f":"E104+Spans!$C$10","v":17},{"$f":"F104+Spans!$C$10","v":17},{"$f":"G104+Spans!$C$10","v":17}]
[null,100,17,17,17,17,17,null,100,{"$f":"C105+Spans!$C$10","v":17},{"$f":"D105+Spans!$C$10","v":17},{"$f":"E105+Spans!$C$10","v":17},{"$f":"F105+Spans!$C$10","v":17},{"$f":"G105+Spans!$C$10","v":17}]
[null,150,17,17,17,17,17,null,150,{"$f":"C106+Spans!$C$10","v":17},{"$f":"D106+Spans!$C$10","v":17},{"$f":"E106+Spans!$C$10","v":17},{"$f":"F106+Spans!$C$10","v":17},{"$f":"G106+Spans!$C$10","v":17}]
[null,200,17,17,17,17,17,null,200,{"$f":"C107+Spans!$C$10","v":17},{"$f":"D107+Spans!$C$10","v":17},{"$f":"E107+Spans!$C$10","v":17},{"$f":"F107+Spans!$C$10","v":17},{"$f":"G107+Spans!$C$10","v":17}]
[null,300,17,17,17,17,17,null,300,{"$f":"C108+Spans!$C$10","v":17},{"$f":"D108+Spans!$C$10","v":17},{"$f":"E108+Spans!$C$10","v":17},{"$f":"F108+Spans!$C$10","v":17},{"$f":"G108+Spans!$C$10","v":17}]
[null,400,17,17,17,17,17,null,400,{"$f":"C109+Spans!$C$10","v":17},{"$f":"D109+Spans!$C$10","v":17},{"$f":"E109+Spans!$C$10","v":17},{"$f":"F109+Spans!$C$10","v":17},{"$f":"G109+Spans!$C$10","v":17}]
[null,500,17,17,17,17,17,null,500,{"$f":"C110+Spans!$C$10","v":17},{"$f":"D110+Spans!$C$10","v":17},{"$f":"E110+Spans!$C$10","v":17},{"$f":"F110+Spans!$C$10","v":17},{"$f":"G110+Spans!$C$10","v":17}]
[null,1000,{"$f":"C110","v":17},{"$f":"D110","v":17},{"$f":"E110","v":17},{"$f":"F110","v":17},{"$f":"G110","v":17},null,1000,{"$f":"J110","v":17},{"$f":"K110","v":17},{"$f":"L110","v":17},{"$f":"M110","v":17},{"$f":"N110","v":17}]
[]
[null,null,null,null,null,null,null,null,"TABLE",9]
[null,"FEA Table:","Composite, 397.5 AAC XLPE, Douglas Fir",null,null,null,null,null,"Span Shape:",2,3,4,5,6]
[null,"Span","Allowable Overstrike Length (ft)",null,null,null,null,null,"Span","Adjusted Allowable Overstrike Length (ft)"]
[null,"Len (ft)","Tangent","45° Turn","90° Turn","T-Tap","X-Tap",null,"Len (ft)","Tangent","45° Turn","90° Turn","T-Tap","X-Tap"]
[null,1,{"$f":"C118","v":16},{"$f":"D118","v":16},{"$f":"E118","v":20},{"$f":"F118","v":24},{"$f":"G118","v":10},null,1,{"$f":"J118","v":16},{"$f":"K118","v":16},{"$f":"L118","v":20},{"$f":"M118","v":24},{"$f":"N118","v":10}]
[null,50,16,16,20,24,10,null,50,{"$f":"C118+Spans!$C$10","v":16},{"$f":"D118+Spans!$C$10","v":16},{"$f":"E118+Spans!$C$10","v":20},{"$f":"F118+Spans!$C$10","v":24},{"$f":"G118+Spans!$C$10","v":10}]
[null,100,16,23,30,25,14,null,100,{"$f":"C119+Spans!$C$10","v":16},{"$f":"D119+Spans!$C$10","v":23},{"$f":"E119+Spans!$C$10","v":30},{"$f":"F119+Spans!$C$10","v":25},{"$f":"G119+Spans!$C$10","v":14}]
[null,150,21,26,30,25,24,null,150,{"$f":"C120+Spans!$C$10","v":21},{"$f":"D120+Spans!$C$10","v":26},{"$f":"E120+Spans!$C$10","v":30},{"$f":"F120+Spans!$C$10","v":25},{"$f":"G120+Spans!$C$10","v":24}]
[null,200,26,31,30,25,26,null,200,{"$f":"C121+Spans!$C$10","v":26},{"$f":"D121+Spans!$C$10","v":31},{"$f":"E121+Spans!$C$10","v":30},{"$f":"F121+Spans!$C$10","v":25},{"$f":"G121+Spans!$C$10","v":26}]
[null,300,31,31,30,27,29,null,300,{"$f":"C122+Spans!$C$10","v":31},{"$f":"D122+Spans!$C$10","v":31},{"$f":"E122+Spans!$C$10","v":30},{"$f":"F122+Spans!$C$10","v":27},{"$f":"G122+Spans!$C$10","v":29}]
[null,400,36,34,35,30,31,null,400,{"$f":"C123+Spans!$C$10","v":36},{"$f":"D123+Spans!$C$10","v":34},{"$f":"E123+Spans!$C$10","v":35},{"$f":"F123+Spans!$C$10","v":30},{"$f":"G123+Spans!$C$10","v":31}]
[null,500,36,34,37,34,34,null,500,{"$f":"C124+Spans!$C$10","v":36},{"$f":"D124+Spans!$C$10","v":34},{"$f":"E124+Spans!$C$10","v":37},{"$f":"F124+Spans!$C$10","v":34},{"$f":"G124+Spans!$C$10","v":34}]
[null,1000,{"$f":"C124","v":36},{"$f":"D124","v":34},{"$f":"E124","v":37},{"$f":"F124","v":34},{"$f":"G124","v":34},null,1000,{"$f":"J124","v":36},{"$f":"K124","v":34},{"$f":"L124","v":37},{"$f":"M124","v":34},{"$f":"N124","v":34}]
[]
[null,null,null,null,null,null,null,null,"TABLE",10]
[null,"FEA Table:","Composite, 397.5 AAC XLPE, Pine",null,null,null,null,null,"Span Shape:",2,3,4,5,6]
[null,"Span","Allowable Overstrike Length (ft)",null,null,null,null,null,"Span","Adjusted Allowable Overstrike Length (ft)"]
[null,"Len (ft)","Tangent","45° Turn","90° Turn","T-Tap","X-Tap",null,"Len (ft)","Tangent","45° Turn","90° Turn","T-Tap","X-Tap"]
[null,1,{"$f":"C132","v":19},{"$f":"D132","v":19},{"$f":"E132","v":30},{"$f":"F132","v":28},{"$f":"G132","v":18},null,1,{"$f":"J132","v":19},{"$f":"K132","v":19},{"$f":"L132","v":30},{"$f":"M132","v":28},{"$f":"N132","v":18}]
[null,50,19,19,30,28,18,null,50,{"$f":"C132+Spans!$C$10","v":19},{"$f":"D132+Spans!$C$10","v":19},{"$f":"E132+Spans!$C$10","v":30},{"$f":"F132+Spans!$C$10","v":28},{"$f":"G132+Spans!$C$10","v":18}]
[null,100,21,28,35,31,20,null,100,{"$f":"C133+Spans!$C$10","v":21},{"$f":"D133+Spans!$C$10","v":28},{"$f":"E133+Spans!$C$10","v":35},{"$f":"F133+Spans!$C$10","v":31},{"$f":"G133+Spans!$C$10","v":20}]
[null,150,26,37,36,32,27,null,150,{"$f":"C134+Spans!$C$10","v":26},{"$f":"D134+Spans!$C$10","v":37},{"$f":"E134+Spans!$C$10","v":36},{"$f":"F134+Spans!$C$10","v":32},{"$f":"G134+Spans!$C$10","v":27}]
[null,200,32,41,37,34,32,null,200,{"$f":"C135+Spans!$C$10","v":32},{"$f":"D135+Spans!$C$10","v":41},{"$f":"E135+Spans!$C$10","v":37},{"$f":"F135+Spans!$C$10","v":34},{"$f":"G135+Spans!$C$10","v":32}]
[null,300,36,41,39,35,33,null,300,{"$f":"C136+Spans!$C$10","v":36},{"$f":"D136+Spans!$C$10","v":41},{"$f":"E136+Spans!$C$10","v":39},{"$f":"F136+Spans!$C$10","v":35},{"$f":"G136+Spans!$C$10","v":33}]
[null,400,42,42,42,37,37,null,400,{"$f":"C137+Spans!$C$10","v":42},{"$f":"D137+Spans!$C$10","v":42},{"$f":"E137+Spans!$C$10","v":42},{"$f":"F137+Spans!$C$10","v":37},{"$f":"G137+Spans!$C$10","v":37}]
[null,500,46,47,43,40,42,null,500,{"$f":"C138+Spans!$C$10","v":46},{"$f":"D138+Spans!$C$10","v":47},{"$f":"E138+Spans!$C$10","v":43},{"$f":"F138+Spans!$C$10","v":40},{"$f":"G138+Spans!$C$10","v":42}]
[null,1000,{"$f":"C138","v":46},{"$f":"D138","v":47},{"$f":"E138","v":43},{"$f":"F138","v":40},{"$f":"G138","v":42},null,1000,{"$f":"J138","v":46},{"$f":"K138","v":47},{"$f":"L138","v":43},{"$f":"M138","v":40},{"$f":"N138","v":42}]
[]
[null,null,null,null,null,null,null,null,"TABLE",11]
[null,"FEA Table:","Composite, 397.5 AAC XLPE, Oak",null,null,null,null,null,"Span Shape:",2,3,4,5,6]
[null,"Span","Allowable Overstrike Length (ft)",null,null,null,null,null,"Span","Adjusted Allowable Overstrike Length (ft)"]
[null,"Len (ft)","Tangent","45° Turn","90° Turn","T-Tap","X-Tap",null,"Len (ft)","Tangent","45° Turn","90° Turn","T-Tap","X-Tap"]
[null,1,{"$f":"C146","v":30},{"$f":"D146","v":30},{"$f":"E146","v":30},{"$f":"F146","v":28},{"$f":"G146","v":28},null,1,{"$f":"J146","v":30},{"$f":"K146","v":30},{"$f":"L146","v":30},{"$f":"M146","v":28},{"$f":"N146","v":28}]
[null,50,30,30,30,28,28,null,50,{"$f":"C146+Spans!$C$10","v":30},{"$f":"D146+Spans!$C$10","v":30},{"$f":"E146+Spans!$C$10","v":30},{"$f":"F146+Spans!$C$10","v":28},{"$f":"G146+Spans!$C$10","v":28}]
[null,100,30,30,30,28,30,null,100,{"$f":"C147+Spans!$C$10","v":30},{"$f":"D147+Spans!$C$10","v":30},{"$f":"E147+Spans!$C$10","v":30},{"$f":"F147+Spans!$C$10","v":28},{"$f":"G147+Spans!$C$10","v":30}]
[null,150,30,30,30,30,30,null,150,{"$f":"C148+Spans!$C$10","v":30},{"$f":"D148+Spans!$C$10","v":30},{"$f":"E148+Spans!$C$10","v":30},{"$f":"F148+Spans!$C$10","v":30},{"$f":"G148+Spans!$C$10","v":30}]
[null,200,30,30,30,30,30,null,200,{"$f":"C149+Spans!$C$10","v":30},{"$f":"D149+Spans!$C$10","v":30},{"$f":"E149+Spans!$C$10","v":30},{"$f":"F149+Spans!$C$10","v":30},{"$f":"G149+Spans!$C$10","v":30}]
[null,300,30,30,30,30,30,null,300,{"$f":"C150+Spans!$C$10","v":30},{"$f":"D150+Spans!$C$10","v":30},{"$f":"E150+Spans!$C$10","v":30},{"$f":"F150+Spans!$C$10","v":30},{"$f":"G150+Spans!$C$10","v":30}]
[null,400,30,30,30,30,30,null,400,{"$f":"C151+Spans!$C$10","v":30},{"$f":"D151+Spans!$C$10","v":30},{"$f":"E151+Spans!$C$10","v":30},{"$f":"F151+Spans!$C$10","v":30},{"$f":"G151+Spans!$C$10","v":30}]
[null,500,30,30,30,30,30,null,500,{"$f":"C152+Spans!$C$10","v":30},{"$f":"D152+Spans!$C$10","v":30},{"$f":"E152+Spans!$C$10","v":30},{"$f":"F152+Spans!$C$10","v":30},{"$f":"G152+Spans!$C$10","v":30}]
[null,1000,{"$f":"C152","v":30},{"$f":"D152","v":30},{"$f":"E152","v":30},{"$f":"F152","v":30},{"$f":"G152","v":30},null,1000,{"$f":"J152","v":30},{"$f":"K152","v":30},{"$f":"L152","v":30},{"$f":"M152","v":30},{"$f":"N152","v":30}]
[]
[null,null,null,null,null,null,null,null,"TABLE",12]
[null,"FEA Table:","Composite, 397.5 AAC XLPE, Blue Gum / Eucalyptus",null,null,null,null,null,"Span Shape:",2,3,4,5,6]
[null,"Span","Allowable Overstrike Length (ft)",null,null,null,null,null,"Span","Adjusted Allowable Overstrike Length (ft)"]
[null,"Len (ft)","Tangent","45° Turn","90° Turn","T-Tap","X-Tap",null,"Len (ft)","Tangent","45° Turn","90° Turn","T-Tap","X-Tap"]
[null,1,{"$f":"C160","v":30},{"$f":"D160","v":30},{"$f":"E160","v":30},{"$f":"F160","v":28},{"$f":"G160","v":28},null,1,{"$f":"J160","v":30},{"$f":"K160","v":30},{"$f":"L160","v":30},{"$f":"M160","v":28},{"$f":"N160","v":28}]
[null,50,30,30,30,28,28,null,50,{"$f":"C160+Spans!$C$10","v":30},{"$f":"D160+Spans!$C$10","v":30},{"$f":"E160+Spans!$C$10","v":30},{"$f":"F160+Spans!$C$10","v":28},{"$f":"G160+Spans!$C$10","v":28}]
[null,100,30,30,30,28,30,null,100,{"$f":"C161+Spans!$C$10","v":30},{"$f":"D161+Spans!$C$10","v":30},{"$f":"E161+Spans!$C$10","v":30},{"$f":"F161+Spans!$C$10","v":28},{"$f":"G161+Spans!$C$10","v":30}]
[null,150,30,30,30,30,30,null,150,{"$f":"C162+Spans!$C$10","v":30},{"$f":"D162+Spans!$C$10","v":30},{"$f":"E162+Spans!$C$10","v":30},{"$f":"F162+Spans!$C$10","v":30},{"$f":"G162+Spans!$C$10","v":30}]
[null,200,30,30,30,30,30,null,200,{"$f":"C163+Spans!$C$10","v":30},{"$f":"D163+Spans!$C$10","v":30},{"$f":"E163+Spans!$C$10","v":30},{"$f":"F163+Spans!$C$10","v":30},{"$f":"G163+Spans!$C$10","v":30}]
[null,300,30,30,30,30,30,null,300,{"$f":"C164+Spans!$C$10","v":30},{"$f":"D164+Spans!$C$10","v":30},{"$f":"E164+Spans!$C$10","v":30},{"$f":"F164+Spans!$C$10","v":30},{"$f":"G164+Spans!$C$10","v":30}]
[null,400,30,30,30,30,30,null,400,{"$f":"C165+Spans!$C$10","v":30},{"$f":"D165+Spans!$C$10","v":30},{"$f":"E165+Spans!$C$10","v":30},{"$f":"F165+Spans!$C$10","v":30},{"$f":"G165+Spans!$C$10","v":30}]
[null,500,30,30,30,30,30,null,500,{"$f":"C166+Spans!$C$10","v":30},{"$f":"D166+Spans!$C$10","v":30},{"$f":"E166+Spans!$C$10","v":30},{"$f":"F166+Spans!$C$10","v":30},{"$f":"G166+Spans!$C$10","v":30}]
[null,1000,{"$f":"C166","v":30},{"$f":"D166","v":30},{"$f":"E166","v":30},{"$f":"F166","v":30},{"$f":"G166","v":30},null,1000,{"$f":"J166","v":30},{"$f":"K166","v":30},{"$f":"L166","v":30},{"$f":"M166","v":30},{"$f":"N166","v":30}]
[]
[null,null,null,null,null,null,null,null,"TABLE",13]
[null,"FEA Table:",null,null,null,null,null,null,"Span Shape:",2,3,4,5,6]
[null,"Span","Allowable Overstrike Length (ft)",null,null,null,null,null,"Span","Adjusted Allowable Overstrike Length (ft)"]
[null,"Len (ft)","Tangent","45° Turn","90° Turn","T-Tap","X-Tap",null,"Len (ft)","Tangent","45° Turn","90° Turn","T-Tap","X-Tap"]
[null,1,{"$f":"C174","v":0},{"$f":"D174","v":0},{"$f":"E174","v":0},{"$f":"F174","v":0},{"$f":"G174","v":0},null,1,{"$f":"J174","v":0},{"$f":"K174","v":0},{"$f":"L174","v":0},{"$f":"M174","v":0},{"$f":"N174","v":0}]
[null,50,null,null,null,null,null,null,50,{"$f":"C174+Spans!$C$10","v":0},{"$f":"D174+Spans!$C$10","v":0},{"$f":"E174+Spans!$C$10","v":0},{"$f":"F174+Spans!$C$10","v":0},{"$f":"G174+Spans!$C$10","v":0}]
[null,100,null,null,null,null,null,null,100,{"$f":"C175+Spans!$C$10","v":0},{"$f":"D175+Spans!$C$10","v":0},{"$f":"E175+Spans!$C$10","v":0},{"$f":"F175+Spans!$C$10","v":0},{"$f":"G175+Spans!$C$10","v":0}]
[null,150,null,null,null,null,null,null,150,{"$f":"C176+Spans!$C$10","v":0},{"$f":"D176+Spans!$C$10","v":0},{"$f":"E176+Spans!$C$10","v":0},{"$f":"F176+Spans!$C$10","v":0},{"$f":"G176+Spans!$C$10","v":0}]
[null,200,null,null,null,null,null,null,200,{"$f":"C177+Spans!$C$10","v":0},{"$f":"D177+Spans!$C$10","v":0},{"$f":"E177+Spans!$C$10","v":0},{"$f":"F177+Spans!$C$10","v":0},{"$f":"G177+Spans!$C$10","v":0}]
[null,300,null,null,null,null,null,null,300,{"$f":"C178+Spans!$C$10","v":0},{"$f":"D178+Spans!$C$10","v":0},{"$f":"E178+Spans!$C$10","v":0},{"$f":"F178+Spans!$C$10","v":0},{"$f":"G178+Spans!$C$10","v":0}]
[null,400,null,null,null,null,null,null,400,{"$f":"C179+Spans!$C$10","v":0},{"$f":"D179+Spans!$C$10","v":0},{"$f":"E179+Spans!$C$10","v":0},{"$f":"F179+Spans!$C$10","v":0},{"$f":"G179+Spans!$C$10","v":0}]
[null,500,null,null,null,null,null,null,500,{"$f":"C180+Spans!$C$10","v":0},{"$f":"D180+Spans!$C$10","v":0},{"$f":"E180+Spans!$C$10","v":0},{"$f":"F180+Spans!$C$10","v":0},{"$f":"G180+Spans!$C$10","v":0}]
[null,1000,{"$f":"C180","v":0},{"$f":"D180","v":0},{"$f":"E180","v":0},{"$f":"F180","v":0},{"$f":"G180","v":0},null,1000,{"$f":"J180","v":0},{"$f":"K180","v":0},{"$f":"L180","v":0},{"$f":"M180","v":0},{"$f":"N180","v":0}]
[]
[null,null,null,null,null,null,null,null,"TABLE",14]
[null,"FEA Table:",null,null,null,null,null,null,"Span Shape:",2,3,4,5,6]
[null,"Span","Allowable Overstrike Length (ft)",null,null,null,null,null,"Span","Adjusted Allowable Overstrike Length (ft)"]
[null,"Len (ft)","Tangent","45° Turn","90° Turn","T-Tap","X-Tap",null,"Len (ft)","Tangent","45° Turn","90° Turn","T-Tap","X-Tap"]
[null,1,{"$f":"C188","v":0},{"$f":"D188","v":0},{"$f":"E188","v":0},{"$f":"F188","v":0},{"$f":"G188","v":0},null,1,{"$f":"J188","v":0},{"$f":"K188","v":0},{"$f":"L188","v":0},{"$f":"M188","v":0},{"$f":"N188","v":0}]
[null,50,null,null,null,null,null,null,50,{"$f":"C188+Spans!$C$10","v":0},{"$f":"D188+Spans!$C$10","v":0},{"$f":"E188+Spans!$C$10","v":0},{"$f":"F188+Spans!$C$10","v":0},{"$f":"G188+Spans!$C$10","v":0}]
[null,100,null,null,null,null,null,null,100,{"$f":"C189+Spans!$C$10","v":0},{"$f":"D189+Spans!$C$10","v":0},{"$f":"E189+Spans!$C$10","v":0},{"$f":"F189+Spans!$C$10","v":0},{"$f":"G189+Spans!$C$10","v":0}]
[null,150,null,null,null,null,null,null,150,{"$f":"C190+Spans!$C$10","v":0},{"$f":"D190+Spans!$C$10","v":0},{"$f":"E190+Spans!$C$10","v":0},{"$f":"F190+Spans!$C$10","v":0},{"$f":"G190+Spans!$C$10","v":0}]
[null,200,null,null,null,null,null,null,200,{"$f":"C191+Spans!$C$10","v":0},{"$f":"D191+Spans!$C$10","v":0},{"$f":"E191+Spans!$C$10","v":0},{"$f":"F191+Spans!$C$10","v":0},{"$f":"G191+Spans!$C$10","v":0}]
[null,300,null,null,null,null,null,null,300,{"$f":"C192+Spans!$C$10","v":0},{"$f":"D192+Spans!$C$10","v":0},{"$f":"E192+Spans!$C$10","v":0},{"$f":"F192+Spans!$C$10","v":0},{"$f":"G192+Spans!$C$10","v":0}]
[null,400,null,null,null,null,null,null,400,{"$f":"C193+Spans!$C$10","v":0},{"$f":"D193+Spans!$C$10","v":0},{"$f":"E193+Spans!$C$10","v":0},{"$f":"F193+Spans!$C$10","v":0},{"$f":"G193+Spans!$C$10","v":0}]
[null,500,null,null,null,null,null,null,500,{"$f":"C194+Spans!$C$10","v":0},{"$f":"D194+Spans!$C$10","v":0},{"$f":"E194+Spans!$C$10","v":0},{"$f":"F194+Spans!$C$10","v":0},{"$f":"G194+Spans!$C$10","v":0}]
[null,1000,{"$f":"C194","v":0},{"$f":"D194","v":0},{"$f":"E194","v":0},{"$f":"F194","v":0},{"$f":"G194","v":0},null,1000,{"$f":"J194","v":0},{"$f":"K194","v":0},{"$f":"L194","v":0},{"$f":"M194","v":0},{"$f":"N194","v":0}]
[]
[null,null,null,null,null,null,null,null,"TABLE",15]
[null,"FEA Table:","Composite, 715.5 AAC XLPE, Oak",null,null,null,null,null,"Span Shape:",2,3,4,5,6]
[null,"Span","Allowable Overstrike Length (ft)",null,null,null,null,null,"Span","Adjusted Allowable Overstrike Length (ft)"]
[null,"Len (ft)","Tangent","45° Turn","90° Turn","T-Tap","X-Tap",null,"Len (ft)","Tangent","45° Turn","90° Turn","T-Tap","X-Tap"]
[null,1,{"$f":"C202","v":30},{"$f":"D202","v":30},{"$f":"E202","v":30},{"$f":"F202","v":30},{"$f":"G202","v":30},null,1,{"$f":"J202","v":30},{"$f":"K202","v":30},{"$f":"L202","v":30},{"$f":"M202","v":30},{"$f":"N202","v":30}]
[null,50,30,30,30,30,30,null,50,{"$f":"C202+Spans!$C$10","v":30},{"$f":"D202+Spans!$C$10","v":30},{"$f":"E202+Spans!$C$10","v":30},{"$f":"F202+Spans!$C$10","v":30},{"$f":"G202+Spans!$C$10","v":30}]
[null,100,30,30,30,30,30,null,100,{"$f":"C203+Spans!$C$10","v":30},{"$f":"D203+Spans!$C$10","v":30},{"$f":"E203+Spans!$C$10","v":30},{"$f":"F203+Spans!$C$10","v":30},{"$f":"G203+Spans!$C$10","v":30}]
[null,150,30,30,30,30,30,null,150,{"$f":"C204+Spans!$C$10","v":30},{"$f":"D204+Spans!$C$10","v":30},{"$f":"E204+Spans!$C$10","v":30},{"$f":"F204+Spans!$C$10","v":30},{"$f":"G204+Spans!$C$10","v":30}]
[null,200,30,30,30,30,30,null,200,{"$f":"C205+Spans!$C$10","v":30},{"$f":"D205+Spans!$C$10","v":30},{"$f":"E205+Spans!$C$10","v":30},{"$f":"F205+Spans!$C$10","v":30},{"$f":"G205+Spans!$C$10","v":30}]
[null,300,30,30,30,30,30,null,300,{"$f":"C206+Spans!$C$10","v":30},{"$f":"D206+Spans!$C$10","v":30},{"$f":"E206+Spans!$C$10","v":30},{"$f":"F206+Spans!$C$10","v":30},{"$f":"G206+Spans!$C$10","v":30}]
[null,400,30,30,30,30,30,null,400,{"$f":"C207+Spans!$C$10","v":30},{"$f":"D207+Spans!$C$10","v":30},{"$f":"E207+Spans!$C$10","v":30},{"$f":"F207+Spans!$C$10","v":30},{"$f":"G207+Spans!$C$10","v":30}]
[null,500,30,30,30,30,30,null,500,{"$f":"C208+Spans!$C$10","v":30},{"$f":"D208+Spans!$C$10","v":30},{"$f":"E208+Spans!$C$10","v":30},{"$f":"F208+Spans!$C$10","v":30},{"$f":"G208+Spans!$C$10","v":30}]
[null,1000,{"$f":"C208","v":30},{"$f":"D208","v":30},{"$f":"E208","v":30},{"$f":"F208","v":30},{"$f":"G208","v":30},null,1000,{"$f":"J208","v":30},{"$f":"K208","v":30},{"$f":"L208","v":30},{"$f":"M208","v":30},{"$f":"N208","v":30}]
[]
[null,null,null,null,null,null,null,null,"TABLE",16]
[null,"FEA Table:",null,null,null,null,null,null,"Span Shape:",2,3,4,5,6]
[null,"Span","Allowable Overstrike Length (ft)",null,null,null,null,null,"Span","Adjusted Allowable Overstrike Length (ft)"]
[null,"Len (ft)","Tangent","45° Turn","90° Turn","T-Tap","X-Tap",null,"Len (ft)","Tangent","45° Turn","90° Turn","T-Tap","X-Tap"]
[null,1,{"$f":"C216","v":0},{"$f":"D216","v":0},{"$f":"E216","v":0},{"$f":"F216","v":0},{"$f":"G216","v":0},null,1,{"$f":"J216","v":0},{"$f":"K216","v":0},{"$f":"L216","v":0},{"$f":"M216","v":0},{"$f":"N216","v":0}]
[null,50,null,null,null,null,null,null,50,{"$f":"C216+Spans!$C$10","v":0},{"$f":"D216+Spans!$C$10","v":0},{"$f":"E216+Spans!$C$10","v":0},{"$f":"F216+Spans!$C$10","v":0},{"$f":"G216+Spans!$C$10","v":0}]
[null,100,null,null,null,null,null,null,100,{"$f":"C217+Spans!$C$10","v":0},{"$f":"D217+Spans!$C$10","v":0},{"$f":"E217+Spans!$C$10","v":0},{"$f":"F217+Spans!$C$10","v":0},{"$f":"G217+Spans!$C$10","v":0}]
[null,150,null,null,null,null,null,null,150,{"$f":"C218+Spans!$C$10","v":0},{"$f":"D218+Spans!$C$10","v":0},{"$f":"E218+Spans!$C$10","v":0},{"$f":"F218+Spans!$C$10","v":0},{"$f":"G218+Spans!$C$10","v":0}]
[null,200,null,null,null,null,null,null,200,{"$f":"C219+Spans!$C$10","v":0},{"$f":"D219+Spans!$C$10","v":0},{"$f":"E219+Spans!$C$10","v":0},{"$f":"F219+Spans!$C$10","v":0},{"$f":"G219+Spans!$C$10","v":0}]
[null,300,null,null,null,null,null,null,300,{"$f":"C220+Spans!$C$10","v":0},{"$f":"D220+Spans!$C$10","v":0},{"$f":"E220+Spans!$C$10","v":0},{"$f":"F220+Spans!$C$10","v":0},{"$f":"G220+Spans!$C$10","v":0}]
[null,400,null,null,null,null,null,null,400,{"$f":"C221+Spans!$C$10","v":0},{"$f":"D221+Spans!$C$10","v":0},{"$f":"E221+Spans!$C$10","v":0},{"$f":"F221+Spans!$C$10","v":0},{"$f":"G221+Spans!$C$10","v":0}]
[null,500,null,null,null,null,null,null,500,{"$f":"C222+Spans!$C$10","v":0},{"$f":"D222+Spans!$C$10","v":0},{"$f":"E222+Spans!$C$10","v":0},{"$f":"F222+Spans!$C$10","v":0},{"$f":"G222+Spans!$C$10","v":0}]
[null,1000,{"$f":"C222","v":0},{"$f":"D222","v":0},{"$f":"E222","v":0},{"$f":"F222","v":0},{"$f":"G222","v":0},null,1000,{"$f":"J222","v":0},{"$f":"K222","v":0},{"$f":"L222","v":0},{"$f":"M222","v":0},{"$f":"N222","v":0}]
[]
[null,null,null,null,null,null,null,null,"TABLE",17]
[null,"Base Table:",null,null,null,null,null,null,"Span Shape:",2,3,4,5,6]
[null,"Span","Allowable Overstrike Length (ft)",null,null,null,null,null,"Span","Adjusted Allowable Overstrike Length (ft)"]
[null,"Len (ft)","Tangent","45° Turn","90° Turn","T-Tap","X-Tap",null,"Len (ft)","Tangent","45° Turn","90° Turn","T-Tap","X-Tap"]
[null,1,{"$f":"C230","v":0},{"$f":"D230","v":0},{"$f":"E230","v":0},{"$f":"F230","v":0},{"$f":"G230","v":0},null,1,{"$f":"J230","v":0},{"$f":"K230","v":0},{"$f":"L230","v":0},{"$f":"M230","v":0},{"$f":"N230","v":0}]
[null,50,null,null,null,null,null,null,50,{"$f":"C230+Spans!$C$10","v":0},{"$f":"D230+Spans!$C$10","v":0},{"$f":"E230+Spans!$C$10","v":0},{"$f":"F230+Spans!$C$10","v":0},{"$f":"G230+Spans!$C$10","v":0}]
[null,100,null,null,null,null,null,null,100,{"$f":"C231+Spans!$C$10","v":0},{"$f":"D231+Spans!$C$10","v":0},{"$f":"E231+Spans!$C$10","v":0},{"$f":"F231+Spans!$C$10","v":0},{"$f":"G231+Spans!$C$10","v":0}]
[null,150,null,null,null,null,null,null,150,{"$f":"C232+Spans!$C$10","v":0},{"$f":"D232+Spans!$C$10","v":0},{"$f":"E232+Spans!$C$10","v":0},{"$f":"F232+Spans!$C$10","v":0},{"$f":"G232+Spans!$C$10","v":0}]
[null,200,null,null,null,null,null,null,200,{"$f":"C233+Spans!$C$10","v":0},{"$f":"D233+Spans!$C$10","v":0},{"$f":"E233+Spans!$C$10","v":0},{"$f":"F233+Spans!$C$10","v":0},{"$f":"G233+Spans!$C$10","v":0}]
[null,300,null,null,null,null,null,null,300,{"$f":"C234+Spans!$C$10","v":0},{"$f":"D234+Spans!$C$10","v":0},{"$f":"E234+Spans!$C$10","v":0},{"$f":"F234+Spans!$C$10","v":0},{"$f":"G234+Spans!$C$10","v":0}]
[null,400,null,null,null,null,null,null,400,{"$f":"C235+Spans!$C$10","v":0},{"$f":"D235+Spans!$C$10","v":0},{"$f":"E235+Spans!$C$10","v":0},{"$f":"F235+Spans!$C$10","v":0},{"$f":"G235+Spans!$C$10","v":0}]
[null,500,null,null,null,null,null,null,500,{"$f":"C236+Spans!$C$10","v":0},{"$f":"D236+Spans!$C$10","v":0},{"$f":"E236+Spans!$C$10","v":0},{"$f":"F236+Spans!$C$10","v":0},{"$f":"G236+Spans!$C$10","v":0}]
[null,1000,{"$f":"C236","v":0},{"$f":"D236","v":0},{"$f":"E236","v":0},{"$f":"F236","v":0},{"$f":"G236","v":0},null,1000,{"$f":"J236","v":0},{"$f":"K236","v":0},{"$f":"L236","v":0},{"$f":"M236","v":0},{"$f":"N236","v":0}]
[]
[null,null,null,null,null,null,null,null,"TABLE",18]
[null,"FEA Table:",null,null,null,null,null,null,"Span Shape:",2,3,4,5,6]
[null,"Span","Allowable Overstrike Length (ft)",null,null,null,null,null,"Span","Adjusted Allowable Overstrike Length (ft)"]
[null,"Len (ft)","Tangent","45° Turn","90° Turn","T-Tap","X-Tap",null,"Len (ft)","Tangent","45° Turn","90° Turn","T-Tap","X-Tap"]
[null,1,{"$f":"C244","v":0},{"$f":"D244","v":0},{"$f":"E244","v":0},{"$f":"F244","v":0},{"$f":"G244","v":0},null,1,{"$f":"J244","v":0},{"$f":"K244","v":0},{"$f":"L244","v":0},{"$f":"M244","v":0},{"$f":"N244","v":0}]
[null,50,null,null,null,null,null,null,50,{"$f":"C244+Spans!$C$10","v":0},{"$f":"D244+Spans!$C$10","v":0},{"$f":"E244+Spans!$C$10","v":0},{"$f":"F244+Spans!$C$10","v":0},{"$f":"G244+Spans!$C$10","v":0}]
[null,100,null,null,null,null,null,null,100,{"$f":"C245+Spans!$C$10","v":0},{"$f":"D245+Spans!$C$10","v":0},{"$f":"E245+Spans!$C$10","v":0},{"$f":"F245+Spans!$C$10","v":0},{"$f":"G245+Spans!$C$10","v":0}]
[null,150,null,null,null,null,null,null,150,{"$f":"C246+Spans!$C$10","v":0},{"$f":"D246+Spans!$C$10","v":0},{"$f":"E246+Spans!$C$10","v":0},{"$f":"F246+Spans!$C$10","v":0},{"$f":"G246+Spans!$C$10","v":0}]
[null,200,null,null,null,null,null,null,200,{"$f":"C247+Spans!$C$10","v":0},{"$f":"D247+Spans!$C$10","v":0},{"$f":"E247+Spans!$C$10","v":0},{"$f":"F247+Spans!$C$10","v":0},{"$f":"G247+Spans!$C$10","v":0}]
[null,300,null,null,null,null,null,null,300,{"$f":"C248+Spans!$C$10","v":0},{"$f":"D248+Spans!$C$10","v":0},{"$f":"E248+Spans!$C$10","v":0},{"$f":"F248+Spans!$C$10","v":0},{"$f":"G248+Spans!$C$10","v":0}]
[null,400,null,null,null,null,null,null,400,{"$f":"C249+Spans!$C$10","v":0},{"$f":"D249+Spans!$C$10","v":0},{"$f":"E249+Spans!$C$10","v":0},{"$f":"F249+Spans!$C$10","v":0},{"$f":"G249+Spans!$C$10","v":0}]
[null,500,null,null,null,null,null,null,500,{"$f":"C250+Spans!$C$10","v":0},{"$f":"D250+Spans!$C$10","v":0},{"$f":"E250+Spans!$C$10","v":0},{"$f":"F250+Spans!$C$10","v":0},{"$f":"G250+Spans!$C$10","v":0}]
[null,1000,{"$f":"C250","v":0},{"$f":"D250","v":0},{"$f":"E250","v":0},{"$f":"F250","v":0},{"$f":"G250","v":0},null,1000,{"$f":"J250","v":0},{"$f":"K250","v":0},{"$f":"L250","v":0},{"$f":"M250","v":0},{"$f":"N250","v":0}]
[]
[null,null,null,null,null,null,null,null,"TABLE",19]
[null,"FEA Table:",null,null,null,null,null,null,"Span Shape:",2,3,4,5,6]
[null,"Span","Allowable Overstrike Length (ft)",null,null,null,null,null,"Span","Adjusted Allowable Overstrike Length (ft)"]
[null,"Len (ft)","Tangent","45° Turn","90° Turn","T-Tap","X-Tap",null,"Len (ft)","Tangent","45° Turn","90° Turn","T-Tap","X-Tap"]
[null,1,{"$f":"C258","v":0},{"$f":"D258","v":0},{"$f":"E258","v":0},{"$f":"F258","v":0},{"$f":"G258","v":0},null,1,{"$f":"J258","v":0},{"$f":"K258","v":0},{"$f":"L258","v":0},{"$f":"M258","v":0},{"$f":"N258","v":0}]
[null,50,null,null,null,null,null,null,50,{"$f":"C258+Spans!$C$10","v":0},{"$f":"D258+Spans!$C$10","v":0},{"$f":"E258+Spans!$C$10","v":0},{"$f":"F258+Spans!$C$10","v":0},{"$f":"G258+Spans!$C$10","v":0}]
[null,100,null,null,null,null,null,null,100,{"$f":"C259+Spans!$C$10","v":0},{"$f":"D259+Spans!$C$10","v":0},{"$f":"E259+Spans!$C$10","v":0},{"$f":"F259+Spans!$C$10","v":0},{"$f":"G259+Spans!$C$10","v":0}]
[null,150,null,null,null,null,null,null,150,{"$f":"C260+Spans!$C$10","v":0},{"$f":"D260+Spans!$C$10","v":0},{"$f":"E260+Spans!$C$10","v":0},{"$f":"F260+Spans!$C$10","v":0},{"$f":"G260+Spans!$C$10","v":0}]
[null,200,null,null,null,null,null,null,200,{"$f":"C261+Spans!$C$10","v":0},{"$f":"D261+Spans!$C$10","v":0},{"$f":"E261+Spans!$C$10","v":0},{"$f":"F261+Spans!$C$10","v":0},{"$f":"G261+Spans!$C$10","v":0}]
[null,300,null,null,null,null,null,null,300,{"$f":"C262+Spans!$C$10","v":0},{"$f":"D262+Spans!$C$10","v":0},{"$f":"E262+Spans!$C$10","v":0},{"$f":"F262+Spans!$C$10","v":0},{"$f":"G262+Spans!$C$10","v":0}]
[null,400,null,null,null,null,null,null,400,{"$f":"C263+Spans!$C$10","v":0},{"$f":"D263+Spans!$C$10","v":0},{"$f":"E263+Spans!$C$10","v":0},{"$f":"F263+Spans!$C$10","v":0},{"$f":"G263+Spans!$C$10","v":0}]
[null,500,null,null,null,null,null,null,500,{"$f":"C264+Spans!$C$10","v":0},{"$f":"D264+Spans!$C$10","v":0},{"$f":"E264+Spans!$C$10","v":0},{"$f":"F264+Spans!$C$10","v":0},{"$f":"G264+Spans!$C$10","v":0}]
[null,1000,{"$f":"C264","v":0},{"$f":"D264","v":0},{"$f":"E264","v":0},{"$f":"F264","v":0},{"$f":"G264","v":0},null,1000,{"$f":"J264","v":0},{"$f":"K264","v":0},{"$f":"L264","v":0},{"$f":"M264","v":0},{"$f":"N264","v":0}]
[]
[null,null,null,null,null,null,null,null,"TABLE",20]
[null,"FEA Table:",null,null,null,null,null,null,"Span Shape:",2,3,4,5,6]
[null,"Span","Allowable Overstrike Length (ft)",null,null,null,null,null,"Span","Adjusted Allowable Overstrike Length (ft)"]
[null,"Len (ft)","Tangent","45° Turn","90° Turn","T-Tap","X-Tap",null,"Len (ft)","Tangent","45° Turn","90° Turn","T-Tap","X-Tap"]
[null,1,{"$f":"C272","v":0},{"$f":"D272","v":0},{"$f":"E272","v":0},{"$f":"F272","v":0},{"$f":"G272","v":0},null,1,{"$f":"J272","v":0},{"$f":"K272","v":0},{"$f":"L272","v":0},{"$f":"M272","v":0},{"$f":"N272","v":0}]
[null,50,null,null,null,null,null,null,50,{"$f":"C272+Spans!$C$10","v":0},{"$f":"D272+Spans!$C$10","v":0},{"$f":"E272+Spans!$C$10","v":0},{"$f":"F272+Spans!$C$10","v":0},{"$f":"G272+Spans!$C$10","v":0}]
[null,100,null,null,null,null,null,null,100,{"$f":"C273+Spans!$C$10","v":0},{"$f":"D273+Spans!$C$10","v":0},{"$f":"E273+Spans!$C$10","v":0},{"$f":"F273+Spans!$C$10","v":0},{"$f":"G273+Spans!$C$10","v":0}]
[null,150,null,null,null,null,null,null,150,{"$f":"C274+Spans!$C$10","v":0},{"$f":"D274+Spans!$C$10","v":0},{"$f":"E274+Spans!$C$10","v":0},{"$f":"F274+Spans!$C$10","v":0},{"$f":"G274+Spans!$C$10","v":0}]
[null,200,null,null,null,null,null,null,200,{"$f":"C275+Spans!$C$10","v":0},{"$f":"D275+Spans!$C$10","v":0},{"$f":"E275+Spans!$C$10","v":0},{"$f":"F275+Spans!$C$10","v":0},{"$f":"G275+Spans!$C$10","v":0}]
[null,300,null,null,null,null,null,null,300,{"$f":"C276+Spans!$C$10","v":0},{"$f":"D276+Spans!$C$10","v":0},{"$f":"E276+Spans!$C$10","v":0},{"$f":"F276+Spans!$C$10","v":0},{"$f":"G276+Spans!$C$10","v":0}]
[null,400,null,null,null,null,null,null,400,{"$f":"C277+Spans!$C$10","v":0},{"$f":"D277+Spans!$C$10","v":0},{"$f":"E277+Spans!$C$10","v":0},{"$f":"F277+Spans!$C$10","v":0},{"$f":"G277+Spans!$C$10","v":0}]
[null,500,null,null,null,null,null,null,500,{"$f":"C278+Spans!$C$10","v":0},{"$f":"D278+Spans!$C$10","v":0},{"$f":"E278+Spans!$C$10","v":0},{"$f":"F278+Spans!$C$10","v":0},{"$f":"G278+Spans!$C$10","v":0}]
[null,1000,{"$f":"C278","v":0},{"$f":"D278","v":0},{"$f":"E278","v":0},{"$f":"F278","v":0},{"$f":"G278","v":0},null,1000,{"$f":"J278","v":0},{"$f":"K278","v":0},{"$f":"L278","v":0},{"$f":"M278","v":0},{"$f":"N278","v":0}]
[]
[null,null,null,null,null,null,null,null,"TABLE",21]
[null,"FEA Table:","Wood, #6 Cu, Douglas Fir",null,null,null,null,null,"Span Shape:",2,3,4,5,6]
[null,"Span","Allowable Overstrike Length (ft)",null,null,null,null,null,"Span","Adjusted Allowable Overstrike Length (ft)"]
[null,"Len (ft)","Tangent","45° Turn","90° Turn","T-Tap","X-Tap",null,"Len (ft)","Tangent","45° Turn","90° Turn","T-Tap","X-Tap"]
[null,1,{"$f":"C286","v":2},{"$f":"D286","v":2},{"$f":"E286","v":2},{"$f":"F286","v":2},{"$f":"G286","v":2},null,1,{"$f":"J286","v":2},{"$f":"K286","v":2},{"$f":"L286","v":2},{"$f":"M286","v":2},{"$f":"N286","v":2}]
[null,50,2,2,2,2,2,null,50,{"$f":"C286+Spans!$C$10","v":2},{"$f":"D286+Spans!$C$10","v":2},{"$f":"E286+Spans!$C$10","v":2},{"$f":"F286+Spans!$C$10","v":2},{"$f":"G286+Spans!$C$10","v":2}]
[null,100,2,2,2,2,2,null,100,{"$f":"C287+Spans!$C$10","v":2},{"$f":"D287+Spans!$C$10","v":2},{"$f":"E287+Spans!$C$10","v":2},{"$f":"F287+Spans!$C$10","v":2},{"$f":"G287+Spans!$C$10","v":2}]
[null,150,2,2,2,2,2,null,150,{"$f":"C288+Spans!$C$10","v":2},{"$f":"D288+Spans!$C$10","v":2},{"$f":"E288+Spans!$C$10","v":2},{"$f":"F288+Spans!$C$10","v":2},{"$f":"G288+Spans!$C$10","v":2}]
[null,200,2,2,2,2,2,null,200,{"$f":"C289+Spans!$C$10","v":2},{"$f":"D289+Spans!$C$10","v":2},{"$f":"E289+Spans!$C$10","v":2},{"$f":"F289+Spans!$C$10","v":2},{"$f":"G289+Spans!$C$10","v":2}]
[null,300,2,2,2,2,2,null,300,{"$f":"C290+Spans!$C$10","v":2},{"$f":"D290+Spans!$C$10","v":2},{"$f":"E290+Spans!$C$10","v":2},{"$f":"F290+Spans!$C$10","v":2},{"$f":"G290+Spans!$C$10","v":2}]
[null,400,2,2,2,2,2,null,400,{"$f":"C291+Spans!$C$10","v":2},{"$f":"D291+Spans!$C$10","v":2},{"$f":"E291+Spans!$C$10","v":2},{"$f":"F291+Spans!$C$10","v":2},{"$f":"G291+Spans!$C$10","v":2}]
[null,500,2,2,2,2,2,null,500,{"$f":"C292+Spans!$C$10","v":2},{"$f":"D292+Spans!$C$10","v":2},{"$f":"E292+Spans!$C$10","v":2},{"$f":"F292+Spans!$C$10","v":2},{"$f":"G292+Spans!$C$10","v":2}]
[null,1000,{"$f":"C292","v":2},{"$f":"D292","v":2},{"$f":"E292","v":2},{"$f":"F292","v":2},{"$f":"G292","v":2},null,1000,{"$f":"J292","v":2},{"$f":"K292","v":2},{"$f":"L292","v":2},{"$f":"M292","v":2},{"$f":"N292","v":2}]
[]
[null,null,null,null,null,null,null,null,"TABLE",22]
[null,"FEA Table:","Wood, #6 Cu, Pine",null,null,null,null,null,"Span Shape:",2,3,4,5,6]
[null,"Span","Allowable Overstrike Length (ft)",null,null,null,null,null,"Span","Adjusted Allowable Overstrike Length (ft)"]
[null,"Len (ft)","Tangent","45° Turn","90° Turn","T-Tap","X-Tap",null,"Len (ft)","Tangent","45° Turn","90° Turn","T-Tap","X-Tap"]
[null,1,{"$f":"C300","v":2},{"$f":"D300","v":2},{"$f":"E300","v":2},{"$f":"F300","v":2},{"$f":"G300","v":2},null,1,{"$f":"J300","v":2},{"$f":"K300","v":2},{"$f":"L300","v":2},{"$f":"M300","v":2},{"$f":"N300","v":2}]
[null,50,2,2,2,2,2,null,50,{"$f":"C300+Spans!$C$10","v":2},{"$f":"D300+Spans!$C$10","v":2},{"$f":"E300+Spans!$C$10","v":2},{"$f":"F300+Spans!$C$10","v":2},{"$f":"G300+Spans!$C$10","v":2}]
[null,100,2,2,2,2,2,null,100,{"$f":"C301+Spans!$C$10","v":2},{"$f":"D301+Spans!$C$10","v":2},{"$f":"E301+Spans!$C$10","v":2},{"$f":"F301+Spans!$C$10","v":2},{"$f":"G301+Spans!$C$10","v":2}]
[null,150,2,2,2,2,2,null,150,{"$f":"C302+Spans!$C$10","v":2},{"$f":"D302+Spans!$C$10","v":2},{"$f":"E302+Spans!$C$10","v":2},{"$f":"F302+Spans!$C$10","v":2},{"$f":"G302+Spans!$C$10","v":2}]
[null,200,2,2,2,2,2,null,200,{"$f":"C303+Spans!$C$10","v":2},{"$f":"D303+Spans!$C$10","v":2},{"$f":"E303+Spans!$C$10","v":2},{"$f":"F303+Spans!$C$10","v":2},{"$f":"G303+Spans!$C$10","v":2}]
[null,300,2,2,2,2,2,null,300,{"$f":"C304+Spans!$C$10","v":2},{"$f":"D304+Spans!$C$10","v":2},{"$f":"E304+Spans!$C$10","v":2},{"$f":"F304+Spans!$C$10","v":2},{"$f":"G304+Spans!$C$10","v":2}]
[null,400,2,2,2,2,2,null,400,{"$f":"C305+Spans!$C$10","v":2},{"$f":"D305+Spans!$C$10","v":2},{"$f":"E305+Spans!$C$10","v":2},{"$f":"F305+Spans!$C$10","v":2},{"$f":"G305+Spans!$C$10","v":2}]
[null,500,2,2,2,2,2,null,500,{"$f":"C306+Spans!$C$10","v":2},{"$f":"D306+Spans!$C$10","v":2},{"$f":"E306+Spans!$C$10","v":2},{"$f":"F306+Spans!$C$10","v":2},{"$f":"G306+Spans!$C$10","v":2}]
[null,1000,{"$f":"C306","v":2},{"$f":"D306","v":2},{"$f":"E306","v":2},{"$f":"F306","v":2},{"$f":"G306","v":2},null,1000,{"$f":"J306","v":2},{"$f":"K306","v":2},{"$f":"L306","v":2},{"$f":"M306","v":2},{"$f":"N306","v":2}]
[]
[null,null,null,null,null,null,null,null,"TABLE",23]
[null,"FEA Table:","Wood, #6 Cu, Oak",null,null,null,null,null,"Span Shape:",2,3,4,5,6]
[null,"Span","Allowable Overstrike Length (ft)",null,null,null,null,null,"Span","Adjusted Allowable Overstrike Length (ft)"]
[null,"Len (ft)","Tangent","45° Turn","90° Turn","T-Tap","X-Tap",null,"Len (ft)","Tangent","45° Turn","90° Turn","T-Tap","X-Tap"]
[null,1,{"$f":"C314","v":17},{"$f":"D314","v":17},{"$f":"E314","v":17},{"$f":"F314","v":17},{"$f":"G314","v":17},null,1,{"$f":"J314","v":17},{"$f":"K314","v":17},{"$f":"L314","v":17},{"$f":"M314","v":17},{"$f":"N314","v":17}]
[null,50,17,17,17,17,17,null,50,{"$f":"C314+Spans!$C$10","v":17},{"$f":"D314+Spans!$C$10","v":17},{"$f":"E314+Spans!$C$10","v":17},{"$f":"F314+Spans!$C$10","v":17},{"$f":"G314+Spans!$C$10","v":17}]
[null,100,17,17,17,17,17,null,100,{"$f":"C315+Spans!$C$10","v":17},{"$f":"D315+Spans!$C$10","v":17},{"$f":"E315+Spans!$C$10","v":17},{"$f":"F315+Spans!$C$10","v":17},{"$f":"G315+Spans!$C$10","v":17}]
[null,150,17,17,17,17,17,null,150,{"$f":"C316+Spans!$C$10","v":17},{"$f":"D316+Spans!$C$10","v":17},{"$f":"E316+Spans!$C$10","v":17},{"$f":"F316+Spans!$C$10","v":17},{"$f":"G316+Spans!$C$10","v":17}]
[null,200,17,17,17,17,17,null,200,{"$f":"C317+Spans!$C$10","v":17},{"$f":"D317+Spans!$C$10","v":17},{"$f":"E317+Spans!$C$10","v":17},{"$f":"F317+Spans!$C$10","v":17},{"$f":"G317+Spans!$C$10","v":17}]
[null,300,17,17,17,17,17,null,300,{"$f":"C318+Spans!$C$10","v":17},{"$f":"D318+Spans!$C$10","v":17},{"$f":"E318+Spans!$C$10","v":17},{"$f":"F318+Spans!$C$10","v":17},{"$f":"G318+Spans!$C$10","v":17}]
[null,400,17,17,17,17,17,null,400,{"$f":"C319+Spans!$C$10","v":17},{"$f":"D319+Spans!$C$10","v":17},{"$f":"E319+Spans!$C$10","v":17},{"$f":"F319+Spans!$C$10","v":17},{"$f":"G319+Spans!$C$10","v":17}]
[null,500,17,17,17,17,17,null,500,{"$f":"C320+Spans!$C$10","v":17},{"$f":"D320+Spans!$C$10","v":17},{"$f":"E320+Spans!$C$10","v":17},{"$f":"F320+Spans!$C$10","v":17},{"$f":"G320+Spans!$C$10","v":17}]
[null,1000,{"$f":"C320","v":17},{"$f":"D320","v":17},{"$f":"E320","v":17},{"$f":"F320","v":17},{"$f":"G320","v":17},null,1000,{"$f":"J320","v":17},{"$f":"K320","v":17},{"$f":"L320","v":17},{"$f":"M320","v":17},{"$f":"N320","v":17}]
[]
[null,null,null,null,null,null,null,null,"TABLE",24]
[null,"FEA Table:","Wood, #6 Cu, Blue Gum / Eucalyptus",null,null,null,null,null,"Span Shape:",2,3,4,5,6]
[null,"Span","Allowable Overstrike Length (ft)",null,null,null,null,null,"Span","Adjusted Allowable Overstrike Length (ft)"]
[null,"Len (ft)","Tangent","45° Turn","90° Turn","T-Tap","X-Tap",null,"Len (ft)","Tangent","45° Turn","90° Turn","T-Tap","X-Tap"]
[null,1,{"$f":"C328","v":17},{"$f":"D328","v":17},{"$f":"E328","v":17},{"$f":"F328","v":17},{"$f":"G328","v":17},null,1,{"$f":"J328","v":17},{"$f":"K328","v":17},{"$f":"L328","v":17},{"$f":"M328","v":17},{"$f":"N328","v":17}]
[null,50,17,17,17,17,17,null,50,{"$f":"C328+Spans!$C$10","v":17},{"$f":"D328+Spans!$C$10","v":17},{"$f":"E328+Spans!$C$10","v":17},{"$f":"F328+Spans!$C$10","v":17},{"$f":"G328+Spans!$C$10","v":17}]
[null,100,17,17,17,17,17,null,100,{"$f":"C329+Spans!$C$10","v":17},{"$f":"D329+Spans!$C$10","v":17},{"$f":"E329+Spans!$C$10","v":17},{"$f":"F329+Spans!$C$10","v":17},{"$f":"G329+Spans!$C$10","v":17}]
[null,150,17,17,17,17,17,null,150,{"$f":"C330+Spans!$C$10","v":17},{"$f":"D330+Spans!$C$10","v":17},{"$f":"E330+Spans!$C$10","v":17},{"$f":"F330+Spans!$C$10","v":17},{"$f":"G330+Spans!$C$10","v":17}]
[null,200,17,17,17,17,17,null,200,{"$f":"C331+Spans!$C$10","v":17},{"$f":"D331+Spans!$C$10","v":17},{"$f":"E331+Spans!$C$10","v":17},{"$f":"F331+Spans!$C$10","v":17},{"$f":"G331+Spans!$C$10","v":17}]
[null,300,17,17,17,17,17,null,300,{"$f":"C332+Spans!$C$10","v":17},{"$f":"D332+Spans!$C$10","v":17},{"$f":"E332+Spans!$C$10","v":17},{"$f":"F332+Spans!$C$10","v":17},{"$f":"G332+Spans!$C$10","v":17}]
[null,400,17,17,17,17,17,null,400,{"$f":"C333+Spans!$C$10","v":17},{"$f":"D333+Spans!$C$10","v":17},{"$f":"E333+Spans!$C$10","v":17},{"$f":"F333+Spans!$C$10","v":17},{"$f":"G333+Spans!$C$10","v":17}]
[null,500,17,17,17,17,17,null,500,{"$f":"C334+Spans!$C$10","v":17},{"$f":"D334+Spans!$C$10","v":17},{"$f":"E334+Spans!$C$10","v":17},{"$f":"F334+Spans!$C$10","v":17},{"$f":"G334+Spans!$C$10","v":17}]
[null,1000,{"$f":"C334","v":17},{"$f":"D334","v":17},{"$f":"E334","v":17},{"$f":"F334","v":17},{"$f":"G334","v":17},null,1000,{"$f":"J334","v":17},{"$f":"K334","v":17},{"$f":"L334","v":17},{"$f":"M334","v":17},{"$f":"N334","v":17}]
[]
[null,null,null,null,null,null,null,null,"TABLE",25]
[null,"FEA Table:","Wood, 4 (6/1) ACSR, Douglas Fir",null,null,null,null,null,"Span Shape:",2,3,4,5,6]
[null,"Span","Allowable Overstrike Length (ft)",null,null,null,null,null,"Span","Adjusted Allowable Overstrike Length (ft)"]
[null,"Len (ft)","Tangent","45° Turn","90° Turn","T-Tap","X-Tap",null,"Len (ft)","Tangent","45° Turn","90° Turn","T-Tap","X-Tap"]
[null,1,{"$f":"C342","v":2},{"$f":"D342","v":2},{"$f":"E342","v":2},{"$f":"F342","v":2},{"$f":"G342","v":2},null,1,{"$f":"J342","v":2},{"$f":"K342","v":2},{"$f":"L342","v":2},{"$f":"M342","v":2},{"$f":"N342","v":2}]
[null,50,2,2,2,2,2,null,50,{"$f":"C342+Spans!$C$10","v":2},{"$f":"D342+Spans!$C$10","v":2},{"$f":"E342+Spans!$C$10","v":2},{"$f":"F342+Spans!$C$10","v":2},{"$f":"G342+Spans!$C$10","v":2}]
[null,100,2,2,2,2,2,null,100,{"$f":"C343+Spans!$C$10","v":2},{"$f":"D343+Spans!$C$10","v":2},{"$f":"E343+Spans!$C$10","v":2},{"$f":"F343+Spans!$C$10","v":2},{"$f":"G343+Spans!$C$10","v":2}]
[null,150,2,2,2,2,2,null,150,{"$f":"C344+Spans!$C$10","v":2},{"$f":"D344+Spans!$C$10","v":2},{"$f":"E344+Spans!$C$10","v":2},{"$f":"F344+Spans!$C$10","v":2},{"$f":"G344+Spans!$C$10","v":2}]
[null,200,2,2,2,2,2,null,200,{"$f":"C345+Spans!$C$10","v":2},{"$f":"D345+Spans!$C$10","v":2},{"$f":"E345+Spans!$C$10","v":2},{"$f":"F345+Spans!$C$10","v":2},{"$f":"G345+Spans!$C$10","v":2}]
[null,300,2,2,2,2,2,null,300,{"$f":"C346+Spans!$C$10","v":2},{"$f":"D346+Spans!$C$10","v":2},{"$f":"E346+Spans!$C$10","v":2},{"$f":"F346+Spans!$C$10","v":2},{"$f":"G346+Spans!$C$10","v":2}]
[null,400,2,2,2,2,2,null,400,{"$f":"C347+Spans!$C$10","v":2},{"$f":"D347+Spans!$C$10","v":2},{"$f":"E347+Spans!$C$10","v":2},{"$f":"F347+Spans!$C$10","v":2},{"$f":"G347+Spans!$C$10","v":2}]
[null,500,2,2,2,2,2,null,500,{"$f":"C348+Spans!$C$10","v":2},{"$f":"D348+Spans!$C$10","v":2},{"$f":"E348+Spans!$C$10","v":2},{"$f":"F348+Spans!$C$10","v":2},{"$f":"G348+Spans!$C$10","v":2}]
[null,1000,{"$f":"C348","v":2},{"$f":"D348","v":2},{"$f":"E348","v":2},{"$f":"F348","v":2},{"$f":"G348","v":2},null,1000,{"$f":"J348","v":2},{"$f":"K348","v":2},{"$f":"L348","v":2},{"$f":"M348","v":2},{"$f":"N348","v":2}]
[]
[null,null,null,null,null,null,null,null,"TABLE",26]
[null,"FEA Table:","Wood, 4 (6/1) ACSR, Pine",null,null,null,null,null,"Span Shape:",2,3,4,5,6]
[null,"Span","Allowable Overstrike Length (ft)",null,null,null,null,null,"Span","Adjusted Allowable Overstrike Length (ft)"]
[null,"Len (ft)","Tangent","45° Turn","90° Turn","T-Tap","X-Tap",null,"Len (ft)","Tangent","45° Turn","90° Turn","T-Tap","X-Tap"]
[null,1,{"$f":"C356","v":2},{"$f":"D356","v":2},{"$f":"E356","v":2},{"$f":"F356","v":2},{"$f":"G356","v":2},null,1,{"$f":"J356","v":2},{"$f":"K356","v":2},{"$f":"L356","v":2},{"$f":"M356","v":2},{"$f":"N356","v":2}]
[null,50,2,2,2,2,2,null,50,{"$f":"C356+Spans!$C$10","v":2},{"$f":"D356+Spans!$C$10","v":2},{"$f":"E356+Spans!$C$10","v":2},{"$f":"F356+Spans!$C$10","v":2},{"$f":"G356+Spans!$C$10","v":2}]
[null,100,2,2,2,2,2,null,100,{"$f":"C357+Spans!$C$10","v":2},{"$f":"D357+Spans!$C$10","v":2},{"$f":"E357+Spans!$C$10","v":2},{"$f":"F357+Spans!$C$10","v":2},{"$f":"G357+Spans!$C$10","v":2}]
[null,150,2,2,2,2,2,null,150,{"$f":"C358+Spans!$C$10","v":2},{"$f":"D358+Spans!$C$10","v":2},{"$f":"E358+Spans!$C$10","v":2},{"$f":"F358+Spans!$C$10","v":2},{"$f":"G358+Spans!$C$10","v":2}]
[null,200,2,2,2,2,2,null,200,{"$f":"C359+Spans!$C$10","v":2},{"$f":"D359+Spans!$C$10","v":2},{"$f":"E359+Spans!$C$10","v":2},{"$f":"F359+Spans!$C$10","v":2},{"$f":"G359+Spans!$C$10","v":2}]
[null,300,2,2,2,2,2,null,300,{"$f":"C360+Spans!$C$10","v":2},{"$f":"D360+Spans!$C$10","v":2},{"$f":"E360+Spans!$C$10","v":2},{"$f":"F360+Spans!$C$10","v":2},{"$f":"G360+Spans!$C$10","v":2}]
[null,400,2,2,2,2,2,null,400,{"$f":"C361+Spans!$C$10","v":2},{"$f":"D361+Spans!$C$10","v":2},{"$f":"E361+Spans!$C$10","v":2},{"$f":"F361+Spans!$C$10","v":2},{"$f":"G361+Spans!$C$10","v":2}]
[null,500,2,2,2,2,2,null,500,{"$f":"C362+Spans!$C$10","v":2},{"$f":"D362+Spans!$C$10","v":2},{"$f":"E362+Spans!$C$10","v":2},{"$f":"F362+Spans!$C$10","v":2},{"$f":"G362+Spans!$C$10","v":2}]
[null,1000,{"$f":"C362","v":2},{"$f":"D362","v":2},{"$f":"E362","v":2},{"$f":"F362","v":2},{"$f":"G362","v":2},null,1000,{"$f":"J362","v":2},{"$f":"K362","v":2},{"$f":"L362","v":2},{"$f":"M362","v":2},{"$f":"N362","v":2}]
[]
[null,null,null,null,null,null,null,null,"TABLE",27]
[null,"FEA Table:","Wood, 4 (6/1) ACSR, Oak",null,null,null,null,null,"Span Shape:",2,3,4,5,6]
[null,"Span","Allowable Overstrike Length (ft)",null,null,null,null,null,"Span","Adjusted Allowable Overstrike Length (ft)"]
[null,"Len (ft)","Tangent","45° Turn","90° Turn","T-Tap","X-Tap",null,"Len (ft)","Tangent","45° Turn","90° Turn","T-Tap","X-Tap"]
[null,1,{"$f":"C370","v":17},{"$f":"D370","v":17},{"$f":"E370","v":17},{"$f":"F370","v":17},{"$f":"G370","v":17},null,1,{"$f":"J370","v":17},{"$f":"K370","v":17},{"$f":"L370","v":17},{"$f":"M370","v":17},{"$f":"N370","v":17}]
[null,50,17,17,17,17,17,null,50,{"$f":"C370+Spans!$C$10","v":17},{"$f":"D370+Spans!$C$10","v":17},{"$f":"E370+Spans!$C$10","v":17},{"$f":"F370+Spans!$C$10","v":17},{"$f":"G370+Spans!$C$10","v":17}]
[null,100,17,17,17,17,17,null,100,{"$f":"C371+Spans!$C$10","v":17},{"$f":"D371+Spans!$C$10","v":17},{"$f":"E371+Spans!$C$10","v":17},{"$f":"F371+Spans!$C$10","v":17},{"$f":"G371+Spans!$C$10","v":17}]
[null,150,17,17,17,17,17,null,150,{"$f":"C372+Spans!$C$10","v":17},{"$f":"D372+Spans!$C$10","v":17},{"$f":"E372+Spans!$C$10","v":17},{"$f":"F372+Spans!$C$10","v":17},{"$f":"G372+Spans!$C$10","v":17}]
[null,200,17,17,17,17,17,null,200,{"$f":"C373+Spans!$C$10","v":17},{"$f":"D373+Spans!$C$10","v":17},{"$f":"E373+Spans!$C$10","v":17},{"$f":"F373+Spans!$C$10","v":17},{"$f":"G373+Spans!$C$10","v":17}]
[null,300,17,17,17,17,17,null,300,{"$f":"C374+Spans!$C$10","v":17},{"$f":"D374+Spans!$C$10","v":17},{"$f":"E374+Spans!$C$10","v":17},{"$f":"F374+Spans!$C$10","v":17},{"$f":"G374+Spans!$C$10","v":17}]
[null,400,17,17,17,17,17,null,400,{"$f":"C375+Spans!$C$10","v":17},{"$f":"D375+Spans!$C$10","v":17},{"$f":"E375+Spans!$C$10","v":17},{"$f":"F375+Spans!$C$10","v":17},{"$f":"G375+Spans!$C$10","v":17}]
[null,500,17,17,17,17,17,null,500,{"$f":"C376+Spans!$C$10","v":17},{"$f":"D376+Spans!$C$10","v":17},{"$f":"E376+Spans!$C$10","v":17},{"$f":"F376+Spans!$C$10","v":17},{"$f":"G376+Spans!$C$10","v":17}]
[null,1000,{"$f":"C376","v":17},{"$f":"D376","v":17},{"$f":"E376","v":17},{"$f":"F376","v":17},{"$f":"G376","v":17},null,1000,{"$f":"J376","v":17},{"$f":"K376","v":17},{"$f":"L376","v":17},{"$f":"M376","v":17},{"$f":"N376","v":17}]
[]
[null,null,null,null,null,null,null,null,"TABLE",28]
[null,"FEA Table:","Wood, 4 (6/1) ACSR, Blue Gum / Eucalyptus",null,null,null,null,null,"Span Shape:",2,3,4,5,6]
[null,"Span","Allowable Overstrike Length (ft)",null,null,null,null,null,"Span","Adjusted Allowable Overstrike Length (ft)"]
[null,"Len (ft)","Tangent","45° Turn","90° Turn","T-Tap","X-Tap",null,"Len (ft)","Tangent","45° Turn","90° Turn","T-Tap","X-Tap"]
[null,1,{"$f":"C384","v":17},{"$f":"D384","v":17},{"$f":"E384","v":17},{"$f":"F384","v":17},{"$f":"G384","v":17},null,1,{"$f":"J384","v":17},{"$f":"K384","v":17},{"$f":"L384","v":17},{"$f":"M384","v":17},{"$f":"N384","v":17}]
[null,50,17,17,17,17,17,null,50,{"$f":"C384+Spans!$C$10","v":17},{"$f":"D384+Spans!$C$10","v":17},{"$f":"E384+Spans!$C$10","v":17},{"$f":"F384+Spans!$C$10","v":17},{"$f":"G384+Spans!$C$10","v":17}]
[null,100,17,17,17,17,17,null,100,{"$f":"C385+Spans!$C$10","v":17},{"$f":"D385+Spans!$C$10","v":17},{"$f":"E385+Spans!$C$10","v":17},{"$f":"F385+Spans!$C$10","v":17},{"$f":"G385+Spans!$C$10","v":17}]
[null,150,17,17,17,17,17,null,150,{"$f":"C386+Spans!$C$10","v":17},{"$f":"D386+Spans!$C$10","v":17},{"$f":"E386+Spans!$C$10","v":17},{"$f":"F386+Spans!$C$10","v":17},{"$f":"G386+Spans!$C$10","v":17}]
[null,200,17,17,17,17,17,null,200,{"$f":"C387+Spans!$C$10","v":17},{"$f":"D387+Spans!$C$10","v":17},{"$f":"E387+Spans!$C$10","v":17},{"$f":"F387+Spans!$C$10","v":17},{"$f":"G387+Spans!$C$10","v":17}]
[null,300,17,17,17,17,17,null,300,{"$f":"C388+Spans!$C$10","v":17},{"$f":"D388+Spans!$C$10","v":17},{"$f":"E388+Spans!$C$10","v":17},{"$f":"F388+Spans!$C$10","v":17},{"$f":"G388+Spans!$C$10","v":17}]
[null,400,17,17,17,17,17,null,400,{"$f":"C389+Spans!$C$10","v":17},{"$f":"D389+Spans!$C$10","v":17},{"$f":"E389+Spans!$C$10","v":17},{"$f":"F389+Spans!$C$10","v":17},{"$f":"G389+Spans!$C$10","v":17}]
[null,500,17,17,17,17,17,null,500,{"$f":"C390+Spans!$C$10","v":17},{"$f":"D390+Spans!$C$10","v":17},{"$f":"E390+Spans!$C$10","v":17},{"$f":"F390+Spans!$C$10","v":17},{"$f":"G390+Spans!$C$10","v":17}]
[null,1000,{"$f":"C390","v":17},{"$f":"D390","v":17},{"$f":"E390","v":17},{"$f":"F390","v":17},{"$f":"G390","v":17},null,1000,{"$f":"J390","v":17},{"$f":"K390","v":17},{"$f":"L390","v":17},{"$f":"M390","v":17},{"$f":"N390","v":17}]
[]
[null,null,null,null,null,null,null,null,"TABLE",29]
[null,"FEA Table:","Wood, 2 (7/1) ACSR, Douglas Fir",null,null,null,null,null,"Span Shape:",2,3,4,5,6]
[null,"Span","Allowable Overstrike Length (ft)",null,null,null,null,null,"Span","Adjusted Allowable Overstrike Length (ft)"]
[null,"Len (ft)","Tangent","45° Turn","90° Turn","T-Tap","X-Tap",null,"Len (ft)","Tangent","45° Turn","90° Turn","T-Tap","X-Tap"]
[null,1,{"$f":"C398","v":2},{"$f":"D398","v":2},{"$f":"E398","v":2},{"$f":"F398","v":2},{"$f":"G398","v":2},null,1,{"$f":"J398","v":2},{"$f":"K398","v":2},{"$f":"L398","v":2},{"$f":"M398","v":2},{"$f":"N398","v":2}]
[null,50,2,2,2,2,2,null,50,{"$f":"C398+Spans!$C$10","v":2},{"$f":"D398+Spans!$C$10","v":2},{"$f":"E398+Spans!$C$10","v":2},{"$f":"F398+Spans!$C$10","v":2},{"$f":"G398+Spans!$C$10","v":2}]
[null,100,2,2,10,2,2,null,100,{"$f":"C399+Spans!$C$10","v":2},{"$f":"D399+Spans!$C$10","v":2},{"$f":"E399+Spans!$C$10","v":10},{"$f":"F399+Spans!$C$10","v":2},{"$f":"G399+Spans!$C$10","v":2}]
[null,150,2,8,10,2,6,null,150,{"$f":"C400+Spans!$C$10","v":2},{"$f":"D400+Spans!$C$10","v":8},{"$f":"E400+Spans!$C$10","v":10},{"$f":"F400+Spans!$C$10","v":2},{"$f":"G400+Spans!$C$10","v":6}]
[null,200,7,10,11,2,9,null,200,{"$f":"C401+Spans!$C$10","v":7},{"$f":"D401+Spans!$C$10","v":10},{"$f":"E401+Spans!$C$10","v":11},{"$f":"F401+Spans!$C$10","v":2},{"$f":"G401+Spans!$C$10","v":9}]
[null,300,9,11,12,8,13,null,300,{"$f":"C402+Spans!$C$10","v":9},{"$f":"D402+Spans!$C$10","v":11},{"$f":"E402+Spans!$C$10","v":12},{"$f":"F402+Spans!$C$10","v":8},{"$f":"G402+Spans!$C$10","v":13}]
[null,400,11,11,14,11,13,null,400,{"$f":"C403+Spans!$C$10","v":11},{"$f":"D403+Spans!$C$10","v":11},{"$f":"E403+Spans!$C$10","v":14},{"$f":"F403+Spans!$C$10","v":11},{"$f":"G403+Spans!$C$10","v":13}]
[null,500,13,12,14,13,14,null,500,{"$f":"C404+Spans!$C$10","v":13},{"$f":"D404+Spans!$C$10","v":12},{"$f":"E404+Spans!$C$10","v":14},{"$f":"F404+Spans!$C$10","v":13},{"$f":"G404+Spans!$C$10","v":14}]
[null,1000,{"$f":"C404","v":13},{"$f":"D404","v":12},{"$f":"E404","v":14},{"$f":"F404","v":13},{"$f":"G404","v":14},null,1000,{"$f":"J404","v":13},{"$f":"K404","v":12},{"$f":"L404","v":14},{"$f":"M404","v":13},{"$f":"N404","v":14}]
[]
[null,null,null,null,null,null,null,null,"TABLE",30]
[null,"FEA Table:","Wood, 2 (7/1) ACSR, Pine",null,null,null,null,null,"Span Shape:",2,3,4,5,6]
[null,"Span","Allowable Overstrike Length (ft)",null,null,null,null,null,"Span","Adjusted Allowable Overstrike Length (ft)"]
[null,"Len (ft)","Tangent","45° Turn","90° Turn","T-Tap","X-Tap",null,"Len (ft)","Tangent","45° Turn","90° Turn","T-Tap","X-Tap"]
[null,1,{"$f":"C412","v":2},{"$f":"D412","v":2},{"$f":"E412","v":2},{"$f":"F412","v":7},{"$f":"G412","v":2},null,1,{"$f":"J412","v":2},{"$f":"K412","v":2},{"$f":"L412","v":2},{"$f":"M412","v":7},{"$f":"N412","v":2}]
[null,50,2,2,2,7,2,null,50,{"$f":"C412+Spans!$C$10","v":2},{"$f":"D412+Spans!$C$10","v":2},{"$f":"E412+Spans!$C$10","v":2},{"$f":"F412+Spans!$C$10","v":7},{"$f":"G412+Spans!$C$10","v":2}]
[null,100,2,2,14,10,2,null,100,{"$f":"C413+Spans!$C$10","v":2},{"$f":"D413+Spans!$C$10","v":2},{"$f":"E413+Spans!$C$10","v":14},{"$f":"F413+Spans!$C$10","v":10},{"$f":"G413+Spans!$C$10","v":2}]
[null,150,10,12,19,14,8,null,150,{"$f":"C414+Spans!$C$10","v":10},{"$f":"D414+Spans!$C$10","v":12},{"$f":"E414+Spans!$C$10","v":19},{"$f":"F414+Spans!$C$10","v":14},{"$f":"G414+Spans!$C$10","v":8}]
[null,200,14,17,20,15,15,null,200,{"$f":"C415+Spans!$C$10","v":14},{"$f":"D415+Spans!$C$10","v":17},{"$f":"E415+Spans!$C$10","v":20},{"$f":"F415+Spans!$C$10","v":15},{"$f":"G415+Spans!$C$10","v":15}]
[null,300,16,19,21,16,17,null,300,{"$f":"C416+Spans!$C$10","v":16},{"$f":"D416+Spans!$C$10","v":19},{"$f":"E416+Spans!$C$10","v":21},{"$f":"F416+Spans!$C$10","v":16},{"$f":"G416+Spans!$C$10","v":17}]
[null,400,19,19,21,17,20,null,400,{"$f":"C417+Spans!$C$10","v":19},{"$f":"D417+Spans!$C$10","v":19},{"$f":"E417+Spans!$C$10","v":21},{"$f":"F417+Spans!$C$10","v":17},{"$f":"G417+Spans!$C$10","v":20}]
[null,500,21,21,23,19,22,null,500,{"$f":"C418+Spans!$C$10","v":21},{"$f":"D418+Spans!$C$10","v":21},{"$f":"E418+Spans!$C$10","v":23},{"$f":"F418+Spans!$C$10","v":19},{"$f":"G418+Spans!$C$10","v":22}]
[null,1000,{"$f":"C418","v":21},{"$f":"D418","v":21},{"$f":"E418","v":23},{"$f":"F418","v":19},{"$f":"G418","v":22},null,1000,{"$f":"J418","v":21},{"$f":"K418","v":21},{"$f":"L418","v":23},{"$f":"M418","v":19},{"$f":"N418","v":22}]
[]
[null,null,null,null,null,null,null,null,"TABLE",31]
[null,"FEA Table:","Wood, 2 (7/1) ACSR, Oak",null,null,null,null,null,"Span Shape:",2,3,4,5,6]
[null,"Span","Allowable Overstrike Length (ft)",null,null,null,null,null,"Span","Adjusted Allowable Overstrike Length (ft)"]
[null,"Len (ft)","Tangent","45° Turn","90° Turn","T-Tap","X-Tap",null,"Len (ft)","Tangent","45° Turn","90° Turn","T-Tap","X-Tap"]
[null,1,{"$f":"C426","v":17},{"$f":"D426","v":17},{"$f":"E426","v":17},{"$f":"F426","v":17},{"$f":"G426","v":17},null,1,{"$f":"J426","v":17},{"$f":"K426","v":17},{"$f":"L426","v":17},{"$f":"M426","v":17},{"$f":"N426","v":17}]
[null,50,17,17,17,17,17,null,50,{"$f":"C426+Spans!$C$10","v":17},{"$f":"D426+Spans!$C$10","v":17},{"$f":"E426+Spans!$C$10","v":17},{"$f":"F426+Spans!$C$10","v":17},{"$f":"G426+Spans!$C$10","v":17}]
[null,100,17,17,17,17,17,null,100,{"$f":"C427+Spans!$C$10","v":17},{"$f":"D427+Spans!$C$10","v":17},{"$f":"E427+Spans!$C$10","v":17},{"$f":"F427+Spans!$C$10","v":17},{"$f":"G427+Spans!$C$10","v":17}]
[null,150,17,17,17,17,17,null,150,{"$f":"C428+Spans!$C$10","v":17},{"$f":"D428+Spans!$C$10","v":17},{"$f":"E428+Spans!$C$10","v":17},{"$f":"F428+Spans!$C$10","v":17},{"$f":"G428+Spans!$C$10","v":17}]
[null,200,17,17,17,17,17,null,200,{"$f":"C429+Spans!$C$10","v":17},{"$f":"D429+Spans!$C$10","v":17},{"$f":"E429+Spans!$C$10","v":17},{"$f":"F429+Spans!$C$10","v":17},{"$f":"G429+Spans!$C$10","v":17}]
[null,300,17,17,17,17,17,null,300,{"$f":"C430+Spans!$C$10","v":17},{"$f":"D430+Spans!$C$10","v":17},{"$f":"E430+Spans!$C$10","v":17},{"$f":"F430+Spans!$C$10","v":17},{"$f":"G430+Spans!$C$10","v":17}]
[null,400,17,17,17,17,17,null,400,{"$f":"C431+Spans!$C$10","v":17},{"$f":"D431+Spans!$C$10","v":17},{"$f":"E431+Spans!$C$10","v":17},{"$f":"F431+Spans!$C$10","v":17},{"$f":"G431+Spans!$C$10","v":17}]
[null,500,17,17,17,17,17,null,500,{"$f":"C432+Spans!$C$10","v":17},{"$f":"D432+Spans!$C$10","v":17},{"$f":"E432+Spans!$C$10","v":17},{"$f":"F432+Spans!$C$10","v":17},{"$f":"G432+Spans!$C$10","v":17}]
[null,1000,{"$f":"C432","v":17},{"$f":"D432","v":17},{"$f":"E432","v":17},{"$f":"F432","v":17},{"$f":"G432","v":17},null,1000,{"$f":"J432","v":17},{"$f":"K432","v":17},{"$f":"L432","v":17},{"$f":"M432","v":17},{"$f":"N432","v":17}]
[]
[null,null,null,null,null,null,null,null,"TABLE",32]
[null,"FEA Table:","Wood, 2 (7/1) ACSR, Blue Gum / Eucalyptus",null,null,null,null,null,"Span Shape:",2,3,4,5,6]
[null,"Span","Allowable Overstrike Length (ft)",null,null,null,null,null,"Span","Adjusted Allowable Overstrike Length (ft)"]
[null,"Len (ft)","Tangent","45° Turn","90° Turn","T-Tap","X-Tap",null,"Len (ft)","Tangent","45° Turn","90° Turn","T-Tap","X-Tap"]
[null,1,{"$f":"C440","v":17},{"$f":"D440","v":17},{"$f":"E440","v":17},{"$f":"F440","v":17},{"$f":"G440","v":17},null,1,{"$f":"J440","v":17},{"$f":"K440","v":17},{"$f":"L440","v":17},{"$f":"M440","v":17},{"$f":"N440","v":17}]
[null,50,17,17,17,17,17,null,50,{"$f":"C440+Spans!$C$10","v":17},{"$f":"D440+Spans!$C$10","v":17},{"$f":"E440+Spans!$C$10","v":17},{"$f":"F440+Spans!$C$10","v":17},{"$f":"G440+Spans!$C$10","v":17}]
[null,100,17,17,17,17,17,null,100,{"$f":"C441+Spans!$C$10","v":17},{"$f":"D441+Spans!$C$10","v":17},{"$f":"E441+Spans!$C$10","v":17},{"$f":"F441+Spans!$C$10","v":17},{"$f":"G441+Spans!$C$10","v":17}]
[null,150,17,17,17,17,17,null,150,{"$f":"C442+Spans!$C$10","v":17},{"$f":"D442+Spans!$C$10","v":17},{"$f":"E442+Spans!$C$10","v":17},{"$f":"F442+Spans!$C$10","v":17},{"$f":"G442+Spans!$C$10","v":17}]
[null,200,17,17,17,17,17,null,200,{"$f":"C443+Spans!$C$10","v":17},{"$f":"D443+Spans!$C$10","v":17},{"$f":"E443+Spans!$C$10","v":17},{"$f":"F443+Spans!$C$10","v":17},{"$f":"G443+Spans!$C$10","v":17}]
[null,300,17,17,17,17,17,null,300,{"$f":"C444+Spans!$C$10","v":17},{"$f":"D444+Spans!$C$10","v":17},{"$f":"E444+Spans!$C$10","v":17},{"$f":"F444+Spans!$C$10","v":17},{"$f":"G444+Spans!$C$10","v":17}]
[null,400,17,17,17,17,17,null,400,{"$f":"C445+Spans!$C$10","v":17},{"$f":"D445+Spans!$C$10","v":17},{"$f":"E445+Spans!$C$10","v":17},{"$f":"F445+Spans!$C$10","v":17},{"$f":"G445+Spans!$C$10","v":17}]
[null,500,17,17,17,17,17,null,500,{"$f":"C446+Spans!$C$10","v":17},{"$f":"D446+Spans!$C$10","v":17},{"$f":"E446+Spans!$C$10","v":17},{"$f":"F446+Spans!$C$10","v":17},{"$f":"G446+Spans!$C$10","v":17}]
[null,1000,{"$f":"C446","v":17},{"$f":"D446","v":17},{"$f":"E446","v":17},{"$f":"F446","v":17},{"$f":"G446","v":17},null,1000,{"$f":"J446","v":17},{"$f":"K446","v":17},{"$f":"L446","v":17},{"$f":"M446","v":17},{"$f":"N446","v":17}]
[]
[null,null,null,null,null,null,null,null,"TABLE",33]
[null,"FEA Table:",null,null,null,null,null,null,"Span Shape:",2,3,4,5,6]
[null,"Span","Allowable Overstrike Length (ft)",null,null,null,null,null,"Span","Adjusted Allowable Overstrike Length (ft)"]
[null,"Len (ft)","Tangent","45° Turn","90° Turn","T-Tap","X-Tap",null,"Len (ft)","Tangent","45° Turn","90° Turn","T-Tap","X-Tap"]
[null,1,{"$f":"C454","v":0},{"$f":"D454","v":0},{"$f":"E454","v":0},{"$f":"F454","v":0},{"$f":"G454","v":0},null,1,{"$f":"J454","v":0},{"$f":"K454","v":0},{"$f":"L454","v":0},{"$f":"M454","v":0},{"$f":"N454","v":0}]
[null,50,null,null,null,null,null,null,50,{"$f":"C454+Spans!$C$10","v":0},{"$f":"D454+Spans!$C$10","v":0},{"$f":"E454+Spans!$C$10","v":0},{"$f":"F454+Spans!$C$10","v":0},{"$f":"G454+Spans!$C$10","v":0}]
[null,100,null,null,null,null,null,null,100,{"$f":"C455+Spans!$C$10","v":0},{"$f":"D455+Spans!$C$10","v":0},{"$f":"E455+Spans!$C$10","v":0},{"$f":"F455+Spans!$C$10","v":0},{"$f":"G455+Spans!$C$10","v":0}]
[null,150,null,null,null,null,null,null,150,{"$f":"C456+Spans!$C$10","v":0},{"$f":"D456+Spans!$C$10","v":0},{"$f":"E456+Spans!$C$10","v":0},{"$f":"F456+Spans!$C$10","v":0},{"$f":"G456+Spans!$C$10","v":0}]
[null,200,null,null,null,null,null,null,200,{"$f":"C457+Spans!$C$10","v":0},{"$f":"D457+Spans!$C$10","v":0},{"$f":"E457+Spans!$C$10","v":0},{"$f":"F457+Spans!$C$10","v":0},{"$f":"G457+Spans!$C$10","v":0}]
[null,300,null,null,null,null,null,null,300,{"$f":"C458+Spans!$C$10","v":0},{"$f":"D458+Spans!$C$10","v":0},{"$f":"E458+Spans!$C$10","v":0},{"$f":"F458+Spans!$C$10","v":0},{"$f":"G458+Spans!$C$10","v":0}]
[null,400,null,null,null,null,null,null,400,{"$f":"C459+Spans!$C$10","v":0},{"$f":"D459+Spans!$C$10","v":0},{"$f":"E459+Spans!$C$10","v":0},{"$f":"F459+Spans!$C$10","v":0},{"$f":"G459+Spans!$C$10","v":0}]
[null,500,null,null,null,null,null,null,500,{"$f":"C460+Spans!$C$10","v":0},{"$f":"D460+Spans!$C$10","v":0},{"$f":"E460+Spans!$C$10","v":0},{"$f":"F460+Spans!$C$10","v":0},{"$f":"G460+Spans!$C$10","v":0}]
[null,1000,{"$f":"C460","v":0},{"$f":"D460","v":0},{"$f":"E460","v":0},{"$f":"F460","v":0},{"$f":"G460","v":0},null,1000,{"$f":"J460","v":0},{"$f":"K460","v":0},{"$f":"L460","v":0},{"$f":"M460","v":0},{"$f":"N460","v":0}]
[]
[null,null,null,null,null,null,null,null,"TABLE",34]
[null,"FEA Table:",null,null,null,null,null,null,"Span Shape:",2,3,4,5,6]
[null,"Span","Allowable Overstrike Length (ft)",null,null,null,null,null,"Span","Adjusted Allowable Overstrike Length (ft)"]
[null,"Len (ft)","Tangent","45° Turn","90° Turn","T-Tap","X-Tap",null,"Len (ft)","Tangent","45° Turn","90° Turn","T-Tap","X-Tap"]
[null,1,{"$f":"C468","v":0},{"$f":"D468","v":0},{"$f":"E468","v":0},{"$f":"F468","v":0},{"$f":"G468","v":0},null,1,{"$f":"J468","v":0},{"$f":"K468","v":0},{"$f":"L468","v":0},{"$f":"M468","v":0},{"$f":"N468","v":0}]
[null,50,null,null,null,null,null,null,50,{"$f":"C468+Spans!$C$10","v":0},{"$f":"D468+Spans!$C$10","v":0},{"$f":"E468+Spans!$C$10","v":0},{"$f":"F468+Spans!$C$10","v":0},{"$f":"G468+Spans!$C$10","v":0}]
[null,100,null,null,null,null,null,null,100,{"$f":"C469+Spans!$C$10","v":0},{"$f":"D469+Spans!$C$10","v":0},{"$f":"E469+Spans!$C$10","v":0},{"$f":"F469+Spans!$C$10","v":0},{"$f":"G469+Spans!$C$10","v":0}]
[null,150,null,null,null,null,null,null,150,{"$f":"C470+Spans!$C$10","v":0},{"$f":"D470+Spans!$C$10","v":0},{"$f":"E470+Spans!$C$10","v":0},{"$f":"F470+Spans!$C$10","v":0},{"$f":"G470+Spans!$C$10","v":0}]
[null,200,null,null,null,null,null,null,200,{"$f":"C471+Spans!$C$10","v":0},{"$f":"D471+Spans!$C$10","v":0},{"$f":"E471+Spans!$C$10","v":0},{"$f":"F471+Spans!$C$10","v":0},{"$f":"G471+Spans!$C$10","v":0}]
[null,300,null,null,null,null,null,null,300,{"$f":"C472+Spans!$C$10","v":0},{"$f":"D472+Spans!$C$10","v":0},{"$f":"E472+Spans!$C$10","v":0},{"$f":"F472+Spans!$C$10","v":0},{"$f":"G472+Spans!$C$10","v":0}]
[null,400,null,null,null,null,null,null,400,{"$f":"C473+Spans!$C$10","v":0},{"$f":"D473+Spans!$C$10","v":0},{"$f":"E473+Spans!$C$10","v":0},{"$f":"F473+Spans!$C$10","v":0},{"$f":"G473+Spans!$C$10","v":0}]
[null,500,null,null,null,null,null,null,500,{"$f":"C474+Spans!$C$10","v":0},{"$f":"D474+Spans!$C$10","v":0},{"$f":"E474+Spans!$C$10","v":0},{"$f":"F474+Spans!$C$10","v":0},{"$f":"G474+Spans!$C$10","v":0}]
[null,1000,{"$f":"C474","v":0},{"$f":"D474","v":0},{"$f":"E474","v":0},{"$f":"F474","v":0},{"$f":"G474","v":0},null,1000,{"$f":"J474","v":0},{"$f":"K474","v":0},{"$f":"L474","v":0},{"$f":"M474","v":0},{"$f":"N474","v":0}]
[]
[null,null,null,null,null,null,null,null,"TABLE",35]
[null,"FEA Table:",null,null,null,null,null,null,"Span Shape:",2,3,4,5,6]
[null,"Span","Allowable Overstrike Length (ft)",null,null,null,null,null,"Span","Adjusted Allowable Overstrike Length (ft)"]
[null,"Len (ft)","Tangent","45° Turn","90° Turn","T-Tap","X-Tap",null,"Len (ft)","Tangent","45° Turn","90° Turn","T-Tap","X-Tap"]
[null,1,{"$f":"C482","v":0},{"$f":"D482","v":0},{"$f":"E482","v":0},{"$f":"F482","v":0},{"$f":"G482","v":0},null,1,{"$f":"J482","v":0},{"$f":"K482","v":0},{"$f":"L482","v":0},{"$f":"M482","v":0},{"$f":"N482","v":0}]
[null,50,null,null,null,null,null,null,50,{"$f":"C482+Spans!$C$10","v":0},{"$f":"D482+Spans!$C$10","v":0},{"$f":"E482+Spans!$C$10","v":0},{"$f":"F482+Spans!$C$10","v":0},{"$f":"G482+Spans!$C$10","v":0}]
[null,100,null,null,null,null,null,null,100,{"$f":"C483+Spans!$C$10","v":0},{"$f":"D483+Spans!$C$10","v":0},{"$f":"E483+Spans!$C$10","v":0},{"$f":"F483+Spans!$C$10","v":0},{"$f":"G483+Spans!$C$10","v":0}]
[null,150,null,null,null,null,null,null,150,{"$f":"C484+Spans!$C$10","v":0},{"$f":"D484+Spans!$C$10","v":0},{"$f":"E484+Spans!$C$10","v":0},{"$f":"F484+Spans!$C$10","v":0},{"$f":"G484+Spans!$C$10","v":0}]
[null,200,null,null,null,null,null,null,200,{"$f":"C485+Spans!$C$10","v":0},{"$f":"D485+Spans!$C$10","v":0},{"$f":"E485+Spans!$C$10","v":0},{"$f":"F485+Spans!$C$10","v":0},{"$f":"G485+Spans!$C$10","v":0}]
[null,300,null,null,null,null,null,null,300,{"$f":"C486+Spans!$C$10","v":0},{"$f":"D486+Spans!$C$10","v":0},{"$f":"E486+Spans!$C$10","v":0},{"$f":"F486+Spans!$C$10","v":0},{"$f":"G486+Spans!$C$10","v":0}]
[null,400,null,null,null,null,null,null,400,{"$f":"C487+Spans!$C$10","v":0},{"$f":"D487+Spans!$C$10","v":0},{"$f":"E487+Spans!$C$10","v":0},{"$f":"F487+Spans!$C$10","v":0},{"$f":"G487+Spans!$C$10","v":0}]
[null,500,null,null,null,null,null,null,500,{"$f":"C488+Spans!$C$10","v":0},{"$f":"D488+Spans!$C$10","v":0},{"$f":"E488+Spans!$C$10","v":0},{"$f":"F488+Spans!$C$10","v":0},{"$f":"G488+Spans!$C$10","v":0}]
[null,1000,{"$f":"C488","v":0},{"$f":"D488","v":0},{"$f":"E488","v":0},{"$f":"F488","v":0},{"$f":"G488","v":0},null,1000,{"$f":"J488","v":0},{"$f":"K488","v":0},{"$f":"L488","v":0},{"$f":"M488","v":0},{"$f":"N488","v":0}]
[]
[null,null,null,null,null,null,null,null,"TABLE",36]
[null,"FEA Table:",null,null,null,null,null,null,"Span Shape:",2,3,4,5,6]
[null,"Span","Allowable Overstrike Length (ft)",null,null,null,null,null,"Span","Adjusted Allowable Overstrike Length (ft)"]
[null,"Len (ft)","Tangent","45° Turn","90° Turn","T-Tap","X-Tap",null,"Len (ft)","Tangent","45° Turn","90° Turn","T-Tap","X-Tap"]
[null,1,{"$f":"C496","v":0},{"$f":"D496","v":0},{"$f":"E496","v":0},{"$f":"F496","v":0},{"$f":"G496","v":0},null,1,{"$f":"J496","v":0},{"$f":"K496","v":0},{"$f":"L496","v":0},{"$f":"M496","v":0},{"$f":"N496","v":0}]
[null,50,null,null,null,null,null,null,50,{"$f":"C496+Spans!$C$10","v":0},{"$f":"D496+Spans!$C$10","v":0},{"$f":"E496+Spans!$C$10","v":0},{"$f":"F496+Spans!$C$10","v":0},{"$f":"G496+Spans!$C$10","v":0}]
[null,100,null,null,null,null,null,null,100,{"$f":"C497+Spans!$C$10","v":0},{"$f":"D497+Spans!$C$10","v":0},{"$f":"E497+Spans!$C$10","v":0},{"$f":"F497+Spans!$C$10","v":0},{"$f":"G497+Spans!$C$10","v":0}]
[null,150,null,null,null,null,null,null,150,{"$f":"C498+Spans!$C$10","v":0},{"$f":"D498+Spans!$C$10","v":0},{"$f":"E498+Spans!$C$10","v":0},{"$f":"F498+Spans!$C$10","v":0},{"$f":"G498+Spans!$C$10","v":0}]
[null,200,null,null,null,null,null,null,200,{"$f":"C499+Spans!$C$10","v":0},{"$f":"D499+Spans!$C$10","v":0},{"$f":"E499+Spans!$C$10","v":0},{"$f":"F499+Spans!$C$10","v":0},{"$f":"G499+Spans!$C$10","v":0}]
[null,300,null,null,null,null,null,null,300,{"$f":"C500+Spans!$C$10","v":0},{"$f":"D500+Spans!$C$10","v":0},{"$f":"E500+Spans!$C$10","v":0},{"$f":"F500+Spans!$C$10","v":0},{"$f":"G500+Spans!$C$10","v":0}]
[null,400,null,null,null,null,null,null,400,{"$f":"C501+Spans!$C$10","v":0},{"$f":"D501+Spans!$C$10","v":0},{"$f":"E501+Spans!$C$10","v":0},{"$f":"F501+Spans!$C$10","v":0},{"$f":"G501+Spans!$C$10","v":0}]
[null,500,null,null,null,null,null,null,500,{"$f":"C502+Spans!$C$10","v":0},{"$f":"D502+Spans!$C$10","v":0},{"$f":"E502+Spans!$C$10","v":0},{"$f":"F502+Spans!$C$10","v":0},{"$f":"G502+Spans!$C$10","v":0}]
[null,1000,{"$f":"C502","v":0},{"$f":"D502","v":0},{"$f":"E502","v":0},{"$f":"F502","v":0},{"$f":"G502","v":0},null,1000,{"$f":"J502","v":0},{"$f":"K502","v":0},{"$f":"L502","v":0},{"$f":"M502","v":0},{"$f":"N502","v":0}]
[]
[null,null,null,null,null,null,null,null,"TABLE",37]
[null,"Base Table:",null,null,null,null,null,null,"Span Shape:",2,3,4,5,6]
[null,"Span","Allowable Overstrike Length (ft)",null,null,null,null,null,"Span","Adjusted Allowable Overstrike Length (ft)"]
[null,"Len (ft)","Tangent","45° Turn","90° Turn","T-Tap","X-Tap",null,"Len (ft)","Tangent","45° Turn","90° Turn","T-Tap","X-Tap"]
[null,1,{"$f":"C510","v":0},{"$f":"D510","v":0},{"$f":"E510","v":0},{"$f":"F510","v":0},{"$f":"G510","v":0},null,1,{"$f":"J510","v":0},{"$f":"K510","v":0},{"$f":"L510","v":0},{"$f":"M510","v":0},{"$f":"N510","v":0}]
[null,50,null,null,null,null,null,null,50,{"$f":"C510+Spans!$C$10","v":0},{"$f":"D510+Spans!$C$10","v":0},{"$f":"E510+Spans!$C$10","v":0},{"$f":"F510+Spans!$C$10","v":0},{"$f":"G510+Spans!$C$10","v":0}]
[null,100,null,null,null,null,null,null,100,{"$f":"C511+Spans!$C$10","v":0},{"$f":"D511+Spans!$C$10","v":0},{"$f":"E511+Spans!$C$10","v":0},{"$f":"F511+Spans!$C$10","v":0},{"$f":"G511+Spans!$C$10","v":0}]
[null,150,null,null,null,null,null,null,150,{"$f":"C512+Spans!$C$10","v":0},{"$f":"D512+Spans!$C$10","v":0},{"$f":"E512+Spans!$C$10","v":0},{"$f":"F512+Spans!$C$10","v":0},{"$f":"G512+Spans!$C$10","v":0}]
[null,200,null,null,null,null,null,null,200,{"$f":"C513+Spans!$C$10","v":0},{"$f":"D513+Spans!$C$10","v":0},{"$f":"E513+Spans!$C$10","v":0},{"$f":"F513+Spans!$C$10","v":0},{"$f":"G513+Spans!$C$10","v":0}]
[null,300,null,null,null,null,null,null,300,{"$f":"C514+Spans!$C$10","v":0},{"$f":"D514+Spans!$C$10","v":0},{"$f":"E514+Spans!$C$10","v":0},{"$f":"F514+Spans!$C$10","v":0},{"$f":"G514+Spans!$C$10","v":0}]
[null,400,null,null,null,null,null,null,400,{"$f":"C515+Spans!$C$10","v":0},{"$f":"D515+Spans!$C$10","v":0},{"$f":"E515+Spans!$C$10","v":0},{"$f":"F515+Spans!$C$10","v":0},{"$f":"G515+Spans!$C$10","v":0}]
[null,500,null,null,null,null,null,null,500,{"$f":"C516+Spans!$C$10","v":0},{"$f":"D516+Spans!$C$10","v":0},{"$f":"E516+Spans!$C$10","v":0},{"$f":"F516+Spans!$C$10","v":0},{"$f":"G516+Spans!$C$10","v":0}]
[null,1000,{"$f":"C516","v":0},{"$f":"D516","v":0},{"$f":"E516","v":0},{"$f":"F516","v":0},{"$f":"G516","v":0},null,1000,{"$f":"J516","v":0},{"$f":"K516","v":0},{"$f":"L516","v":0},{"$f":"M516","v":0},{"$f":"N516","v":0}]
[]
[null,null,null,null,null,null,null,null,"TABLE",38]
[null,"FEA Table:",null,null,null,null,null,null,"Span Shape:",2,3,4,5,6]
[null,"Span","Allowable Overstrike Length (ft)",null,null,null,null,null,"Span","Adjusted Allowable Overstrike Length (ft)"]
[null,"Len (ft)","Tangent","45° Turn","90° Turn","T-Tap","X-Tap",null,"Len (ft)","Tangent","45° Turn","90° Turn","T-Tap","X-Tap"]
[null,1,{"$f":"C524","v":0},{"$f":"D524","v":0},{"$f":"E524","v":0},{"$f":"F524","v":0},{"$f":"G524","v":0},null,1,{"$f":"J524","v":0},{"$f":"K524","v":0},{"$f":"L524","v":0},{"$f":"M524","v":0},{"$f":"N524","v":0}]
[null,50,null,null,null,null,null,null,50,{"$f":"C524+Spans!$C$10","v":0},{"$f":"D524+Spans!$C$10","v":0},{"$f":"E524+Spans!$C$10","v":0},{"$f":"F524+Spans!$C$10","v":0},{"$f":"G524+Spans!$C$10","v":0}]
[null,100,null,null,null,null,null,null,100,{"$f":"C525+Spans!$C$10","v":0},{"$f":"D525+Spans!$C$10","v":0},{"$f":"E525+Spans!$C$10","v":0},{"$f":"F525+Spans!$C$10","v":0},{"$f":"G525+Spans!$C$10","v":0}]
[null,150,null,null,null,null,null,null,150,{"$f":"C526+Spans!$C$10","v":0},{"$f":"D526+Spans!$C$10","v":0},{"$f":"E526+Spans!$C$10","v":0},{"$f":"F526+Spans!$C$10","v":0},{"$f":"G526+Spans!$C$10","v":0}]
[null,200,null,null,null,null,null,null,200,{"$f":"C527+Spans!$C$10","v":0},{"$f":"D527+Spans!$C$10","v":0},{"$f":"E527+Spans!$C$10","v":0},{"$f":"F527+Spans!$C$10","v":0},{"$f":"G527+Spans!$C$10","v":0}]
[null,300,null,null,null,null,null,null,300,{"$f":"C528+Spans!$C$10","v":0},{"$f":"D528+Spans!$C$10","v":0},{"$f":"E528+Spans!$C$10","v":0},{"$f":"F528+Spans!$C$10","v":0},{"$f":"G528+Spans!$C$10","v":0}]
[null,400,null,null,null,null,null,null,400,{"$f":"C529+Spans!$C$10","v":0},{"$f":"D529+Spans!$C$10","v":0},{"$f":"E529+Spans!$C$10","v":0},{"$f":"F529+Spans!$C$10","v":0},{"$f":"G529+Spans!$C$10","v":0}]
[null,500,null,null,null,null,null,null,500,{"$f":"C530+Spans!$C$10","v":0},{"$f":"D530+Spans!$C$10","v":0},{"$f":"E530+Spans!$C$10","v":0},{"$f":"F530+Spans!$C$10","v":0},{"$f":"G530+Spans!$C$10","v":0}]
[null,1000,{"$f":"C530","v":0},{"$f":"D530","v":0},{"$f":"E530","v":0},{"$f":"F530","v":0},{"$f":"G530","v":0},null,1000,{"$f":"J530","v":0},{"$f":"K530","v":0},{"$f":"L530","v":0},{"$f":"M530","v":0},{"$f":"N530","v":0}]
[]
[null,null,null,null,null,null,null,null,"TABLE",39]
[null,"FEA Table:","Wood, 715.5 AAC, Oak",null,null,null,null,null,"Span Shape:",2,3,4,5,6]
[null,"Span","Allowable Overstrike Length (ft)",null,null,null,null,null,"Span","Adjusted Allowable Overstrike Length (ft)"]
[null,"Len (ft)","Tangent","45° Turn","90° Turn","T-Tap","X-Tap",null,"Len (ft)","Tangent","45° Turn","90° Turn","T-Tap","X-Tap"]
[null,1,{"$f":"C538","v":17},{"$f":"D538","v":17},{"$f":"E538","v":17},{"$f":"F538","v":17},{"$f":"G538","v":17},null,1,{"$f":"J538","v":17},{"$f":"K538","v":17},{"$f":"L538","v":17},{"$f":"M538","v":17},{"$f":"N538","v":17}]
[null,50,17,17,17,17,17,null,50,{"$f":"C538+Spans!$C$10","v":17},{"$f":"D538+Spans!$C$10","v":17},{"$f":"E538+Spans!$C$10","v":17},{"$f":"F538+Spans!$C$10","v":17},{"$f":"G538+Spans!$C$10","v":17}]
[null,100,17,17,17,17,17,null,100,{"$f":"C539+Spans!$C$10","v":17},{"$f":"D539+Spans!$C$10","v":17},{"$f":"E539+Spans!$C$10","v":17},{"$f":"F539+Spans!$C$10","v":17},{"$f":"G539+Spans!$C$10","v":17}]
[null,150,17,17,17,17,17,null,150,{"$f":"C540+Spans!$C$10","v":17},{"$f":"D540+Spans!$C$10","v":17},{"$f":"E540+Spans!$C$10","v":17},{"$f":"F540+Spans!$C$10","v":17},{"$f":"G540+Spans!$C$10","v":17}]
[null,200,17,17,17,17,17,null,200,{"$f":"C541+Spans!$C$10","v":17},{"$f":"D541+Spans!$C$10","v":17},{"$f":"E541+Spans!$C$10","v":17},{"$f":"F541+Spans!$C$10","v":17},{"$f":"G541+Spans!$C$10","v":17}]
[null,300,17,17,17,17,17,null,300,{"$f":"C542+Spans!$C$10","v":17},{"$f":"D542+Spans!$C$10","v":17},{"$f":"E542+Spans!$C$10","v":17},{"$f":"F542+Spans!$C$10","v":17},{"$f":"G542+Spans!$C$10","v":17}]
[null,400,17,17,17,17,17,null,400,{"$f":"C543+Spans!$C$10","v":17},{"$f":"D543+Spans!$C$10","v":17},{"$f":"E543+Spans!$C$10","v":17},{"$f":"F543+Spans!$C$10","v":17},{"$f":"G543+Spans!$C$10","v":17}]
[null,500,17,17,17,17,17,null,500,{"$f":"C544+Spans!$C$10","v":17},{"$f":"D544+Spans!$C$10","v":17},{"$f":"E544+Spans!$C$10","v":17},{"$f":"F544+Spans!$C$10","v":17},{"$f":"G544+Spans!$C$10","v":17}]
[null,1000,{"$f":"C544","v":17},{"$f":"D544","v":17},{"$f":"E544","v":17},{"$f":"F544","v":17},{"$f":"G544","v":17},null,1000,{"$f":"J544","v":17},{"$f":"K544","v":17},{"$f":"L544","v":17},{"$f":"M544","v":17},{"$f":"N544","v":17}]
[]
[null,null,null,null,null,null,null,null,"TABLE",40]
[null,"FEA Table:","Wood, 715.5 AAC, Blue Gum / Eucalyptus",null,null,null,null,null,"Span Shape:",2,3,4,5,6]
[null,"Span","Allowable Overstrike Length (ft)",null,null,null,null,null,"Span","Adjusted Allowable Overstrike Length (ft)"]
[null,"Len (ft)","Tangent","45° Turn","90° Turn","T-Tap","X-Tap",null,"Len (ft)","Tangent","45° Turn","90° Turn","T-Tap","X-Tap"]
[null,1,{"$f":"C552","v":17},{"$f":"D552","v":17},{"$f":"E552","v":17},{"$f":"F552","v":17},{"$f":"G552","v":17},null,1,{"$f":"J552","v":17},{"$f":"K552","v":17},{"$f":"L552","v":17},{"$f":"M552","v":17},{"$f":"N552","v":17}]
[null,50,17,17,17,17,17,null,50,{"$f":"C552+Spans!$C$10","v":17},{"$f":"D552+Spans!$C$10","v":17},{"$f":"E552+Spans!$C$10","v":17},{"$f":"F552+Spans!$C$10","v":17},{"$f":"G552+Spans!$C$10","v":17}]
[null,100,17,17,17,17,17,null,100,{"$f":"C553+Spans!$C$10","v":17},{"$f":"D553+Spans!$C$10","v":17},{"$f":"E553+Spans!$C$10","v":17},{"$f":"F553+Spans!$C$10","v":17},{"$f":"G553+Spans!$C$10","v":17}]
[null,150,17,17,17,17,17,null,150,{"$f":"C554+Spans!$C$10","v":17},{"$f":"D554+Spans!$C$10","v":17},{"$f":"E554+Spans!$C$10","v":17},{"$f":"F554+Spans!$C$10","v":17},{"$f":"G554+Spans!$C$10","v":17}]
[null,200,17,17,17,17,17,null,200,{"$f":"C555+Spans!$C$10","v":17},{"$f":"D555+Spans!$C$10","v":17},{"$f":"E555+Spans!$C$10","v":17},{"$f":"F555+Spans!$C$10","v":17},{"$f":"G555+Spans!$C$10","v":17}]
[null,300,17,17,17,17,17,null,300,{"$f":"C556+Spans!$C$10","v":17},{"$f":"D556+Spans!$C$10","v":17},{"$f":"E556+Spans!$C$10","v":17},{"$f":"F556+Spans!$C$10","v":17},{"$f":"G556+Spans!$C$10","v":17}]
[null,400,17,17,17,17,17,null,400,{"$f":"C557+Spans!$C$10","v":17},{"$f":"D557+Spans!$C$10","v":17},{"$f":"E557+Spans!$C$10","v":17},{"$f":"F557+Spans!$C$10","v":17},{"$f":"G557+Spans!$C$10","v":17}]
[null,500,17,17,17,17,17,null,500,{"$f":"C558+Spans!$C$10","v":17},{"$f":"D558+Spans!$C$10","v":17},{"$f":"E558+Spans!$C$10","v":17},{"$f":"F558+Spans!$C$10","v":17},{"$f":"G558+Spans!$C$10","v":17}]
[null,1000,{"$f":"C558","v":17},{"$f":"D558","v":17},{"$f":"E558","v":17},{"$f":"F558","v":17},{"$f":"G558","v":17},null,1000,{"$f":"J558","v":17},{"$f":"K558","v":17},{"$f":"L558","v":17},{"$f":"M558","v":17},{"$f":"N558","v":17}]

{"sheet":"PolesCSV","index":4,"n_rows":225,"n_cols":21,"rows_kept":225,"cut":false,"hidden":false,"merged":[]}
["OID_","ED_Division","ED_Region","TierGroup","CIRCUITID","CIRCUITNAME","CircuitKey","str_geotag","longitude","latitude","x","y","height","elevation","voltage","acq_date","asset_url","vendor_name","acq_year","loaddatetime","location_confidence"]
[1,"NORTH VALLEY","NORTHERN","Tier 2-3",102911105,"WYANDOTTE 1105","102911105 Tier 2-3","W12149215N3967731",-121.492149999999,39.677309999999899,6704608.29,2373091.79999999,37.899999999999899,1282.5,5,"2019-11-20T17:46:46","https://viewer.us-3.sharpershape.services/viewer/assets/5cab83a89a834f872b114b39/details",null,null,null,"high"]
[2,"NORTH VALLEY","NORTHERN","Tier 2-3",102911105,"WYANDOTTE 1105","102911105 Tier 2-3","W12149219N3967729",-121.492189999999,39.6772899999999,6704597.4400000004,2373083.1,41.2,1280.79999999999,5,"2019-11-20T17:46:46","https://viewer.us-3.sharpershape.services/viewer/assets/5e7b67c50acbc171203cf04f/details",null,null,null,"high"]
[3,"NORTH VALLEY","NORTHERN","Tier 2-3",102911105,"WYANDOTTE 1105","102911105 Tier 2-3","W12149240N3967714",-121.4924,39.677140000000001,6704538.79,2373030.6499999901,48.5,1288.7,5,"2019-11-20T17:46:46","https://viewer.us-3.sharpershape.services/viewer/assets/5cab83a89a834f6b12114f7d/details",null,null,null,"high"]
[4,"NORTH VALLEY","NORTHERN","Tier 2-3",102911105,"WYANDOTTE 1105","102911105 Tier 2-3","W12149322N3967660",-121.493219999999,39.676600000000001,6704310.1500000004,2372830.12,40.799999999999898,1357.5,5,"2019-11-20T17:46:46","https://viewer.us-3.sharpershape.services/viewer/assets/5cab83a89a834f274a114d22/details",null,null,null,"high"]
[5,"NORTH VALLEY","NORTHERN","Tier 2-3",102911105,"WYANDOTTE 1105","102911105 Tier 2-3","W12149366N3967635",-121.49366000000001,39.6763499999999,6704185.7800000003,2372740.41,38.799999999999898,1375.7,5,"2019-11-20T17:46:46","https://viewer.us-3.sharpershape.services/viewer/assets/5cab83a89a834f1dba114d21/details",null,null,null,"high"]
[6,"NORTH VALLEY","NORTHERN","Tier 2-3",102911105,"WYANDOTTE 1105","102911105 Tier 2-3","W12149590N3967413",-121.49590000000001,39.674129999999899,6703561.9199999897,2371928.3199999901,37.899999999999899,1281,5,"2019-11-20T17:46:46","https://viewer.us-3.sharpershape.services/viewer/assets/5cab83a89a834f8250114bf8/details",null,null,null,"high"]
[7,"NORTH VALLEY","NORTHERN","Tier 2-3",102911105,"WYANDOTTE 1105","102911105 Tier 2-3","W12149658N3967347",-121.496579999999,39.673470000000002,6703369.3099999903,2371687.3799999901,39.799999999999898,1224.5,5,"2019-11-20T17:46:46","https://viewer.us-3.sharpershape.services/viewer/assets/5cab83a89a834f280c114c30/details",null,null,null,"high"]
[8,"NORTH VALLEY","NORTHERN","Tier 2-3",102911105,"WYANDOTTE 1105","102911105 Tier 2-3","W12149700N3966999",-121.497,39.669989999999899,6703260.5700000003,2370416.79,40.6,1060.9000000000001,5,"2019-11-20T17:46:46","https://viewer.us-3.sharpershape.services/viewer/assets/5cab83a89a834fb1f6114d6c/details",null,null,null,"high"]
[9,"NORTH VALLEY","NORTHERN","Tier 2-3",102911105,"WYANDOTTE 1105","102911105 Tier 2-3","W12149727N3967099",-121.49727,39.670990000000003,6703180.0599999903,2370781.9500000002,39.899999999999899,1134.29999999999,5,"2019-11-20T17:46:46","https://viewer.us-3.sharpershape.services/viewer/assets/5cab83a89a834f81e11150f1/details",null,null,null,"high"]
[10,"NORTH VALLEY","NORTHERN","Tier 2-3",102911105,"WYANDOTTE 1105","102911105 Tier 2-3","W12149742N3967166",-121.49742000000001,39.671660000000003,6703136.2999999896,2371024.3799999901,30.1,1168.5999999999899,5,"2019-11-20T17:46:46","https://viewer.us-3.sharpershape.services/viewer/assets/5cab83a89a834f8578114d6d/details",null,null,null,"high"]
[11,"NORTH VALLEY","NORTHERN","Tier 2-3",102911105,"WYANDOTTE 1105","102911105 Tier 2-3","W12149755N3967217",-121.49755,39.672170000000001,6703099.54,2371212.2099999902,33,1198.4000000000001,5,"2019-11-20T17:46:46","https://viewer.us-3.sharpershape.services/viewer/assets/5cab83a89a834f5d40114855/details",null,null,null,"high"]
[12,"NORTH VALLEY","NORTHERN","Tier 2-3",102911105,"WYANDOTTE 1105","102911105 Tier 2-3","W12150124N3966627",-121.501239999999,39.666269999999898,6702072.04,2369057.39,44.2,981,5,"2019-11-20T17:46:46","https://viewer.us-3.sharpershape.services/viewer/assets/5cab83a89a834f9f91114833/details",null,null,null,"high"]
[13,"NORTH VALLEY","NORTHERN","Tier 2-3",102911105,"WYANDOTTE 1105","102911105 Tier 2-3","W12150267N3966441",-121.502669999999,39.664409999999897,6701674.5099999905,2368377.7200000002,55.399999999999899,1166.5,5,"2019-11-20T17:46:46","https://viewer.us-3.sharpershape.services/viewer/assets/5cab83a89a834f7eda1149c8/details",null,null,null,"high"]
[14,"NORTH VALLEY","NORTHERN","Tier 2-3",102911105,"WYANDOTTE 1105","102911105 Tier 2-3","W12150368N3966300",-121.50368,39.662999999999897,6701394.1900000004,2367863.1,51.799999999999898,1403.4,5,"2019-11-20T17:46:46","https://viewer.us-3.sharpershape.services/viewer/assets/5cab83a89a834fe102114ace/details",null,null,null,"high"]
[15,"NORTH VALLEY","NORTHERN","Tier 2-3",102911105,"WYANDOTTE 1105","102911105 Tier 2-3","W12150545N3965863",-121.505449999999,39.658630000000002,6700903.3899999904,2366266,44.799999999999898,1271.5,5,"2019-11-20T17:46:46","https://viewer.us-3.sharpershape.services/viewer/assets/5cab83a89a834f0f58114c15/details",null,null,null,"high"]
[16,"NORTH VALLEY","NORTHERN","Tier 2-3",102911105,"WYANDOTTE 1105","102911105 Tier 2-3","W12150561N3965801",-121.50561,39.658009999999898,6700860.4800000004,2366040,48.5,1340.0999999999899,5,"2019-11-20T17:46:46","https://viewer.us-3.sharpershape.services/viewer/assets/5d88c11055dd6b856b3f2eab/details",null,null,null,"high"]
[17,"NORTH VALLEY","NORTHERN","Tier 2-3",102911105,"WYANDOTTE 1105","102911105 Tier 2-3","W12150604N3965661",-121.506039999999,39.656610000000001,6700740.2999999896,2365530.1499999901,49.299999999999898,1448.5,5,"2019-11-20T17:46:46","https://viewer.us-3.sharpershape.services/viewer/assets/5d88c0f36476d772e15dd223/details",null,null,null,"high"]
[18,"NORTH VALLEY","NORTHERN","Tier 2-3",102911105,"WYANDOTTE 1105","102911105 Tier 2-3","W12150643N3965533",-121.506429999999,39.6553299999999,6700633.7000000002,2365063.02999999,44.2,1520.0999999999899,5,"2019-11-20T17:46:46","https://viewer.us-3.sharpershape.services/viewer/assets/5d88c0df6476d751e25dd222/details",null,null,null,"high"]
[19,"NORTH VALLEY","NORTHERN","Tier 2-3",102911105,"WYANDOTTE 1105","102911105 Tier 2-3","W12150660N3965474",-121.50660000000001,39.654739999999897,6700588.4599999897,2364849.91,45.299999999999898,1524.0999999999899,5,"2019-11-20T17:46:46","https://viewer.us-3.sharpershape.services/viewer/assets/5d88c0e855dd6b1d373f2eaa/details",null,null,null,"high"]
[20,"NORTH VALLEY","NORTHERN","Tier 2-3",102911105,"WYANDOTTE 1105","102911105 Tier 2-3","W12150742N3965186",-121.507419999999,39.6518599999999,6700363.0199999902,2363798.6099999901,49.399999999999899,1533.5,5,"2019-11-20T17:46:46","https://viewer.us-3.sharpershape.services/viewer/assets/5d88b87c55dd6b2eca3f2e7e/details",null,null,null,"high"]
[21,"NORTH VALLEY","NORTHERN","Tier 2-3",102911105,"WYANDOTTE 1105","102911105 Tier 2-3","W12150764N3965146",-121.507639999999,39.65146,6700300.2000000002,2363653.7299999902,32.799999999999898,1529.29999999999,5,"2019-11-20T17:46:46","https://viewer.us-3.sharpershape.services/viewer/assets/5cab83a89a834f39be114ca5/details",null,null,null,"high"]
[22,"NORTH VALLEY","NORTHERN","Tier 2-3",102911105,"WYANDOTTE 1105","102911105 Tier 2-3","W12150782N3965112",-121.507819999999,39.651119999999899,6700249.5999999903,2363528.2299999902,39.5,1521.5,5,"2019-11-20T17:46:46","https://viewer.us-3.sharpershape.services/viewer/assets/5cab83a89a834f6ebe114d6a/details",null,null,null,"high"]
[23,"NORTH VALLEY","NORTHERN","Tier 2-3",102911105,"WYANDOTTE 1105","102911105 Tier 2-3","W12150790N3965077",-121.50790000000001,39.650770000000001,6700228.3399999896,2363399.0899999901,71.599999999999895,1522.9,5,"2019-11-20T17:46:46","https://viewer.us-3.sharpershape.services/viewer/assets/5d88b8a055dd6bde7e3f2e81/details",null,null,null,"high"]
[24,"NORTH VALLEY","NORTHERN","Tier 0-1",102911105,"WYANDOTTE 1105","102911105 Tier 0-1","W12151119N3952361",-121.511189999999,39.523609999999898,6699551.6500000004,2317078.6,33.1,403.69999999999902,5,"2019-11-20T17:46:46","https://viewer.us-3.sharpershape.services/viewer/assets/5cab83a89a834f50ae114aa0/details",null,null,null,"high"]
[25,"NORTH VALLEY","NORTHERN","Tier 0-1",102911105,"WYANDOTTE 1105","102911105 Tier 0-1","W12151167N3952308",-121.511669999999,39.52308,6699416.5300000003,2316884.06,35,449.1,5,"2019-11-20T17:46:46","https://viewer.us-3.sharpershape.services/viewer/assets/5cab83a89a834f0f33114fb0/details",null,null,null,"high"]
[26,"NORTH VALLEY","NORTHERN","Tier 0-1",102911105,"WYANDOTTE 1105","102911105 Tier 0-1","W12151196N3952324",-121.51196,39.523240000000001,6699335.2300000004,2316942.16,39.700000000000003,449.1,5,"2019-11-20T17:46:46","https://viewer.us-3.sharpershape.services/viewer/assets/5cab83a89a834fda2a114faf/details",null,null,null,"high"]
[27,"NORTH VALLEY","NORTHERN","Tier 0-1",102911105,"WYANDOTTE 1105","102911105 Tier 0-1","W12151282N3952292",-121.51282,39.5229199999999,6699094.1699999897,2316823.58,38.799999999999898,462.6,5,"2019-11-20T17:46:46","https://viewer.us-3.sharpershape.services/viewer/assets/5cab83a89a834fe25e114f15/details",null,null,null,"high"]
[28,"NORTH VALLEY","NORTHERN","Tier 0-1",102911105,"WYANDOTTE 1105","102911105 Tier 0-1","W12151335N3952254",-121.51335,39.5225399999999,6698945.7999999896,2316684.5899999901,40,463.39999999999901,5,"2019-11-20T17:46:46","https://viewer.us-3.sharpershape.services/viewer/assets/5cab83a89a834f0710114f14/details",null,null,null,"high"]
[29,"NORTH VALLEY","NORTHERN","Tier 0-1",102911105,"WYANDOTTE 1105","102911105 Tier 0-1","W12151389N3952251",-121.51389,39.522509999999897,6698791.4400000004,2316674,38.6,469.3,5,"2019-11-20T17:46:46","https://viewer.us-3.sharpershape.services/viewer/assets/5d8b1ed36476d70f7b5dd3a3/details",null,null,null,"high"]
[30,"NORTH VALLEY","NORTHERN","Tier 2-3",102911105,"WYANDOTTE 1105","102911105 Tier 2-3","W12151401N3952860",-121.514009999999,39.528599999999898,6698745.1699999897,2318892.06,37.299999999999898,487.5,5,"2019-11-20T17:46:46","https://viewer.us-3.sharpershape.services/viewer/assets/5cab83a89a834f313f1149d2/details",null,null,null,"high"]
[31,"NORTH VALLEY","NORTHERN","Tier 2-3",102911105,"WYANDOTTE 1105","102911105 Tier 2-3","W12151433N3952690",-121.51433,39.526899999999898,6698658.4199999897,2318270.77999999,37.799999999999898,474.1,5,"2019-11-20T17:46:46","https://viewer.us-3.sharpershape.services/viewer/assets/5cab83a89a834f2775114af7/details",null,null,null,"high"]
[32,"NORTH VALLEY","NORTHERN","Tier 2-3",102911105,"WYANDOTTE 1105","102911105 Tier 2-3","W12151437N3952744",-121.51437,39.527439999999899,6698646,2318468.4599999902,37.700000000000003,479.39999999999901,5,"2019-11-20T17:46:46","https://viewer.us-3.sharpershape.services/viewer/assets/5cab83a89a834fef851147fe/details",null,null,null,"high"]
[33,"NORTH VALLEY","NORTHERN","Tier 2-3",102911105,"WYANDOTTE 1105","102911105 Tier 2-3","W12151441N3952799",-121.514409999999,39.527990000000003,6698633.54,2318667.41,38.799999999999898,487.39999999999901,5,"2019-11-20T17:46:46","https://viewer.us-3.sharpershape.services/viewer/assets/5cab83a89a834fda43114866/details",null,null,null,"high"]
[34,"NORTH VALLEY","NORTHERN","Tier 0-1",102911105,"WYANDOTTE 1105","102911105 Tier 0-1","W12151444N3952251",-121.514439999999,39.522509999999897,6698637.0800000001,2316673.79999999,43.2,476.3,5,"2019-11-20T17:46:46","https://viewer.us-3.sharpershape.services/viewer/assets/5d88b8d455dd6babe23f2e84/details",null,null,null,"high"]
[35,"NORTH VALLEY","NORTHERN","Tier 2-3",102911105,"WYANDOTTE 1105","102911105 Tier 2-3","W12151456N3952437",-121.51456,39.524369999999898,6698600.5199999902,2317350.29,38.299999999999898,488.1,5,"2019-11-20T17:46:46","https://viewer.us-3.sharpershape.services/viewer/assets/5cab83a89a834f0eb11148b1/details",null,null,null,"high"]
[36,"NORTH VALLEY","NORTHERN","Tier 2-3",102911105,"WYANDOTTE 1105","102911105 Tier 2-3","W12151459N3952471",-121.514589999999,39.524709999999899,6698590.0700000003,2317473.6699999901,38.200000000000003,490.6,5,"2019-11-20T17:46:46","https://viewer.us-3.sharpershape.services/viewer/assets/5cab83a89a834f54ad114b34/details",null,null,null,"high"]
[37,"NORTH VALLEY","NORTHERN","Tier 2-3",102911105,"WYANDOTTE 1105","102911105 Tier 2-3","W12151461N3952559",-121.51461,39.525590000000001,6698583.5499999896,2317796.2099999902,37.399999999999899,480.89999999999901,5,"2019-11-20T17:46:46","https://viewer.us-3.sharpershape.services/viewer/assets/5d8b1e3a55dd6b43ca3f3022/details",null,null,null,"high"]
[38,"NORTH VALLEY","NORTHERN","Tier 2-3",102911105,"WYANDOTTE 1105","102911105 Tier 2-3","W12151463N3952642",-121.514629999999,39.526420000000002,6698576.7000000002,2318097.54999999,37,472.1,5,"2019-11-20T17:46:46","https://viewer.us-3.sharpershape.services/viewer/assets/5cab83a89a834f1c8311493c/details",null,null,null,"high"]
[39,"NORTH VALLEY","NORTHERN","Tier 0-1",102911105,"WYANDOTTE 1105","102911105 Tier 0-1","W12151473N3952396",-121.51473,39.523960000000002,6698551.75,2317202.29,37.700000000000003,473.8,5,"2019-11-20T17:46:46","https://viewer.us-3.sharpershape.services/viewer/assets/5cab83a89a834f4efa11512a/details",null,null,null,"high"]
[40,"NORTH VALLEY","NORTHERN","Tier 0-1",102911105,"WYANDOTTE 1105","102911105 Tier 0-1","W12151515N3952268",-121.51515000000001,39.522680000000001,6698435.4699999904,2316732.6699999901,38.5,487,5,"2019-11-20T17:46:46","https://viewer.us-3.sharpershape.services/viewer/assets/5cab83a89a834f20b611512d/details",null,null,null,"high"]
[41,"NORTH VALLEY","NORTHERN","Tier 0-1",102911105,"WYANDOTTE 1105","102911105 Tier 0-1","W12151549N3952385",-121.51549,39.523850000000003,6698337.3300000001,2317161.00999999,42.7,486.3,5,"2019-11-20T17:46:46","https://viewer.us-3.sharpershape.services/viewer/assets/5cab83a89a834f4bcd1150dc/details",null,null,null,"high"]
[42,"NORTH VALLEY","NORTHERN","Tier 0-1",102911105,"WYANDOTTE 1105","102911105 Tier 0-1","W12151562N3952310",-121.515619999999,39.5230999999999,6698302.7400000002,2316886.8799999901,39.299999999999898,480.19999999999902,5,"2019-11-20T17:46:46","https://viewer.us-3.sharpershape.services/viewer/assets/5cab83a89a834f1b7c11512c/details",null,null,null,"high"]
[43,"NORTH VALLEY","NORTHERN","Tier 0-1",102911105,"WYANDOTTE 1105","102911105 Tier 0-1","W12151594N3952384",-121.51594,39.52384,6698210.4400000004,2317156,39.5,493.1,5,"2019-11-20T17:46:46","https://viewer.us-3.sharpershape.services/viewer/assets/5cab83a89a834f06b31150dd/details",null,null,null,"high"]
[44,"NORTH VALLEY","NORTHERN","Tier 0-1",102911105,"WYANDOTTE 1105","102911105 Tier 0-1","W12151682N3952381",-121.516819999999,39.523809999999898,6697963.9900000002,2317144.2299999902,39.5,494.8,5,"2019-11-20T17:46:46","https://viewer.us-3.sharpershape.services/viewer/assets/5cab83a89a834f037e114eda/details",null,null,null,"high"]
[45,"NORTH VALLEY","NORTHERN","Tier 0-1",102911105,"WYANDOTTE 1105","102911105 Tier 0-1","W12151702N3952428",-121.51702,39.524279999999898,6697906.1699999897,2317313.04,40,495.19999999999902,5,"2019-11-20T17:46:46","https://viewer.us-3.sharpershape.services/viewer/assets/5d88b8656476d78a955dd202/details",null,null,null,"high"]
[46,"NORTH VALLEY","NORTHERN","Tier 2-3",102911105,"WYANDOTTE 1105","102911105 Tier 2-3","W12151765N3953162",-121.51765,39.531619999999897,6697713.7000000002,2319985.54999999,40.1,342.69999999999902,null,"2019-11-20T17:46:46","https://viewer.us-3.sharpershape.services/viewer/assets/5cab0f66fae217578d70477d/details",null,null,null,"high"]
[47,"NORTH VALLEY","NORTHERN","Tier 2-3",102911105,"WYANDOTTE 1105","102911105 Tier 2-3","W12151822N3953157",-121.518219999999,39.531570000000002,6697553.4800000004,2319967.33,43.7,344.1,5,"2019-11-20T17:46:46","https://viewer.us-3.sharpershape.services/viewer/assets/5cab83a89a834f38071147f2/details",null,null,null,"high"]
[48,"NORTH VALLEY","NORTHERN","Tier 2-3",102911105,"WYANDOTTE 1105","102911105 Tier 2-3","W12151852N3952834",-121.518519999999,39.52834,6697473.8799999896,2318791.1299999901,42.2,451.19999999999902,5,"2019-11-20T17:46:46","https://viewer.us-3.sharpershape.services/viewer/assets/5cab83a89a834f794b114c86/details",null,null,null,"high"]
[49,"NORTH VALLEY","NORTHERN","Tier 2-3",102911105,"WYANDOTTE 1105","102911105 Tier 2-3","W12151868N3953111",-121.51868,39.531109999999899,6697425.7199999904,2319799.52999999,35.299999999999898,358.69999999999902,5,"2019-11-20T17:46:46","https://viewer.us-3.sharpershape.services/viewer/assets/5cab83a89a834f3ea0114f73/details",null,null,null,"high"]
[50,"NORTH VALLEY","NORTHERN","Tier 2-3",102911105,"WYANDOTTE 1105","102911105 Tier 2-3","W12151873N3952887",-121.51873000000001,39.528869999999898,6697414.0599999903,2318982.8399999901,38.799999999999898,457.6,5,"2019-11-20T17:46:46","https://viewer.us-3.sharpershape.services/viewer/assets/5cab83a89a834f58e01150d1/details",null,null,null,"high"]
[51,"NORTH VALLEY","NORTHERN","Tier 2-3",102911105,"WYANDOTTE 1105","102911105 Tier 2-3","W12151909N3953154",-121.51909000000001,39.53154,6697307.0899999896,2319953.56,36,364.89999999999901,5,"2019-11-20T17:46:46","https://viewer.us-3.sharpershape.services/viewer/assets/5cab83a89a834f3a2e114ce8/details",null,null,null,"high"]
[52,"NORTH VALLEY","NORTHERN","Tier 2-3",102911105,"WYANDOTTE 1105","102911105 Tier 2-3","W12151911N3952893",-121.519109999999,39.528930000000003,6697307.6900000004,2319003.29999999,43.2,461.8,5,"2019-11-20T17:46:46","https://viewer.us-3.sharpershape.services/viewer/assets/5cab83a89a834f4fe1114a47/details",null,null,null,"high"]
[53,"NORTH VALLEY","NORTHERN","Tier 2-3",102911105,"WYANDOTTE 1105","102911105 Tier 2-3","W12151923N3953089",-121.519229999999,39.5308899999999,6697268.5999999903,2319716.7099999902,33.899999999999899,361.39999999999901,5,"2019-11-20T17:46:46","https://viewer.us-3.sharpershape.services/viewer/assets/5cab83a89a834f825c1148d4/details",null,null,null,"high"]
[54,"NORTH VALLEY","NORTHERN","Tier 2-3",102911105,"WYANDOTTE 1105","102911105 Tier 2-3","W12151936N3952926",-121.51936000000001,39.529260000000001,6697236.3300000001,2319125.3799999901,38.6,441.3,5,"2019-11-20T17:46:46","https://viewer.us-3.sharpershape.services/viewer/assets/5cab83a89a834f6f8b114f6b/details",null,null,null,"high"]
[55,"NORTH VALLEY","NORTHERN","Tier 2-3",102911105,"WYANDOTTE 1105","102911105 Tier 2-3","W12152005N3953021",-121.520049999999,39.530209999999897,6697038.4400000004,2319470.7299999902,41.399999999999899,373.69999999999902,5,"2019-11-20T17:46:46","https://viewer.us-3.sharpershape.services/viewer/assets/5cab83a89a834f682e114a6e/details",null,null,null,"high"]
[56,"NORTH VALLEY","NORTHERN","Tier 2-3",102911105,"WYANDOTTE 1105","102911105 Tier 2-3","W12152014N3952914",-121.520139999999,39.529139999999899,6697016.1200000001,2319078.87,36.6,394.1,5,"2019-11-20T17:46:46","https://viewer.us-3.sharpershape.services/viewer/assets/5cab83a89a834f1510114b60/details",null,null,null,"high"]
[57,"NORTH VALLEY","NORTHERN","Tier 2-3",102911105,"WYANDOTTE 1105","102911105 Tier 2-3","W12152053N3952877",-121.520529999999,39.528770000000002,6696907.4299999904,2318945.64,37.6,400.3,5,"2019-11-20T17:46:46","https://viewer.us-3.sharpershape.services/viewer/assets/5cab83a89a834fb6e2114a52/details",null,null,null,"high"]
[58,"NORTH VALLEY","NORTHERN","Tier 2-3",102911105,"WYANDOTTE 1105","102911105 Tier 2-3","W12152064N3952615",-121.52064,39.526150000000001,6696882.0199999902,2317987.91,34.299999999999898,478.6,5,"2019-11-20T17:46:46","https://viewer.us-3.sharpershape.services/viewer/assets/5cab83a89a834faed7114a54/details",null,null,null,"high"]
[59,"NORTH VALLEY","NORTHERN","Tier 2-3",102911105,"WYANDOTTE 1105","102911105 Tier 2-3","W12152091N3952965",-121.52091,39.529649999999897,6696797.4000000004,2319265.8399999901,39.899999999999899,393.8,5,"2019-11-20T17:46:46","https://viewer.us-3.sharpershape.services/viewer/assets/5cab83a89a834f6e38114a5b/details",null,null,null,"high"]
[60,"NORTH VALLEY","NORTHERN","Tier 2-3",102911105,"WYANDOTTE 1105","102911105 Tier 2-3","W12152091N3953014",-121.52091,39.530140000000003,6696798.1799999904,2319444.14,35.299999999999898,384,5,"2019-11-20T17:46:46","https://viewer.us-3.sharpershape.services/viewer/assets/5cab83a89a834f43f1114818/details",null,null,null,"high"]
[61,"NORTH VALLEY","NORTHERN","Tier 0-1",102911105,"WYANDOTTE 1105","102911105 Tier 0-1","W12152121N3952468",-121.521209999999,39.524679999999897,6696722.9900000002,2317451.64,33.399999999999899,475.1,5,"2019-11-20T17:46:46","https://viewer.us-3.sharpershape.services/viewer/assets/5cab83a89a834f298e114f9d/details",null,null,null,"high"]
[62,"NORTH VALLEY","NORTHERN","Tier 2-3",102911105,"WYANDOTTE 1105","102911105 Tier 2-3","W12152123N3952539",-121.52123,39.525390000000002,6696717.2000000002,2317710.4700000002,33,477.3,5,"2019-11-20T17:46:46","https://viewer.us-3.sharpershape.services/viewer/assets/5cab83a89a834fc9db114a80/details",null,null,null,"high"]
[63,"NORTH VALLEY","NORTHERN","Tier 2-3",102911105,"WYANDOTTE 1105","102911105 Tier 2-3","W12152124N3952614",-121.52124000000001,39.526139999999899,6696711.0099999905,2317985.04,34.799999999999898,482.89999999999901,5,"2019-11-20T17:46:46","https://viewer.us-3.sharpershape.services/viewer/assets/5cab83a89a834f564a114c5f/details",null,null,null,"high"]
[64,"NORTH VALLEY","NORTHERN","Tier 2-3",102911105,"WYANDOTTE 1105","102911105 Tier 2-3","W12152184N3953012",-121.521839999999,39.530119999999897,6696533.8600000003,2319434.7400000002,39.299999999999898,406,5,"2019-11-20T17:46:46","https://viewer.us-3.sharpershape.services/viewer/assets/5cab83a89a834f0ff1114c46/details",null,null,null,"high"]
[65,"NORTH VALLEY","NORTHERN","Tier 0-1",102911105,"WYANDOTTE 1105","102911105 Tier 0-1","W12152223N3952454",-121.522229999999,39.524540000000002,6696435.9199999897,2317401.4300000002,35.200000000000003,542.5,5,"2019-11-20T17:46:46","https://viewer.us-3.sharpershape.services/viewer/assets/5cab83a89a834f2525114f9e/details",null,null,null,"high"]
[66,"NORTH VALLEY","NORTHERN","Tier 2-3",102911105,"WYANDOTTE 1105","102911105 Tier 2-3","W12152284N3952992",-121.52284,39.529919999999898,6696253.9100000001,2319358.81,42.899999999999899,426.19999999999902,5,"2019-11-20T17:46:46","https://viewer.us-3.sharpershape.services/viewer/assets/5cab83a89a834f6909114c77/details",null,null,null,"high"]
[67,"NORTH VALLEY","NORTHERN","Tier 0-1",102911105,"WYANDOTTE 1105","102911105 Tier 0-1","W12152293N3952453",-121.52293,39.524529999999899,6696237.5599999903,2317396.1299999901,39.700000000000003,565.79999999999905,5,"2019-11-20T17:46:46","https://viewer.us-3.sharpershape.services/viewer/assets/5cab83a89a834f6e6a114f9f/details",null,null,null,"high"]
[68,"NORTH VALLEY","NORTHERN","Tier 2-3",102911105,"WYANDOTTE 1105","102911105 Tier 2-3","W12152351N3952966",-121.52351,39.52966,6696066.0499999896,2319263.31,39.6,422.19999999999902,5,"2019-11-20T17:46:46","https://viewer.us-3.sharpershape.services/viewer/assets/5cab83a89a834f239a114b6a/details",null,null,null,"high"]
[69,"NORTH VALLEY","NORTHERN","Tier 2-3",102911105,"WYANDOTTE 1105","102911105 Tier 2-3","W12152414N3952959",-121.52414,39.529589999999899,6695886.4400000004,2319235.9599999902,39.899999999999899,422.19999999999902,5,"2019-11-20T17:46:46","https://viewer.us-3.sharpershape.services/viewer/assets/5cab83a89a834fe1761148bd/details",null,null,null,"high"]
[70,"NORTH VALLEY","NORTHERN","Tier 2-3",102911105,"WYANDOTTE 1105","102911105 Tier 2-3","W12152508N3952949",-121.52508,39.529490000000003,6695621.6900000004,2319197.9300000002,43.299999999999898,422,5,"2019-11-20T17:46:46","https://viewer.us-3.sharpershape.services/viewer/assets/5cab9c2cf6b4630429aaad01/details",null,null,null,"high"]
[71,"NORTH VALLEY","NORTHERN","Tier 2-3",102911105,"WYANDOTTE 1105","102911105 Tier 2-3","W12152594N3958619",-121.52594000000001,39.586190000000002,6695271.3099999903,2339849.2099999902,28.6,1211.7,5,"2019-12-19T12:17:11","https://viewer.us-3.sharpershape.services/viewer/assets/5cab7ceffae2175f11727918/details",null,null,null,"high"]
[72,"NORTH VALLEY","NORTHERN","Tier 2-3",102911105,"WYANDOTTE 1105","102911105 Tier 2-3","W12152596N3952916",-121.525959999999,39.529159999999898,6695375.4800000004,2319078.85,39.899999999999899,413,5,"2019-11-20T17:46:46","https://viewer.us-3.sharpershape.services/viewer/assets/5cab83a89a834fe93f11483d/details",null,null,null,"high"]
[73,"NORTH VALLEY","NORTHERN","Tier 2-3",102911105,"WYANDOTTE 1105","102911105 Tier 2-3","W12152603N3952974",-121.52603000000001,39.529739999999897,6695353.9900000002,2319287.9199999901,30.1999999999999,371.3,5,"2019-11-20T17:46:46","https://viewer.us-3.sharpershape.services/viewer/assets/5cab83a89a834fbc0a1149c4/details",null,null,null,"high"]
[74,"NORTH VALLEY","NORTHERN","Tier 2-3",102911105,"WYANDOTTE 1105","102911105 Tier 2-3","W12152603N3953064",-121.52603000000001,39.530639999999899,6695351.4299999904,2319617.04,30.399999999999899,337.6,5,"2019-11-20T17:46:46","https://viewer.us-3.sharpershape.services/viewer/assets/5cab83a89a834f2b66114b5e/details",null,null,null,"high"]
[75,"NORTH VALLEY","NORTHERN","Tier 2-3",102911105,"WYANDOTTE 1105","102911105 Tier 2-3","W12152604N3953139",-121.526039999999,39.531390000000002,6695348.1699999897,2319890.2000000002,35.1,335.5,5,"2019-11-20T17:46:46","https://viewer.us-3.sharpershape.services/viewer/assets/5cab83a89a834f073e114af2/details",null,null,null,"high"]
[76,"NORTH VALLEY","NORTHERN","Tier 2-3",102911105,"WYANDOTTE 1105","102911105 Tier 2-3","W12152605N3953235",-121.526049999999,39.532350000000001,6695342.6200000001,2320241.1899999902,35.700000000000003,343.8,5,"2019-11-20T17:46:46","https://viewer.us-3.sharpershape.services/viewer/assets/5e1c22e62830f2d8b147b06a/details",null,null,null,"high"]
[77,"NORTH VALLEY","NORTHERN","Tier 2-3",102911105,"WYANDOTTE 1105","102911105 Tier 2-3","W12152605N3953285",-121.526049999999,39.532850000000003,6695341.7699999902,2320421.4500000002,38.700000000000003,335.19999999999902,5,"2019-11-20T17:46:46","https://viewer.us-3.sharpershape.services/viewer/assets/5cab83a89a834f37d5114a90/details",null,null,null,"high"]
[78,"NORTH VALLEY","NORTHERN","Tier 2-3",102911105,"WYANDOTTE 1105","102911105 Tier 2-3","W12152606N3953202",-121.52606,39.532020000000003,6695340.6799999904,2320121.31,38.200000000000003,343.3,5,"2019-11-20T17:46:46","https://viewer.us-3.sharpershape.services/viewer/assets/5cab83a89a834f96c6114912/details",null,null,null,"high"]
[79,"NORTH VALLEY","NORTHERN","Tier 2-3",102911105,"WYANDOTTE 1105","102911105 Tier 2-3","W12152680N3952875",-121.526799999999,39.528750000000002,6695137.6900000004,2318929.1499999901,35.399999999999899,398.8,5,"2019-11-20T17:46:46","https://viewer.us-3.sharpershape.services/viewer/assets/5cab83a89a834f7fcd1148e8/details",null,null,null,"high"]
[80,"NORTH VALLEY","NORTHERN","Tier 2-3",102911105,"WYANDOTTE 1105","102911105 Tier 2-3","W12152750N3952825",-121.5275,39.52825,6694942.4100000001,2318745.06,35.200000000000003,384.3,5,"2019-11-20T17:46:46","https://viewer.us-3.sharpershape.services/viewer/assets/5cab83a89a834fee1b114a13/details",null,null,null,"high"]
[81,"NORTH VALLEY","NORTHERN","Tier 2-3",102911105,"WYANDOTTE 1105","102911105 Tier 2-3","W12152800N3952774",-121.52800000000001,39.527740000000001,6694803.1100000003,2318557.56,40.700000000000003,384.1,5,"2019-11-20T17:46:46","https://viewer.us-3.sharpershape.services/viewer/assets/5cab83a89a834f6aed114adc/details",null,null,null,"high"]
[82,"NORTH VALLEY","NORTHERN","Tier 2-3",102911105,"WYANDOTTE 1105","102911105 Tier 2-3","W12152907N3952726",-121.52907,39.527259999999899,6694501.5300000003,2318380.5,40.399999999999899,374.6,5,"2019-11-20T17:46:46","https://viewer.us-3.sharpershape.services/viewer/assets/5cab83a89a834f072b114f78/details",null,null,null,"high"]
[83,"NORTH VALLEY","NORTHERN","Tier 2-3",102911105,"WYANDOTTE 1105","102911105 Tier 2-3","W12152971N3952716",-121.529709999999,39.527160000000002,6694320.0599999903,2318345.25,34.200000000000003,373.5,5,"2019-11-20T17:46:46","https://viewer.us-3.sharpershape.services/viewer/assets/5cab83a89a834f8499114c56/details",null,null,null,"high"]
[84,"NORTH VALLEY","NORTHERN","Tier 2-3",102911105,"WYANDOTTE 1105","102911105 Tier 2-3","W12152988N3952972",-121.52988000000001,39.529719999999898,6694268.4699999904,2319277.1499999901,38.899999999999899,436,5,"2019-11-20T17:46:46","https://viewer.us-3.sharpershape.services/viewer/assets/5d89b6b66476d7009d5dd26d/details",null,null,null,"high"]
[85,"NORTH VALLEY","NORTHERN","Tier 2-3",102911105,"WYANDOTTE 1105","102911105 Tier 2-3","W12153052N3952749",-121.530519999999,39.52749,6694092.4199999897,2318461.4700000002,34.299999999999898,374.6,5,"2019-11-20T17:46:46","https://viewer.us-3.sharpershape.services/viewer/assets/5cab83a89a834f09dd114942/details",null,null,null,"high"]
[86,"NORTH VALLEY","NORTHERN","Tier 2-3",102911105,"WYANDOTTE 1105","102911105 Tier 2-3","W12153053N3952876",-121.530529999999,39.528759999999899,6694085.2800000003,2318926.1299999901,33.200000000000003,424.19999999999902,5,"2019-11-20T17:46:46","https://viewer.us-3.sharpershape.services/viewer/assets/5cab83a89a834f5112114a5a/details",null,null,null,"high"]
[87,"NORTH VALLEY","NORTHERN","Tier 2-3",102911105,"WYANDOTTE 1105","102911105 Tier 2-3","W12153054N3952731",-121.53054,39.52731,6694087.3099999903,2318397.29999999,40.5,377.89999999999901,5,"2019-11-20T17:46:46","https://viewer.us-3.sharpershape.services/viewer/assets/5cab83a89a834fab4c1148bb/details",null,null,null,"high"]
[88,"NORTH VALLEY","NORTHERN","Tier 2-3",102911105,"WYANDOTTE 1105","102911105 Tier 2-3","W12153054N3952815",-121.53054,39.528149999999897,6694083.7199999904,2318704.9199999901,38.700000000000003,398,5,"2019-11-20T17:46:46","https://viewer.us-3.sharpershape.services/viewer/assets/5cab83a89a834fe8fa114893/details",null,null,null,"high"]
[89,"NORTH VALLEY","NORTHERN","Tier 2-3",102911105,"WYANDOTTE 1105","102911105 Tier 2-3","W12153068N3952972",-121.53068,39.529719999999898,6694042.79,2319276.9300000002,37.700000000000003,455.6,5,"2019-11-20T17:46:46","https://viewer.us-3.sharpershape.services/viewer/assets/5cab83a89a834f6959114bec/details",null,null,null,"high"]
[90,"NORTH VALLEY","NORTHERN","Tier 2-3",102911105,"WYANDOTTE 1105","102911105 Tier 2-3","W12153111N3953048",-121.531109999999,39.530479999999898,6693919.8799999896,2319553.12,29.8,451,5,"2019-11-20T17:46:46","https://viewer.us-3.sharpershape.services/viewer/assets/5cab83a89a834f2de01149cc/details",null,null,null,"high"]
[91,"NORTH VALLEY","NORTHERN","Tier 2-3",102911105,"WYANDOTTE 1105","102911105 Tier 2-3","W12153116N3952725",-121.53116,39.527250000000002,6693912.3899999904,2318375.16,38.899999999999899,389,5,"2019-11-20T17:46:46","https://viewer.us-3.sharpershape.services/viewer/assets/5cab83a89a834f711f114b13/details",null,null,null,"high"]
[92,"NORTH VALLEY","NORTHERN","Tier 2-3",102911105,"WYANDOTTE 1105","102911105 Tier 2-3","W12153117N3953239",-121.53117,39.5323899999999,6693899.1100000003,2320245.3599999901,39.700000000000003,456.5,5,"2019-11-20T17:46:46","https://viewer.us-3.sharpershape.services/viewer/assets/5cab83a89a834f6ecf1149fd/details",null,null,null,"high"]
[93,"NORTH VALLEY","NORTHERN","Tier 2-3",102911105,"WYANDOTTE 1105","102911105 Tier 2-3","W12153118N3953282",-121.53118000000001,39.532820000000001,6693894.3300000001,2320405.31,29.399999999999899,447.8,5,"2019-11-20T17:46:46","https://viewer.us-3.sharpershape.services/viewer/assets/5cab83a89a834f69911148d9/details",null,null,null,"high"]
[94,"NORTH VALLEY","NORTHERN","Tier 2-3",102911105,"WYANDOTTE 1105","102911105 Tier 2-3","W12153130N3952973",-121.5313,39.529730000000001,6693867.6100000003,2319276.64,35.200000000000003,453.1,5,"2019-11-20T17:46:46","https://viewer.us-3.sharpershape.services/viewer/assets/5cab83a89a834fcb7f11493e/details",null,null,null,"high"]
[95,"NORTH VALLEY","NORTHERN","Tier 2-3",102911105,"WYANDOTTE 1105","102911105 Tier 2-3","W12153133N3952927",-121.531329999999,39.529269999999897,6693860.8499999903,2319109.4199999901,33.899999999999899,460.89999999999901,5,"2019-11-20T17:46:46","https://viewer.us-3.sharpershape.services/viewer/assets/5cab83a89a834f4dfd114acb/details",null,null,null,"high"]
[96,"NORTH VALLEY","NORTHERN","Tier 2-3",102911105,"WYANDOTTE 1105","102911105 Tier 2-3","W12153147N3953155",-121.531469999999,39.531550000000003,6693816.2099999897,2319939.77,29.899999999999899,444.69999999999902,5,"2019-11-20T17:46:46","https://viewer.us-3.sharpershape.services/viewer/assets/5cab83a89a834f538c114803/details",null,null,null,"high"]
[97,"NORTH VALLEY","NORTHERN","Tier 2-3",102911105,"WYANDOTTE 1105","102911105 Tier 2-3","W12153152N3952699",-121.53152,39.526989999999898,6693809.3899999904,2318280.8399999901,41.1,396.1,5,"2019-11-20T17:46:46","https://viewer.us-3.sharpershape.services/viewer/assets/5cab83a89a834f199f114aad/details",null,null,null,"high"]
[98,"NORTH VALLEY","NORTHERN","Tier 2-3",102911105,"WYANDOTTE 1105","102911105 Tier 2-3","W12153157N3953048",-121.53157,39.530479999999898,6693791.1299999896,2319551.75999999,34.700000000000003,447.1,5,"2019-11-20T17:46:46","https://viewer.us-3.sharpershape.services/viewer/assets/5cab83a89a834f19e6114c95/details",null,null,null,"high"]
[99,"NORTH VALLEY","NORTHERN","Tier 2-3",102911105,"WYANDOTTE 1105","102911105 Tier 2-3","W12153200N3952739",-121.531999999999,39.527389999999897,6693673.5700000003,2318423.83,34.399999999999899,392.39999999999901,5,"2019-11-20T17:46:46","https://viewer.us-3.sharpershape.services/viewer/assets/5cab83a89a834f868b1149fb/details",null,null,null,"high"]
[100,"NORTH VALLEY","NORTHERN","Tier 2-3",102911105,"WYANDOTTE 1105","102911105 Tier 2-3","W12153203N3952790",-121.53203000000001,39.527900000000002,6693664.2300000004,2318609.79999999,33.6,414.6,5,"2019-11-20T17:46:46","https://viewer.us-3.sharpershape.services/viewer/assets/5cab83a89a834f3799114a81/details",null,null,null,"high"]
[101,"NORTH VALLEY","NORTHERN","Tier 2-3",102911105,"WYANDOTTE 1105","102911105 Tier 2-3","W12153205N3952846",-121.532049999999,39.528460000000003,6693659.6299999896,2318813.64,34.5,453.8,5,"2019-11-20T17:46:46","https://viewer.us-3.sharpershape.services/viewer/assets/5cab83a89a834f27d1114ba9/details",null,null,null,"high"]
[102,"NORTH VALLEY","NORTHERN","Tier 2-3",102911105,"WYANDOTTE 1105","102911105 Tier 2-3","W12153205N3953245",-121.532049999999,39.532449999999898,6693650.0499999896,2320269.25,34.399999999999899,441.3,5,"2019-11-20T17:46:46","https://viewer.us-3.sharpershape.services/viewer/assets/5cab83a89a834f4dd5114c74/details",null,null,null,"high"]
[103,"NORTH VALLEY","NORTHERN","Tier 2-3",102911105,"WYANDOTTE 1105","102911105 Tier 2-3","W12153205N3953285",-121.532049999999,39.532850000000003,6693649.9199999897,2320413.89,39.700000000000003,421.5,5,"2019-11-20T17:46:46","https://viewer.us-3.sharpershape.services/viewer/assets/5cab83a89a834f701c114948/details",null,null,null,"high"]
[104,"NORTH VALLEY","NORTHERN","Tier 2-3",102911105,"WYANDOTTE 1105","102911105 Tier 2-3","W12153206N3952881",-121.53206,39.52881,6693655.04,2318942.6299999901,37.299999999999898,485.19999999999902,5,"2019-11-20T17:46:46","https://viewer.us-3.sharpershape.services/viewer/assets/5cab83a89a834f463911496c/details",null,null,null,"high"]
[105,"NORTH VALLEY","NORTHERN","Tier 2-3",102911105,"WYANDOTTE 1105","102911105 Tier 2-3","W12153206N3952972",-121.53206,39.529719999999898,6693653.6399999904,2319274.81,30.1,435.69999999999902,5,"2019-11-20T17:46:46","https://viewer.us-3.sharpershape.services/viewer/assets/5cab83a89a834fad03114b3d/details",null,null,null,"high"]
[106,"NORTH VALLEY","NORTHERN","Tier 2-3",102911105,"WYANDOTTE 1105","102911105 Tier 2-3","W12153206N3953018",-121.53206,39.530180000000001,6693651.7999999896,2319441.12,34.399999999999899,444.3,5,"2019-11-20T17:46:46","https://viewer.us-3.sharpershape.services/viewer/assets/5cab83a89a834fe556114c99/details",null,null,null,"high"]
[107,"NORTH VALLEY","NORTHERN","Tier 2-3",102911105,"WYANDOTTE 1105","102911105 Tier 2-3","W12153206N3953048",-121.53206,39.530479999999898,6693651.0700000003,2319550.64,35.399999999999899,441.5,5,"2019-11-20T17:46:46","https://viewer.us-3.sharpershape.services/viewer/assets/5cab83a89a834f5b03114bd0/details",null,null,null,"high"]
[108,"NORTH VALLEY","NORTHERN","Tier 2-3",102911105,"WYANDOTTE 1105","102911105 Tier 2-3","W12153206N3953153",-121.53206,39.531529999999897,6693648.6500000004,2319933.12,30.6999999999999,437.6,5,"2019-11-20T17:46:46","https://viewer.us-3.sharpershape.services/viewer/assets/5cab83a89a834fd5bc11484c/details",null,null,null,"high"]
[109,"NORTH VALLEY","NORTHERN","Tier 2-3",102911105,"WYANDOTTE 1105","102911105 Tier 2-3","W12153206N3953192",-121.53206,39.53192,6693648.0099999905,2320073.75,35.700000000000003,440.1,5,"2019-11-20T17:46:46","https://viewer.us-3.sharpershape.services/viewer/assets/5cab83a89a834f3823114ad7/details",null,null,null,"high"]
[110,"NORTH VALLEY","NORTHERN","Tier 2-3",102911105,"WYANDOTTE 1105","102911105 Tier 2-3","W12153207N3953097",-121.53207,39.530970000000003,6693649.1900000004,2319727.83,30.399999999999899,435.39999999999901,5,"2019-11-20T17:46:46","https://viewer.us-3.sharpershape.services/viewer/assets/5cab83a89a834f5a43114b51/details",null,null,null,"high"]
[111,"NORTH VALLEY","NORTHERN","Tier 2-3",102911105,"WYANDOTTE 1105","102911105 Tier 2-3","W12153224N3952655",-121.53224,39.52655,6693609.2699999902,2318118.6699999901,43.299999999999898,399.3,5,"2019-11-20T17:46:46","https://viewer.us-3.sharpershape.services/viewer/assets/5cab83a89a834f2e7c114bbd/details",null,null,null,"high"]
[112,"NORTH VALLEY","NORTHERN","Tier 2-3",102911105,"WYANDOTTE 1105","102911105 Tier 2-3","W12153261N3953152",-121.53261000000001,39.53152,6693495.9900000002,2319928.1099999901,38.799999999999898,428,null,"2019-11-20T17:46:46","https://viewer.us-3.sharpershape.services/viewer/assets/5cab0f66fae217af20704696/details",null,null,null,"high"]
[113,"NORTH VALLEY","NORTHERN","Tier 2-3",102911105,"WYANDOTTE 1105","102911105 Tier 2-3","W12153269N3953048",-121.53269,39.530479999999898,6693474.6100000003,2319549.62,35.299999999999898,423.6,5,"2019-11-20T17:46:46","https://viewer.us-3.sharpershape.services/viewer/assets/5cab83a89a834f8973114b71/details",null,null,null,"high"]
[114,"NORTH VALLEY","NORTHERN","Tier 2-3",102911105,"WYANDOTTE 1105","102911105 Tier 2-3","W12153270N3952789",-121.53270000000001,39.5278899999999,6693475.1399999904,2318607.37,38.299999999999898,408.3,5,"2019-11-20T17:46:46","https://viewer.us-3.sharpershape.services/viewer/assets/5cab83a89a834f35931148fc/details",null,null,null,"high"]
[115,"NORTH VALLEY","NORTHERN","Tier 0-1",102911105,"WYANDOTTE 1105","102911105 Tier 0-1","W12153279N3952515",-121.53279000000001,39.525149999999897,6693454.7800000003,2317607.75,39.5,451.3,5,"2019-11-20T17:46:46","https://viewer.us-3.sharpershape.services/viewer/assets/5cab83a89a834f6bc1115147/details",null,null,null,"high"]
[116,"NORTH VALLEY","NORTHERN","Tier 2-3",102911105,"WYANDOTTE 1105","102911105 Tier 2-3","W12153284N3952973",-121.532839999999,39.529730000000001,6693432.1399999904,2319274.37,39.700000000000003,416.19999999999902,5,"2019-11-20T17:46:46","https://viewer.us-3.sharpershape.services/viewer/assets/5cab83a89a834fb46c1149a5/details",null,null,null,"high"]
[117,"NORTH VALLEY","NORTHERN","Tier 2-3",102911105,"WYANDOTTE 1105","102911105 Tier 2-3","W12153295N3952615",-121.53295,39.526150000000001,6693409.5700000003,2317969.83,38.200000000000003,396.39999999999901,5,"2019-11-20T17:46:46","https://viewer.us-3.sharpershape.services/viewer/assets/5cab83a89a834f47b31148ef/details",null,null,null,"high"]
[118,"NORTH VALLEY","NORTHERN","Tier 0-1",102911105,"WYANDOTTE 1105","102911105 Tier 0-1","W12153312N3952549",-121.533119999999,39.525489999999898,6693361.6299999896,2317730.35,40.1,423.1,5,"2019-11-20T17:46:46","https://viewer.us-3.sharpershape.services/viewer/assets/5cab83a89a834fa1fb115148/details",null,null,null,"high"]
[119,"NORTH VALLEY","NORTHERN","Tier 2-3",102911105,"WYANDOTTE 1105","102911105 Tier 2-3","W12153322N3953104",-121.53322,39.531039999999898,6693322.7300000004,2319750.77999999,34.6,415.19999999999902,5,"2019-11-20T17:46:46","https://viewer.us-3.sharpershape.services/viewer/assets/5cab83a89a834f2232114a51/details",null,null,null,"high"]
[120,"NORTH VALLEY","NORTHERN","Tier 2-3",102911105,"WYANDOTTE 1105","102911105 Tier 2-3","W12153323N3953048",-121.53323,39.530479999999898,6693320.8099999903,2319549.56,33.200000000000003,405.19999999999902,5,"2019-11-20T17:46:46","https://viewer.us-3.sharpershape.services/viewer/assets/5cab83a89a834f8001114adb/details",null,null,null,"high"]
[121,"NORTH VALLEY","NORTHERN","Tier 2-3",102911105,"WYANDOTTE 1105","102911105 Tier 2-3","W12153340N3952972",-121.5334,39.529719999999898,6693276.0099999905,2319271.3799999901,37.899999999999899,408.39999999999901,5,"2019-11-20T17:46:46","https://viewer.us-3.sharpershape.services/viewer/assets/5cab83a89a834f5875114a8f/details",null,null,null,"high"]
[122,"NORTH VALLEY","NORTHERN","Tier 0-1",102911105,"WYANDOTTE 1105","102911105 Tier 0-1","W12153345N3952585",-121.53345,39.525849999999899,6693267.4100000001,2317862.85,41.2,389.69999999999902,5,"2019-11-20T17:46:46","https://viewer.us-3.sharpershape.services/viewer/assets/5cab83a89a834fb857114c54/details",null,null,null,"high"]
[123,"NORTH VALLEY","NORTHERN","Tier 2-3",102911105,"WYANDOTTE 1105","102911105 Tier 2-3","W12153355N3953046",-121.53355000000001,39.530459999999898,6693230.8600000003,2319539.00999999,34.1,408.6,5,"2019-11-20T17:46:46","https://viewer.us-3.sharpershape.services/viewer/assets/5cab9c2cf6b4633a7baaa986/details",null,null,null,"high"]
[124,"NORTH VALLEY","NORTHERN","Tier 2-3",102911105,"WYANDOTTE 1105","102911105 Tier 2-3","W12153363N3952882",-121.53363,39.528820000000003,6693210.8099999903,2318942.64,38.1,431.69999999999902,5,"2019-11-20T17:46:46","https://viewer.us-3.sharpershape.services/viewer/assets/5cab83a89a834fbd60114bc2/details",null,null,null,"high"]
[125,"NORTH VALLEY","NORTHERN","Tier 2-3",102911105,"WYANDOTTE 1105","102911105 Tier 2-3","W12153379N3952832",-121.533789999999,39.528320000000001,6693167.0999999903,2318759.8999999901,33.5,419.8,5,"2019-11-20T17:46:46","https://viewer.us-3.sharpershape.services/viewer/assets/5cab83a89a834f6577114b52/details",null,null,null,"high"]
[126,"NORTH VALLEY","NORTHERN","Tier 2-3",102911105,"WYANDOTTE 1105","102911105 Tier 2-3","W12153385N3952791",-121.53385,39.527909999999899,6693150.9699999904,2318610.50999999,37.6,401.8,5,"2019-11-20T17:46:46","https://viewer.us-3.sharpershape.services/viewer/assets/5cab83a89a834f5fb0114b4f/details",null,null,null,"high"]
[127,"NORTH VALLEY","NORTHERN","Tier 0-1",102911105,"WYANDOTTE 1105","102911105 Tier 0-1","W12153390N3952564",-121.5339,39.525640000000003,6693141.6200000001,2317783.8199999901,41.899999999999899,385.5,5,"2019-11-20T17:46:46","https://viewer.us-3.sharpershape.services/viewer/assets/5cab83a89a834f5ab9114dbd/details",null,null,null,"high"]
[128,"NORTH VALLEY","NORTHERN","Tier 2-3",102911105,"WYANDOTTE 1105","102911105 Tier 2-3","W12153419N3953172",-121.534189999999,39.53172,6693047.5599999903,2319998.3199999901,39.5,375.8,5,"2019-11-20T17:46:46","https://viewer.us-3.sharpershape.services/viewer/assets/5cab83a89a834f18a11148b9/details",null,null,null,"high"]
[129,"NORTH VALLEY","NORTHERN","Tier 2-3",102911105,"WYANDOTTE 1105","102911105 Tier 2-3","W12153419N3953235",-121.534189999999,39.532350000000001,6693047.04,2320226.6299999901,38,372.1,5,"2019-11-20T17:46:46","https://viewer.us-3.sharpershape.services/viewer/assets/5cab83a89a834feabb114c75/details",null,null,null,"high"]
[130,"NORTH VALLEY","NORTHERN","Tier 2-3",102911105,"WYANDOTTE 1105","102911105 Tier 2-3","W12153421N3953300",-121.53421,39.533000000000001,6693039.3300000001,2320463.8199999901,38.299999999999898,398.5,5,"2019-11-20T17:46:46","https://viewer.us-3.sharpershape.services/viewer/assets/5cab83a89a834faf0e114957/details",null,null,null,"high"]
[131,"NORTH VALLEY","NORTHERN","Tier 2-3",102911105,"WYANDOTTE 1105","102911105 Tier 2-3","W12153422N3952882",-121.53422,39.528820000000003,6693045.4500000002,2318940.5899999901,38.799999999999898,421.3,5,"2019-11-20T17:46:46","https://viewer.us-3.sharpershape.services/viewer/assets/5cab83a89a834f0139114c94/details",null,null,null,"high"]
[132,"NORTH VALLEY","NORTHERN","Tier 2-3",102911105,"WYANDOTTE 1105","102911105 Tier 2-3","W12153427N3952831",-121.53427000000001,39.528309999999898,6693033.1699999897,2318755.8599999901,33.1,413.8,5,"2019-11-20T17:46:46","https://viewer.us-3.sharpershape.services/viewer/assets/5cab83a89a834f363b114a43/details",null,null,null,"high"]
[133,"NORTH VALLEY","NORTHERN","Tier 0-1",102911105,"WYANDOTTE 1105","102911105 Tier 0-1","W12153462N3952554",-121.53462,39.5255399999999,6692937.6900000004,2317746.9700000002,34.700000000000003,386.19999999999902,5,"2019-11-20T17:46:46","https://viewer.us-3.sharpershape.services/viewer/assets/5cab83a89a834ffc1e114dbc/details",null,null,null,"high"]
[134,"NORTH VALLEY","NORTHERN","Tier 2-3",102911105,"WYANDOTTE 1105","102911105 Tier 2-3","W12153496N3952831",-121.534959999999,39.528309999999898,6692836.5800000001,2318753.6899999902,33.799999999999898,402.1,5,"2019-11-20T17:46:46","https://viewer.us-3.sharpershape.services/viewer/assets/5cab83a89a834f9df211485a/details",null,null,null,"high"]
[135,"NORTH VALLEY","NORTHERN","Tier 0-1",102911105,"WYANDOTTE 1105","102911105 Tier 0-1","W12153530N3952456",-121.53530000000001,39.524560000000001,6692749.9599999897,2317390.1099999901,39.799999999999898,442.3,5,"2019-11-20T17:46:46","https://viewer.us-3.sharpershape.services/viewer/assets/5cab83a89a834f40e5114ee1/details",null,null,null,"high"]
[136,"NORTH VALLEY","NORTHERN","Tier 2-3",102911105,"WYANDOTTE 1105","102911105 Tier 2-3","W12153534N3952830",-121.53534000000001,39.528300000000002,6692731.2099999897,2318750.2400000002,36,399,5,"2019-11-20T17:46:46","https://viewer.us-3.sharpershape.services/viewer/assets/5cab83a89a834f731111485d/details",null,null,null,"high"]
[137,"NORTH VALLEY","NORTHERN","Tier 2-3",102911105,"WYANDOTTE 1105","102911105 Tier 2-3","W12153535N3952637",-121.535349999999,39.52637,6692730.6799999904,2318048.2299999902,35.299999999999898,356.8,5,"2019-11-20T17:46:46","https://viewer.us-3.sharpershape.services/viewer/assets/5cab83a89a834f73a611489e/details",null,null,null,"high"]
[138,"NORTH VALLEY","NORTHERN","Tier 2-3",102911105,"WYANDOTTE 1105","102911105 Tier 2-3","W12153535N3952774",-121.535349999999,39.527740000000001,6692729.9900000002,2318547.06,35.5,374.89999999999901,5,"2019-11-20T17:46:46","https://viewer.us-3.sharpershape.services/viewer/assets/5cab83a89a834fa771114b04/details",null,null,null,"high"]
[139,"NORTH VALLEY","NORTHERN","Tier 2-3",102911105,"WYANDOTTE 1105","102911105 Tier 2-3","W12153536N3952706",-121.535359999999,39.527059999999899,6692727.8099999903,2318300.4900000002,29.399999999999899,356,5,"2019-11-20T17:46:46","https://viewer.us-3.sharpershape.services/viewer/assets/5e7a18445dcbebfa1317baf5/details",null,null,null,"high"]
[140,"NORTH VALLEY","NORTHERN","Tier 0-1",102911105,"WYANDOTTE 1105","102911105 Tier 0-1","W12153537N3952537",-121.53537,39.525370000000002,6692726.5999999903,2317682.25999999,41.1,387.69999999999902,5,"2019-11-20T17:46:46","https://viewer.us-3.sharpershape.services/viewer/assets/5cab83a89a834f25aa114dbb/details",null,null,null,"high"]
[141,"NORTH VALLEY","NORTHERN","Tier 0-1",102911105,"WYANDOTTE 1105","102911105 Tier 0-1","W12153537N3952598",-121.53537,39.525979999999898,6692727.8300000001,2317905.4300000002,35.299999999999898,366.8,5,"2019-11-20T17:46:46","https://viewer.us-3.sharpershape.services/viewer/assets/5cab83a89a834fe972114fa1/details",null,null,null,"high"]
[142,"NORTH VALLEY","NORTHERN","Tier 2-3",102911105,"WYANDOTTE 1105","102911105 Tier 2-3","W12153537N3952882",-121.53537,39.528820000000003,6692721.0499999896,2318939.8399999901,35.6,400,5,"2019-11-20T17:46:46","https://viewer.us-3.sharpershape.services/viewer/assets/5cab83a89a834f903011487f/details",null,null,null,"high"]
[143,"NORTH VALLEY","NORTHERN","Tier 2-3",102911105,"WYANDOTTE 1105","102911105 Tier 2-3","W12153538N3952985",-121.53538,39.529850000000003,6692717.8600000003,2319314.77999999,39.399999999999899,417.6,5,"2019-11-20T17:46:46","https://viewer.us-3.sharpershape.services/viewer/assets/5cab83a89a834f2c621147eb/details",null,null,null,"high"]
[144,"NORTH VALLEY","NORTHERN","Tier 2-3",102911105,"WYANDOTTE 1105","102911105 Tier 2-3","W12153538N3953063",-121.53538,39.530630000000002,6692715.3700000001,2319598.1099999901,34.200000000000003,389.5,5,"2019-11-20T17:46:46","https://viewer.us-3.sharpershape.services/viewer/assets/5cab83a89a834f46a0114ac1/details",null,null,null,"high"]
[145,"NORTH VALLEY","NORTHERN","Tier 2-3",102911105,"WYANDOTTE 1105","102911105 Tier 2-3","W12153557N3953230",-121.53557000000001,39.5322999999999,6692659.0099999905,2320206.3599999901,32.1,362.89999999999901,5,"2019-11-20T17:46:46","https://viewer.us-3.sharpershape.services/viewer/assets/5cab83a89a834f95dc114afe/details",null,null,null,"high"]
[146,"NORTH VALLEY","NORTHERN","Tier 0-1",102911105,"WYANDOTTE 1105","102911105 Tier 0-1","W12153581N3952442",-121.535809999999,39.5244199999999,6692606.6100000003,2317338.8599999901,38.700000000000003,443.39999999999901,5,"2019-11-20T17:46:46","https://viewer.us-3.sharpershape.services/viewer/assets/5cab83a89a834ffae9114ee0/details",null,null,null,"high"]
[147,"NORTH VALLEY","NORTHERN","Tier 2-3",102911105,"WYANDOTTE 1105","102911105 Tier 2-3","W12153585N3953154",-121.535849999999,39.53154,6692582.1799999904,2319929.25,39.399999999999899,355.89999999999901,5,"2019-11-20T17:46:46","https://viewer.us-3.sharpershape.services/viewer/assets/5cab83a89a834f60c811493f/details",null,null,null,"high"]
[148,"NORTH VALLEY","NORTHERN","Tier 0-1",102911105,"WYANDOTTE 1105","102911105 Tier 0-1","W12153590N3952523",-121.535899999999,39.525230000000001,6692578.29,2317632.25,39.6,387.5,5,"2019-11-20T17:46:46","https://viewer.us-3.sharpershape.services/viewer/assets/5cab83a89a834f0ddd114dbe/details",null,null,null,"high"]
[149,"NORTH VALLEY","NORTHERN","Tier 0-1",102911105,"WYANDOTTE 1105","102911105 Tier 0-1","W12153636N3952510",-121.53636,39.525100000000002,6692450.0999999903,2317584.79999999,34.399999999999899,384.39999999999901,5,"2019-11-20T17:46:46","https://viewer.us-3.sharpershape.services/viewer/assets/5cab83a89a834fa8ca114dbf/details",null,null,null,"high"]
[150,"NORTH VALLEY","NORTHERN","Tier 0-1",102911105,"WYANDOTTE 1105","102911105 Tier 0-1","W12153639N3952420",-121.536389999999,39.5242,6692443.3499999903,2317254.6499999901,39.399999999999899,436.19999999999902,5,"2019-11-20T17:46:46","https://viewer.us-3.sharpershape.services/viewer/assets/5cab83a89a834fc675114edf/details",null,null,null,"high"]
[151,"NORTH VALLEY","NORTHERN","Tier 2-3",102911105,"WYANDOTTE 1105","102911105 Tier 2-3","W12153644N3953230",-121.536439999999,39.5322999999999,6692412.7800000003,2320205.4300000002,33.799999999999898,355.5,5,"2019-11-20T17:46:46","https://viewer.us-3.sharpershape.services/viewer/assets/5cab83a89a834f3199114983/details",null,null,null,"high"]
[152,"NORTH VALLEY","NORTHERN","Tier 2-3",102911105,"WYANDOTTE 1105","102911105 Tier 2-3","W12153654N3953103",-121.53654,39.531030000000001,6692386.1900000004,2319745.33,38.200000000000003,339.6,5,"2019-11-20T17:46:46","https://viewer.us-3.sharpershape.services/viewer/assets/5cab83a89a834fba57114925/details",null,null,null,"high"]
[153,"NORTH VALLEY","NORTHERN","Tier 2-3",102911105,"WYANDOTTE 1105","102911105 Tier 2-3","W12153654N3953154",-121.53654,39.53154,6692386.9500000002,2319928,34.299999999999898,339.89999999999901,5,"2019-11-20T17:46:46","https://viewer.us-3.sharpershape.services/viewer/assets/5cab83a89a834f8f9c114b6e/details",null,null,null,"high"]
[154,"NORTH VALLEY","NORTHERN","Tier 2-3",102911105,"WYANDOTTE 1105","102911105 Tier 2-3","W12153655N3953063",-121.53655000000001,39.530630000000002,6692386.1500000004,2319597.37,34.799999999999898,346.89999999999901,5,"2019-11-20T17:46:46","https://viewer.us-3.sharpershape.services/viewer/assets/5cab83a89a834f819f11498f/details",null,null,null,"high"]
[155,"NORTH VALLEY","NORTHERN","Tier 2-3",102911105,"WYANDOTTE 1105","102911105 Tier 2-3","W12153655N3953211",-121.53655000000001,39.532110000000003,6692383.4500000002,2320137.5699999901,33.6,351.1,5,"2019-11-20T17:46:46","https://viewer.us-3.sharpershape.services/viewer/assets/5e1b0db09b151b2889ee8157/details",null,null,null,"high"]
[156,"NORTH VALLEY","NORTHERN","Tier 2-3",102911105,"WYANDOTTE 1105","102911105 Tier 2-3","W12153655N3953245",-121.53655000000001,39.532449999999898,6692382.7199999904,2320259.33,38.6,354.89999999999901,5,"2019-11-20T17:46:46","https://viewer.us-3.sharpershape.services/viewer/assets/5cab83a89a834f75c4114823/details",null,null,null,"high"]
[157,"NORTH VALLEY","NORTHERN","Tier 2-3",102911105,"WYANDOTTE 1105","102911105 Tier 2-3","W12153655N3953283",-121.53655000000001,39.532829999999898,6692380.6500000004,2320400.8599999901,34.5,350.5,5,"2019-11-20T17:46:46","https://viewer.us-3.sharpershape.services/viewer/assets/5cab83a89a834f3469114c34/details",null,null,null,"high"]
[158,"NORTH VALLEY","NORTHERN","Tier 2-3",102911105,"WYANDOTTE 1105","102911105 Tier 2-3","W12153682N3952487",-121.53682000000001,39.52487,6692318.4199999897,2317501.50999999,35.799999999999898,380,5,"2019-11-20T17:46:46","https://viewer.us-3.sharpershape.services/viewer/assets/5cab83a89a834f720a114b4b/details",null,null,null,"high"]
[159,"NORTH VALLEY","NORTHERN","Tier 2-3",102911105,"WYANDOTTE 1105","102911105 Tier 2-3","W12153692N3953153",-121.536919999999,39.531529999999897,6692279.1200000001,2319927.2299999902,37.6,337,5,"2019-11-20T17:46:46","https://viewer.us-3.sharpershape.services/viewer/assets/5cab83a89a834f4e2111491d/details",null,null,null,"high"]
[160,"NORTH VALLEY","NORTHERN","Tier 0-1",102911105,"WYANDOTTE 1105","102911105 Tier 0-1","W12153708N3952399",-121.53708,39.523989999999898,6692247.1500000004,2317177.8199999901,36.299999999999898,412.3,5,"2019-11-20T17:46:46","https://viewer.us-3.sharpershape.services/viewer/assets/5cab83a89a834f0117114ede/details",null,null,null,"high"]
[161,"NORTH VALLEY","NORTHERN","Tier 2-3",102911105,"WYANDOTTE 1105","102911105 Tier 2-3","W12153709N3952512",-121.53709000000001,39.525120000000001,6692243.0599999903,2317588.6899999902,34.799999999999898,366.69999999999902,5,"2019-11-20T17:46:46","https://viewer.us-3.sharpershape.services/viewer/assets/5cab83a89a834f4f2c11480f/details",null,null,null,"high"]
[162,"NORTH VALLEY","NORTHERN","Tier 2-3",102911105,"WYANDOTTE 1105","102911105 Tier 2-3","W12153713N3953284",-121.53713,39.53284,6692217.2199999904,2320402.58,35,347.89999999999901,5,"2019-11-20T17:46:46","https://viewer.us-3.sharpershape.services/viewer/assets/5cab83a89a834f7c16114c72/details",null,null,null,"high"]
[163,"NORTH VALLEY","NORTHERN","Tier 2-3",102911105,"WYANDOTTE 1105","102911105 Tier 2-3","W12153716N3952455",-121.53716,39.524549999999898,6692223.7000000002,2317384.33,39.6,380,5,"2019-11-20T17:46:46","https://viewer.us-3.sharpershape.services/viewer/assets/5cab83a89a834f15ac114c78/details",null,null,null,"high"]
[164,"NORTH VALLEY","NORTHERN","Tier 2-3",102911105,"WYANDOTTE 1105","102911105 Tier 2-3","W12153742N3952569",-121.537419999999,39.525689999999898,6692149.6699999897,2317796.35,34.399999999999899,351.3,5,"2019-11-20T17:46:46","https://viewer.us-3.sharpershape.services/viewer/assets/5e1b08709b151b0b49ee8154/details",null,null,null,"high"]
[165,"NORTH VALLEY","NORTHERN","Tier 2-3",102911105,"WYANDOTTE 1105","102911105 Tier 2-3","W12153745N3952470",-121.53745000000001,39.524700000000003,6692142.8099999903,2317438.04,35.299999999999898,364.8,5,"2019-11-20T17:46:46","https://viewer.us-3.sharpershape.services/viewer/assets/5cab83a89a834f55e5114a0d/details",null,null,null,"high"]
[166,"NORTH VALLEY","NORTHERN","Tier 2-3",102911105,"WYANDOTTE 1105","102911105 Tier 2-3","W12153751N3952386",-121.537509999999,39.5238599999999,6692125.6100000003,2317131.56,38.799999999999898,384.19999999999902,5,"2019-11-20T17:46:46","https://viewer.us-3.sharpershape.services/viewer/assets/5cab83a89a834f71d61149b4/details",null,null,null,"high"]
[167,"NORTH VALLEY","NORTHERN","Tier 0-1",102911105,"WYANDOTTE 1105","102911105 Tier 0-1","W12153761N3952311",-121.53761,39.523110000000003,6692099.0899999896,2316855.8399999901,39.899999999999899,383.69999999999902,5,"2019-11-20T17:46:46","https://viewer.us-3.sharpershape.services/viewer/assets/5cab83a89a834f4142114ee2/details",null,null,null,"high"]
[168,"NORTH VALLEY","NORTHERN","Tier 2-3",102911105,"WYANDOTTE 1105","102911105 Tier 2-3","W12153762N3955060",-121.53762,39.550600000000003,6692046.9800000004,2326869.4900000002,33.5,330.19999999999902,5,"2019-11-16T22:51:32","https://viewer.us-3.sharpershape.services/viewer/assets/5cab8501f6b46314eda8ae7e/details",null,null,null,"high"]
[169,"NORTH VALLEY","NORTHERN","Tier 2-3",102911105,"WYANDOTTE 1105","102911105 Tier 2-3","W12153767N3952612",-121.53767000000001,39.526119999999899,6692078.6399999904,2317953.4799999902,37.899999999999899,344.3,5,"2019-11-20T17:46:46","https://viewer.us-3.sharpershape.services/viewer/assets/5cab83a89a834f8cea114c52/details",null,null,null,"high"]
[170,"NORTH VALLEY","NORTHERN","Tier 2-3",102911105,"WYANDOTTE 1105","102911105 Tier 2-3","W12153771N3953063",-121.53771,39.530630000000002,6692057.9599999897,2319595.37,35.200000000000003,324.5,5,"2019-11-20T17:46:46","https://viewer.us-3.sharpershape.services/viewer/assets/5cab83a89a834f97b9114ba5/details",null,null,null,"high"]
[171,"NORTH VALLEY","NORTHERN","Tier 2-3",102911105,"WYANDOTTE 1105","102911105 Tier 2-3","W12153773N3955024",-121.537729999999,39.550240000000002,6692015.9500000002,2326738.79,34.1,336.5,5,"2019-11-16T22:51:32","https://viewer.us-3.sharpershape.services/viewer/assets/5cab8501f6b463b3b3a8ae61/details",null,null,null,"high"]
[172,"NORTH VALLEY","NORTHERN","Tier 0-1",102911105,"WYANDOTTE 1105","102911105 Tier 0-1","W12153775N3952283",-121.53775,39.5228299999999,6692061.5499999896,2316753.7299999902,38.700000000000003,378.69999999999902,5,"2019-11-20T17:46:46","https://viewer.us-3.sharpershape.services/viewer/assets/5cab83a89a834f5575114ee3/details",null,null,null,"high"]
[173,"NORTH VALLEY","NORTHERN","Tier 2-3",102911105,"WYANDOTTE 1105","102911105 Tier 2-3","W12153784N3954988",-121.53784,39.549880000000002,6691986.9100000001,2326606.4599999902,37.399999999999899,344.1,5,"2019-11-16T22:51:32","https://viewer.us-3.sharpershape.services/viewer/assets/5cab8501f6b463d7fba8ae89/details",null,null,null,"high"]
[174,"NORTH VALLEY","NORTHERN","Tier 0-1",102911105,"WYANDOTTE 1105","102911105 Tier 0-1","W12153791N3952249",-121.537909999999,39.522489999999898,6692015.8600000003,2316630.8599999901,35.399999999999899,375,5,"2019-11-20T17:46:46","https://viewer.us-3.sharpershape.services/viewer/assets/5cab83a89a834f6ec61149d1/details",null,null,null,"high"]
[175,"NORTH VALLEY","NORTHERN","Tier 2-3",102911105,"WYANDOTTE 1105","102911105 Tier 2-3","W12153809N3952504",-121.538089999999,39.525039999999898,6691960.9000000004,2317559.25,34.799999999999898,344.39999999999901,5,"2019-11-20T17:46:46","https://viewer.us-3.sharpershape.services/viewer/assets/5cab83a89a834f49ae114b1f/details",null,null,null,"high"]
[176,"NORTH VALLEY","NORTHERN","Tier 2-3",102911105,"WYANDOTTE 1105","102911105 Tier 2-3","W12153810N3953244",-121.5381,39.532440000000001,6691945.5800000001,2320256.7000000002,33.399999999999899,359.89999999999901,5,"2019-11-20T17:46:46","https://viewer.us-3.sharpershape.services/viewer/assets/5cab83a89a834f6e92114ab7/details",null,null,null,"high"]
[177,"NORTH VALLEY","NORTHERN","Tier 2-3",102911105,"WYANDOTTE 1105","102911105 Tier 2-3","W12153812N3952205",-121.53812000000001,39.52205,6691957.6799999904,2316472.27,39.6,370.89999999999901,5,"2019-11-20T17:46:46","https://viewer.us-3.sharpershape.services/viewer/assets/5cab83a89a834f0e5f114ab9/details",null,null,null,"high"]
[178,"NORTH VALLEY","NORTHERN","Tier 2-3",102911105,"WYANDOTTE 1105","102911105 Tier 2-3","W12153833N3952149",-121.53833,39.52149,6691899.6900000004,2316264.9399999902,39.200000000000003,363.39999999999901,5,"2019-11-20T17:46:46","https://viewer.us-3.sharpershape.services/viewer/assets/5cab83a89a834f0914114b2a/details",null,null,null,"high"]
[179,"NORTH VALLEY","NORTHERN","Tier 2-3",102911105,"WYANDOTTE 1105","102911105 Tier 2-3","W12153843N3953063",-121.53843000000001,39.530630000000002,6691854.7599999905,2319596.2000000002,30.6999999999999,334.5,5,"2019-11-20T17:46:46","https://viewer.us-3.sharpershape.services/viewer/assets/5cab83a89a834f45311148d7/details",null,null,null,"high"]
[180,"NORTH VALLEY","NORTHERN","Tier 2-3",102911105,"WYANDOTTE 1105","102911105 Tier 2-3","W12153848N3952653",-121.53848000000001,39.526530000000001,6691848.7300000004,2318100.77999999,39,321.39999999999901,5,"2019-11-20T17:46:46","https://viewer.us-3.sharpershape.services/viewer/assets/5cab83a89a834f8204114b15/details",null,null,null,"high"]
[181,"NORTH VALLEY","NORTHERN","Tier 2-3",102911105,"WYANDOTTE 1105","102911105 Tier 2-3","W12153848N3953281",-121.53848000000001,39.532809999999898,6691837.9000000004,2320388.3799999901,34.1,321.69999999999902,5,"2019-11-20T17:46:46","https://viewer.us-3.sharpershape.services/viewer/assets/5cab83a89a834f0a8911482b/details",null,null,null,"high"]
[182,"NORTH VALLEY","NORTHERN","Tier 2-3",102911105,"WYANDOTTE 1105","102911105 Tier 2-3","W12153857N3952094",-121.53857000000001,39.520940000000003,6691834.4000000004,2316067.4399999902,39.399999999999899,356.3,5,"2019-11-20T17:46:46","https://viewer.us-3.sharpershape.services/viewer/assets/5cab83a89a834fdef7114a8d/details",null,null,null,"high"]
[183,"NORTH VALLEY","NORTHERN","Tier 2-3",102911105,"WYANDOTTE 1105","102911105 Tier 2-3","W12153891N3952195",-121.53891,39.521949999999897,6691734.6500000004,2316434.0899999901,34.799999999999898,411.3,5,"2019-11-20T17:46:46","https://viewer.us-3.sharpershape.services/viewer/assets/5cab83a89a834f3687114999/details",null,null,null,"high"]
[184,"NORTH VALLEY","NORTHERN","Tier 2-3",102911105,"WYANDOTTE 1105","102911105 Tier 2-3","W12153893N3952044",-121.538929999999,39.520440000000001,6691731.7800000003,2315882.75999999,38.5,348,5,"2019-11-20T17:46:46","https://viewer.us-3.sharpershape.services/viewer/assets/5cab83a89a834f446d114bc8/details",null,null,null,"high"]
[185,"NORTH VALLEY","NORTHERN","Tier 2-3",102911105,"WYANDOTTE 1105","102911105 Tier 2-3","W12153905N3953243",-121.53905,39.532429999999898,6691675.4900000002,2320251.25,34.399999999999899,327.3,5,"2019-11-20T17:46:46","https://viewer.us-3.sharpershape.services/viewer/assets/5cab83a89a834f05791149ba/details",null,null,null,"high"]
[186,"NORTH VALLEY","NORTHERN","Tier 2-3",102911105,"WYANDOTTE 1105","102911105 Tier 2-3","W12153906N3953282",-121.53906000000001,39.532820000000001,6691674.1500000004,2320391.66,33.1,311.60000000000002,5,"2019-11-20T17:46:46","https://viewer.us-3.sharpershape.services/viewer/assets/5cab83a89a834f08dc114ae1/details",null,null,null,"high"]
[187,"NORTH VALLEY","NORTHERN","Tier 2-3",102911105,"WYANDOTTE 1105","102911105 Tier 2-3","W12153907N3953103",-121.539069999999,39.531030000000001,6691673.0599999903,2319740.79,30.1,348.8,5,"2019-11-20T17:46:46","https://viewer.us-3.sharpershape.services/viewer/assets/5cab83a89a834fb0e9114961/details",null,null,null,"high"]
[188,"NORTH VALLEY","NORTHERN","Tier 2-3",102911105,"WYANDOTTE 1105","102911105 Tier 2-3","W12153907N3953151",-121.539069999999,39.531509999999898,6691672.7599999905,2319915.7000000002,37.799999999999898,359,5,"2019-11-20T17:46:46","https://viewer.us-3.sharpershape.services/viewer/assets/5cab83a89a834f5064114962/details",null,null,null,"high"]
[189,"NORTH VALLEY","NORTHERN","Tier 2-3",102911105,"WYANDOTTE 1105","102911105 Tier 2-3","W12153907N3953193",-121.539069999999,39.531930000000003,6691673.1699999897,2320068.9399999902,34.399999999999899,351.19999999999902,5,"2019-11-20T17:46:46","https://viewer.us-3.sharpershape.services/viewer/assets/5cab83a89a834f76d1114895/details",null,null,null,"high"]
[190,"NORTH VALLEY","NORTHERN","Tier 2-3",102911105,"WYANDOTTE 1105","102911105 Tier 2-3","W12153908N3953063",-121.539079999999,39.530630000000002,6691672.4800000004,2319593.04999999,36.1,335.3,5,"2019-11-20T17:46:46","https://viewer.us-3.sharpershape.services/viewer/assets/5cab83a89a834f4e1b114ab0/details",null,null,null,"high"]
[191,"NORTH VALLEY","NORTHERN","Tier 2-3",102911105,"WYANDOTTE 1105","102911105 Tier 2-3","W12153928N3952652",-121.53928000000001,39.526519999999898,6691622.5499999896,2318097.00999999,38.399999999999899,306.19999999999902,5,"2019-11-20T17:46:46","https://viewer.us-3.sharpershape.services/viewer/assets/5cab83a89a834f6c58114b3b/details",null,null,null,"high"]
[192,"NORTH VALLEY","NORTHERN","Tier 2-3",102911105,"WYANDOTTE 1105","102911105 Tier 2-3","W12153944N3952000",-121.539439999999,39.520000000000003,6691589.9599999897,2315722.3999999901,44.799999999999898,337.5,5,"2019-11-20T17:46:46","https://viewer.us-3.sharpershape.services/viewer/assets/5cab83a89a834fb880114bb2/details",null,null,null,"high"]
[193,"NORTH VALLEY","NORTHERN","Tier 2-3",102911105,"WYANDOTTE 1105","102911105 Tier 2-3","W12153944N3953282",-121.539439999999,39.532820000000001,6691565.9900000002,2320391.79999999,33.200000000000003,301.8,5,"2019-11-20T17:46:46","https://viewer.us-3.sharpershape.services/viewer/assets/5cab83a89a834f14381148ca/details",null,null,null,"high"]
[194,"NORTH VALLEY","NORTHERN","Tier 2-3",102911105,"WYANDOTTE 1105","102911105 Tier 2-3","W12153963N3953242",-121.53963,39.532420000000002,6691514.29,2320246.06,32.6,315.19999999999902,5,"2019-11-20T17:46:46","https://viewer.us-3.sharpershape.services/viewer/assets/5cab83a89a834f59d711486a/details",null,null,null,"high"]
[195,"NORTH VALLEY","NORTHERN","Tier 2-3",102911105,"WYANDOTTE 1105","102911105 Tier 2-3","W12153966N3953151",-121.539659999999,39.531509999999898,6691507.2300000004,2319914.8599999901,38.6,343.69999999999902,5,"2019-11-20T17:46:46","https://viewer.us-3.sharpershape.services/viewer/assets/5cab83a89a834f9176114a10/details",null,null,null,"high"]
[196,"NORTH VALLEY","NORTHERN","Tier 0-1",102911105,"WYANDOTTE 1105","102911105 Tier 0-1","W12154005N3951840",-121.540049999999,39.5184,6691419.2300000004,2315137.3999999901,47,301.19999999999902,5,"2019-11-20T17:46:46","https://viewer.us-3.sharpershape.services/viewer/assets/5cab83a89a834f81c611518e/details",null,null,null,"high"]
[197,"NORTH VALLEY","NORTHERN","Tier 2-3",102911105,"WYANDOTTE 1105","102911105 Tier 2-3","W12154012N3951968",-121.54012,39.519680000000001,6691398.6100000003,2315605.04999999,34.899999999999899,324.89999999999901,5,"2019-11-20T17:46:46","https://viewer.us-3.sharpershape.services/viewer/assets/5cab83a89a834f17c1114c47/details",null,null,null,"high"]
[198,"NORTH VALLEY","NORTHERN","Tier 2-3",102911105,"WYANDOTTE 1105","102911105 Tier 2-3","W12154021N3951938",-121.54021,39.519379999999899,6691373.0199999902,2315495,38.799999999999898,316.89999999999901,5,"2019-11-20T17:46:46","https://viewer.us-3.sharpershape.services/viewer/assets/5cab83a89a834f1873114a88/details",null,null,null,"high"]
[199,"NORTH VALLEY","NORTHERN","Tier 2-3",102911105,"WYANDOTTE 1105","102911105 Tier 2-3","W12154021N3953134",-121.54021,39.53134,6691350.8300000001,2319852.8799999901,28.899999999999899,330.6,5,"2019-11-20T17:46:46","https://viewer.us-3.sharpershape.services/viewer/assets/5cab83a89a834f4030114c42/details",null,null,null,"high"]
[200,"NORTH VALLEY","NORTHERN","Tier 0-1",102911105,"WYANDOTTE 1105","102911105 Tier 0-1","W12154022N3951759",-121.54022000000001,39.517589999999899,6691372.9299999904,2314842.2400000002,40.899999999999899,291.3,5,"2019-11-20T17:46:46","https://viewer.us-3.sharpershape.services/viewer/assets/5cab83a89a834f6749114f02/details",null,null,null,"high"]
[201,"NORTH VALLEY","NORTHERN","Tier 0-1",102911105,"WYANDOTTE 1105","102911105 Tier 0-1","W12154022N3951835",-121.54022000000001,39.518349999999899,6691371.7199999904,2315121.5699999901,43.399999999999899,304.10000000000002,5,"2019-11-20T17:46:46","https://viewer.us-3.sharpershape.services/viewer/assets/5cab83a89a834f68f1114f67/details",null,null,null,"high"]
[202,"NORTH VALLEY","NORTHERN","Tier 2-3",102911105,"WYANDOTTE 1105","102911105 Tier 2-3","W12154022N3951889",-121.54022000000001,39.518889999999899,6691370.2699999902,2315318.2200000002,46,307.5,5,"2019-11-20T17:46:46","https://viewer.us-3.sharpershape.services/viewer/assets/5cab83a89a834fb3ae114f66/details",null,null,null,"high"]
[203,"NORTH VALLEY","NORTHERN","Tier 0-1",102911105,"WYANDOTTE 1105","102911105 Tier 0-1","W12154023N3951808",-121.540229999999,39.518079999999898,6691371.0300000003,2315023.33,39.399999999999899,298.19999999999902,5,"2019-11-20T17:46:46","https://viewer.us-3.sharpershape.services/viewer/assets/5cab83a89a834f601a114f01/details",null,null,null,"high"]
[204,"NORTH VALLEY","NORTHERN","Tier 0-1",102911105,"WYANDOTTE 1105","102911105 Tier 0-1","W12154034N3951798",-121.54034,39.517980000000001,6691338.54,2314983.4599999902,38.6,299.10000000000002,5,"2019-11-20T17:46:46","https://viewer.us-3.sharpershape.services/viewer/assets/5cab83a89a834f60e6114f03/details",null,null,null,"high"]
[205,"NORTH VALLEY","NORTHERN","Tier 2-3",102911105,"WYANDOTTE 1105","102911105 Tier 2-3","W12154060N3953123",-121.540599999999,39.531230000000001,6691240.3399999896,2319809.66,29.5,319.89999999999901,5,"2019-11-20T17:46:46","https://viewer.us-3.sharpershape.services/viewer/assets/5cab83a89a834ffe42114c6d/details",null,null,null,"high"]
[206,"NORTH VALLEY","NORTHERN","Tier 0-1",102911105,"WYANDOTTE 1105","102911105 Tier 0-1","W12154067N3951764",-121.54067000000001,39.51764,6691247.7000000002,2314859.8599999901,39.700000000000003,298.5,5,"2019-11-20T17:46:46","https://viewer.us-3.sharpershape.services/viewer/assets/5cab83a89a834fe417114f04/details",null,null,null,"high"]
[207,"NORTH VALLEY","NORTHERN","Tier 2-3",102911105,"WYANDOTTE 1105","102911105 Tier 2-3","W12154073N3953285",-121.540729999999,39.532850000000003,6691203.1200000001,2320399.6899999902,32.899999999999899,293.89999999999901,5,"2019-11-20T17:46:46","https://viewer.us-3.sharpershape.services/viewer/assets/5cab83a89a834f638a114a63/details",null,null,null,"high"]
[208,"NORTH VALLEY","NORTHERN","Tier 2-3",102911105,"WYANDOTTE 1105","102911105 Tier 2-3","W12154084N3953131",-121.54084,39.531309999999898,6691174.4500000002,2319838.83,33.399999999999899,297.19999999999902,5,"2019-11-20T17:46:46","https://viewer.us-3.sharpershape.services/viewer/assets/5cab83a89a834f5ee5114ae4/details",null,null,null,"high"]
[209,"NORTH VALLEY","NORTHERN","Tier 2-3",102911105,"WYANDOTTE 1105","102911105 Tier 2-3","W12154086N3953214",-121.540859999999,39.532139999999899,6691166.5999999903,2320141.29999999,34.899999999999899,280.69999999999902,5,"2019-11-20T17:46:46","https://viewer.us-3.sharpershape.services/viewer/assets/5cab83a89a834f6b4f114ada/details",null,null,null,"high"]
[210,"NORTH VALLEY","NORTHERN","Tier 2-3",102911105,"WYANDOTTE 1105","102911105 Tier 2-3","W12154087N3953327",-121.540869999999,39.533270000000002,6691162.8799999896,2320554.4399999902,34.6,292.89999999999901,5,"2019-11-20T17:46:46","https://viewer.us-3.sharpershape.services/viewer/assets/5cab83a89a834fdb4c114bd8/details",null,null,null,"high"]
[211,"NORTH VALLEY","NORTHERN","Tier 2-3",102911105,"WYANDOTTE 1105","102911105 Tier 2-3","W12154149N3953393",-121.541489999999,39.533929999999899,6690986.1600000001,2320791.9399999902,33.799999999999898,274.69999999999902,5,"2019-11-20T17:46:46","https://viewer.us-3.sharpershape.services/viewer/assets/5cab83a89a834f1c19114f34/details",null,null,null,"high"]
[212,"NORTH VALLEY","NORTHERN","Tier 2-3",102911105,"WYANDOTTE 1105","102911105 Tier 2-3","W12154179N3953424",-121.54179000000001,39.534239999999897,6690901.7800000003,2320906.7299999902,33,282,5,"2019-11-20T17:46:46","https://viewer.us-3.sharpershape.services/viewer/assets/5cab83a89a834f822311498a/details",null,null,null,"high"]
[213,"NORTH VALLEY","NORTHERN","Tier 2-3",102911105,"WYANDOTTE 1105","102911105 Tier 2-3","W12154206N3954186",-121.54206000000001,39.54186,6690811.3099999903,2323682.3799999901,34.1,242.8,5,"2019-11-20T17:46:46","https://viewer.us-3.sharpershape.services/viewer/assets/5cab83a89a834fc12c114d96/details",null,null,null,"high"]
[214,"NORTH VALLEY","NORTHERN","Tier 2-3",102911105,"WYANDOTTE 1105","102911105 Tier 2-3","W12154214N3953455",-121.54214,39.534550000000003,6690801.0499999896,2321016.9799999902,33.799999999999898,270.5,5,"2019-11-20T17:46:46","https://viewer.us-3.sharpershape.services/viewer/assets/5cab83a89a834f0961114877/details",null,null,null,"high"]
[215,"NORTH VALLEY","NORTHERN","Tier 2-3",102911105,"WYANDOTTE 1105","102911105 Tier 2-3","W12154230N3953520",-121.542299999999,39.535200000000003,6690754.5300000003,2321253,33.200000000000003,270.19999999999902,5,"2019-11-20T17:46:46","https://viewer.us-3.sharpershape.services/viewer/assets/5cab83a89a834f69ac114f33/details",null,null,null,"high"]
[216,"NORTH VALLEY","NORTHERN","Tier 2-3",102911105,"WYANDOTTE 1105","102911105 Tier 2-3","W12154242N3953570",-121.54242000000001,39.535699999999899,6690720.6699999897,2321434.79999999,34.5,266.3,5,"2019-11-20T17:46:46","https://viewer.us-3.sharpershape.services/viewer/assets/5cab83a89a834f908e114bb5/details",null,null,null,"high"]
[217,"NORTH VALLEY","NORTHERN","Tier 2-3",102911105,"WYANDOTTE 1105","102911105 Tier 2-3","W12154249N3954102",-121.54249,39.541020000000003,6690691.3700000001,2323374.31,33.5,236.3,5,"2019-11-20T17:46:46","https://viewer.us-3.sharpershape.services/viewer/assets/5cab83a89a834f4f92114d97/details",null,null,null,"high"]
[218,"NORTH VALLEY","NORTHERN","Tier 2-3",102911105,"WYANDOTTE 1105","102911105 Tier 2-3","W12154250N3953758",-121.5425,39.537579999999899,6690694.8799999896,2322121.1899999902,36.399999999999899,238.5,5,"2019-11-20T17:46:46","https://viewer.us-3.sharpershape.services/viewer/assets/5cab83a89a834f8cee114b37/details",null,null,null,"high"]
[219,"NORTH VALLEY","NORTHERN","Tier 2-3",102911105,"WYANDOTTE 1105","102911105 Tier 2-3","W12154252N3953857",-121.542519999999,39.53857,6690687.25,2322483.0699999901,34.200000000000003,234.69999999999899,5,"2019-11-20T17:46:46","https://viewer.us-3.sharpershape.services/viewer/assets/5cab83a89a834f07c9114a96/details",null,null,null,"high"]
[220,"NORTH VALLEY","NORTHERN","Tier 2-3",102911105,"WYANDOTTE 1105","102911105 Tier 2-3","W12154253N3953660",-121.542529999999,39.5366,6690686.2400000002,2321765.4300000002,34.1,241.4,5,"2019-11-20T17:46:46","https://viewer.us-3.sharpershape.services/viewer/assets/5d95a391cb74ec9ed5a8788b/details",null,null,null,"high"]
[221,"NORTH VALLEY","NORTHERN","Tier 2-3",102911105,"WYANDOTTE 1105","102911105 Tier 2-3","W12154256N3953592",-121.542559999999,39.535919999999898,6690680.5199999902,2321517.8999999901,39,245.599999999999,5,"2019-11-20T17:46:46","https://viewer.us-3.sharpershape.services/viewer/assets/5cab83a89a834f6d34114bad/details",null,null,null,"high"]
[222,"NORTH VALLEY","NORTHERN","Tier 2-3",102911105,"WYANDOTTE 1105","102911105 Tier 2-3","W12154258N3954066",-121.54258,39.540660000000003,6690664.7300000004,2323243.0899999901,34.5,235.599999999999,5,"2019-11-20T17:46:46","https://viewer.us-3.sharpershape.services/viewer/assets/5cab83a89a834fa909114bb3/details",null,null,null,"high"]
[223,"NORTH VALLEY","NORTHERN","Tier 2-3",102911105,"WYANDOTTE 1105","102911105 Tier 2-3","W12154261N3953987",-121.542609999999,39.539870000000001,6690659.9900000002,2322956.41,32.899999999999899,235.099999999999,5,"2019-11-20T17:46:46","https://viewer.us-3.sharpershape.services/viewer/assets/5cab83a89a834f7d2d1149b9/details",null,null,null,"high"]
[224,"NORTH VALLEY","NORTHERN","Tier 2-3",102911105,"WYANDOTTE 1105","102911105 Tier 2-3","W12154263N3953924",-121.54263,39.5392399999999,6690653.8799999896,2322725.52,32,234.9,5,"2019-11-20T17:46:46","https://viewer.us-3.sharpershape.services/viewer/assets/5cab83a89a834f2b7c114ad5/details",null,null,null,"high"]

{"sheet":"SpansCSV","index":5,"n_rows":225,"n_cols":18,"rows_kept":225,"cut":false,"hidden":false,"merged":[]}
["OID_","ED_Region","ED_Division","SPZone","TierGroup","CIRCUITID","CIRCUITNAME","CircuitKey","BST_TAG","AST_TAG","SPAN_TAG","SPAN_LGTH","VOLTAGE","LATITUDE","LONGITUDE","UNDERBUILD","ASSET_URL","LOCATION_CONFIDENCE"]
[1,"NORTHERN","NORTH VALLEY","CA_2","Tier 2-3",102911105,"WYANDOTTE 1105","102911105 Tier 2-3","W12153001N3957527","W12152960N3957520","W12153001N3957527-W12152960N3957520",118.599999999999,null,39.575240000000001,-121.529799999999,null,"https://viewer.us-3.sharpershape.services/viewer/assets/5ca5a3949a834f78ae0a137e/details","high"]
[2,"NORTHERN","NORTH VALLEY","CA_2","Tier 2-3",102911105,"WYANDOTTE 1105","102911105 Tier 2-3","W12152491N3958582","W12152594N3958619","W12152491N3958582-W12152594N3958619",319.3,null,39.585999999999899,-121.52543,null,"https://viewer.us-3.sharpershape.services/viewer/assets/5ca5a3949a834f02970a109d/details","high"]
[3,"NORTHERN","NORTH VALLEY","CA_2","Tier 2-3",102911105,"WYANDOTTE 1105","102911105 Tier 2-3","W12152594N3958619","W12152653N3958667","W12152594N3958619-W12152653N3958667",242.8,null,39.58643,-121.52624,null,"https://viewer.us-3.sharpershape.services/viewer/assets/5ca5a3949a834f2f8c0a11b7/details","high"]
[4,"NORTHERN","NORTH VALLEY","CA_2","Tier 2-3",102911105,"WYANDOTTE 1105","102911105 Tier 2-3","W12153773N3955024","W12153784N3954988","W12153773N3955024-W12153784N3954988",135.5,null,39.550060000000002,-121.537779999999,null,"https://viewer.us-3.sharpershape.services/viewer/assets/5ca5a77dfae21717056da4ed/details","high"]
[5,"NORTHERN","NORTH VALLEY","CA_2","Tier 2-3",102911105,"WYANDOTTE 1105","102911105 Tier 2-3","W12153773N3955024","W12153762N3955060","W12153773N3955024-W12153762N3955060",134.30000000000001,null,39.550420000000003,-121.53767000000001,null,"https://viewer.us-3.sharpershape.services/viewer/assets/5ca5a77dfae217d13d6da4ec/details","high"]
[6,"NORTHERN","NORTH VALLEY","CA_2","Tier 2-3",102911105,"WYANDOTTE 1105","102911105 Tier 2-3","W12153744N3955118","W12153762N3955060","W12153744N3955118-W12153762N3955060",218.599999999999,null,39.550890000000003,-121.53753,null,"https://viewer.us-3.sharpershape.services/viewer/assets/5ca5a77dfae217339c6da4eb/details","high"]
[7,"NORTHERN","NORTH VALLEY","CA_2","Tier 2-3",102911105,"WYANDOTTE 1105","102911105 Tier 2-3","W12153679N3955065","W12153744N3955118","W12153679N3955065-W12153744N3955118",265.8,null,39.550910000000002,-121.537109999999,null,"https://viewer.us-3.sharpershape.services/viewer/assets/5ca5a77dfae21760776da4bd/details","high"]
[8,"NORTHERN","NORTH VALLEY","CA_2","Tier 0-1",102911105,"WYANDOTTE 1105","102911105 Tier 0-1","W12154067N3951764","W12154034N3951798","W12154067N3951764-W12154034N3951798",153.4,null,39.517809999999898,-121.540509999999,null,"https://viewer.us-3.sharpershape.services/viewer/assets/5ca5a2c6f6b4636236a05070/details","high"]
[9,"NORTHERN","NORTH VALLEY","CA_2","Tier 0-1",102911105,"WYANDOTTE 1105","102911105 Tier 0-1","W12154022N3951759","W12154023N3951808","W12154022N3951759-W12154023N3951808",181.099999999999,null,39.51784,-121.540229999999,null,"https://viewer.us-3.sharpershape.services/viewer/assets/5ca5a2c6f6b463a8a1a04f46/details","high"]
[10,"NORTHERN","NORTH VALLEY","CA_2","Tier 0-1",102911105,"WYANDOTTE 1105","102911105 Tier 0-1","W12154034N3951798","W12154023N3951808","W12154034N3951798-W12154023N3951808",51.399999999999899,null,39.518030000000003,-121.540289999999,null,"https://viewer.us-3.sharpershape.services/viewer/assets/5ca5a2c6f6b4632f61a04a87/details","high"]
[11,"NORTHERN","NORTH VALLEY","CA_2","Tier 0-1",102911105,"WYANDOTTE 1105","102911105 Tier 0-1","W12154022N3951835","W12154023N3951808","W12154022N3951835-W12154023N3951808",98.2,null,39.5182199999999,-121.540229999999,null,"https://viewer.us-3.sharpershape.services/viewer/assets/5ca5a2c6f6b463b3b9a04da5/details","high"]
[12,"NORTHERN","NORTH VALLEY","CA_2","Tier 0-1",102911105,"WYANDOTTE 1105","102911105 Tier 0-1","W12154005N3951840","W12154022N3951835","W12154005N3951840-W12154022N3951835",50.1,null,39.518380000000001,-121.540139999999,null,"https://viewer.us-3.sharpershape.services/viewer/assets/5ca5a2c6f6b463daa0a04a6c/details","high"]
[13,"NORTHERN","NORTH VALLEY","CA_2","Tier 0-1",102911105,"WYANDOTTE 1105","102911105 Tier 0-1","W12154022N3951835","W12154022N3951889","W12154022N3951835-W12154022N3951889",196.69999999999899,null,39.518619999999899,-121.54022000000001,null,"https://viewer.us-3.sharpershape.services/viewer/assets/5ca5a2c6f6b4636fcba04c5d/details","high"]
[14,"NORTHERN","NORTH VALLEY","CA_2","Tier 2-3",102911105,"WYANDOTTE 1105","102911105 Tier 2-3","W12154021N3951938","W12154022N3951889","W12154021N3951938-W12154022N3951889",176.8,null,39.51914,-121.54022000000001,null,"https://viewer.us-3.sharpershape.services/viewer/assets/5ca5a2c6f6b463460ba04f21/details","high"]
[15,"NORTHERN","NORTH VALLEY","CA_2","Tier 2-3",102911105,"WYANDOTTE 1105","102911105 Tier 2-3","W12154021N3951938","W12154012N3951968","W12154021N3951938-W12154012N3951968",113,null,39.519530000000003,-121.54017,null,"https://viewer.us-3.sharpershape.services/viewer/assets/5ca5a2c6f6b463cbc4a04fb9/details","high"]
[16,"NORTHERN","NORTH VALLEY","CA_2","Tier 2-3",102911105,"WYANDOTTE 1105","102911105 Tier 2-3","W12154012N3951968","W12153944N3952000","W12154012N3951968-W12153944N3952000",224.5,null,39.519840000000002,-121.539779999999,null,"https://viewer.us-3.sharpershape.services/viewer/assets/5ca5a2c6f6b4634735a04f99/details","high"]
[17,"NORTHERN","NORTH VALLEY","CA_2","Tier 2-3",102911105,"WYANDOTTE 1105","102911105 Tier 2-3","W12153944N3952000","W12153893N3952044","W12153944N3952000-W12153893N3952044",214.099999999999,null,39.520220000000002,-121.53919,null,"https://viewer.us-3.sharpershape.services/viewer/assets/5ca5a2c6f6b4635ac6a04a74/details","high"]
[18,"NORTHERN","NORTH VALLEY","CA_2","Tier 2-3",102911105,"WYANDOTTE 1105","102911105 Tier 2-3","W12153893N3952044","W12153857N3952094","W12153893N3952044-W12153857N3952094",211.3,null,39.520690000000002,-121.538749999999,null,"https://viewer.us-3.sharpershape.services/viewer/assets/5ca5a2c6f6b4635087a04b03/details","high"]
[19,"NORTHERN","NORTH VALLEY","CA_2","Tier 2-3",102911105,"WYANDOTTE 1105","102911105 Tier 2-3","W12153857N3952094","W12153833N3952149","W12153857N3952094-W12153833N3952149",208,null,39.521210000000004,-121.538449999999,null,"https://viewer.us-3.sharpershape.services/viewer/assets/5ca5a2c6f6b4636b44a04f9a/details","high"]
[20,"NORTHERN","NORTH VALLEY","CA_2","Tier 2-3",102911105,"WYANDOTTE 1105","102911105 Tier 2-3","W12153833N3952149","W12153812N3952205","W12153833N3952149-W12153812N3952205",215.3,null,39.521769999999897,-121.538229999999,null,"https://viewer.us-3.sharpershape.services/viewer/assets/5ca5a2c6f6b4634754a0511a/details","high"]
[21,"NORTHERN","NORTH VALLEY","CA_2","Tier 2-3",102911105,"WYANDOTTE 1105","102911105 Tier 2-3","W12153891N3952195","W12153812N3952205","W12153891N3952195-W12153812N3952205",226.3,null,39.521999999999899,-121.53852000000001,null,"https://viewer.us-3.sharpershape.services/viewer/assets/5ca5a2c6f6b463d5b0a04bae/details","high"]
[22,"NORTHERN","NORTH VALLEY","CA_2","Tier 2-3",102911105,"WYANDOTTE 1105","102911105 Tier 2-3","W12153812N3952205","W12153791N3952249","W12153812N3952205-W12153791N3952249",168.9,null,39.522269999999899,-121.53802,null,"https://viewer.us-3.sharpershape.services/viewer/assets/5ca5a2c6f6b46356cda04a7c/details","high"]
[23,"NORTHERN","NORTH VALLEY","CA_2","Tier 0-1",102911105,"WYANDOTTE 1105","102911105 Tier 0-1","W12151389N3952251","W12151444N3952251","W12151389N3952251-W12151444N3952251",154.4,null,39.522509999999897,-121.514169999999,null,"https://viewer.us-3.sharpershape.services/viewer/assets/5d88b99a6476d7d75c5dd20a/details","high"]
[24,"NORTHERN","NORTH VALLEY","CA_2","Tier 0-1",102911105,"WYANDOTTE 1105","102911105 Tier 0-1","W12151389N3952251","W12151335N3952254","W12151389N3952251-W12151335N3952254",154.69999999999899,null,39.52252,-121.51362,null,"https://viewer.us-3.sharpershape.services/viewer/assets/5d8b1edb55dd6b072e3f3024/details","high"]
[25,"NORTHERN","NORTH VALLEY","CA_2","Tier 0-1",102911105,"WYANDOTTE 1105","102911105 Tier 0-1","W12151444N3952251","W12151515N3952268","W12151444N3952251-W12151515N3952268",210,null,39.522590000000001,-121.514799999999,null,"https://viewer.us-3.sharpershape.services/viewer/assets/5d88b94855dd6b09963f2e91/details","high"]
[26,"NORTHERN","NORTH VALLEY","CA_2","Tier 0-1",102911105,"WYANDOTTE 1105","102911105 Tier 0-1","W12153775N3952283","W12153791N3952249","W12153775N3952283-W12153791N3952249",131.099999999999,null,39.522660000000002,-121.53783,null,"https://viewer.us-3.sharpershape.services/viewer/assets/5ca5a2c6f6b463313aa04cb9/details","high"]
[27,"NORTHERN","NORTH VALLEY","CA_2","Tier 0-1",102911105,"WYANDOTTE 1105","102911105 Tier 0-1","W12151335N3952254","W12151282N3952292","W12151335N3952254-W12151282N3952292",203.3,null,39.522730000000003,-121.51308,null,"https://viewer.us-3.sharpershape.services/viewer/assets/5ca5a2c6f6b463b00ba04e18/details","high"]
[28,"NORTHERN","NORTH VALLEY","CA_2","Tier 0-1",102911105,"WYANDOTTE 1105","102911105 Tier 0-1","W12151562N3952310","W12151515N3952268","W12151562N3952310-W12151515N3952268",203.5,null,39.522889999999897,-121.515389999999,null,"https://viewer.us-3.sharpershape.services/viewer/assets/5d88b93a55dd6b15c73f2e90/details","high"]
[29,"NORTHERN","NORTH VALLEY","CA_2","Tier 0-1",102911105,"WYANDOTTE 1105","102911105 Tier 0-1","W12153775N3952283","W12153761N3952311","W12153775N3952283-W12153761N3952311",108.799999999999,null,39.522970000000001,-121.537679999999,null,"https://viewer.us-3.sharpershape.services/viewer/assets/5ca5a2c6f6b463b271a05203/details","high"]
[30,"NORTHERN","NORTH VALLEY","CA_2","Tier 0-1",102911105,"WYANDOTTE 1105","102911105 Tier 0-1","W12151196N3952324","W12151282N3952292","W12151196N3952324-W12151282N3952292",268.60000000000002,null,39.52308,-121.512389999999,null,"https://viewer.us-3.sharpershape.services/viewer/assets/5ca5a2c6f6b463e9a0a04bb9/details","high"]
[31,"NORTHERN","NORTH VALLEY","CA_2","Tier 0-1",102911105,"WYANDOTTE 1105","102911105 Tier 0-1","W12151167N3952308","W12151196N3952324","W12151167N3952308-W12151196N3952324",99.9,null,39.523159999999898,-121.51182,null,"https://viewer.us-3.sharpershape.services/viewer/assets/5ca5a2c6f6b463c0a8a04fe8/details","high"]
[32,"NORTHERN","NORTH VALLEY","CA_2","Tier 0-1",102911105,"WYANDOTTE 1105","102911105 Tier 0-1","W12151119N3952361","W12151196N3952324","W12151119N3952361-W12151196N3952324",255.8,null,39.523420000000002,-121.51157000000001,null,"https://viewer.us-3.sharpershape.services/viewer/assets/5ca5a2c6f6b4638f7da04e40/details","high"]
[33,"NORTHERN","NORTH VALLEY","CA_2","Tier 0-1",102911105,"WYANDOTTE 1105","102911105 Tier 0-1","W12153751N3952386","W12153761N3952311","W12153751N3952386-W12153761N3952311",277,null,39.5234799999999,-121.537559999999,null,"https://viewer.us-3.sharpershape.services/viewer/assets/5ca5a2c6f6b46364c0a0520a/details","high"]
[34,"NORTHERN","NORTH VALLEY","CA_2","Tier 0-1",102911105,"WYANDOTTE 1105","102911105 Tier 0-1","W12151562N3952310","W12151549N3952385","W12151562N3952310-W12151549N3952385",276.3,null,39.5234799999999,-121.515559999999,null,"https://viewer.us-3.sharpershape.services/viewer/assets/5ca5a2c6f6b4631737a04c04/details","high"]
[35,"NORTHERN","NORTH VALLEY","CA_2","Tier 0-1",102911105,"WYANDOTTE 1105","102911105 Tier 0-1","W12151594N3952384","W12151682N3952381","W12151594N3952384-W12151682N3952381",246.69999999999899,null,39.523829999999897,-121.516379999999,null,"https://viewer.us-3.sharpershape.services/viewer/assets/5ca5a2c6f6b463b446a04a3d/details","high"]
[36,"NORTHERN","NORTH VALLEY","CA_2","Tier 0-1",102911105,"WYANDOTTE 1105","102911105 Tier 0-1","W12151549N3952385","W12151594N3952384","W12151549N3952385-W12151594N3952384",127,null,39.523850000000003,-121.51572,null,"https://viewer.us-3.sharpershape.services/viewer/assets/5ca5a2c6f6b46350b6a05139/details","high"]
[37,"NORTHERN","NORTH VALLEY","CA_2","Tier 0-1",102911105,"WYANDOTTE 1105","102911105 Tier 0-1","W12151473N3952396","W12151549N3952385","W12151473N3952396-W12151549N3952385",218.4,null,39.523910000000001,-121.51511000000001,null,"https://viewer.us-3.sharpershape.services/viewer/assets/5ca5a2c6f6b46317dfa04ac8/details","high"]
[38,"NORTHERN","NORTH VALLEY","CA_2","Tier 0-1",102911105,"WYANDOTTE 1105","102911105 Tier 0-1","W12153708N3952399","W12153751N3952386","W12153708N3952399-W12153751N3952386",130,null,39.523919999999897,-121.5373,null,"https://viewer.us-3.sharpershape.services/viewer/assets/5ca5a2c6f6b46361e1a04b3c/details","high"]
[39,"NORTHERN","NORTH VALLEY","CA_2","Tier 0-1",102911105,"WYANDOTTE 1105","102911105 Tier 0-1","W12151702N3952428","W12151682N3952381","W12151702N3952428-W12151682N3952381",178.4,null,39.524050000000003,-121.516919999999,null,"https://viewer.us-3.sharpershape.services/viewer/assets/5d88b8896476d703fb5dd203/details","high"]
[40,"NORTHERN","NORTH VALLEY","CA_2","Tier 0-1",102911105,"WYANDOTTE 1105","102911105 Tier 0-1","W12153708N3952399","W12153639N3952420","W12153708N3952399-W12153639N3952420",210.69999999999899,null,39.524090000000001,-121.53673000000001,null,"https://viewer.us-3.sharpershape.services/viewer/assets/5ca5a2c6f6b4632769a05060/details","high"]
[41,"NORTHERN","NORTH VALLEY","CA_2","Tier 0-1",102911105,"WYANDOTTE 1105","102911105 Tier 0-1","W12151456N3952437","W12151473N3952396","W12151456N3952437-W12151473N3952396",155.80000000000001,null,39.524169999999899,-121.51464,null,"https://viewer.us-3.sharpershape.services/viewer/assets/5ca5a2c6f6b4637591a050b5/details","high"]
[42,"NORTHERN","NORTH VALLEY","CA_2","Tier 2-3",102911105,"WYANDOTTE 1105","102911105 Tier 2-3","W12153751N3952386","W12153716N3952455","W12153751N3952386-W12153716N3952455",271.10000000000002,null,39.524209999999897,-121.53734,null,"https://viewer.us-3.sharpershape.services/viewer/assets/5ca5a2c6f6b46351f2a04ede/details","high"]
[43,"NORTHERN","NORTH VALLEY","CA_2","Tier 0-1",102911105,"WYANDOTTE 1105","102911105 Tier 0-1","W12153639N3952420","W12153581N3952442","W12153639N3952420-W12153581N3952442",183.69999999999899,null,39.52431,-121.5361,null,"https://viewer.us-3.sharpershape.services/viewer/assets/5ca5a2c6f6b46386b0a04cc4/details","high"]
[44,"NORTHERN","NORTH VALLEY","CA_2","Tier 0-1",102911105,"WYANDOTTE 1105","102911105 Tier 0-1","W12153581N3952442","W12153530N3952456","W12153581N3952442-W12153530N3952456",152.19999999999899,null,39.52449,-121.53555,null,"https://viewer.us-3.sharpershape.services/viewer/assets/5ca5a2c6f6b463115ca04a27/details","high"]
[45,"NORTHERN","NORTH VALLEY","CA_2","Tier 0-1",102911105,"WYANDOTTE 1105","102911105 Tier 0-1","W12152223N3952454","W12152293N3952453","W12152223N3952454-W12152293N3952453",198.4,null,39.524540000000002,-121.52258,null,"https://viewer.us-3.sharpershape.services/viewer/assets/5ca5a2c6f6b4634c38a04c9a/details","high"]
[46,"NORTHERN","NORTH VALLEY","CA_2","Tier 2-3",102911105,"WYANDOTTE 1105","102911105 Tier 2-3","W12151456N3952437","W12151459N3952471","W12151456N3952437-W12151459N3952471",123.799999999999,null,39.524540000000002,-121.51457000000001,null,"https://viewer.us-3.sharpershape.services/viewer/assets/5ca5a2c6f6b46347dfa04b7e/details","high"]
[47,"NORTHERN","NORTH VALLEY","CA_2","Tier 0-1",102911105,"WYANDOTTE 1105","102911105 Tier 0-1","W12152223N3952454","W12152121N3952468","W12152223N3952454-W12152121N3952468",291.39999999999901,null,39.524610000000003,-121.52172,null,"https://viewer.us-3.sharpershape.services/viewer/assets/5ca5a2c6f6b4634c98a0504c/details","high"]
[48,"NORTHERN","NORTH VALLEY","CA_2","Tier 2-3",102911105,"WYANDOTTE 1105","102911105 Tier 2-3","W12153745N3952470","W12153716N3952455","W12153745N3952470-W12153716N3952455",97.099999999999895,null,39.524630000000002,-121.5373,null,"https://viewer.us-3.sharpershape.services/viewer/assets/5ca5a2c6f6b463041aa04e0c/details","high"]
[49,"NORTHERN","NORTH VALLEY","CA_2","Tier 2-3",102911105,"WYANDOTTE 1105","102911105 Tier 2-3","W12153716N3952455","W12153682N3952487","W12153716N3952455-W12153682N3952487",150.69999999999899,null,39.524709999999899,-121.53699,null,"https://viewer.us-3.sharpershape.services/viewer/assets/5ca5a2c6f6b4630bb0a049ec/details","high"]
[50,"NORTHERN","NORTH VALLEY","CA_2","Tier 2-3",102911105,"WYANDOTTE 1105","102911105 Tier 2-3","W12153809N3952504","W12153745N3952470","W12153809N3952504-W12153745N3952470",218.599999999999,null,39.52487,-121.537769999999,null,"https://viewer.us-3.sharpershape.services/viewer/assets/5ca5a2c6f6b4638d21a051a2/details","high"]
[51,"NORTHERN","NORTH VALLEY","CA_2","Tier 2-3",102911105,"WYANDOTTE 1105","102911105 Tier 2-3","W12153709N3952512","W12153682N3952487","W12153709N3952512-W12153682N3952487",115.2,null,39.524990000000003,-121.536959999999,null,"https://viewer.us-3.sharpershape.services/viewer/assets/5ca5a2c6f6b4635859a04d71/details","high"]
[52,"NORTHERN","NORTH VALLEY","CA_2","Tier 0-1",102911105,"WYANDOTTE 1105","102911105 Tier 0-1","W12153682N3952487","W12153636N3952510","W12153682N3952487-W12153636N3952510",155.80000000000001,null,39.524990000000003,-121.53659,null,"https://viewer.us-3.sharpershape.services/viewer/assets/5ca5a2c6f6b463f969a04978/details","high"]
[53,"NORTHERN","NORTH VALLEY","CA_2","Tier 2-3",102911105,"WYANDOTTE 1105","102911105 Tier 2-3","W12152123N3952539","W12152121N3952468","W12152123N3952539-W12152121N3952468",258.89999999999901,null,39.525030000000001,-121.52122,null,"https://viewer.us-3.sharpershape.services/viewer/assets/5ca5a2c6f6b463550ba0502f/details","high"]
[54,"NORTHERN","NORTH VALLEY","CA_2","Tier 2-3",102911105,"WYANDOTTE 1105","102911105 Tier 2-3","W12151461N3952559","W12151459N3952471","W12151461N3952559-W12151459N3952471",322.60000000000002,null,39.525149999999897,-121.5146,null,"https://viewer.us-3.sharpershape.services/viewer/assets/5d8b1e506476d7eadd5dd3a0/details","high"]
[55,"NORTHERN","NORTH VALLEY","CA_2","Tier 0-1",102911105,"WYANDOTTE 1105","102911105 Tier 0-1","W12153636N3952510","W12153590N3952523","W12153636N3952510-W12153590N3952523",136.69999999999899,null,39.525170000000003,-121.53613,null,"https://viewer.us-3.sharpershape.services/viewer/assets/5ca5a2c6f6b4636365a050d5/details","high"]
[56,"NORTHERN","NORTH VALLEY","CA_2","Tier 0-1",102911105,"WYANDOTTE 1105","102911105 Tier 0-1","W12153590N3952523","W12153537N3952537","W12153590N3952523-W12153537N3952537",156.5,null,39.525300000000001,-121.53564,null,"https://viewer.us-3.sharpershape.services/viewer/assets/5ca5a2c6f6b4631c28a0517f/details","high"]
[57,"NORTHERN","NORTH VALLEY","CA_2","Tier 0-1",102911105,"WYANDOTTE 1105","102911105 Tier 0-1","W12153279N3952515","W12153312N3952549","W12153279N3952515-W12153312N3952549",154,null,39.525320000000001,-121.53296,null,"https://viewer.us-3.sharpershape.services/viewer/assets/5ca5a2c6f6b463ab92a051ae/details","high"]
[58,"NORTHERN","NORTH VALLEY","CA_2","Tier 2-3",102911105,"WYANDOTTE 1105","102911105 Tier 2-3","W12153709N3952512","W12153742N3952569","W12153709N3952512-W12153742N3952569",227.69999999999899,null,39.525399999999898,-121.53725,null,"https://viewer.us-3.sharpershape.services/viewer/assets/5ca5a2c6f6b4633f70a04d23/details","high"]
[59,"NORTHERN","NORTH VALLEY","CA_2","Tier 0-1",102911105,"WYANDOTTE 1105","102911105 Tier 0-1","W12153462N3952554","W12153537N3952537","W12153462N3952554-W12153537N3952537",220.8,null,39.5254499999999,-121.534999999999,null,"https://viewer.us-3.sharpershape.services/viewer/assets/5ca5a2c6f6b463381fa049b8/details","high"]
[60,"NORTHERN","NORTH VALLEY","CA_2","Tier 0-1",102911105,"WYANDOTTE 1105","102911105 Tier 0-1","W12153462N3952554","W12153390N3952564","W12153462N3952554-W12153390N3952564",207.19999999999899,null,39.525590000000001,-121.53426,null,"https://viewer.us-3.sharpershape.services/viewer/assets/5ca5a2c6f6b463cfd6a04cce/details","high"]
[61,"NORTHERN","NORTH VALLEY","CA_2","Tier 0-1",102911105,"WYANDOTTE 1105","102911105 Tier 0-1","W12153537N3952598","W12153537N3952537","W12153537N3952598-W12153537N3952537",223.19999999999899,null,39.525669999999899,-121.53537,null,"https://viewer.us-3.sharpershape.services/viewer/assets/5ca5a2c6f6b4634b85a04d18/details","high"]
[62,"NORTHERN","NORTH VALLEY","CA_2","Tier 0-1",102911105,"WYANDOTTE 1105","102911105 Tier 0-1","W12153312N3952549","W12153345N3952585","W12153312N3952549-W12153345N3952585",162.599999999999,null,39.525669999999899,-121.533289999999,null,"https://viewer.us-3.sharpershape.services/viewer/assets/5ca5a2c6f6b4639894a04b2d/details","high"]
[63,"NORTHERN","NORTH VALLEY","CA_2","Tier 0-1",102911105,"WYANDOTTE 1105","102911105 Tier 0-1","W12153345N3952585","W12153390N3952564","W12153345N3952585-W12153390N3952564",148.599999999999,null,39.525750000000002,-121.53368,null,"https://viewer.us-3.sharpershape.services/viewer/assets/5ca5a2c6f6b463a435a04e28/details","high"]
[64,"NORTHERN","NORTH VALLEY","CA_2","Tier 2-3",102911105,"WYANDOTTE 1105","102911105 Tier 2-3","W12152124N3952614","W12152123N3952539","W12152124N3952614-W12152123N3952539",274.60000000000002,null,39.525759999999899,-121.52123,null,"https://viewer.us-3.sharpershape.services/viewer/assets/5ca5a2c6f6b46335f7a04ffc/details","high"]
[65,"NORTHERN","NORTH VALLEY","CA_2","Tier 2-3",102911105,"WYANDOTTE 1105","102911105 Tier 2-3","W12153767N3952612","W12153742N3952569","W12153767N3952612-W12153742N3952569",172.4,null,39.5259,-121.53754000000001,null,"https://viewer.us-3.sharpershape.services/viewer/assets/5e1b0881942b992c9e7b02ef/details","high"]
[66,"NORTHERN","NORTH VALLEY","CA_2","Tier 2-3",102911105,"WYANDOTTE 1105","102911105 Tier 2-3","W12153345N3952585","W12153295N3952615","W12153345N3952585-W12153295N3952615",177.9,null,39.526000000000003,-121.533199999999,null,"https://viewer.us-3.sharpershape.services/viewer/assets/5ca5a2c6f6b4637e6fa049ea/details","high"]
[67,"NORTHERN","NORTH VALLEY","CA_2","Tier 2-3",102911105,"WYANDOTTE 1105","102911105 Tier 2-3","W12151461N3952559","W12151463N3952642","W12151461N3952559-W12151463N3952642",301.39999999999901,null,39.5260099999999,-121.514619999999,null,"https://viewer.us-3.sharpershape.services/viewer/assets/5d8b1e4455dd6b5e853f3023/details","high"]
[68,"NORTHERN","NORTH VALLEY","CA_2","Tier 2-3",102911105,"WYANDOTTE 1105","102911105 Tier 2-3","W12152124N3952614","W12152064N3952615","W12152124N3952614-W12152064N3952615",171,null,39.526139999999899,-121.520939999999,null,"https://viewer.us-3.sharpershape.services/viewer/assets/5ca5a2c6f6b463c7cfa0501b/details","high"]
[69,"NORTHERN","NORTH VALLEY","CA_2","Tier 0-1",102911105,"WYANDOTTE 1105","102911105 Tier 0-1","W12153535N3952637","W12153537N3952598","W12153535N3952637-W12153537N3952598",142.80000000000001,null,39.52617,-121.535359999999,null,"https://viewer.us-3.sharpershape.services/viewer/assets/5ca5a2c6f6b4634b4fa04e4e/details","high"]
[70,"NORTHERN","NORTH VALLEY","CA_2","Tier 2-3",102911105,"WYANDOTTE 1105","102911105 Tier 2-3","W12153767N3952612","W12153848N3952653","W12153767N3952612-W12153848N3952653",273,null,39.526319999999899,-121.53807,null,"https://viewer.us-3.sharpershape.services/viewer/assets/5ca5a2c6f6b463399da04f5c/details","high"]
[71,"NORTHERN","NORTH VALLEY","CA_2","Tier 2-3",102911105,"WYANDOTTE 1105","102911105 Tier 2-3","W12153295N3952615","W12153224N3952655","W12153295N3952615-W12153224N3952655",249.099999999999,null,39.526350000000001,-121.532589999999,null,"https://viewer.us-3.sharpershape.services/viewer/assets/5ca5a2c6f6b4635390a04a71/details","high"]
[72,"NORTHERN","NORTH VALLEY","CA_2","Tier 2-3",102911105,"WYANDOTTE 1105","102911105 Tier 2-3","W12153928N3952652","W12153848N3952653","W12153928N3952652-W12153848N3952653",226.19999999999899,null,39.526519999999898,-121.53888000000001,null,"https://viewer.us-3.sharpershape.services/viewer/assets/5ca5a2c6f6b463083da04d94/details","high"]
[73,"NORTHERN","NORTH VALLEY","CA_2","Tier 2-3",102911105,"WYANDOTTE 1105","102911105 Tier 2-3","W12151433N3952690","W12151463N3952642","W12151433N3952690-W12151463N3952642",191.5,null,39.52666,-121.51448000000001,null,"https://viewer.us-3.sharpershape.services/viewer/assets/5ca5a2c6f6b46359cca05184/details","high"]
[74,"NORTHERN","NORTH VALLEY","CA_2","Tier 2-3",102911105,"WYANDOTTE 1105","102911105 Tier 2-3","W12153536N3952706","W12153535N3952637","W12153536N3952706-W12153535N3952637",252.3,null,39.526719999999898,-121.535359999999,null,"https://viewer.us-3.sharpershape.services/viewer/assets/5e7a18565dcbeb387a17baf6/details","high"]
[75,"NORTHERN","NORTH VALLEY","CA_2","Tier 2-3",102911105,"WYANDOTTE 1105","102911105 Tier 2-3","W12153224N3952655","W12153152N3952699","W12153224N3952655-W12153152N3952699",257.60000000000002,null,39.5267699999999,-121.53188,null,"https://viewer.us-3.sharpershape.services/viewer/assets/5ca5a2c6f6b46367dca04ab1/details","high"]
[76,"NORTHERN","NORTH VALLEY","CA_2","Tier 2-3",102911105,"WYANDOTTE 1105","102911105 Tier 2-3","W12153152N3952699","W12153116N3952725","W12153152N3952699-W12153116N3952725",139.69999999999899,null,39.527119999999897,-121.53134,null,"https://viewer.us-3.sharpershape.services/viewer/assets/5ca5a2c6f6b46334dea04ee9/details","high"]
[77,"NORTHERN","NORTH VALLEY","CA_2","Tier 2-3",102911105,"WYANDOTTE 1105","102911105 Tier 2-3","W12151437N3952744","W12151433N3952690","W12151437N3952744-W12151433N3952690",198.099999999999,null,39.527169999999899,-121.514349999999,null,"https://viewer.us-3.sharpershape.services/viewer/assets/5ca5a2c6f6b46309eba051c7/details","high"]
[78,"NORTHERN","NORTH VALLEY","CA_2","Tier 2-3",102911105,"WYANDOTTE 1105","102911105 Tier 2-3","W12153200N3952739","W12153152N3952699","W12153200N3952739-W12153152N3952699",197.19999999999899,null,39.527189999999898,-121.53176000000001,null,"https://viewer.us-3.sharpershape.services/viewer/assets/5ca5a2c6f6b46337eda04c68/details","high"]
[79,"NORTHERN","NORTH VALLEY","CA_2","Tier 2-3",102911105,"WYANDOTTE 1105","102911105 Tier 2-3","W12152971N3952716","W12152907N3952726","W12152971N3952716-W12152907N3952726",184.9,null,39.527209999999897,-121.52939000000001,null,"https://viewer.us-3.sharpershape.services/viewer/assets/5ca5a2c6f6b4635805a04cab/details","high"]
[80,"NORTHERN","NORTH VALLEY","CA_2","Tier 2-3",102911105,"WYANDOTTE 1105","102911105 Tier 2-3","W12153054N3952731","W12152971N3952716","W12153054N3952731-W12152971N3952716",238.5,null,39.5272399999999,-121.530119999999,null,"https://viewer.us-3.sharpershape.services/viewer/assets/5ca5a2c6f6b4637c8aa04fdb/details","high"]
[81,"NORTHERN","NORTH VALLEY","CA_2","Tier 2-3",102911105,"WYANDOTTE 1105","102911105 Tier 2-3","W12153116N3952725","W12153054N3952731","W12153116N3952725-W12153054N3952731",176.3,null,39.527279999999898,-121.53085,null,"https://viewer.us-3.sharpershape.services/viewer/assets/5ca5a2c6f6b4632e29a04bb0/details","high"]
[82,"NORTHERN","NORTH VALLEY","CA_2","Tier 2-3",102911105,"WYANDOTTE 1105","102911105 Tier 2-3","W12153536N3952706","W12153535N3952774","W12153536N3952706-W12153535N3952774",246.599999999999,null,39.5274,-121.535349999999,null,"https://viewer.us-3.sharpershape.services/viewer/assets/5ca5a2c6f6b463ada9a04fb0/details","high"]
[83,"NORTHERN","NORTH VALLEY","CA_2","Tier 2-3",102911105,"WYANDOTTE 1105","102911105 Tier 2-3","W12153052N3952749","W12153054N3952731","W12153052N3952749-W12153054N3952731",64.400000000000006,null,39.5274,-121.530529999999,null,"https://viewer.us-3.sharpershape.services/viewer/assets/5ca5a2c6f6b4634158a050f2/details","high"]
[84,"NORTHERN","NORTH VALLEY","CA_2","Tier 2-3",102911105,"WYANDOTTE 1105","102911105 Tier 2-3","W12152907N3952726","W12152800N3952774","W12152907N3952726-W12152800N3952774",349.69999999999902,null,39.527500000000003,-121.52853,null,"https://viewer.us-3.sharpershape.services/viewer/assets/5ca5a2c6f6b4634630a04e8d/details","high"]
[85,"NORTHERN","NORTH VALLEY","CA_2","Tier 2-3",102911105,"WYANDOTTE 1105","102911105 Tier 2-3","W12153200N3952739","W12153203N3952790","W12153200N3952739-W12153203N3952790",186.19999999999899,null,39.527639999999899,-121.53202,null,"https://viewer.us-3.sharpershape.services/viewer/assets/5ca5a2c6f6b463164ba04aa2/details","high"]
[86,"NORTHERN","NORTH VALLEY","CA_2","Tier 2-3",102911105,"WYANDOTTE 1105","102911105 Tier 2-3","W12151441N3952799","W12151437N3952744","W12151441N3952799-W12151437N3952744",199.3,null,39.5277099999999,-121.51439000000001,null,"https://viewer.us-3.sharpershape.services/viewer/assets/5ca5a2c6f6b463015da04b5c/details","high"]
[87,"NORTHERN","NORTH VALLEY","CA_2","Tier 2-3",102911105,"WYANDOTTE 1105","102911105 Tier 2-3","W12153052N3952749","W12153054N3952815","W12153052N3952749-W12153054N3952815",243.599999999999,null,39.527819999999899,-121.530529999999,null,"https://viewer.us-3.sharpershape.services/viewer/assets/5ca5a2c6f6b4636011a051da/details","high"]
[88,"NORTHERN","NORTH VALLEY","CA_2","Tier 2-3",102911105,"WYANDOTTE 1105","102911105 Tier 2-3","W12153385N3952791","W12153270N3952789","W12153385N3952791-W12153270N3952789",324.19999999999902,null,39.527900000000002,-121.53328,null,"https://viewer.us-3.sharpershape.services/viewer/assets/5ca5a2c6f6b463466ba049bf/details","high"]
[89,"NORTHERN","NORTH VALLEY","CA_2","Tier 2-3",102911105,"WYANDOTTE 1105","102911105 Tier 2-3","W12153203N3952790","W12153270N3952789","W12153203N3952790-W12153270N3952789",189.099999999999,null,39.527900000000002,-121.53237,null,"https://viewer.us-3.sharpershape.services/viewer/assets/5ca5a2c6f6b4631fcca0508c/details","high"]
[90,"NORTHERN","NORTH VALLEY","CA_2","Tier 2-3",102911105,"WYANDOTTE 1105","102911105 Tier 2-3","W12152800N3952774","W12152750N3952825","W12152800N3952774-W12152750N3952825",233.599999999999,null,39.527999999999899,-121.527749999999,null,"https://viewer.us-3.sharpershape.services/viewer/assets/5ca5a2c6f6b4634ff7a05112/details","high"]
[91,"NORTHERN","NORTH VALLEY","CA_2","Tier 2-3",102911105,"WYANDOTTE 1105","102911105 Tier 2-3","W12153534N3952830","W12153535N3952774","W12153534N3952830-W12153535N3952774",203.19999999999899,null,39.528019999999898,-121.53534000000001,null,"https://viewer.us-3.sharpershape.services/viewer/assets/5ca5a2c6f6b463c1eea04ac0/details","high"]
[92,"NORTHERN","NORTH VALLEY","CA_2","Tier 2-3",102911105,"WYANDOTTE 1105","102911105 Tier 2-3","W12153203N3952790","W12153205N3952846","W12153203N3952790-W12153205N3952846",203.9,null,39.5281799999999,-121.532039999999,null,"https://viewer.us-3.sharpershape.services/viewer/assets/5ca5a2c6f6b463f261a051d0/details","high"]
[93,"NORTHERN","NORTH VALLEY","CA_2","Tier 2-3",102911105,"WYANDOTTE 1105","102911105 Tier 2-3","W12151401N3952860","W12151441N3952799","W12151401N3952860-W12151441N3952799",250.8,null,39.528289999999899,-121.51421000000001,null,"https://viewer.us-3.sharpershape.services/viewer/assets/5ca5a2c6f6b463bdf4a04f50/details","high"]
[94,"NORTHERN","NORTH VALLEY","CA_2","Tier 2-3",102911105,"WYANDOTTE 1105","102911105 Tier 2-3","W12153534N3952830","W12153496N3952831","W12153534N3952830-W12153496N3952831",105.4,null,39.528300000000002,-121.53515,null,"https://viewer.us-3.sharpershape.services/viewer/assets/5ca5a2c6f6b463c5aea04a4a/details","high"]
[95,"NORTHERN","NORTH VALLEY","CA_2","Tier 2-3",102911105,"WYANDOTTE 1105","102911105 Tier 2-3","W12153427N3952831","W12153496N3952831","W12153427N3952831-W12153496N3952831",196.599999999999,null,39.528309999999898,-121.53462,null,"https://viewer.us-3.sharpershape.services/viewer/assets/5ca5a2c6f6b46346a1a04e09/details","high"]
[96,"NORTHERN","NORTH VALLEY","CA_2","Tier 2-3",102911105,"WYANDOTTE 1105","102911105 Tier 2-3","W12153379N3952832","W12153427N3952831","W12153379N3952832-W12153427N3952831",134,null,39.528309999999898,-121.53403,null,"https://viewer.us-3.sharpershape.services/viewer/assets/5ca5a2c6f6b463cb9ba04f05/details","high"]
[97,"NORTHERN","NORTH VALLEY","CA_2","Tier 2-3",102911105,"WYANDOTTE 1105","102911105 Tier 2-3","W12153054N3952815","W12153053N3952876","W12153054N3952815-W12153053N3952876",221.19999999999899,null,39.528460000000003,-121.53054,null,"https://viewer.us-3.sharpershape.services/viewer/assets/5ca5a2c6f6b463a3b1a04e34/details","high"]
[98,"NORTHERN","NORTH VALLEY","CA_2","Tier 2-3",102911105,"WYANDOTTE 1105","102911105 Tier 2-3","W12152750N3952825","W12152680N3952875","W12152750N3952825-W12152680N3952875",268.39999999999901,null,39.528500000000001,-121.52715000000001,null,"https://viewer.us-3.sharpershape.services/viewer/assets/5ca5a2c6f6b46337c2a04be5/details","high"]
[99,"NORTHERN","NORTH VALLEY","CA_2","Tier 2-3",102911105,"WYANDOTTE 1105","102911105 Tier 2-3","W12153534N3952830","W12153534N3952830","W12153534N3952830-W12153534N3952830",189.9,null,39.528559999999899,-121.535349999999,null,"https://viewer.us-3.sharpershape.services/viewer/assets/5ca5a2c6f6b4631e4ba04b95/details","high"]
[100,"NORTHERN","NORTH VALLEY","CA_2","Tier 2-3",102911105,"WYANDOTTE 1105","102911105 Tier 2-3","W12151852N3952834","W12151873N3952887","W12151852N3952834-W12151873N3952887",200.8,null,39.52861,-121.51863,null,"https://viewer.us-3.sharpershape.services/viewer/assets/5ca5a2c6f6b4631966a05106/details","high"]
[101,"NORTHERN","NORTH VALLEY","CA_2","Tier 2-3",102911105,"WYANDOTTE 1105","102911105 Tier 2-3","W12153205N3952846","W12153206N3952881","W12153205N3952846-W12153206N3952881",129.099999999999,null,39.528640000000003,-121.532049999999,null,"https://viewer.us-3.sharpershape.services/viewer/assets/5ca5a2c6f6b4635559a050c2/details","high"]
[102,"NORTHERN","NORTH VALLEY","CA_2","Tier 2-3",102911105,"WYANDOTTE 1105","102911105 Tier 2-3","W12153537N3952882","W12153422N3952882","W12153537N3952882-W12153422N3952882",324.39999999999901,null,39.528820000000003,-121.5348,null,"https://viewer.us-3.sharpershape.services/viewer/assets/5ca5a2c6f6b4638913a05099/details","high"]
[103,"NORTHERN","NORTH VALLEY","CA_2","Tier 2-3",102911105,"WYANDOTTE 1105","102911105 Tier 2-3","W12153363N3952882","W12153422N3952882","W12153363N3952882-W12153422N3952882",165.4,null,39.528820000000003,-121.533929999999,null,"https://viewer.us-3.sharpershape.services/viewer/assets/5ca5a2c6f6b46376c8a04f8b/details","high"]
[104,"NORTHERN","NORTH VALLEY","CA_2","Tier 2-3",102911105,"WYANDOTTE 1105","102911105 Tier 2-3","W12151873N3952887","W12151911N3952893","W12151873N3952887-W12151911N3952893",108.299999999999,null,39.5289,-121.518919999999,null,"https://viewer.us-3.sharpershape.services/viewer/assets/5ca5a2c6f6b463604ea04ea6/details","high"]
[105,"NORTHERN","NORTH VALLEY","CA_2","Tier 2-3",102911105,"WYANDOTTE 1105","102911105 Tier 2-3","W12152680N3952875","W12152596N3952916","W12152680N3952875-W12152596N3952916",281,null,39.528959999999898,-121.52638,null,"https://viewer.us-3.sharpershape.services/viewer/assets/5ca5a2c6f6b463c0bba05089/details","high"]
[106,"NORTHERN","NORTH VALLEY","CA_2","Tier 2-3",102911105,"WYANDOTTE 1105","102911105 Tier 2-3","W12152053N3952877","W12152014N3952914","W12152053N3952877-W12152014N3952914",171.9,null,39.528959999999898,-121.52033,null,"https://viewer.us-3.sharpershape.services/viewer/assets/5ca5a2c6f6b463d0f3a04a55/details","high"]
[107,"NORTHERN","NORTH VALLEY","CA_2","Tier 2-3",102911105,"WYANDOTTE 1105","102911105 Tier 2-3","W12151936N3952926","W12151911N3952893","W12151936N3952926-W12151911N3952893",141.4,null,39.529089999999897,-121.519229999999,null,"https://viewer.us-3.sharpershape.services/viewer/assets/5ca5a2c6f6b4635897a04d80/details","high"]
[108,"NORTHERN","NORTH VALLEY","CA_2","Tier 2-3",102911105,"WYANDOTTE 1105","102911105 Tier 2-3","W12152014N3952914","W12151936N3952926","W12152014N3952914-W12151936N3952926",225.099999999999,null,39.529200000000003,-121.51975,null,"https://viewer.us-3.sharpershape.services/viewer/assets/5ca5a2c6f6b4634b73a04f6f/details","high"]
[109,"NORTHERN","NORTH VALLEY","CA_2","Tier 2-3",102911105,"WYANDOTTE 1105","102911105 Tier 2-3","W12153206N3952972","W12153206N3952881","W12153206N3952972-W12153206N3952881",332.19999999999902,null,39.529269999999897,-121.53206,null,"https://viewer.us-3.sharpershape.services/viewer/assets/5ca5a2c6f6b463a605a04c77/details","high"]
[110,"NORTHERN","NORTH VALLEY","CA_2","Tier 2-3",102911105,"WYANDOTTE 1105","102911105 Tier 2-3","W12152596N3952916","W12152508N3952949","W12152596N3952916-W12152508N3952949",273.5,null,39.529319999999899,-121.52552,null,"https://viewer.us-3.sharpershape.services/viewer/assets/5ca5a2c6f6b4634e80a04ae4/details","high"]
[111,"NORTHERN","NORTH VALLEY","CA_2","Tier 2-3",102911105,"WYANDOTTE 1105","102911105 Tier 2-3","W12153538N3952985","W12153537N3952882","W12153538N3952985-W12153537N3952882",374.89999999999901,null,39.529330000000002,-121.53537,null,"https://viewer.us-3.sharpershape.services/viewer/assets/5ca5a2c6f6b463441aa04ac2/details","high"]
[112,"NORTHERN","NORTH VALLEY","CA_2","Tier 2-3",102911105,"WYANDOTTE 1105","102911105 Tier 2-3","W12152603N3952974","W12152596N3952916","W12152603N3952974-W12152596N3952916",210.19999999999899,null,39.529449999999898,-121.525989999999,null,"https://viewer.us-3.sharpershape.services/viewer/assets/5ca5a2c6f6b463c9e0a0514e/details","high"]
[113,"NORTHERN","NORTH VALLEY","CA_2","Tier 2-3",102911105,"WYANDOTTE 1105","102911105 Tier 2-3","W12153133N3952927","W12153130N3952973","W12153133N3952927-W12153130N3952973",167.4,null,39.529499999999899,-121.53131,null,"https://viewer.us-3.sharpershape.services/viewer/assets/5ca5a2c6f6b463b19aa050cd/details","high"]
[114,"NORTHERN","NORTH VALLEY","CA_2","Tier 2-3",102911105,"WYANDOTTE 1105","102911105 Tier 2-3","W12152508N3952949","W12152414N3952959","W12152508N3952949-W12152414N3952959",267.5,null,39.529539999999898,-121.524609999999,null,"https://viewer.us-3.sharpershape.services/viewer/assets/5ca5a2c6f6b4633d64a04cf9/details","high"]
[115,"NORTHERN","NORTH VALLEY","CA_2","Tier 2-3",102911105,"WYANDOTTE 1105","102911105 Tier 2-3","W12152414N3952959","W12152351N3952966","W12152414N3952959-W12152351N3952966",181.69999999999899,null,39.529620000000001,-121.52382,null,"https://viewer.us-3.sharpershape.services/viewer/assets/5ca5a2c6f6b463d8dea04db3/details","high"]
[116,"NORTHERN","NORTH VALLEY","CA_2","Tier 2-3",102911105,"WYANDOTTE 1105","102911105 Tier 2-3","W12153284N3952973","W12153340N3952972","W12153284N3952973-W12153340N3952972",156.19999999999899,null,39.529719999999898,-121.533119999999,null,"https://viewer.us-3.sharpershape.services/viewer/assets/5ca5a2c6f6b4637dc0a04d35/details","high"]
[117,"NORTHERN","NORTH VALLEY","CA_2","Tier 2-3",102911105,"WYANDOTTE 1105","102911105 Tier 2-3","W12153068N3952972","W12152988N3952972","W12153068N3952972-W12152988N3952972",225.69999999999899,null,39.529719999999898,-121.53028,null,"https://viewer.us-3.sharpershape.services/viewer/assets/5d89b6cc55dd6b81633f2eff/details","high"]
[118,"NORTHERN","NORTH VALLEY","CA_2","Tier 2-3",102911105,"WYANDOTTE 1105","102911105 Tier 2-3","W12153284N3952973","W12153206N3952972","W12153284N3952973-W12153206N3952972",221.5,null,39.529730000000001,-121.532449999999,null,"https://viewer.us-3.sharpershape.services/viewer/assets/5ca5a2c6f6b4630785a04d19/details","high"]
[119,"NORTHERN","NORTH VALLEY","CA_2","Tier 2-3",102911105,"WYANDOTTE 1105","102911105 Tier 2-3","W12153206N3952972","W12153130N3952973","W12153206N3952972-W12153130N3952973",214,null,39.529730000000001,-121.531679999999,null,"https://viewer.us-3.sharpershape.services/viewer/assets/5ca5a2c6f6b4637225a0510d/details","high"]
[120,"NORTHERN","NORTH VALLEY","CA_2","Tier 2-3",102911105,"WYANDOTTE 1105","102911105 Tier 2-3","W12153130N3952973","W12153068N3952972","W12153130N3952973-W12153068N3952972",175.19999999999899,null,39.529730000000001,-121.53099,null,"https://viewer.us-3.sharpershape.services/viewer/assets/5ca5a2c6f6b46312f8a05163/details","high"]
[121,"NORTHERN","NORTH VALLEY","CA_2","Tier 2-3",102911105,"WYANDOTTE 1105","102911105 Tier 2-3","W12152005N3953021","W12151936N3952926","W12152005N3953021-W12151936N3952926",398,null,39.529739999999897,-121.51971,null,"https://viewer.us-3.sharpershape.services/viewer/assets/5ca5a2c6f6b463d94da04bdf/details","high"]
[122,"NORTHERN","NORTH VALLEY","CA_2","Tier 2-3",102911105,"WYANDOTTE 1105","102911105 Tier 2-3","W12152351N3952966","W12152284N3952992","W12152351N3952966-W12152284N3952992",210.69999999999899,null,39.529789999999899,-121.523169999999,null,"https://viewer.us-3.sharpershape.services/viewer/assets/5ca5a2c6f6b4635ce1a0510b/details","high"]
[123,"NORTHERN","NORTH VALLEY","CA_2","Tier 2-3",102911105,"WYANDOTTE 1105","102911105 Tier 2-3","W12152091N3953014","W12152091N3952965","W12152091N3953014-W12152091N3952965",178.3,null,39.529899999999898,-121.52091,null,"https://viewer.us-3.sharpershape.services/viewer/assets/5ca5a2c6f6b46337e8a04a3f/details","high"]
[124,"NORTHERN","NORTH VALLEY","CA_2","Tier 2-3",102911105,"WYANDOTTE 1105","102911105 Tier 2-3","W12153206N3952972","W12153206N3953018","W12153206N3952972-W12153206N3953018",166.3,null,39.5299499999999,-121.53206,null,"https://viewer.us-3.sharpershape.services/viewer/assets/5ca5a2c6f6b4636702a04ca2/details","high"]
[125,"NORTHERN","NORTH VALLEY","CA_2","Tier 2-3",102911105,"WYANDOTTE 1105","102911105 Tier 2-3","W12152184N3953012","W12152284N3952992","W12152184N3953012-W12152284N3952992",290.10000000000002,null,39.53002,-121.52234,null,"https://viewer.us-3.sharpershape.services/viewer/assets/5ca5a2c6f6b4639636a0497c/details","high"]
[126,"NORTHERN","NORTH VALLEY","CA_2","Tier 2-3",102911105,"WYANDOTTE 1105","102911105 Tier 2-3","W12152091N3953014","W12152184N3953012","W12152091N3953014-W12152184N3953012",264.5,null,39.53013,-121.521379999999,null,"https://viewer.us-3.sharpershape.services/viewer/assets/5ca5a2c6f6b463611da04cf7/details","high"]
[127,"NORTHERN","NORTH VALLEY","CA_2","Tier 2-3",102911105,"WYANDOTTE 1105","102911105 Tier 2-3","W12152005N3953021","W12152091N3953014","W12152005N3953021-W12152091N3953014",241.69999999999899,null,39.530180000000001,-121.52048000000001,null,"https://viewer.us-3.sharpershape.services/viewer/assets/5ca5a2c6f6b4637ff5a04e47/details","high"]
[128,"NORTHERN","NORTH VALLEY","CA_2","Tier 2-3",102911105,"WYANDOTTE 1105","102911105 Tier 2-3","W12152603N3953064","W12152603N3952974","W12152603N3953064-W12152603N3952974",329.1,null,39.530189999999898,-121.52603000000001,null,"https://viewer.us-3.sharpershape.services/viewer/assets/5ca5a2c6f6b463cd78a04dbd/details","high"]
[129,"NORTHERN","NORTH VALLEY","CA_2","Tier 2-3",102911105,"WYANDOTTE 1105","102911105 Tier 2-3","W12153538N3952985","W12153538N3953063","W12153538N3952985-W12153538N3953063",283.3,null,39.5302399999999,-121.53538,null,"https://viewer.us-3.sharpershape.services/viewer/assets/5ca5a2c6f6b4636d60a0516d/details","high"]
[130,"NORTHERN","NORTH VALLEY","CA_2","Tier 2-3",102911105,"WYANDOTTE 1105","102911105 Tier 2-3","W12153206N3953018","W12153206N3953048","W12153206N3953018-W12153206N3953048",109.5,null,39.5303299999999,-121.53206,null,"https://viewer.us-3.sharpershape.services/viewer/assets/5ca5a2c6f6b463534ca04e23/details","high"]
[131,"NORTHERN","NORTH VALLEY","CA_2","Tier 2-3",102911105,"WYANDOTTE 1105","102911105 Tier 2-3","W12153323N3953048","W12153355N3953046","W12153323N3953048-W12153355N3953046",90.599999999999895,null,39.530470000000001,-121.533389999999,null,"https://viewer.us-3.sharpershape.services/viewer/assets/5ca5a2c6f6b463e131a04ef3/details","high"]
[132,"NORTHERN","NORTH VALLEY","CA_2","Tier 2-3",102911105,"WYANDOTTE 1105","102911105 Tier 2-3","W12153269N3953048","W12153323N3953048","W12153269N3953048-W12153323N3953048",153.80000000000001,null,39.530479999999898,-121.53296,null,"https://viewer.us-3.sharpershape.services/viewer/assets/5ca5a2c6f6b4636013a051bf/details","high"]
[133,"NORTHERN","NORTH VALLEY","CA_2","Tier 2-3",102911105,"WYANDOTTE 1105","102911105 Tier 2-3","W12153269N3953048","W12153206N3953048","W12153269N3953048-W12153206N3953048",176.5,null,39.530479999999898,-121.53238,null,"https://viewer.us-3.sharpershape.services/viewer/assets/5ca5a2c6f6b46331cba04b4a/details","high"]
[134,"NORTHERN","NORTH VALLEY","CA_2","Tier 2-3",102911105,"WYANDOTTE 1105","102911105 Tier 2-3","W12153157N3953048","W12153206N3953048","W12153157N3953048-W12153206N3953048",140.099999999999,null,39.530479999999898,-121.531809999999,null,"https://viewer.us-3.sharpershape.services/viewer/assets/5ca5a2c6f6b4633db9a04a98/details","high"]
[135,"NORTHERN","NORTH VALLEY","CA_2","Tier 2-3",102911105,"WYANDOTTE 1105","102911105 Tier 2-3","W12153157N3953048","W12153111N3953048","W12153157N3953048-W12153111N3953048",128.80000000000001,null,39.530479999999898,-121.53134,null,"https://viewer.us-3.sharpershape.services/viewer/assets/5ca5a2c6f6b4636c9ba049d5/details","high"]
[136,"NORTHERN","NORTH VALLEY","CA_2","Tier 2-3",102911105,"WYANDOTTE 1105","102911105 Tier 2-3","W12152005N3953021","W12151923N3953089","W12152005N3953021-W12151923N3953089",336.89999999999901,null,39.530549999999899,-121.519639999999,null,"https://viewer.us-3.sharpershape.services/viewer/assets/5ca5a2c6f6b46307baa0515f/details","high"]
[137,"NORTHERN","NORTH VALLEY","CA_2","Tier 2-3",102911105,"WYANDOTTE 1105","102911105 Tier 2-3","W12153843N3953063","W12153908N3953063","W12153843N3953063-W12153908N3953063",182.3,null,39.530630000000002,-121.538749999999,null,"https://viewer.us-3.sharpershape.services/viewer/assets/5ca5a2c6f6b46390f3a04fa9/details","high"]
[138,"NORTHERN","NORTH VALLEY","CA_2","Tier 2-3",102911105,"WYANDOTTE 1105","102911105 Tier 2-3","W12153843N3953063","W12153771N3953063","W12153843N3953063-W12153771N3953063",203.19999999999899,null,39.530630000000002,-121.53807,null,"https://viewer.us-3.sharpershape.services/viewer/assets/5ca5a2c6f6b4638d7aa04e91/details","high"]
[139,"NORTHERN","NORTH VALLEY","CA_2","Tier 2-3",102911105,"WYANDOTTE 1105","102911105 Tier 2-3","W12153655N3953063","W12153771N3953063","W12153655N3953063-W12153771N3953063",328.19999999999902,null,39.530630000000002,-121.53713,null,"https://viewer.us-3.sharpershape.services/viewer/assets/5ca5a2c6f6b4639bcca05130/details","high"]
[140,"NORTHERN","NORTH VALLEY","CA_2","Tier 2-3",102911105,"WYANDOTTE 1105","102911105 Tier 2-3","W12153655N3953063","W12153538N3953063","W12153655N3953063-W12153538N3953063",329.19999999999902,null,39.530630000000002,-121.53596,null,"https://viewer.us-3.sharpershape.services/viewer/assets/5ca5a2c6f6b4638037a04ab3/details","high"]
[141,"NORTHERN","NORTH VALLEY","CA_2","Tier 2-3",102911105,"WYANDOTTE 1105","102911105 Tier 2-3","W12153207N3953097","W12153206N3953048","W12153207N3953097-W12153206N3953048",177.19999999999899,null,39.530720000000002,-121.53206,null,"https://viewer.us-3.sharpershape.services/viewer/assets/5ca5a2c6f6b46317dca04964/details","high"]
[142,"NORTHERN","NORTH VALLEY","CA_2","Tier 2-3",102911105,"WYANDOTTE 1105","102911105 Tier 2-3","W12153322N3953104","W12153323N3953048","W12153322N3953104-W12153323N3953048",201.19999999999899,null,39.530760000000001,-121.53323,null,"https://viewer.us-3.sharpershape.services/viewer/assets/5ca5a2c6f6b463a1c6a051b8/details","high"]
[143,"NORTHERN","NORTH VALLEY","CA_2","Tier 2-3",102911105,"WYANDOTTE 1105","102911105 Tier 2-3","W12153908N3953063","W12153907N3953103","W12153908N3953063-W12153907N3953103",147.69999999999899,null,39.530830000000002,-121.539069999999,null,"https://viewer.us-3.sharpershape.services/viewer/assets/5ca5a2c6f6b463538ea050f7/details","high"]
[144,"NORTHERN","NORTH VALLEY","CA_2","Tier 2-3",102911105,"WYANDOTTE 1105","102911105 Tier 2-3","W12153655N3953063","W12153654N3953103","W12153655N3953063-W12153654N3953103",148,null,39.530830000000002,-121.53654,null,"https://viewer.us-3.sharpershape.services/viewer/assets/5ca5a2c6f6b4639202a04d3a/details","high"]
[145,"NORTHERN","NORTH VALLEY","CA_2","Tier 2-3",102911105,"WYANDOTTE 1105","102911105 Tier 2-3","W12151923N3953089","W12151868N3953111","W12151923N3953089-W12151868N3953111",177.599999999999,null,39.530999999999899,-121.51895,null,"https://viewer.us-3.sharpershape.services/viewer/assets/5ca5a2c6f6b4636ea8a04d47/details","high"]
[146,"NORTHERN","NORTH VALLEY","CA_2","Tier 2-3",102911105,"WYANDOTTE 1105","102911105 Tier 2-3","W12152604N3953139","W12152603N3953064","W12152604N3953139-W12152603N3953064",273.19999999999902,null,39.531010000000002,-121.526039999999,null,"https://viewer.us-3.sharpershape.services/viewer/assets/5ca5a2c6f6b463f925a04ce0/details","high"]
[147,"NORTHERN","NORTH VALLEY","CA_2","Tier 2-3",102911105,"WYANDOTTE 1105","102911105 Tier 2-3","W12151909N3953154","W12151923N3953089","W12151909N3953154-W12151923N3953089",240,null,39.531210000000002,-121.519159999999,null,"https://viewer.us-3.sharpershape.services/viewer/assets/5ca5a2c6f6b46317a8a0499a/details","high"]
[148,"NORTHERN","NORTH VALLEY","CA_2","Tier 2-3",102911105,"WYANDOTTE 1105","102911105 Tier 2-3","W12153207N3953097","W12153206N3953153","W12153207N3953097-W12153206N3953153",205.3,null,39.53125,-121.53206,null,"https://viewer.us-3.sharpershape.services/viewer/assets/5ca5a2c6f6b463f9cfa04c7e/details","high"]
[149,"NORTHERN","NORTH VALLEY","CA_2","Tier 2-3",102911105,"WYANDOTTE 1105","102911105 Tier 2-3","W12154060N3953123","W12154084N3953131","W12154060N3953123-W12154084N3953131",72.099999999999895,null,39.5312699999999,-121.540719999999,null,"https://viewer.us-3.sharpershape.services/viewer/assets/5ca5a2c6f6b463023fa051ec/details","high"]
[150,"NORTHERN","NORTH VALLEY","CA_2","Tier 2-3",102911105,"WYANDOTTE 1105","102911105 Tier 2-3","W12153907N3953103","W12153907N3953151","W12153907N3953103-W12153907N3953151",174.9,null,39.5312699999999,-121.539069999999,null,"https://viewer.us-3.sharpershape.services/viewer/assets/5ca5a2c6f6b46346bca04e9d/details","high"]
[151,"NORTHERN","NORTH VALLEY","CA_2","Tier 2-3",102911105,"WYANDOTTE 1105","102911105 Tier 2-3","W12153654N3953154","W12153654N3953103","W12153654N3953154-W12153654N3953103",182.69999999999899,null,39.531280000000002,-121.53654,null,"https://viewer.us-3.sharpershape.services/viewer/assets/5ca5a2c6f6b463060ca04c49/details","high"]
[152,"NORTHERN","NORTH VALLEY","CA_2","Tier 2-3",102911105,"WYANDOTTE 1105","102911105 Tier 2-3","W12154060N3953123","W12154021N3953134","W12154060N3953123-W12154021N3953134",118.599999999999,null,39.531289999999899,-121.540409999999,null,"https://viewer.us-3.sharpershape.services/viewer/assets/5ca5a2c6f6b463084ea04fc4/details","high"]
[153,"NORTHERN","NORTH VALLEY","CA_2","Tier 2-3",102911105,"WYANDOTTE 1105","102911105 Tier 2-3","W12151822N3953157","W12151868N3953111","W12151822N3953157-W12151868N3953111",210.9,null,39.53134,-121.51845,null,"https://viewer.us-3.sharpershape.services/viewer/assets/5ca5a2c6f6b4630821a04f40/details","high"]
[154,"NORTHERN","NORTH VALLEY","CA_2","Tier 2-3",102911105,"WYANDOTTE 1105","102911105 Tier 2-3","W12153966N3953151","W12154021N3953134","W12153966N3953151-W12154021N3953134",168.19999999999899,null,39.53143,-121.539929999999,null,"https://viewer.us-3.sharpershape.services/viewer/assets/5ca5a2c6f6b4638850a050f0/details","high"]
[155,"NORTHERN","NORTH VALLEY","CA_2","Tier 2-3",102911105,"WYANDOTTE 1105","102911105 Tier 2-3","W12153966N3953151","W12153907N3953151","W12153966N3953151-W12153907N3953151",165.5,null,39.531509999999898,-121.53936,null,"https://viewer.us-3.sharpershape.services/viewer/assets/5ca5a2c6f6b463a79da04e35/details","high"]
[156,"NORTHERN","NORTH VALLEY","CA_2","Tier 2-3",102911105,"WYANDOTTE 1105","102911105 Tier 2-3","W12153261N3953152","W12153206N3953153","W12153261N3953152-W12153206N3953153",152.69999999999899,null,39.531529999999897,-121.53233,null,"https://viewer.us-3.sharpershape.services/viewer/assets/5ca5a2c6f6b4636454a04d9a/details","high"]
[157,"NORTHERN","NORTH VALLEY","CA_2","Tier 2-3",102911105,"WYANDOTTE 1105","102911105 Tier 2-3","W12153654N3953154","W12153692N3953153","W12153654N3953154-W12153692N3953153",107.799999999999,null,39.53154,-121.53673000000001,null,"https://viewer.us-3.sharpershape.services/viewer/assets/5ca5a2c6f6b4632f74a05091/details","high"]
[158,"NORTHERN","NORTH VALLEY","CA_2","Tier 2-3",102911105,"WYANDOTTE 1105","102911105 Tier 2-3","W12153654N3953154","W12153585N3953154","W12153654N3953154-W12153585N3953154",195.19999999999899,null,39.53154,-121.53619,null,"https://viewer.us-3.sharpershape.services/viewer/assets/5ca5a2c6f6b46360cfa049fb/details","high"]
[159,"NORTHERN","NORTH VALLEY","CA_2","Tier 2-3",102911105,"WYANDOTTE 1105","102911105 Tier 2-3","W12153147N3953155","W12153206N3953153","W12153147N3953155-W12153206N3953153",167.69999999999899,null,39.53154,-121.531769999999,null,"https://viewer.us-3.sharpershape.services/viewer/assets/5ca5a2c6f6b4635ba4a04c32/details","high"]
[160,"NORTHERN","NORTH VALLEY","CA_2","Tier 2-3",102911105,"WYANDOTTE 1105","102911105 Tier 2-3","W12151765N3953162","W12151822N3953157","W12151765N3953162-W12151822N3953157",161.30000000000001,null,39.531590000000001,-121.517939999999,null,"https://viewer.us-3.sharpershape.services/viewer/assets/5ca5a2c6f6b463f67aa051de/details","high"]
[161,"NORTHERN","NORTH VALLEY","CA_2","Tier 2-3",102911105,"WYANDOTTE 1105","102911105 Tier 2-3","W12152606N3953202","W12152604N3953139","W12152606N3953202-W12152604N3953139",231.19999999999899,null,39.531709999999897,-121.526049999999,null,"https://viewer.us-3.sharpershape.services/viewer/assets/5ca5a2c6f6b463cbbca04b3b/details","high"]
[162,"NORTHERN","NORTH VALLEY","CA_2","Tier 2-3",102911105,"WYANDOTTE 1105","102911105 Tier 2-3","W12154084N3953131","W12154086N3953214","W12154084N3953131-W12154086N3953214",302.60000000000002,null,39.53172,-121.54085000000001,null,"https://viewer.us-3.sharpershape.services/viewer/assets/5ca5a2c6f6b4630944a04ef1/details","high"]
[163,"NORTHERN","NORTH VALLEY","CA_2","Tier 2-3",102911105,"WYANDOTTE 1105","102911105 Tier 2-3","W12153907N3953151","W12153907N3953193","W12153907N3953151-W12153907N3953193",153.19999999999899,null,39.53172,-121.539069999999,null,"https://viewer.us-3.sharpershape.services/viewer/assets/5ca5a2c6f6b463c991a04df7/details","high"]
[164,"NORTHERN","NORTH VALLEY","CA_2","Tier 2-3",102911105,"WYANDOTTE 1105","102911105 Tier 2-3","W12153206N3953192","W12153206N3953153","W12153206N3953192-W12153206N3953153",140.599999999999,null,39.53172,-121.53206,null,"https://viewer.us-3.sharpershape.services/viewer/assets/5ca5a2c6f6b46375f6a04bc0/details","high"]
[165,"NORTHERN","NORTH VALLEY","CA_2","Tier 2-3",102911105,"WYANDOTTE 1105","102911105 Tier 2-3","W12153655N3953211","W12153654N3953154","W12153655N3953211-W12153654N3953154",209.599999999999,null,39.531820000000003,-121.53654,null,"https://viewer.us-3.sharpershape.services/viewer/assets/5ca5a2c6f6b463875ba04bda/details","high"]
[166,"NORTHERN","NORTH VALLEY","CA_2","Tier 2-3",102911105,"WYANDOTTE 1105","102911105 Tier 2-3","W12153419N3953235","W12153419N3953172","W12153419N3953235-W12153419N3953172",228.3,null,39.532029999999899,-121.534189999999,null,"https://viewer.us-3.sharpershape.services/viewer/assets/5ca5a2c6f6b463ef61a04c9e/details","high"]
[167,"NORTHERN","NORTH VALLEY","CA_2","Tier 2-3",102911105,"WYANDOTTE 1105","102911105 Tier 2-3","W12153907N3953193","W12153905N3953243","W12153907N3953193-W12153905N3953243",182.3,null,39.532179999999897,-121.53906000000001,null,"https://viewer.us-3.sharpershape.services/viewer/assets/5ca5a2c6f6b46326f9a04de3/details","high"]
[168,"NORTHERN","NORTH VALLEY","CA_2","Tier 2-3",102911105,"WYANDOTTE 1105","102911105 Tier 2-3","W12153206N3953192","W12153205N3953245","W12153206N3953192-W12153205N3953245",195.5,null,39.53219,-121.53206,null,"https://viewer.us-3.sharpershape.services/viewer/assets/5ca5a2c6f6b463299fa04cf2/details","high"]
[169,"NORTHERN","NORTH VALLEY","CA_2","Tier 2-3",102911105,"WYANDOTTE 1105","102911105 Tier 2-3","W12152605N3953235","W12152606N3953202","W12152605N3953235-W12152606N3953202",119.9,null,39.53219,-121.52606,null,"https://viewer.us-3.sharpershape.services/viewer/assets/5ca5a2c6f6b4631991a04dcc/details","high"]
[170,"NORTHERN","NORTH VALLEY","CA_2","Tier 2-3",102911105,"WYANDOTTE 1105","102911105 Tier 2-3","W12153655N3953245","W12153655N3953211","W12153655N3953245-W12153655N3953211",121.799999999999,null,39.53228,-121.53655000000001,null,"https://viewer.us-3.sharpershape.services/viewer/assets/5e1b0dc19b151b3f7bee8158/details","high"]
[171,"NORTHERN","NORTH VALLEY","CA_2","Tier 2-3",102911105,"WYANDOTTE 1105","102911105 Tier 2-3","W12153644N3953230","W12153557N3953230","W12153644N3953230-W12153557N3953230",246.19999999999899,null,39.5322999999999,-121.536,null,"https://viewer.us-3.sharpershape.services/viewer/assets/5ca5a2c6f6b4630717a04d92/details","high"]
[172,"NORTHERN","NORTH VALLEY","CA_2","Tier 2-3",102911105,"WYANDOTTE 1105","102911105 Tier 2-3","W12153419N3953235","W12153557N3953230","W12153419N3953235-W12153557N3953230",388.6,null,39.532319999999899,-121.53488,null,"https://viewer.us-3.sharpershape.services/viewer/assets/5ca5a2c6f6b463191ca04d93/details","high"]
[173,"NORTHERN","NORTH VALLEY","CA_2","Tier 2-3",102911105,"WYANDOTTE 1105","102911105 Tier 2-3","W12153644N3953230","W12153655N3953245","W12153644N3953230-W12153655N3953245",61.7,null,39.53237,-121.53649,null,"https://viewer.us-3.sharpershape.services/viewer/assets/5ca5a2c6f6b4631064a0512f/details","high"]
[174,"NORTHERN","NORTH VALLEY","CA_2","Tier 2-3",102911105,"WYANDOTTE 1105","102911105 Tier 2-3","W12153117N3953239","W12153205N3953245","W12153117N3953239-W12153205N3953245",250.19999999999899,null,39.532420000000002,-121.53161,null,"https://viewer.us-3.sharpershape.services/viewer/assets/5ca5a2c6f6b4636b14a051ca/details","high"]
[175,"NORTHERN","NORTH VALLEY","CA_2","Tier 2-3",102911105,"WYANDOTTE 1105","102911105 Tier 2-3","W12153963N3953242","W12153905N3953243","W12153963N3953242-W12153905N3953243",161.30000000000001,null,39.532429999999898,-121.539339999999,null,"https://viewer.us-3.sharpershape.services/viewer/assets/5ca5a2c6f6b4637e06a05104/details","high"]
[176,"NORTHERN","NORTH VALLEY","CA_2","Tier 2-3",102911105,"WYANDOTTE 1105","102911105 Tier 2-3","W12153810N3953244","W12153905N3953243","W12153810N3953244-W12153905N3953243",270.10000000000002,null,39.532440000000001,-121.538579999999,null,"https://viewer.us-3.sharpershape.services/viewer/assets/5ca5a2c6f6b46300cca04f1d/details","high"]
[177,"NORTHERN","NORTH VALLEY","CA_2","Tier 2-3",102911105,"WYANDOTTE 1105","102911105 Tier 2-3","W12154086N3953214","W12154073N3953285","W12154086N3953214-W12154073N3953285",261,null,39.532490000000003,-121.54079,null,"https://viewer.us-3.sharpershape.services/viewer/assets/5ca5a2c6f6b4635017a04ad1/details","high"]
[178,"NORTHERN","NORTH VALLEY","CA_2","Tier 2-3",102911105,"WYANDOTTE 1105","102911105 Tier 2-3","W12152605N3953235","W12152605N3953285","W12152605N3953235-W12152605N3953285",180.3,null,39.532600000000002,-121.526049999999,null,"https://viewer.us-3.sharpershape.services/viewer/assets/5e1c22f1942b994ca37b032f/details","high"]
[179,"NORTHERN","NORTH VALLEY","CA_2","Tier 2-3",102911105,"WYANDOTTE 1105","102911105 Tier 2-3","W12153905N3953243","W12153906N3953282","W12153905N3953243-W12153906N3953282",140.4,null,39.532629999999898,-121.53906000000001,null,"https://viewer.us-3.sharpershape.services/viewer/assets/5ca5a2c6f6b463fdeba04bb5/details","high"]
[180,"NORTHERN","NORTH VALLEY","CA_2","Tier 2-3",102911105,"WYANDOTTE 1105","102911105 Tier 2-3","W12153655N3953245","W12153655N3953283","W12153655N3953245-W12153655N3953283",141.5,null,39.532640000000001,-121.53655000000001,null,"https://viewer.us-3.sharpershape.services/viewer/assets/5ca5a2c6f6b463379ea04ebb/details","high"]
[181,"NORTHERN","NORTH VALLEY","CA_2","Tier 2-3",102911105,"WYANDOTTE 1105","102911105 Tier 2-3","W12153205N3953245","W12153205N3953285","W12153205N3953245-W12153205N3953285",144.599999999999,null,39.532649999999897,-121.532049999999,null,"https://viewer.us-3.sharpershape.services/viewer/assets/5ca5a2c6f6b46321caa04c4b/details","high"]
[182,"NORTHERN","NORTH VALLEY","CA_2","Tier 2-3",102911105,"WYANDOTTE 1105","102911105 Tier 2-3","W12153421N3953300","W12153419N3953235","W12153421N3953300-W12153419N3953235",237.3,null,39.532670000000003,-121.534199999999,null,"https://viewer.us-3.sharpershape.services/viewer/assets/5ca5a2c6f6b4635c05a05132/details","high"]
[183,"NORTHERN","NORTH VALLEY","CA_2","Tier 2-3",102911105,"WYANDOTTE 1105","102911105 Tier 2-3","W12153848N3953281","W12153906N3953282","W12153848N3953281-W12153906N3953282",163.80000000000001,null,39.532809999999898,-121.53877,null,"https://viewer.us-3.sharpershape.services/viewer/assets/5ca5a2c6f6b46324baa04ba9/details","high"]
[184,"NORTHERN","NORTH VALLEY","CA_2","Tier 2-3",102911105,"WYANDOTTE 1105","102911105 Tier 2-3","W12153944N3953282","W12153906N3953282","W12153944N3953282-W12153906N3953282",108.2,null,39.532820000000001,-121.539249999999,null,"https://viewer.us-3.sharpershape.services/viewer/assets/5ca5a2c6f6b463739ea04cfc/details","high"]
[185,"NORTHERN","NORTH VALLEY","CA_2","Tier 2-3",102911105,"WYANDOTTE 1105","102911105 Tier 2-3","W12153655N3953283","W12153713N3953284","W12153655N3953283-W12153713N3953284",163.4,null,39.53284,-121.536839999999,null,"https://viewer.us-3.sharpershape.services/viewer/assets/5ca5a2c6f6b46315baa04b02/details","high"]
[186,"NORTHERN","NORTH VALLEY","CA_2","Tier 2-3",102911105,"WYANDOTTE 1105","102911105 Tier 2-3","W12153118N3953282","W12153205N3953285","W12153118N3953282-W12153205N3953285",244.599999999999,null,39.53284,-121.53162,null,"https://viewer.us-3.sharpershape.services/viewer/assets/5ca5a2c6f6b463490aa04d2f/details","high"]
[187,"NORTHERN","NORTH VALLEY","CA_2","Tier 2-3",102911105,"WYANDOTTE 1105","102911105 Tier 2-3","W12154087N3953327","W12154073N3953285","W12154087N3953327-W12154073N3953285",159.9,null,39.5330599999999,-121.5408,null,"https://viewer.us-3.sharpershape.services/viewer/assets/5ca5a2c6f6b463f395a04ceb/details","high"]
[188,"NORTHERN","NORTH VALLEY","CA_2","Tier 2-3",102911105,"WYANDOTTE 1105","102911105 Tier 2-3","W12154149N3953393","W12154087N3953327","W12154149N3953393-W12154087N3953327",296,null,39.5336,-121.541179999999,null,"https://viewer.us-3.sharpershape.services/viewer/assets/5ca5a2c6f6b4635000a04d2e/details","high"]
[189,"NORTHERN","NORTH VALLEY","CA_2","Tier 2-3",102911105,"WYANDOTTE 1105","102911105 Tier 2-3","W12154179N3953424","W12154149N3953393","W12154179N3953424-W12154149N3953393",142.5,null,39.5340899999999,-121.54164,null,"https://viewer.us-3.sharpershape.services/viewer/assets/5ca5a2c6f6b4633bbba04c51/details","high"]
[190,"NORTHERN","NORTH VALLEY","CA_2","Tier 2-3",102911105,"WYANDOTTE 1105","102911105 Tier 2-3","W12154179N3953424","W12154214N3953455","W12154179N3953424-W12154214N3953455",149.30000000000001,null,39.534399999999899,-121.54196,null,"https://viewer.us-3.sharpershape.services/viewer/assets/5ca5a2c6f6b4634756a04ae5/details","high"]
[191,"NORTHERN","NORTH VALLEY","CA_2","Tier 2-3",102911105,"WYANDOTTE 1105","102911105 Tier 2-3","W12154230N3953520","W12154214N3953455","W12154230N3953520-W12154214N3953455",240.599999999999,null,39.534869999999898,-121.54222,null,"https://viewer.us-3.sharpershape.services/viewer/assets/5ca5a2c6f6b4638e61a05162/details","high"]
[192,"NORTHERN","NORTH VALLEY","CA_2","Tier 2-3",102911105,"WYANDOTTE 1105","102911105 Tier 2-3","W12154230N3953520","W12154242N3953570","W12154230N3953520-W12154242N3953570",184.9,null,39.535449999999898,-121.54236,null,"https://viewer.us-3.sharpershape.services/viewer/assets/5ca5a2c6f6b463392ea051c1/details","high"]
[193,"NORTHERN","NORTH VALLEY","CA_2","Tier 2-3",102911105,"WYANDOTTE 1105","102911105 Tier 2-3","W12154242N3953570","W12154256N3953592","W12154242N3953570-W12154256N3953592",92.299999999999898,null,39.535809999999898,-121.54249,null,"https://viewer.us-3.sharpershape.services/viewer/assets/5ca5a2c6f6b4638a06a050ea/details","high"]
[194,"NORTHERN","NORTH VALLEY","CA_2","Tier 2-3",102911105,"WYANDOTTE 1105","102911105 Tier 2-3","W12154256N3953592","W12154253N3953660","W12154256N3953592-W12154253N3953660",247.599999999999,null,39.536259999999899,-121.54255000000001,null,"https://viewer.us-3.sharpershape.services/viewer/assets/5ca5a2c6f6b4630e63a05050/details","high"]
[195,"NORTHERN","NORTH VALLEY","CA_2","Tier 2-3",102911105,"WYANDOTTE 1105","102911105 Tier 2-3","W12154250N3953758","W12154253N3953660","W12154250N3953758-W12154253N3953660",355.89999999999901,null,39.5370899999999,-121.542519999999,null,"https://viewer.us-3.sharpershape.services/viewer/assets/5ca5a2c6f6b4637989a05102/details","high"]
[196,"NORTHERN","NORTH VALLEY","CA_2","Tier 2-3",102911105,"WYANDOTTE 1105","102911105 Tier 2-3","W12154250N3953758","W12154252N3953857","W12154250N3953758-W12154252N3953857",362,null,39.538080000000001,-121.542509999999,null,"https://viewer.us-3.sharpershape.services/viewer/assets/5ca5a2c6f6b463b67da04e4c/details","high"]
[197,"NORTHERN","NORTH VALLEY","CA_2","Tier 2-3",102911105,"WYANDOTTE 1105","102911105 Tier 2-3","W12154263N3953924","W12154252N3953857","W12154263N3953924-W12154252N3953857",244.69999999999899,null,39.538910000000001,-121.542569999999,null,"https://viewer.us-3.sharpershape.services/viewer/assets/5ca5a2c6f6b463b563a04ed9/details","high"]
[198,"NORTHERN","NORTH VALLEY","CA_2","Tier 2-3",102911105,"WYANDOTTE 1105","102911105 Tier 2-3","W12154263N3953924","W12154261N3953987","W12154263N3953924-W12154261N3953987",231,null,39.539560000000002,-121.542619999999,null,"https://viewer.us-3.sharpershape.services/viewer/assets/5ca5a2c6f6b4637988a04a3e/details","high"]
[199,"NORTHERN","NORTH VALLEY","CA_2","Tier 2-3",102911105,"WYANDOTTE 1105","102911105 Tier 2-3","W12154261N3953987","W12154258N3954066","W12154261N3953987-W12154258N3954066",286.69999999999902,null,39.54027,-121.542599999999,null,"https://viewer.us-3.sharpershape.services/viewer/assets/5ca5a2c6f6b463dd95a04ecd/details","high"]
[200,"NORTHERN","NORTH VALLEY","CA_2","Tier 2-3",102911105,"WYANDOTTE 1105","102911105 Tier 2-3","W12154258N3954066","W12154249N3954102","W12154258N3954066-W12154249N3954102",133.9,null,39.540840000000003,-121.54254,null,"https://viewer.us-3.sharpershape.services/viewer/assets/5ca5a2c6f6b4638a8aa050a6/details","high"]
[201,"NORTHERN","NORTH VALLEY","CA_2","Tier 2-3",102911105,"WYANDOTTE 1105","102911105 Tier 2-3","W12154249N3954102","W12154206N3954186","W12154249N3954102-W12154206N3954186",330.6,null,39.541440000000001,-121.54227,null,"https://viewer.us-3.sharpershape.services/viewer/assets/5ca5a2c6f6b4631d52a04cea/details","high"]
[202,"NORTHERN","NORTH VALLEY","CA_2","Tier 2-3",102911105,"WYANDOTTE 1105","102911105 Tier 2-3","W12150790N3965077","W12150782N3965112","W12150790N3965077-W12150782N3965112",130.9,null,39.650939999999899,-121.507859999999,null,"https://viewer.us-3.sharpershape.services/viewer/assets/5d88be196476d783f85dd218/details","high"]
[203,"NORTHERN","NORTH VALLEY","CA_2","Tier 2-3",102911105,"WYANDOTTE 1105","102911105 Tier 2-3","W12150782N3965112","W12150764N3965146","W12150782N3965112-W12150764N3965146",135.30000000000001,null,39.651290000000003,-121.507729999999,null,"https://viewer.us-3.sharpershape.services/viewer/assets/5ca5a2c6f6b463a6fca04c7b/details","high"]
[204,"NORTHERN","NORTH VALLEY","CA_2","Tier 2-3",102911105,"WYANDOTTE 1105","102911105 Tier 2-3","W12150764N3965146","W12150742N3965186","W12150764N3965146-W12150742N3965186",157.9,null,39.65166,-121.50753,null,"https://viewer.us-3.sharpershape.services/viewer/assets/5ca5a2c6f6b463b876a04fc6/details","high"]
[205,"NORTHERN","NORTH VALLEY","CA_2","Tier 2-3",102911105,"WYANDOTTE 1105","102911105 Tier 2-3","W12150660N3965474","W12150742N3965186","W12150660N3965474-W12150742N3965186",1075.2,null,39.653300000000002,-121.507009999999,null,"https://viewer.us-3.sharpershape.services/viewer/assets/5d88b9de6476d776cb5dd20b/details","high"]
[206,"NORTHERN","NORTH VALLEY","CA_2","Tier 2-3",102911105,"WYANDOTTE 1105","102911105 Tier 2-3","W12150660N3965474","W12150643N3965533","W12150660N3965474-W12150643N3965533",217.9,null,39.65504,-121.50651000000001,null,"https://viewer.us-3.sharpershape.services/viewer/assets/5d88be6055dd6b9f923f2ea6/details","high"]
[207,"NORTHERN","NORTH VALLEY","CA_2","Tier 2-3",102911105,"WYANDOTTE 1105","102911105 Tier 2-3","W12150643N3965533","W12150604N3965661","W12150643N3965533-W12150604N3965661",479.1,null,39.655970000000003,-121.50624000000001,null,"https://viewer.us-3.sharpershape.services/viewer/assets/5d88bfa56476d74edd5dd21d/details","high"]
[208,"NORTHERN","NORTH VALLEY","CA_2","Tier 2-3",102911105,"WYANDOTTE 1105","102911105 Tier 2-3","W12150604N3965661","W12150561N3965801","W12150604N3965661-W12150561N3965801",523.79999999999905,null,39.657310000000003,-121.50582,null,"https://viewer.us-3.sharpershape.services/viewer/assets/5d88be906476d7a8685dd21a/details","high"]
[209,"NORTHERN","NORTH VALLEY","CA_2","Tier 2-3",102911105,"WYANDOTTE 1105","102911105 Tier 2-3","W12150561N3965801","W12150545N3965863","W12150561N3965801-W12150545N3965863",230,null,39.658320000000003,-121.505529999999,null,"https://viewer.us-3.sharpershape.services/viewer/assets/5da559b2c545ca4e5107fbeb/details","high"]
[210,"NORTHERN","NORTH VALLEY","CA_2","Tier 2-3",102911105,"WYANDOTTE 1105","102911105 Tier 2-3","W12150368N3966300","W12150545N3965863","W12150368N3966300-W12150545N3965863",1670.79999999999,null,39.660820000000001,-121.504559999999,null,"https://viewer.us-3.sharpershape.services/viewer/assets/5ca5a2c6f6b463c54aa04b33/details","high"]
[211,"NORTHERN","NORTH VALLEY","CA_2","Tier 2-3",102911105,"WYANDOTTE 1105","102911105 Tier 2-3","W12150368N3966300","W12150267N3966441","W12150368N3966300-W12150267N3966441",586,null,39.663710000000002,-121.503169999999,null,"https://viewer.us-3.sharpershape.services/viewer/assets/5ca5a2c6f6b4631995a04ed5/details","high"]
[212,"NORTHERN","NORTH VALLEY","CA_2","Tier 2-3",102911105,"WYANDOTTE 1105","102911105 Tier 2-3","W12150124N3966627","W12150267N3966441","W12150124N3966627-W12150267N3966441",787.39999999999895,null,39.66534,-121.501959999999,null,"https://viewer.us-3.sharpershape.services/viewer/assets/5ca5a2c6f6b4637502a04d61/details","high"]
[213,"NORTHERN","NORTH VALLEY","CA_2","Tier 0-1",102911105,"WYANDOTTE 1105","102911105 Tier 0-1","W12150124N3966627","W12149700N3966999","W12150124N3966627-W12149700N3966999",1805.7,null,39.668129999999898,-121.49912,null,"https://viewer.us-3.sharpershape.services/viewer/assets/5ca5a2c6f6b4630eb4a04d37/details","high"]
[214,"NORTHERN","NORTH VALLEY","CA_2","Tier 2-3",102911105,"WYANDOTTE 1105","102911105 Tier 2-3","W12149727N3967099","W12149700N3966999","W12149727N3967099-W12149700N3966999",373.89999999999901,null,39.670490000000001,-121.497129999999,null,"https://viewer.us-3.sharpershape.services/viewer/assets/5ca5a2c6f6b4636b1ca05155/details","high"]
[215,"NORTHERN","NORTH VALLEY","CA_2","Tier 2-3",102911105,"WYANDOTTE 1105","102911105 Tier 2-3","W12149727N3967099","W12149742N3967166","W12149727N3967099-W12149742N3967166",246.3,null,39.671320000000001,-121.497349999999,null,"https://viewer.us-3.sharpershape.services/viewer/assets/5ca5a2c6f6b4638f2da04f29/details","high"]
[216,"NORTHERN","NORTH VALLEY","CA_2","Tier 2-3",102911105,"WYANDOTTE 1105","102911105 Tier 2-3","W12149742N3967166","W12149755N3967217","W12149742N3967166-W12149755N3967217",191.4,null,39.67192,-121.497489999999,null,"https://viewer.us-3.sharpershape.services/viewer/assets/5ca5a2c6f6b463ad04a05073/details","high"]
[217,"NORTHERN","NORTH VALLEY","CA_2","Tier 2-3",102911105,"WYANDOTTE 1105","102911105 Tier 2-3","W12149755N3967217","W12149658N3967347","W12149755N3967217-W12149658N3967347",546.39999999999895,null,39.672820000000002,-121.497069999999,null,"https://viewer.us-3.sharpershape.services/viewer/assets/5ca5a2c6f6b463d89ea04e5a/details","high"]
[218,"NORTHERN","NORTH VALLEY","CA_2","Tier 2-3",102911105,"WYANDOTTE 1105","102911105 Tier 2-3","W12149590N3967413","W12149658N3967347","W12149590N3967413-W12149658N3967347",308.5,null,39.6738,-121.49624,null,"https://viewer.us-3.sharpershape.services/viewer/assets/5ca5a2c6f6b463ad06a0497a/details","high"]
[219,"NORTHERN","NORTH VALLEY","CA_2","Tier 2-3",102911105,"WYANDOTTE 1105","102911105 Tier 2-3","W12149366N3967635","W12149590N3967413","W12149366N3967635-W12149590N3967413",1024.0999999999899,null,39.675240000000002,-121.49478000000001,null,"https://viewer.us-3.sharpershape.services/viewer/assets/5ca5a2c6f6b46310cea04dc9/details","high"]
[220,"NORTHERN","NORTH VALLEY","CA_2","Tier 2-3",102911105,"WYANDOTTE 1105","102911105 Tier 2-3","W12149366N3967635","W12149322N3967660","W12149366N3967635-W12149322N3967660",153.30000000000001,null,39.676470000000002,-121.49344000000001,null,"https://viewer.us-3.sharpershape.services/viewer/assets/5ca5a2c6f6b463620ba05059/details","high"]
[221,"NORTHERN","NORTH VALLEY","CA_2","Tier 2-3",102911105,"WYANDOTTE 1105","102911105 Tier 2-3","W12149322N3967660","W12149240N3967714","W12149322N3967660-W12149240N3967714",304.10000000000002,null,39.676870000000001,-121.49281000000001,null,"https://viewer.us-3.sharpershape.services/viewer/assets/5ca5a2c6f6b4630ce5a04d4a/details","high"]
[222,"NORTHERN","NORTH VALLEY","CA_2","Tier 2-3",102911105,"WYANDOTTE 1105","102911105 Tier 2-3","W12149240N3967714","W12149219N3967729","W12149240N3967714-W12149219N3967729",78.7,null,39.677210000000002,-121.4923,null,"https://viewer.us-3.sharpershape.services/viewer/assets/5ca5a2c6f6b463392da04aec/details","high"]
[223,"NORTHERN","NORTH VALLEY","CA_2","Tier 2-3",102911105,"WYANDOTTE 1105","102911105 Tier 2-3","W12149219N3967729","W12149215N3967731","W12149219N3967729-W12149215N3967731",13.9,null,39.677300000000002,-121.49217,null,"https://viewer.us-3.sharpershape.services/viewer/assets/5e7b67f10acbc16eea3cf050/details","high"]
[224,"NORTHERN","NORTH VALLEY","CA_2","Tier 2-3",102911105,"WYANDOTTE 1105","102911105 Tier 2-3","W12149215N3967731","W12149198N3967742","W12149215N3967731-W12149198N3967742",64.400000000000006,null,39.677370000000003,-121.492069999999,null,"https://viewer.us-3.sharpershape.services/viewer/assets/5ca5a2c6f6b46331d6a04e6b/details","high"]

{"sheet":"TReesCSV","index":6,"n_rows":1958,"n_cols":32,"rows_kept":1958,"cut":false,"hidden":false,"merged":[]}
["OID_","ED_REGION","ED_DIVISION","TIERGROUP","CIRCUITKEY","CIRCUITID","CIRCUITNAME","OFF","LATITUDE","LONGITUDE","DC_AF","HEIGHT","TREEID","D2W_AF","OVR","FALL_IN","AST_TAG","BST_TAG","SPAN_TAG","LINE_ID","LINE_NAME","VOLTAGE","ACQ_DATE","OH","RESP_AREA","HEALTH","ASSET_URL","ISSUE_URL","ANALYSIS_CONFIDENCE","TREEKEY","TOP3TREESPECIES","PRIMARYTREESPECIES"]
[1,"NORTHERN","NORTH VALLEY","Tier 2-3","102911105 Tier 2-3",102911105,"WYANDOTTE 1105",13,39.586179999999899,-121.52579,null,18.399999999999999,"W12152579N3958618",9,9.3000000000000007,"NO","W12152594N3958619","W12152491N3958582","W12152491N3958582-W12152594N3958619",103091102,"CLARK ROAD 1102",null,"2019-12-19T12:17:11",null,null,"Not assessed","https://viewer.us-3.sharpershape.services/viewer/assets/5ca5a3949a834f02970a109d/details","https://viewer.us-3.sharpershape.services/viewer/issues/5eaa75d638cbc30001844189/details","high","W12152579N3958618 CLARK ROAD 1102"]
[2,"NORTHERN","NORTH VALLEY","Tier 2-3","102911105 Tier 2-3",102911105,"WYANDOTTE 1105",10.6,39.586010000000002,-121.52557,null,17.1999999999999,"W12152557N3958601",7.7,7.5,"NO","W12152594N3958619","W12152491N3958582","W12152491N3958582-W12152594N3958619",103091102,"CLARK ROAD 1102",null,"2019-12-19T12:17:11",null,null,"Not assessed","https://viewer.us-3.sharpershape.services/viewer/assets/5ca5a3949a834f02970a109d/details","https://viewer.us-3.sharpershape.services/viewer/issues/5eaa75d638cbc30001844187/details","high","W12152557N3958601 CLARK ROAD 1102","[CoastalLiveOak, PonderosaPine, GrayPine]","CoastalLiveOak"]
[3,"NORTHERN","NORTH VALLEY","Tier 2-3","102911105 Tier 2-3",102911105,"WYANDOTTE 1105",10.7,39.586179999999899,-121.525829999999,null,22.6999999999999,"W12152583N3958618",10.6,4.9000000000000004,"NO","W12152594N3958619","W12152491N3958582","W12152491N3958582-W12152594N3958619",103091102,"CLARK ROAD 1102",null,"2019-12-19T12:17:11",null,null,"Not assessed","https://viewer.us-3.sharpershape.services/viewer/assets/5ca5a3949a834f02970a109d/details","https://viewer.us-3.sharpershape.services/viewer/issues/5eaa75d638cbc30001844193/details","high","W12152583N3958618 CLARK ROAD 1102"]
[4,"NORTHERN","NORTH VALLEY","Tier 2-3","102911105 Tier 2-3",102911105,"WYANDOTTE 1105",24.6999999999999,39.586079999999903,-121.525409999999,null,48,"W12152541N3958608",9.1999999999999993,-15.2,"YES","W12152594N3958619","W12152491N3958582","W12152491N3958582-W12152594N3958619",103091102,"CLARK ROAD 1102",null,"2019-12-19T12:17:11",null,null,"Not assessed","https://viewer.us-3.sharpershape.services/viewer/assets/5ca5a3949a834f02970a109d/details","https://viewer.us-3.sharpershape.services/viewer/issues/5eaa75d638cbc30001844188/details","high","W12152541N3958608 CLARK ROAD 1102","[GrayPine, ValleyOak, PonderosaPine]","GrayPine"]
[5,"NORTHERN","NORTH VALLEY","Tier 2-3","102911105 Tier 2-3",102911105,"WYANDOTTE 1105",3,39.58616,-121.525829999999,null,15.1,"W12152583N3958616",9.6999999999999993,12.7,"NO","W12152594N3958619","W12152491N3958582","W12152491N3958582-W12152594N3958619",103091102,"CLARK ROAD 1102",null,"2019-12-19T12:17:11",null,null,"Not assessed","https://viewer.us-3.sharpershape.services/viewer/assets/5ca5a3949a834f02970a109d/details","https://viewer.us-3.sharpershape.services/viewer/issues/5eaa798712364f0001e75e83/details","high","W12152583N3958616 CLARK ROAD 1102"]
[6,"NORTHERN","NORTH VALLEY","Tier 2-3","102911105 Tier 2-3",102911105,"WYANDOTTE 1105",60.5,39.586279999999903,-121.525679999999,null,59.399999999999899,"W12152568N3958628",45.5,5.3,"NO","W12152594N3958619","W12152491N3958582","W12152491N3958582-W12152594N3958619",103091102,"CLARK ROAD 1102",null,"2019-12-19T12:17:11",null,null,"Not assessed","https://viewer.us-3.sharpershape.services/viewer/assets/5ca5a3949a834f02970a109d/details","https://viewer.us-3.sharpershape.services/viewer/issues/5eaa75d638cbc3000184418a/details","high","W12152568N3958628 CLARK ROAD 1102"]
[7,"NORTHERN","NORTH VALLEY","Tier 2-3","102911105 Tier 2-3",102911105,"WYANDOTTE 1105",21.1999999999999,39.585949999999897,-121.525459999999,null,28.9,"W12152546N3958595",10.199999999999999,2.6,"NO","W12152594N3958619","W12152491N3958582","W12152491N3958582-W12152594N3958619",103091102,"CLARK ROAD 1102",null,"2019-12-19T12:17:11",null,null,"Not assessed","https://viewer.us-3.sharpershape.services/viewer/assets/5ca5a3949a834f02970a109d/details","https://viewer.us-3.sharpershape.services/viewer/issues/5eaa75d638cbc30001844195/details","high","W12152546N3958595 CLARK ROAD 1102","[PonderosaPine, GrayPine, CoastalLiveOak]","PonderosaPine"]
[8,"NORTHERN","NORTH VALLEY","Tier 2-3","102911105 Tier 2-3",102911105,"WYANDOTTE 1105",3.3,39.586109999999898,-121.525769999999,null,17,"W12152577N3958611",7.6,7.5,"NO","W12152594N3958619","W12152491N3958582","W12152491N3958582-W12152594N3958619",103091102,"CLARK ROAD 1102",null,"2019-12-19T12:17:11",null,null,"Not assessed","https://viewer.us-3.sharpershape.services/viewer/assets/5ca5a3949a834f02970a109d/details","https://viewer.us-3.sharpershape.services/viewer/issues/5eaa75d638cbc3000184418c/details","high","W12152577N3958611 CLARK ROAD 1102"]
[9,"NORTHERN","NORTH VALLEY","Tier 2-3","102911105 Tier 2-3",102911105,"WYANDOTTE 1105",38.700000000000003,39.585819999999899,-121.52526,null,45.399999999999899,"W12152526N3958582",25.4,3.1,"NO","W12152594N3958619","W12152491N3958582","W12152491N3958582-W12152594N3958619",103091102,"CLARK ROAD 1102",null,"2019-12-19T12:17:11",null,null,"Not assessed","https://viewer.us-3.sharpershape.services/viewer/assets/5ca5a3949a834f02970a109d/details","https://viewer.us-3.sharpershape.services/viewer/issues/5eaa75d638cbc3000184418e/details","high","W12152526N3958582 CLARK ROAD 1102","[CoastalLiveOak, PonderosaPine, ValleyOak]","CoastalLiveOak"]
[10,"NORTHERN","NORTH VALLEY","Tier 2-3","102911105 Tier 2-3",102911105,"WYANDOTTE 1105",24.9,39.585949999999897,-121.525509999999,null,31.6999999999999,"W12152551N3958595",10.3,2.1,"NO","W12152594N3958619","W12152491N3958582","W12152491N3958582-W12152594N3958619",103091102,"CLARK ROAD 1102",null,"2019-12-19T12:17:11",null,null,"Not assessed","https://viewer.us-3.sharpershape.services/viewer/assets/5ca5a3949a834f02970a109d/details","https://viewer.us-3.sharpershape.services/viewer/issues/5eaa75d638cbc30001844190/details","high","W12152551N3958595 CLARK ROAD 1102","[PonderosaPine, CoastalLiveOak, GrayPine]","PonderosaPine"]
[11,"NORTHERN","NORTH VALLEY","Tier 2-3","102911105 Tier 2-3",102911105,"WYANDOTTE 1105",19.1999999999999,39.586120000000001,-121.52557,null,49.5,"W12152557N3958612",6.6,-20.8,"YES","W12152594N3958619","W12152491N3958582","W12152491N3958582-W12152594N3958619",103091102,"CLARK ROAD 1102",null,"2019-12-19T12:17:11",null,null,"Not assessed","https://viewer.us-3.sharpershape.services/viewer/assets/5ca5a3949a834f02970a109d/details","https://viewer.us-3.sharpershape.services/viewer/issues/5eaa75d638cbc30001844198/details","high","W12152557N3958612 CLARK ROAD 1102","[PonderosaPine, CoastalLiveOak, GrayPine]","PonderosaPine"]
[12,"NORTHERN","NORTH VALLEY","Tier 2-3","102911105 Tier 2-3",102911105,"WYANDOTTE 1105",37.399999999999899,39.585969999999897,-121.525679999999,null,27.4,"W12152568N3958597",9.8000000000000007,21.8,"NO","W12152594N3958619","W12152491N3958582","W12152491N3958582-W12152594N3958619",103091102,"CLARK ROAD 1102",null,"2019-12-19T12:17:11",null,null,"Not assessed","https://viewer.us-3.sharpershape.services/viewer/assets/5ca5a3949a834f02970a109d/details","https://viewer.us-3.sharpershape.services/viewer/issues/5eaa798712364f0001e75e85/details","high","W12152568N3958597 CLARK ROAD 1102","[PonderosaPine, CoastalLiveOak, GrayPine]","PonderosaPine"]
[13,"NORTHERN","NORTH VALLEY","Tier 2-3","102911105 Tier 2-3",102911105,"WYANDOTTE 1105",14,39.586109999999898,-121.525859999999,null,28.6999999999999,"W12152586N3958611",9.6,0.4,"NO","W12152594N3958619","W12152491N3958582","W12152491N3958582-W12152594N3958619",103091102,"CLARK ROAD 1102",null,"2019-12-19T12:17:11",null,null,"Not assessed","https://viewer.us-3.sharpershape.services/viewer/assets/5ca5a3949a834f02970a109d/details","https://viewer.us-3.sharpershape.services/viewer/issues/5eaa75d638cbc30001844191/details","high","W12152586N3958611 CLARK ROAD 1102"]
[14,"NORTHERN","NORTH VALLEY","Tier 2-3","102911105 Tier 2-3",102911105,"WYANDOTTE 1105",11.4,39.586019999999898,-121.525369999999,null,40.6,"W12152537N3958602",9.3000000000000007,-15.6,"YES","W12152594N3958619","W12152491N3958582","W12152491N3958582-W12152594N3958619",103091102,"CLARK ROAD 1102",null,"2019-12-19T12:17:11",null,null,"Not assessed","https://viewer.us-3.sharpershape.services/viewer/assets/5ca5a3949a834f02970a109d/details","https://viewer.us-3.sharpershape.services/viewer/issues/5eaa75d638cbc30001844192/details","high","W12152537N3958602 CLARK ROAD 1102","[GrayPine, PonderosaPine, CoastalLiveOak]","GrayPine"]
[15,"NORTHERN","NORTH VALLEY","Tier 2-3","102911105 Tier 2-3",102911105,"WYANDOTTE 1105",14.8,39.586089999999899,-121.52581000000001,null,24,"W12152581N3958609",12,5,"NO","W12152594N3958619","W12152491N3958582","W12152491N3958582-W12152594N3958619",103091102,"CLARK ROAD 1102",null,"2019-12-19T12:17:11",null,null,"Not assessed","https://viewer.us-3.sharpershape.services/viewer/assets/5ca5a3949a834f02970a109d/details","https://viewer.us-3.sharpershape.services/viewer/issues/5eaa75d638cbc3000184418b/details","high","W12152581N3958609 CLARK ROAD 1102"]
[16,"NORTHERN","NORTH VALLEY","Tier 2-3","102911105 Tier 2-3",102911105,"WYANDOTTE 1105",16.1999999999999,39.586010000000002,-121.52562,null,23.1999999999999,"W12152562N3958601",6.8,4.5999999999999996,"NO","W12152594N3958619","W12152491N3958582","W12152491N3958582-W12152594N3958619",103091102,"CLARK ROAD 1102",null,"2019-12-19T12:17:11",null,null,"Not assessed","https://viewer.us-3.sharpershape.services/viewer/assets/5ca5a3949a834f02970a109d/details","https://viewer.us-3.sharpershape.services/viewer/issues/5eaa75d638cbc3000184418d/details","high","W12152562N3958601 CLARK ROAD 1102","[CoastalLiveOak, PonderosaPine, LiveOak]","CoastalLiveOak"]
[17,"NORTHERN","NORTH VALLEY","Tier 2-3","102911105 Tier 2-3",102911105,"WYANDOTTE 1105",3.9,39.586120000000001,-121.52571,null,17.399999999999999,"W12152571N3958612",6.7,5.7,"NO","W12152594N3958619","W12152491N3958582","W12152491N3958582-W12152594N3958619",103091102,"CLARK ROAD 1102",null,"2019-12-19T12:17:11",null,null,"Not assessed","https://viewer.us-3.sharpershape.services/viewer/assets/5ca5a3949a834f02970a109d/details","https://viewer.us-3.sharpershape.services/viewer/issues/5eaa75d638cbc30001844196/details","high","W12152571N3958612 CLARK ROAD 1102","[CoastalLiveOak, ValleyOak, GrayPine]","CoastalLiveOak"]
[18,"NORTHERN","NORTH VALLEY","Tier 2-3","102911105 Tier 2-3",102911105,"WYANDOTTE 1105",37.5,39.586149999999897,-121.52552,null,23.9,"W12152552N3958615",7.5,19.5,"NO","W12152594N3958619","W12152491N3958582","W12152491N3958582-W12152594N3958619",103091102,"CLARK ROAD 1102",null,"2019-12-19T12:17:11",null,null,"Not assessed","https://viewer.us-3.sharpershape.services/viewer/assets/5ca5a3949a834f02970a109d/details","https://viewer.us-3.sharpershape.services/viewer/issues/5eaa798712364f0001e75e73/details","high","W12152552N3958615 CLARK ROAD 1102","[CoastalLiveOak, GrayPine, ValleyOak]","CoastalLiveOak"]
[19,"NORTHERN","NORTH VALLEY","Tier 2-3","102911105 Tier 2-3",102911105,"WYANDOTTE 1105",19.100000000000001,39.550329999999903,-121.537779999999,null,29.6,"W12153778N3955033",11.5,23.5,"NO","W12153762N3955060","W12153773N3955024","W12153773N3955024-W12153762N3955060",102911102,"WYANDOTTE 1102",null,"2019-11-16T22:51:32",null,null,"Not assessed","https://viewer.us-3.sharpershape.services/viewer/assets/5ca5a77dfae217d13d6da4ec/details","https://viewer.us-3.sharpershape.services/viewer/issues/5e5df1401319ce000142ef1f/details","high","W12153778N3955033 WYANDOTTE 1102","[Other, CoastalLiveOak, DouglasFir]","Other"]
[20,"NORTHERN","NORTH VALLEY","Tier 2-3","102911105 Tier 2-3",102911105,"WYANDOTTE 1105",20.6,39.549859999999903,-121.538229999999,null,47.7,"W12153823N3954986",6.8,4.2,"NO","W12154111N3954914","W12153784N3954988","W12153784N3954988-W12154111N3954914",102911102,"WYANDOTTE 1102",null,"2019-11-16T22:51:32",null,null,"Not assessed","https://viewer.us-3.sharpershape.services/viewer/assets/5ca5a77dfae217651d6da4ee/details","https://viewer.us-3.sharpershape.services/viewer/issues/5e5df03e6d262600010c0b30/details","high","W12153823N3954986 WYANDOTTE 1102","[GrayPine, Other, CoastalLiveOak]","GrayPine"]
[21,"NORTHERN","NORTH VALLEY","Tier 2-3","102911105 Tier 2-3",102911105,"WYANDOTTE 1105",80.2,39.55059,-121.53792,null,77.400000000000006,"W12153792N3955059",69.400000000000006,6.9,"NO","W12153762N3955060","W12153773N3955024","W12153773N3955024-W12153762N3955060",102911102,"WYANDOTTE 1102",null,"2019-11-16T22:51:32",null,null,"Not assessed","https://viewer.us-3.sharpershape.services/viewer/assets/5ca5a77dfae217d13d6da4ec/details","https://viewer.us-3.sharpershape.services/viewer/issues/5e5df03d6d262600010c0afa/details","high","W12153792N3955059 WYANDOTTE 1102","[GrayPine, CoastalLiveOak, MontereyPine]","GrayPine"]
[22,"NORTHERN","NORTH VALLEY","Tier 2-3","102911105 Tier 2-3",102911105,"WYANDOTTE 1105",23.4,39.550269999999898,-121.53780999999999,null,50.6,"W12153781N3955027",9.3000000000000007,-5.4,"YES","W12153762N3955060","W12153773N3955024","W12153773N3955024-W12153762N3955060",102911102,"WYANDOTTE 1102",null,"2019-11-16T22:51:32",null,null,"Not assessed","https://viewer.us-3.sharpershape.services/viewer/assets/5ca5a77dfae217d13d6da4ec/details","https://viewer.us-3.sharpershape.services/viewer/issues/5e5df03d6d262600010c0af7/details","high","W12153781N3955027 WYANDOTTE 1102","[Other, GrayPine, CoastalLiveOak]","Other"]
[23,"NORTHERN","NORTH VALLEY","Tier 2-3","102911105 Tier 2-3",102911105,"WYANDOTTE 1105",31.1,39.549929999999897,-121.538049999999,null,45.2,"W12153805N3954993",19.8,5.7,"NO","W12154111N3954914","W12153784N3954988","W12153784N3954988-W12154111N3954914",102911102,"WYANDOTTE 1102",null,"2019-11-16T22:51:32",null,null,"Not assessed","https://viewer.us-3.sharpershape.services/viewer/assets/5ca5a77dfae217651d6da4ee/details","https://viewer.us-3.sharpershape.services/viewer/issues/5e5df03e6d262600010c0b3d/details","high","W12153805N3954993 WYANDOTTE 1102","[Other, GrayPine, BlackOak]","Other"]
[24,"NORTHERN","NORTH VALLEY","Tier 2-3","102911105 Tier 2-3",102911105,"WYANDOTTE 1105",20.1999999999999,39.549709999999898,-121.538269999999,null,43.2,"W12153827N3954971",11.9,9.1,"NO","W12154111N3954914","W12153784N3954988","W12153784N3954988-W12154111N3954914",102911102,"WYANDOTTE 1102",null,"2019-11-16T22:51:32",null,null,"Not assessed","https://viewer.us-3.sharpershape.services/viewer/assets/5ca5a77dfae217651d6da4ee/details","https://viewer.us-3.sharpershape.services/viewer/issues/5e5df03e6d262600010c0b22/details","high","W12153827N3954971 WYANDOTTE 1102","[Other, BlackOak, ValleyOak]","Other"]
[25,"NORTHERN","NORTH VALLEY","Tier 2-3","102911105 Tier 2-3",102911105,"WYANDOTTE 1105",24,39.5497599999999,-121.538,null,47.5,"W12153800N3954976",8.1999999999999904,-4.7,"YES","W12154111N3954914","W12153784N3954988","W12153784N3954988-W12154111N3954914",102911102,"WYANDOTTE 1102",null,"2019-11-16T22:51:32",null,null,"Not assessed","https://viewer.us-3.sharpershape.services/viewer/assets/5ca5a77dfae217651d6da4ee/details","https://viewer.us-3.sharpershape.services/viewer/issues/5e5df03e6d262600010c0b39/details","high","W12153800N3954976 WYANDOTTE 1102","[Other, ValleyOak, CoastalLiveOak]","Other"]
[26,"NORTHERN","NORTH VALLEY","Tier 2-3","102911105 Tier 2-3",102911105,"WYANDOTTE 1105",36.700000000000003,39.549790000000002,-121.537739999999,null,36.1,"W12153774N3954979",7.7,7.7,"NO","W12154111N3954914","W12153784N3954988","W12153784N3954988-W12154111N3954914",102911102,"WYANDOTTE 1102",null,"2019-11-16T22:51:32",null,null,"Not assessed","https://viewer.us-3.sharpershape.services/viewer/assets/5ca5a77dfae217651d6da4ee/details","https://viewer.us-3.sharpershape.services/viewer/issues/5e5df03e6d262600010c0b3c/details","high","W12153774N3954979 WYANDOTTE 1102","[CoastalLiveOak, GrayPine, Other]","CoastalLiveOak"]
[27,"NORTHERN","NORTH VALLEY","Tier 2-3","102911105 Tier 2-3",102911105,"WYANDOTTE 1105",17.1999999999999,39.549959999999899,-121.537739999999,null,37.899999999999899,"W12153774N3954996",10.4,-6,"YES","W12153784N3954988","W12153773N3955024","W12153773N3955024-W12153784N3954988",102911102,"WYANDOTTE 1102",null,"2019-11-16T22:51:32",null,null,"Not assessed","https://viewer.us-3.sharpershape.services/viewer/assets/5ca5a77dfae21717056da4ed/details","https://viewer.us-3.sharpershape.services/viewer/issues/5e5df03d6d262600010c0afd/details","high","W12153774N3954996 WYANDOTTE 1102","[MontereyPine, CoastalLiveOak, Other]","MontereyPine"]
[28,"NORTHERN","NORTH VALLEY","Tier 2-3","102911105 Tier 2-3",102911105,"WYANDOTTE 1105",16,39.549889999999898,-121.53801,null,45.1,"W12153801N3954989",7.2,-3.5,"YES","W12154111N3954914","W12153784N3954988","W12153784N3954988-W12154111N3954914",102911102,"WYANDOTTE 1102",null,"2019-11-16T22:51:32",null,null,"Not assessed","https://viewer.us-3.sharpershape.services/viewer/assets/5ca5a77dfae217651d6da4ee/details","https://viewer.us-3.sharpershape.services/viewer/issues/5e5df03e6d262600010c0b3a/details","high","W12153801N3954989 WYANDOTTE 1102","[Other, GrayPine, BlackOak]","Other"]
[29,"NORTHERN","NORTH VALLEY","Tier 2-3","102911105 Tier 2-3",102911105,"WYANDOTTE 1105",14.5,39.550509999999903,-121.5377,null,39.899999999999899,"W12153770N3955051",5.5,1.5,"NO","W12153762N3955060","W12153773N3955024","W12153773N3955024-W12153762N3955060",102911102,"WYANDOTTE 1102",null,"2019-11-16T22:51:32",null,null,"Not assessed","https://viewer.us-3.sharpershape.services/viewer/assets/5ca5a77dfae217d13d6da4ec/details","https://viewer.us-3.sharpershape.services/viewer/issues/5e5df03d6d262600010c0af9/details","high","W12153770N3955051 WYANDOTTE 1102","[CoastalLiveOak, Other, DouglasFir]","CoastalLiveOak"]
[30,"NORTHERN","NORTH VALLEY","Tier 2-3","102911105 Tier 2-3",102911105,"WYANDOTTE 1105",0,39.5499399999999,-121.537819999999,null,35.399999999999899,"W12153782N3954994",7.6,7.6,"NO","W12153784N3954988","W12153773N3955024","W12153773N3955024-W12153784N3954988",102911102,"WYANDOTTE 1102",null,"2019-11-16T22:51:32",null,null,"Not assessed","https://viewer.us-3.sharpershape.services/viewer/assets/5ca5a77dfae21717056da4ed/details","https://viewer.us-3.sharpershape.services/viewer/issues/5e5df0f31319ce000142afb0/details","high","W12153782N3954994 WYANDOTTE 1102","[CoastalLiveOak, Other, MontereyPine]","CoastalLiveOak"]
[31,"NORTHERN","NORTH VALLEY","Tier 2-3","102911105 Tier 2-3",102911105,"WYANDOTTE 1105",1.6,39.549859999999903,-121.537939999999,null,35.6,"W12153794N3954986",5.3,6.8,"NO","W12154111N3954914","W12153784N3954988","W12153784N3954988-W12154111N3954914",102911102,"WYANDOTTE 1102",null,"2019-11-16T22:51:32",null,null,"Not assessed","https://viewer.us-3.sharpershape.services/viewer/assets/5ca5a77dfae217651d6da4ee/details","https://viewer.us-3.sharpershape.services/viewer/issues/5e5df19d1319ce0001433781/details","high","W12153794N3954986 WYANDOTTE 1102","[Other, CoastalLiveOak, GrayPine]","Other"]
[32,"NORTHERN","NORTH VALLEY","Tier 2-3","102911105 Tier 2-3",102911105,"WYANDOTTE 1105",6.6,39.549839999999897,-121.538119999999,null,32.799999999999898,"W12153812N3954984",11.1,9.8000000000000007,"NO","W12154111N3954914","W12153784N3954988","W12153784N3954988-W12154111N3954914",102911102,"WYANDOTTE 1102",null,"2019-11-16T22:51:32",null,null,"Not assessed","https://viewer.us-3.sharpershape.services/viewer/assets/5ca5a77dfae217651d6da4ee/details","https://viewer.us-3.sharpershape.services/viewer/issues/5e5df03e6d262600010c0b20/details","high","W12153812N3954984 WYANDOTTE 1102","[GrayPine, CoastalLiveOak, DouglasFir]","GrayPine"]
[33,"NORTHERN","NORTH VALLEY","Tier 2-3","102911105 Tier 2-3",102911105,"WYANDOTTE 1105",29.4,39.550750000000001,-121.537679999999,null,50.2,"W12153768N3955075",7.7,-2.2000000000000002,"YES","W12153762N3955060","W12153744N3955118","W12153744N3955118-W12153762N3955060",102911102,"WYANDOTTE 1102",null,"2019-11-16T22:51:32",null,null,"Not assessed","https://viewer.us-3.sharpershape.services/viewer/assets/5ca5a77dfae217339c6da4eb/details","https://viewer.us-3.sharpershape.services/viewer/issues/5e5df12c1319ce000142e642/details","high","W12153768N3955075 WYANDOTTE 1102","[CoastalLiveOak, GrayPine, DouglasFir]","CoastalLiveOak"]
[34,"NORTHERN","NORTH VALLEY","Tier 2-3","102911105 Tier 2-3",102911105,"WYANDOTTE 1105",27.4,39.550869999999897,-121.537639999999,null,39.399999999999899,"W12153764N3955087",13.9,7,"NO","W12153762N3955060","W12153744N3955118","W12153744N3955118-W12153762N3955060",102911102,"WYANDOTTE 1102",null,"2019-11-16T22:51:32",null,null,"Not assessed","https://viewer.us-3.sharpershape.services/viewer/assets/5ca5a77dfae217339c6da4eb/details","https://viewer.us-3.sharpershape.services/viewer/issues/5e5df12c1319ce000142e641/details","high","W12153764N3955087 WYANDOTTE 1102","[CoastalLiveOak, DouglasFir, GrayPine]","CoastalLiveOak"]
[35,"NORTHERN","NORTH VALLEY","Tier 2-3","102911105 Tier 2-3",102911105,"WYANDOTTE 1105",7.7,39.550179999999898,-121.53771,null,17.5,"W12153771N3955018",9.9,17.600000000000001,"NO","W12153784N3954988","W12153773N3955024","W12153773N3955024-W12153784N3954988",102911102,"WYANDOTTE 1102",null,"2019-11-16T22:51:32",null,null,"Not assessed","https://viewer.us-3.sharpershape.services/viewer/assets/5ca5a77dfae21717056da4ed/details","https://viewer.us-3.sharpershape.services/viewer/issues/5e5df0f31319ce000142afba/details","high","W12153771N3955018 WYANDOTTE 1102","[CoastalLiveOak, GrayPine, DouglasFir]","CoastalLiveOak"]
[36,"NORTHERN","NORTH VALLEY","Tier 2-3","102911105 Tier 2-3",102911105,"WYANDOTTE 1105",3.3,39.549839999999897,-121.53807,null,31.9,"W12153807N3954984",7.5,8.5,"NO","W12154111N3954914","W12153784N3954988","W12153784N3954988-W12154111N3954914",102911102,"WYANDOTTE 1102",null,"2019-11-16T22:51:32",null,null,"Not assessed","https://viewer.us-3.sharpershape.services/viewer/assets/5ca5a77dfae217651d6da4ee/details","https://viewer.us-3.sharpershape.services/viewer/issues/5e5df03e6d262600010c0b2a/details","high","W12153807N3954984 WYANDOTTE 1102","[Other, GrayPine, BlackOak]","Other"]
[37,"NORTHERN","NORTH VALLEY","Tier 2-3","102911105 Tier 2-3",102911105,"WYANDOTTE 1105",19.899999999999999,39.550139999999899,-121.53784,null,40.700000000000003,"W12153784N3955014",12.3,-4.7,"YES","W12153784N3954988","W12153773N3955024","W12153773N3955024-W12153784N3954988",102911102,"WYANDOTTE 1102",null,"2019-11-16T22:51:32",null,null,"Not assessed","https://viewer.us-3.sharpershape.services/viewer/assets/5ca5a77dfae21717056da4ed/details","https://viewer.us-3.sharpershape.services/viewer/issues/5e5df03d6d262600010c0b02/details","high","W12153784N3955014 WYANDOTTE 1102","[CoastalLiveOak, Other, GrayPine]","CoastalLiveOak"]
[38,"NORTHERN","NORTH VALLEY","Tier 2-3","102911105 Tier 2-3",102911105,"WYANDOTTE 1105",14,39.549769999999903,-121.53811,null,34.299999999999997,"W12153811N3954977",12,9.1999999999999993,"NO","W12154111N3954914","W12153784N3954988","W12153784N3954988-W12154111N3954914",102911102,"WYANDOTTE 1102",null,"2019-11-16T22:51:32",null,null,"Not assessed","https://viewer.us-3.sharpershape.services/viewer/assets/5ca5a77dfae217651d6da4ee/details","https://viewer.us-3.sharpershape.services/viewer/issues/5e5df03e6d262600010c0b27/details","high","W12153811N3954977 WYANDOTTE 1102","[Other, CoastalLiveOak, GrayPine]","Other"]
[39,"NORTHERN","NORTH VALLEY","Tier 2-3","102911105 Tier 2-3",102911105,"WYANDOTTE 1105",15.7,39.549799999999998,-121.537949999999,null,42.7,"W12153795N3954980",9.6999999999999993,-4.4000000000000004,"YES","W12154111N3954914","W12153784N3954988","W12153784N3954988-W12154111N3954914",102911102,"WYANDOTTE 1102",null,"2019-11-16T22:51:32",null,null,"Not assessed","https://viewer.us-3.sharpershape.services/viewer/assets/5ca5a77dfae217651d6da4ee/details","https://viewer.us-3.sharpershape.services/viewer/issues/5e5df03e6d262600010c0b2c/details","high","W12153795N3954980 WYANDOTTE 1102","[CoastalLiveOak, Other, DouglasFir]","CoastalLiveOak"]
[40,"NORTHERN","NORTH VALLEY","Tier 2-3","102911105 Tier 2-3",102911105,"WYANDOTTE 1105",26.6,39.549790000000002,-121.53784,null,38,"W12153784N3954979",6.6,2.2999999999999998,"NO","W12154111N3954914","W12153784N3954988","W12153784N3954988-W12154111N3954914",102911102,"WYANDOTTE 1102",null,"2019-11-16T22:51:32",null,null,"Not assessed","https://viewer.us-3.sharpershape.services/viewer/assets/5ca5a77dfae217651d6da4ee/details","https://viewer.us-3.sharpershape.services/viewer/issues/5e5df03e6d262600010c0b24/details","high","W12153784N3954979 WYANDOTTE 1102","[CoastalLiveOak, Other, GrayPine]","CoastalLiveOak"]
[41,"NORTHERN","NORTH VALLEY","Tier 2-3","102911105 Tier 2-3",102911105,"WYANDOTTE 1105",28.9,39.550649999999898,-121.53771,null,64.299999999999898,"W12153771N3955065",4.9000000000000004,-9.4,"YES","W12153762N3955060","W12153744N3955118","W12153744N3955118-W12153762N3955060",102911102,"WYANDOTTE 1102",null,"2019-11-16T22:51:32",null,null,"Not assessed","https://viewer.us-3.sharpershape.services/viewer/assets/5ca5a77dfae217339c6da4eb/details","https://viewer.us-3.sharpershape.services/viewer/issues/5e5df12c1319ce000142e644/details","high","W12153771N3955065 WYANDOTTE 1102","[DouglasFir, CoastalLiveOak, Other]","DouglasFir"]
[42,"NORTHERN","NORTH VALLEY","Tier 2-3","102911105 Tier 2-3",102911105,"WYANDOTTE 1105",37.799999999999997,39.550559999999898,-121.537769999999,null,48.3,"W12153777N3955056",5.7,17.6999999999999,"NO","W12153762N3955060","W12153773N3955024","W12153773N3955024-W12153762N3955060",102911102,"WYANDOTTE 1102",null,"2019-11-16T22:51:32",null,null,"Not assessed","https://viewer.us-3.sharpershape.services/viewer/assets/5ca5a77dfae217d13d6da4ec/details","https://viewer.us-3.sharpershape.services/viewer/issues/5e5df1401319ce000142ef19/details","high","W12153777N3955056 WYANDOTTE 1102","[CoastalLiveOak, Other, DouglasFir]","CoastalLiveOak"]
[43,"NORTHERN","NORTH VALLEY","Tier 2-3","102911105 Tier 2-3",102911105,"WYANDOTTE 1105",40.6,39.550379999999898,-121.53784,null,54.7,"W12153784N3955038",9.3000000000000007,21.3,"NO","W12153762N3955060","W12153773N3955024","W12153773N3955024-W12153762N3955060",102911102,"WYANDOTTE 1102",null,"2019-11-16T22:51:32",null,null,"Not assessed","https://viewer.us-3.sharpershape.services/viewer/assets/5ca5a77dfae217d13d6da4ec/details","https://viewer.us-3.sharpershape.services/viewer/issues/5e5df1401319ce000142ef1d/details","high","W12153784N3955038 WYANDOTTE 1102","[Other, DouglasFir, CoastalLiveOak]","Other"]
[44,"NORTHERN","NORTH VALLEY","Tier 2-3","102911105 Tier 2-3",102911105,"WYANDOTTE 1105",27,39.550219999999896,-121.53784,null,31.5,"W12153784N3955022",8.4,20.399999999999999,"NO","W12153784N3954988","W12153773N3955024","W12153773N3955024-W12153784N3954988",102911102,"WYANDOTTE 1102",null,"2019-11-16T22:51:32",null,null,"Not assessed","https://viewer.us-3.sharpershape.services/viewer/assets/5ca5a77dfae21717056da4ed/details","https://viewer.us-3.sharpershape.services/viewer/issues/5e5df0f31319ce000142afb4/details","high","W12153784N3955022 WYANDOTTE 1102","[GrayPine, CoastalLiveOak, Other]","GrayPine"]
[45,"NORTHERN","NORTH VALLEY","Tier 2-3","102911105 Tier 2-3",102911105,"WYANDOTTE 1105",30.5,39.550460000000001,-121.537779999999,null,84.2,"W12153778N3955046",6.1,-25.5,"YES","W12153762N3955060","W12153773N3955024","W12153773N3955024-W12153762N3955060",102911102,"WYANDOTTE 1102",null,"2019-11-16T22:51:32",null,null,"Not assessed","https://viewer.us-3.sharpershape.services/viewer/assets/5ca5a77dfae217d13d6da4ec/details","https://viewer.us-3.sharpershape.services/viewer/issues/5e5df03d6d262600010c0afb/details","high","W12153778N3955046 WYANDOTTE 1102","[Other, CoastalLiveOak, BlackOak]","Other"]
[46,"NORTHERN","NORTH VALLEY","Tier 2-3","102911105 Tier 2-3",102911105,"WYANDOTTE 1105",24.4,39.549929999999897,-121.53793,null,44.899999999999899,"W12153793N3954993",8.8000000000000007,-1,"YES","W12154111N3954914","W12153784N3954988","W12153784N3954988-W12154111N3954914",102911102,"WYANDOTTE 1102",null,"2019-11-16T22:51:32",null,null,"Not assessed","https://viewer.us-3.sharpershape.services/viewer/assets/5ca5a77dfae217651d6da4ee/details","https://viewer.us-3.sharpershape.services/viewer/issues/5e5df03e6d262600010c0b31/details","high","W12153793N3954993 WYANDOTTE 1102","[Other, CoastalLiveOak, BlackOak]","Other"]
[47,"NORTHERN","NORTH VALLEY","Tier 2-3","102911105 Tier 2-3",102911105,"WYANDOTTE 1105",49.5,39.550919999999898,-121.53771,null,59.2,"W12153771N3955092",37.299999999999997,3.8,"NO","W12153762N3955060","W12153744N3955118","W12153744N3955118-W12153762N3955060",102911102,"WYANDOTTE 1102",null,"2019-11-16T22:51:32",null,null,"Not assessed","https://viewer.us-3.sharpershape.services/viewer/assets/5ca5a77dfae217339c6da4eb/details","https://viewer.us-3.sharpershape.services/viewer/issues/5e5df12c1319ce000142e645/details","high","W12153771N3955092 WYANDOTTE 1102","[CoastalLiveOak, DouglasFir, Other]","CoastalLiveOak"]
[48,"NORTHERN","NORTH VALLEY","Tier 2-3","102911105 Tier 2-3",102911105,"WYANDOTTE 1105",54.399999999999899,39.551000000000002,-121.5377,null,57.3,"W12153770N3955100",47.2,7.6,"NO","W12153762N3955060","W12153744N3955118","W12153744N3955118-W12153762N3955060",102911102,"WYANDOTTE 1102",null,"2019-11-16T22:51:32",null,null,"Not assessed","https://viewer.us-3.sharpershape.services/viewer/assets/5ca5a77dfae217339c6da4eb/details","https://viewer.us-3.sharpershape.services/viewer/issues/5e5df12c1319ce000142e643/details","high","W12153770N3955100 WYANDOTTE 1102","[CoastalLiveOak, Other, GrayPine]","CoastalLiveOak"]
[49,"NORTHERN","NORTH VALLEY","Tier 2-3","102911105 Tier 2-3",102911105,"WYANDOTTE 1105",17.5,39.54974,-121.5382,null,41.8,"W12153820N3954974",10.5,6.1,"NO","W12154111N3954914","W12153784N3954988","W12153784N3954988-W12154111N3954914",102911102,"WYANDOTTE 1102",null,"2019-11-16T22:51:32",null,null,"Not assessed","https://viewer.us-3.sharpershape.services/viewer/assets/5ca5a77dfae217651d6da4ee/details","https://viewer.us-3.sharpershape.services/viewer/issues/5e5df03e6d262600010c0b1f/details","high","W12153820N3954974 WYANDOTTE 1102","[Other, BlackOak, GrayPine]","Other"]
[50,"NORTHERN","NORTH VALLEY","Tier 2-3","102911105 Tier 2-3",102911105,"WYANDOTTE 1105",29.6,39.549999999999997,-121.53792,null,47,"W12153792N3955000",6.6,0,"YES","W12153784N3954988","W12153773N3955024","W12153773N3955024-W12153784N3954988",102911102,"WYANDOTTE 1102",null,"2019-11-16T22:51:32",null,null,"Not assessed","https://viewer.us-3.sharpershape.services/viewer/assets/5ca5a77dfae21717056da4ed/details","https://viewer.us-3.sharpershape.services/viewer/issues/5e5df03d6d262600010c0b01/details","high","W12153792N3955000 WYANDOTTE 1102","[Other, ValleyOak, BlackOak]","Other"]
[51,"NORTHERN","NORTH VALLEY","Tier 2-3","102911105 Tier 2-3",102911105,"WYANDOTTE 1105",0.5,39.5301499999999,-121.521209999999,null,33,"W12152121N3953015",4.5,5,"NO","W12152184N3953012","W12152091N3953014","W12152091N3953014-W12152184N3953012",102911105,"WYANDOTTE 1105",null,"2019-11-20T17:46:46",null,null,"Not assessed","https://viewer.us-3.sharpershape.services/viewer/assets/5ca5a2c6f6b463611da04cf7/details","https://viewer.us-3.sharpershape.services/viewer/issues/5ecf8f3134b60c00015ecb86/details","high","W12152121N3953015 WYANDOTTE 1105","[GrayPine, BlackOak, Other]","GrayPine"]
[52,"NORTHERN","NORTH VALLEY","Tier 0-1","102911105 Tier 0-1",102911105,"WYANDOTTE 1105",6.6,39.523029999999899,-121.537679999999,null,29.6,"W12153768N3952303",6.8,6.6,"NO","W12153761N3952311","W12153775N3952283","W12153775N3952283-W12153761N3952311",102911105,"WYANDOTTE 1105",null,"2019-11-20T17:46:46",null,null,"Not assessed","https://viewer.us-3.sharpershape.services/viewer/assets/5ca5a2c6f6b463b271a05203/details","https://viewer.us-3.sharpershape.services/viewer/issues/5ecf8c91a03e66000131082e/details","high","W12153768N3952303 WYANDOTTE 1105","[GrayPine, DouglasFir, Other]","GrayPine"]
[53,"NORTHERN","NORTH VALLEY","Tier 2-3","102911105 Tier 2-3",102911105,"WYANDOTTE 1105",2.6,39.531610000000001,-121.51778,null,28.8,"W12151778N3953161",12,8.1999999999999904,"NO","W12151822N3953157","W12151765N3953162","W12151765N3953162-W12151822N3953157",102911105,"WYANDOTTE 1105",null,"2019-11-20T17:46:46",null,null,"Not assessed","https://viewer.us-3.sharpershape.services/viewer/assets/5ca5a2c6f6b463f67aa051de/details","https://viewer.us-3.sharpershape.services/viewer/issues/5ecf8c9734b60c00015ec1a6/details","high","W12151778N3953161 WYANDOTTE 1105","[MontereyPine, DouglasFir, CoastalLiveOak]","MontereyPine"]
[54,"NORTHERN","NORTH VALLEY","Tier 2-3","102911105 Tier 2-3",102911105,"WYANDOTTE 1105",55.6,39.519889999999897,-121.539289999999,null,65.5,"W12153929N3951989",33.899999999999899,9.1,"NO","W12153944N3952000","W12154012N3951968","W12154012N3951968-W12153944N3952000",102911105,"WYANDOTTE 1105",null,"2019-11-20T17:46:46",null,null,"Not assessed","https://viewer.us-3.sharpershape.services/viewer/assets/5ca5a2c6f6b4634735a04f99/details","https://viewer.us-3.sharpershape.services/viewer/issues/5ecf8c9434b60c00015ec04f/details","high","W12153929N3951989 WYANDOTTE 1105","[Eucalyptus/BlueGum, GrayPine, Other]","Eucalyptus/BlueGum"]
[55,"NORTHERN","NORTH VALLEY","Tier 2-3","102911105 Tier 2-3",102911105,"WYANDOTTE 1105",3.1,39.672719999999899,-121.497119999999,null,15,"W12149712N3967272",6.2,5.6,"NO","W12149658N3967347","W12149755N3967217","W12149755N3967217-W12149658N3967347",0,"WYANDOTTE 1105",null,"2019-11-20T17:46:46",null,null,"Not assessed","https://viewer.us-3.sharpershape.services/viewer/assets/5ca5a2c6f6b463d89ea04e5a/details","https://viewer.us-3.sharpershape.services/viewer/issues/5ecf8c9834b60c00015ec2db/details","high","W12149712N3967272 WYANDOTTE 1105","[MontereyPine, CoastalLiveOak, Other]","MontereyPine"]
[56,"NORTHERN","NORTH VALLEY","Tier 2-3","102911105 Tier 2-3",102911105,"WYANDOTTE 1105",22.3,39.528889999999897,-121.53376,null,37.200000000000003,"W12153376N3952889",9.4,4.0999999999999996,"NO","W12153422N3952882","W12153363N3952882","W12153363N3952882-W12153422N3952882",102911105,"WYANDOTTE 1105",null,"2019-11-20T17:46:46",null,null,"Not assessed","https://viewer.us-3.sharpershape.services/viewer/assets/5ca5a2c6f6b46376c8a04f8b/details","https://viewer.us-3.sharpershape.services/viewer/issues/5ecf8c9534b60c00015ec0d9/details","high","W12153376N3952889 WYANDOTTE 1105","[GrayPine, DouglasFir, Other]","GrayPine"]
[57,"NORTHERN","NORTH VALLEY","Tier 2-3","102911105 Tier 2-3",102911105,"WYANDOTTE 1105",31.1,39.532779999999903,-121.52593,null,32.899999999999899,"W12152593N3953278",8.3000000000000007,7.9,"NO","W12152605N3953285","W12152605N3953235","W12152605N3953235-W12152605N3953285",102911105,"WYANDOTTE 1105",null,"2019-11-20T17:46:46",null,null,"Not assessed","https://viewer.us-3.sharpershape.services/viewer/assets/5e1c22f1942b994ca37b032f/details","https://viewer.us-3.sharpershape.services/viewer/issues/5ecfe7bc34b60c000160de4b/details","high","W12152593N3953278 WYANDOTTE 1105","[Other, DouglasFir, MontereyPine]","Other"]
[58,"NORTHERN","NORTH VALLEY","Tier 2-3","102911105 Tier 2-3",102911105,"WYANDOTTE 1105",11.5,39.53275,-121.5391,null,32.5,"W12153910N3953275",4.5999999999999996,2.8,"NO","W12153906N3953282","W12153905N3953243","W12153905N3953243-W12153906N3953282",102911105,"WYANDOTTE 1105",null,"2019-11-20T17:46:46",null,null,"Not assessed","https://viewer.us-3.sharpershape.services/viewer/assets/5ca5a2c6f6b463fdeba04bb5/details","https://viewer.us-3.sharpershape.services/viewer/issues/5ecf8c9834b60c00015ec239/details","high","W12153910N3953275 WYANDOTTE 1105","[Other, BlackOak, CoastalLiveOak]","Other"]
[59,"NORTHERN","NORTH VALLEY","Tier 2-3","102911105 Tier 2-3",102911105,"WYANDOTTE 1105",21.3,39.532240000000002,-121.53914,null,33,"W12153914N3953224",5.6,5.8,"NO","W12153905N3953243","W12153907N3953193","W12153907N3953193-W12153905N3953243",102911105,"WYANDOTTE 1105",null,"2019-11-20T17:46:46",null,null,"Not assessed","https://viewer.us-3.sharpershape.services/viewer/assets/5ca5a2c6f6b46326f9a04de3/details","https://viewer.us-3.sharpershape.services/viewer/issues/5ecf8c9934b60c00015ec35f/details","high","W12153914N3953224 WYANDOTTE 1105","[DouglasFir, CoastalLiveOak, Eucalyptus/BlueGum]","DouglasFir"]
[60,"NORTHERN","NORTH VALLEY","Tier 2-3","102911105 Tier 2-3",102911105,"WYANDOTTE 1105",59.6,39.533409999999897,-121.540719999999,null,77.599999999999994,"W12154072N3953341",39.1,-6.2,"YES","W12154087N3953327","W12154149N3953393","W12154149N3953393-W12154087N3953327",102911105,"WYANDOTTE 1105",null,"2019-11-20T17:46:46",null,null,"Not assessed","https://viewer.us-3.sharpershape.services/viewer/assets/5ca5a2c6f6b4635000a04d2e/details","https://viewer.us-3.sharpershape.services/viewer/issues/5ecf8c9234b60c00015ec009/details","high","W12154072N3953341 WYANDOTTE 1105","[GrayPine, DouglasFir, TanOak]","GrayPine"]
[61,"NORTHERN","NORTH VALLEY","Tier 2-3","102911105 Tier 2-3",102911105,"WYANDOTTE 1105",33.1,39.527539999999902,-121.53548000000001,null,48.1,"W12153548N3952754",24.1999999999999,-4.2,"YES","W12153535N3952774","W12153536N3952706","W12153536N3952706-W12153535N3952774",102911105,"WYANDOTTE 1105",null,"2019-11-20T17:46:46",null,null,"Not assessed","https://viewer.us-3.sharpershape.services/viewer/assets/5ca5a2c6f6b463ada9a04fb0/details","https://viewer.us-3.sharpershape.services/viewer/issues/5ecf8c97a03e660001310a7e/details","high","W12153548N3952754 WYANDOTTE 1105","[GrayPine, DouglasFir, Other]","GrayPine"]
[62,"NORTHERN","NORTH VALLEY","Tier 2-3","102911105 Tier 2-3",102911105,"WYANDOTTE 1105",13.8,39.531500000000001,-121.531589999999,null,30.8,"W12153159N3953150",10.7,-0.9,"YES","W12153206N3953153","W12153147N3953155","W12153147N3953155-W12153206N3953153",102911105,"WYANDOTTE 1105",null,"2019-11-20T17:46:46","OH",null,"Not assessed","https://viewer.us-3.sharpershape.services/viewer/assets/5ca5a2c6f6b4635ba4a04c32/details","https://viewer.us-3.sharpershape.services/viewer/issues/5ecf8c96a03e660001310994/details","high","W12153159N3953150 WYANDOTTE 1105","[Eucalyptus/BlueGum, CoastalLiveOak, GrayPine]","Eucalyptus/BlueGum"]
[63,"NORTHERN","NORTH VALLEY","Tier 2-3","102911105 Tier 2-3",102911105,"WYANDOTTE 1105",21.1,39.532019999999903,-121.53663,null,28.4,"W12153663N3953202",8.9,20.9,"NO","W12153654N3953154","W12153655N3953211","W12153655N3953211-W12153654N3953154",102911105,"WYANDOTTE 1105",null,"2019-11-20T17:46:46",null,null,"Not assessed","https://viewer.us-3.sharpershape.services/viewer/assets/5ca5a2c6f6b463875ba04bda/details","https://viewer.us-3.sharpershape.services/viewer/issues/5ecf8f0634b60c00015ecb16/details","high","W12153663N3953202 WYANDOTTE 1105","[Other, DouglasFir, CoastalLiveOak]","Other"]
[64,"NORTHERN","NORTH VALLEY","Tier 2-3","102911105 Tier 2-3",102911105,"WYANDOTTE 1105",22.4,39.531349999999897,-121.51832,null,39.200000000000003,"W12151832N3953135",12,0.4,"NO","W12151868N3953111","W12151822N3953157","W12151822N3953157-W12151868N3953111",102911105,"WYANDOTTE 1105",null,"2019-11-20T17:46:46",null,null,"Not assessed","https://viewer.us-3.sharpershape.services/viewer/assets/5ca5a2c6f6b4630821a04f40/details","https://viewer.us-3.sharpershape.services/viewer/issues/5ecf8c9334b60c00015ec01c/details","high","W12151832N3953135 WYANDOTTE 1105","[DouglasFir, Other, TanOak]","DouglasFir"]
[65,"NORTHERN","NORTH VALLEY","Tier 2-3","102911105 Tier 2-3",102911105,"WYANDOTTE 1105",40.299999999999997,39.53096,-121.533369999999,null,37,"W12153337N3953096",6,18,"NO","W12153323N3953048","W12153322N3953104","W12153322N3953104-W12153323N3953048",102911105,"WYANDOTTE 1105",null,"2019-11-20T17:46:46",null,null,"Not assessed","https://viewer.us-3.sharpershape.services/viewer/assets/5ca5a2c6f6b463a1c6a051b8/details","https://viewer.us-3.sharpershape.services/viewer/issues/5ecf954aa03e660001311f0a/details","high","W12153337N3953096 WYANDOTTE 1105","[GrayPine, MontereyPine, Other]","GrayPine"]
[66,"NORTHERN","NORTH VALLEY","Tier 2-3","102911105 Tier 2-3",102911105,"WYANDOTTE 1105",58.2,39.531759999999899,-121.517969999999,null,63.1,"W12151797N3953176",45.5,8,"NO","W12151822N3953157","W12151765N3953162","W12151765N3953162-W12151822N3953157",102911105,"WYANDOTTE 1105",null,"2019-11-20T17:46:46",null,null,"Not assessed","https://viewer.us-3.sharpershape.services/viewer/assets/5ca5a2c6f6b463f67aa051de/details","https://viewer.us-3.sharpershape.services/viewer/issues/5ecf8c9734b60c00015ec1a5/details","high","W12151797N3953176 WYANDOTTE 1105","[GrayPine, ValleyOak, Other]","GrayPine"]
[67,"NORTHERN","NORTH VALLEY","Tier 2-3","102911105 Tier 2-3",102911105,"WYANDOTTE 1105",23.3,39.532910000000001,-121.53667,null,50.5,"W12153667N3953291",12,-9.9,"YES","W12153713N3953284","W12153655N3953283","W12153655N3953283-W12153713N3953284",102911105,"WYANDOTTE 1105",null,"2019-11-20T17:46:46","OH",null,"Not assessed","https://viewer.us-3.sharpershape.services/viewer/assets/5ca5a2c6f6b46315baa04b02/details","https://viewer.us-3.sharpershape.services/viewer/issues/5ecf8c98a03e660001310bd0/details","high","W12153667N3953291 WYANDOTTE 1105","[DouglasFir, LiveOak, CoastalLiveOak]","DouglasFir"]
[68,"NORTHERN","NORTH VALLEY","Tier 0-1","102911105 Tier 0-1",102911105,"WYANDOTTE 1105",9.5,39.523910000000001,-121.537229999999,null,34.799999999999997,"W12153723N3952391",5,-6.8,"YES","W12153751N3952386","W12153708N3952399","W12153708N3952399-W12153751N3952386",102911105,"WYANDOTTE 1105",null,"2019-11-20T17:46:46",null,null,"Not assessed","https://viewer.us-3.sharpershape.services/viewer/assets/5ca5a2c6f6b46361e1a04b3c/details","https://viewer.us-3.sharpershape.services/viewer/issues/5ecf8c9634b60c00015ec0fa/details","high","W12153723N3952391 WYANDOTTE 1105","[DouglasFir, TanOak, LiveOak]","DouglasFir"]
[69,"NORTHERN","NORTH VALLEY","Tier 2-3","102911105 Tier 2-3",102911105,"WYANDOTTE 1105",0.3,39.530700000000003,-121.53906000000001,null,23.4,"W12153906N3953070",8.6999999999999993,9,"NO","W12153907N3953103","W12153908N3953063","W12153908N3953063-W12153907N3953103",102911105,"WYANDOTTE 1105",null,"2019-11-20T17:46:46",null,null,"Not assessed","https://viewer.us-3.sharpershape.services/viewer/assets/5ca5a2c6f6b463538ea050f7/details","https://viewer.us-3.sharpershape.services/viewer/issues/5ecf954fa03e660001311f48/details","high","W12153906N3953070 WYANDOTTE 1105","[DouglasFir, GrayPine, ValleyOak]","DouglasFir"]
[70,"NORTHERN","NORTH VALLEY","Tier 2-3","102911105 Tier 2-3",102911105,"WYANDOTTE 1105",15.9,39.529979999999902,-121.5261,null,31.3,"W12152610N3952998",9.1,2.4,"NO","W12152603N3952974","W12152603N3953064","W12152603N3953064-W12152603N3952974",102911105,"WYANDOTTE 1105",null,"2019-11-20T17:46:46",null,null,"Not assessed","https://viewer.us-3.sharpershape.services/viewer/assets/5ca5a2c6f6b463cd78a04dbd/details","https://viewer.us-3.sharpershape.services/viewer/issues/5ecf8c98a03e660001310be0/details","high","W12152610N3952998 WYANDOTTE 1105","[DouglasFir, GrayPine, ValleyOak]","DouglasFir"]
[71,"NORTHERN","NORTH VALLEY","Tier 2-3","102911105 Tier 2-3",102911105,"WYANDOTTE 1105",25.9,39.5316499999999,-121.536439999999,null,38.799999999999997,"W12153644N3953165",6.1,0.8,"NO","W12153654N3953154","W12153655N3953211","W12153655N3953211-W12153654N3953154",102911105,"WYANDOTTE 1105",null,"2019-11-20T17:46:46",null,null,"Not assessed","https://viewer.us-3.sharpershape.services/viewer/assets/5ca5a2c6f6b463875ba04bda/details","https://viewer.us-3.sharpershape.services/viewer/issues/5ecf8c9534b60c00015ec08f/details","high","W12153644N3953165 WYANDOTTE 1105","[LiveOak, Other, DouglasFir]","LiveOak"]
[72,"NORTHERN","NORTH VALLEY","Tier 2-3","102911105 Tier 2-3",102911105,"WYANDOTTE 1105",38,39.53228,-121.5312,null,65.599999999999895,"W12153120N3953228",11.2,-11.6,"YES","W12153205N3953245","W12153117N3953239","W12153117N3953239-W12153205N3953245",102911105,"WYANDOTTE 1105",null,"2019-11-20T17:46:46",null,null,"Not assessed","https://viewer.us-3.sharpershape.services/viewer/assets/5ca5a2c6f6b4636b14a051ca/details","https://viewer.us-3.sharpershape.services/viewer/issues/5ecf8c9734b60c00015ec17e/details","high","W12153120N3953228 WYANDOTTE 1105","[MontereyPine, DouglasFir, GrayPine]","MontereyPine"]
[73,"NORTHERN","NORTH VALLEY","Tier 2-3","102911105 Tier 2-3",102911105,"WYANDOTTE 1105",44.8,39.529589999999899,-121.53019,null,94.9,"W12153019N3952959",7.3,-37.899999999999899,"YES","W12152988N3952972","W12153068N3952972","W12153068N3952972-W12152988N3952972",102911105,"WYANDOTTE 1105",null,"2019-11-20T17:46:46",null,null,"Not assessed","https://viewer.us-3.sharpershape.services/viewer/assets/5d89b6cc55dd6b81633f2eff/details","https://viewer.us-3.sharpershape.services/viewer/issues/5ecf8c9934b60c00015ec33d/details","high","W12153019N3952959 WYANDOTTE 1105","[LiveOak, GrayPine, DouglasFir]","LiveOak"]
[74,"NORTHERN","NORTH VALLEY","Tier 2-3","102911105 Tier 2-3",102911105,"WYANDOTTE 1105",9.3000000000000007,39.528849999999899,-121.535169999999,null,29.6999999999999,"W12153517N3952885",4.5999999999999996,-0.2,"YES","W12153422N3952882","W12153537N3952882","W12153537N3952882-W12153422N3952882",102911105,"WYANDOTTE 1105",null,"2019-11-20T17:46:46",null,null,"Not assessed","https://viewer.us-3.sharpershape.services/viewer/assets/5ca5a2c6f6b4638913a05099/details","https://viewer.us-3.sharpershape.services/viewer/issues/5ecf8c95a03e660001310964/details","high","W12153517N3952885 WYANDOTTE 1105","[CoastalLiveOak, DouglasFir, Other]","CoastalLiveOak"]
[75,"NORTHERN","NORTH VALLEY","Tier 2-3","102911105 Tier 2-3",102911105,"WYANDOTTE 1105",11.4,39.531579999999899,-121.526,null,31,"W12152600N3953158",9,0,"NO","W12152604N3953139","W12152606N3953202","W12152606N3953202-W12152604N3953139",102911105,"WYANDOTTE 1105",null,"2019-11-20T17:46:46",null,null,"Not assessed","https://viewer.us-3.sharpershape.services/viewer/assets/5ca5a2c6f6b463cbbca04b3b/details","https://viewer.us-3.sharpershape.services/viewer/issues/5ecf8c98a03e660001310b86/details","high","W12152600N3953158 WYANDOTTE 1105","[GrayPine, DouglasFir, MontereyPine]","GrayPine"]
[76,"NORTHERN","NORTH VALLEY","Tier 2-3","102911105 Tier 2-3",102911105,"WYANDOTTE 1105",44.5,39.532170000000001,-121.534359999999,null,77.599999999999994,"W12153436N3953217",38.899999999999899,-20.6999999999999,"YES","W12153419N3953172","W12153419N3953235","W12153419N3953235-W12153419N3953172",102911105,"WYANDOTTE 1105",null,"2019-11-20T17:46:46",null,null,"Not assessed","https://viewer.us-3.sharpershape.services/viewer/assets/5ca5a2c6f6b463ef61a04c9e/details","https://viewer.us-3.sharpershape.services/viewer/issues/5ee2b42e34b60c0001746b57/details","high","W12153436N3953217 WYANDOTTE 1105","[GrayPine, DouglasFir, MontereyPine]","GrayPine"]
[77,"NORTHERN","NORTH VALLEY","Tier 2-3","102911105 Tier 2-3",102911105,"WYANDOTTE 1105",28.4,39.531009999999903,-121.532179999999,null,46,"W12153218N3953101",7.7,-5,"YES","W12153206N3953153","W12153207N3953097","W12153207N3953097-W12153206N3953153",102911105,"WYANDOTTE 1105",null,"2019-11-20T17:46:46",null,null,"Not assessed","https://viewer.us-3.sharpershape.services/viewer/assets/5ca5a2c6f6b463f9cfa04c7e/details","https://viewer.us-3.sharpershape.services/viewer/issues/5ecf8c98a03e660001310b30/details","high","W12153218N3953101 WYANDOTTE 1105","[DouglasFir, LiveOak, GrayPine]","DouglasFir"]
[78,"NORTHERN","NORTH VALLEY","Tier 2-3","102911105 Tier 2-3",102911105,"WYANDOTTE 1105",12.5,39.526179999999897,-121.520939999999,null,36.5,"W12152094N3952618",5.2,-0.7,"YES","W12152064N3952615","W12152124N3952614","W12152124N3952614-W12152064N3952615",102911105,"WYANDOTTE 1105",null,"2019-11-20T17:46:46",null,null,"Not assessed","https://viewer.us-3.sharpershape.services/viewer/assets/5ca5a2c6f6b463c7cfa0501b/details","https://viewer.us-3.sharpershape.services/viewer/issues/5ecf8c9634b60c00015ec130/details","high","W12152094N3952618 WYANDOTTE 1105","[GrayPine, BlackOak, ValleyOak]","GrayPine"]
[79,"NORTHERN","NORTH VALLEY","Tier 2-3","102911105 Tier 2-3",102911105,"WYANDOTTE 1105",13.8,39.531489999999899,-121.532229999999,null,25.5,"W12153223N3953149",7.2,6.3,"NO","W12153206N3953153","W12153261N3953152","W12153261N3953152-W12153206N3953153",102911105,"WYANDOTTE 1105",null,"2019-11-20T17:46:46",null,null,"Not assessed","https://viewer.us-3.sharpershape.services/viewer/assets/5ca5a2c6f6b4636454a04d9a/details","https://viewer.us-3.sharpershape.services/viewer/issues/5ecf8c97a03e660001310a70/details","high","W12153223N3953149 WYANDOTTE 1105","[GrayPine, DouglasFir, MontereyPine]","GrayPine"]
[80,"NORTHERN","NORTH VALLEY","Tier 0-1","102911105 Tier 0-1",102911105,"WYANDOTTE 1105",4.7,39.5253599999999,-121.53546,null,29.6999999999999,"W12153546N3952536",7.9,9.1,"NO","W12153537N3952537","W12153590N3952523","W12153590N3952523-W12153537N3952537",102911105,"WYANDOTTE 1105",null,"2019-11-20T17:46:46",null,null,"Not assessed","https://viewer.us-3.sharpershape.services/viewer/assets/5ca5a2c6f6b4631c28a0517f/details","https://viewer.us-3.sharpershape.services/viewer/issues/5ecf8c90a03e660001310805/details","high","W12153546N3952536 WYANDOTTE 1105","[Other, GrayPine, LiveOak]","Other"]
[81,"NORTHERN","NORTH VALLEY","Tier 2-3","102911105 Tier 2-3",102911105,"WYANDOTTE 1105",13.5,39.527940000000001,-121.532849999999,null,32.899999999999899,"W12153285N3952794",6.5,2.9,"NO","W12153270N3952789","W12153385N3952791","W12153385N3952791-W12153270N3952789",102911105,"WYANDOTTE 1105",null,"2019-11-20T17:46:46",null,null,"Not assessed","https://viewer.us-3.sharpershape.services/viewer/assets/5ca5a2c6f6b463466ba049bf/details","https://viewer.us-3.sharpershape.services/viewer/issues/5ecf8c9334b60c00015ec03d/details","high","W12153285N3952794 WYANDOTTE 1105"]
[82,"NORTHERN","NORTH VALLEY","Tier 2-3","102911105 Tier 2-3",102911105,"WYANDOTTE 1105",10.199999999999999,39.5312699999999,-121.53211,null,37,"W12153211N3953127",4.7,-8.6,"YES","W12153206N3953153","W12153207N3953097","W12153207N3953097-W12153206N3953153",102911105,"WYANDOTTE 1105",null,"2019-11-20T17:46:46","OH",null,"Not assessed","https://viewer.us-3.sharpershape.services/viewer/assets/5ca5a2c6f6b463f9cfa04c7e/details","https://viewer.us-3.sharpershape.services/viewer/issues/5ecf8c98a03e660001310b35/details","high","W12153211N3953127 WYANDOTTE 1105","[CoastalLiveOak, DouglasFir, Other]","CoastalLiveOak"]
[83,"NORTHERN","NORTH VALLEY","Tier 2-3","102911105 Tier 2-3",102911105,"WYANDOTTE 1105",15.1,39.539659999999898,-121.54255000000001,null,14.6,"W12154255N3953966",11.7,9.6999999999999993,"NO","W12154261N3953987","W12154263N3953924","W12154263N3953924-W12154261N3953987",102911105,"WYANDOTTE 1105",null,"2019-11-20T17:46:46",null,null,"Not assessed","https://viewer.us-3.sharpershape.services/viewer/assets/5ca5a2c6f6b4637988a04a3e/details","https://viewer.us-3.sharpershape.services/viewer/issues/5ecf8c93a03e660001310878/details","high","W12154255N3953966 WYANDOTTE 1105"]
[84,"NORTHERN","NORTH VALLEY","Tier 2-3","102911105 Tier 2-3",102911105,"WYANDOTTE 1105",13.7,39.532489999999903,-121.52598999999999,null,25.6,"W12152599N3953249",12,3.8,"NO","W12152605N3953285","W12152605N3953235","W12152605N3953235-W12152605N3953285",102911105,"WYANDOTTE 1105",null,"2019-11-20T17:46:46",null,null,"Not assessed","https://viewer.us-3.sharpershape.services/viewer/assets/5e1c22f1942b994ca37b032f/details","https://viewer.us-3.sharpershape.services/viewer/issues/5ecfe7bc34b60c000160de44/details","high","W12152599N3953249 WYANDOTTE 1105","[Other, GrayPine, TanOak]","Other"]
[85,"NORTHERN","NORTH VALLEY","Tier 0-1","102911105 Tier 0-1",102911105,"WYANDOTTE 1105",14.5,39.525529999999897,-121.533079999999,null,46.8,"W12153308N3952553",9.5,-6.8,"YES","W12153345N3952585","W12153312N3952549","W12153312N3952549-W12153345N3952585",102911105,"WYANDOTTE 1105",null,"2019-11-20T17:46:46",null,null,"Not assessed","https://viewer.us-3.sharpershape.services/viewer/assets/5ca5a2c6f6b4639894a04b2d/details","https://viewer.us-3.sharpershape.services/viewer/issues/5ecf8c94a03e6600013108e9/details","high","W12153308N3952553 WYANDOTTE 1105","[GrayPine, DouglasFir, Other]","GrayPine"]
[86,"NORTHERN","NORTH VALLEY","Tier 2-3","102911105 Tier 2-3",102911105,"WYANDOTTE 1105",51.8,39.537590000000002,-121.5423,null,64.2,"W12154230N3953759",29.6,-11.9,"YES","W12154253N3953660","W12154250N3953758","W12154250N3953758-W12154253N3953660",102911105,"WYANDOTTE 1105",null,"2019-11-20T17:46:46",null,null,"Not assessed","https://viewer.us-3.sharpershape.services/viewer/assets/5ca5a2c6f6b4637989a05102/details","https://viewer.us-3.sharpershape.services/viewer/issues/5ecf8c9734b60c00015ec1b9/details","high","W12154230N3953759 WYANDOTTE 1105","[GrayPine, DouglasFir, Eucalyptus/BlueGum]","GrayPine"]
[87,"NORTHERN","NORTH VALLEY","Tier 2-3","102911105 Tier 2-3",102911105,"WYANDOTTE 1105",9.5,39.540079999999897,-121.54255000000001,null,13.7,"W12154255N3954008",7.4,7.8,"NO","W12154258N3954066","W12154261N3953987","W12154261N3953987-W12154258N3954066",102911105,"WYANDOTTE 1105",null,"2019-11-20T17:46:46",null,null,"Not assessed","https://viewer.us-3.sharpershape.services/viewer/assets/5ca5a2c6f6b463dd95a04ecd/details","https://viewer.us-3.sharpershape.services/viewer/issues/5ecf8c97a03e660001310ac1/details","high","W12154255N3954008 WYANDOTTE 1105","[LiveOak, DouglasFir, TanOak]","LiveOak"]
[88,"NORTHERN","NORTH VALLEY","Tier 0-1","102911105 Tier 0-1",102911105,"WYANDOTTE 1105",48.399999999999899,39.525469999999899,-121.53413,null,46.2,"W12153413N3952547",33.399999999999899,9,"NO","W12153390N3952564","W12153462N3952554","W12153462N3952554-W12153390N3952564",102911105,"WYANDOTTE 1105",null,"2019-11-20T17:46:46",null,null,"Not assessed","https://viewer.us-3.sharpershape.services/viewer/assets/5ca5a2c6f6b463cfd6a04cce/details","https://viewer.us-3.sharpershape.services/viewer/issues/5ecf8c9834b60c00015ec26f/details","high","W12153413N3952547 WYANDOTTE 1105","[CoastalLiveOak, DouglasFir, Eucalyptus/BlueGum]","CoastalLiveOak"]
[89,"NORTHERN","NORTH VALLEY","Tier 2-3","102911105 Tier 2-3",102911105,"WYANDOTTE 1105",42,39.531149999999897,-121.52588,null,33.1,"W12152588N3953115",9.6,21.6,"NO","W12152603N3953064","W12152604N3953139","W12152604N3953139-W12152603N3953064",102911105,"WYANDOTTE 1105",null,"2019-11-20T17:46:46",null,null,"Not assessed","https://viewer.us-3.sharpershape.services/viewer/assets/5ca5a2c6f6b463f925a04ce0/details","https://viewer.us-3.sharpershape.services/viewer/issues/5ecf954f34b60c00015ed796/details","high","W12152588N3953115 WYANDOTTE 1105","[ValleyOak, TanOak, LiveOak]","ValleyOak"]
[90,"NORTHERN","NORTH VALLEY","Tier 0-1","102911105 Tier 0-1",102911105,"WYANDOTTE 1105",23.8,39.525259999999903,-121.533019999999,null,48.8,"W12153302N3952526",6.3,-4.2,"YES","W12153312N3952549","W12153279N3952515","W12153279N3952515-W12153312N3952549",102911105,"WYANDOTTE 1105",null,"2019-11-20T17:46:46",null,null,"Not assessed","https://viewer.us-3.sharpershape.services/viewer/assets/5ca5a2c6f6b463ab92a051ae/details","https://viewer.us-3.sharpershape.services/viewer/issues/5ecf8c9534b60c00015ec0b8/details","high","W12153302N3952526 WYANDOTTE 1105","[GrayPine, DouglasFir, Other]","GrayPine"]
[91,"NORTHERN","NORTH VALLEY","Tier 2-3","102911105 Tier 2-3",102911105,"WYANDOTTE 1105",11.6,39.531559999999899,-121.53234,null,24.6999999999999,"W12153234N3953156",6.9,8.4,"NO","W12153206N3953153","W12153261N3953152","W12153261N3953152-W12153206N3953153",102911105,"WYANDOTTE 1105",null,"2019-11-20T17:46:46",null,null,"Not assessed","https://viewer.us-3.sharpershape.services/viewer/assets/5ca5a2c6f6b4636454a04d9a/details","https://viewer.us-3.sharpershape.services/viewer/issues/5ecf8c97a03e660001310a6e/details","high","W12153234N3953156 WYANDOTTE 1105","[Eucalyptus/BlueGum, DouglasFir, CoastalLiveOak]","Eucalyptus/BlueGum"]
[92,"NORTHERN","NORTH VALLEY","Tier 2-3","102911105 Tier 2-3",102911105,"WYANDOTTE 1105",8.1,39.528459999999903,-121.5354,null,31.1,"W12153540N3952846",7.1,-1.4,"YES","W12153534N3952830","W12153534N3952830","W12153534N3952830-W12153534N3952830",102911105,"WYANDOTTE 1105",null,"2019-11-20T17:46:46",null,null,"Not assessed","https://viewer.us-3.sharpershape.services/viewer/assets/5ca5a2c6f6b4631e4ba04b95/details","https://viewer.us-3.sharpershape.services/viewer/issues/5ecf8c96a03e6600013109dd/details","high","W12153540N3952846 WYANDOTTE 1105","[DouglasFir, LiveOak, TanOak]","DouglasFir"]
[93,"NORTHERN","NORTH VALLEY","Tier 0-1","102911105 Tier 0-1",102911105,"WYANDOTTE 1105",32,39.524629999999902,-121.522559999999,null,47.7,"W12152256N3952463",16.899999999999899,0.1,"NO","W12152293N3952453","W12152223N3952454","W12152223N3952454-W12152293N3952453",102911105,"WYANDOTTE 1105",null,"2019-11-20T17:46:46",null,null,"Not assessed","https://viewer.us-3.sharpershape.services/viewer/assets/5ca5a2c6f6b4634c38a04c9a/details","https://viewer.us-3.sharpershape.services/viewer/issues/5ecf8c9634b60c00015ec108/details","high","W12152256N3952463 WYANDOTTE 1105","[GrayPine, Other, DouglasFir]","GrayPine"]
[94,"NORTHERN","NORTH VALLEY","Tier 2-3","102911105 Tier 2-3",102911105,"WYANDOTTE 1105",1.3,39.530200000000001,-121.520179999999,null,30.5,"W12152018N3953020",6.3,6.9,"NO","W12152091N3953014","W12152005N3953021","W12152005N3953021-W12152091N3953014",102911105,"WYANDOTTE 1105",null,"2019-11-20T17:46:46",null,null,"Not assessed","https://viewer.us-3.sharpershape.services/viewer/assets/5ca5a2c6f6b4637ff5a04e47/details","https://viewer.us-3.sharpershape.services/viewer/issues/5ecf8c9534b60c00015ec070/details","high","W12152018N3953020 WYANDOTTE 1105","[GrayPine, Other, DouglasFir]","GrayPine"]
[95,"NORTHERN","NORTH VALLEY","Tier 2-3","102911105 Tier 2-3",102911105,"WYANDOTTE 1105",10.6,39.533349999999899,-121.54088,null,51.6,"W12154088N3953335",6,-10.7,"YES","W12154087N3953327","W12154149N3953393","W12154149N3953393-W12154087N3953327",102911105,"WYANDOTTE 1105",null,"2019-11-20T17:46:46","OH",null,"Not assessed","https://viewer.us-3.sharpershape.services/viewer/assets/5ca5a2c6f6b4635000a04d2e/details","https://viewer.us-3.sharpershape.services/viewer/issues/5ecf8c9234b60c00015ec007/details","high","W12154088N3953335 WYANDOTTE 1105","[TanOak, DouglasFir, GrayPine]","TanOak"]
[96,"NORTHERN","NORTH VALLEY","Tier 2-3","102911105 Tier 2-3",102911105,"WYANDOTTE 1105",36.299999999999997,39.531259999999897,-121.538929999999,null,40.799999999999997,"W12153893N3953126",6.1,3.6,"NO","W12153907N3953151","W12153907N3953103","W12153907N3953103-W12153907N3953151",102911105,"WYANDOTTE 1105",null,"2019-11-20T17:46:46",null,null,"Not assessed","https://viewer.us-3.sharpershape.services/viewer/assets/5ca5a2c6f6b46346bca04e9d/details","https://viewer.us-3.sharpershape.services/viewer/issues/5ecf8c94a03e6600013108ff/details","high","W12153893N3953126 WYANDOTTE 1105","[BlackOak, Eucalyptus/BlueGum, CoastalLiveOak]","BlackOak"]
[97,"NORTHERN","NORTH VALLEY","Tier 2-3","102911105 Tier 2-3",102911105,"WYANDOTTE 1105",41.399999999999899,39.528059999999897,-121.530379999999,null,55.6,"W12153038N3952806",23.1999999999999,3.4,"NO","W12153054N3952815","W12153052N3952749","W12153052N3952749-W12153054N3952815",102911105,"WYANDOTTE 1105",null,"2019-11-20T17:46:46",null,null,"Not assessed","https://viewer.us-3.sharpershape.services/viewer/assets/5ca5a2c6f6b4636011a051da/details","https://viewer.us-3.sharpershape.services/viewer/issues/5ecf8c9734b60c00015ec195/details","high","W12153038N3952806 WYANDOTTE 1105","[Eucalyptus/BlueGum, Other, BlackOak]","Eucalyptus/BlueGum"]
[98,"NORTHERN","NORTH VALLEY","Tier 2-3","102911105 Tier 2-3",102911105,"WYANDOTTE 1105",16.3,39.524999999999899,-121.52115000000001,null,38.799999999999997,"W12152115N3952500",9.8000000000000007,-3.2,"YES","W12152121N3952468","W12152123N3952539","W12152123N3952539-W12152121N3952468",102911105,"WYANDOTTE 1105",null,"2019-11-20T17:46:46",null,null,"Not assessed","https://viewer.us-3.sharpershape.services/viewer/assets/5ca5a2c6f6b463550ba0502f/details","https://viewer.us-3.sharpershape.services/viewer/issues/5ecf8c9534b60c00015ec0be/details","high","W12152115N3952500 WYANDOTTE 1105","[DouglasFir, GrayPine, Other]","DouglasFir"]
[99,"NORTHERN","NORTH VALLEY","Tier 2-3","102911105 Tier 2-3",102911105,"WYANDOTTE 1105",26.1999999999999,39.529019999999903,-121.520129999999,null,84.1,"W12152013N3952902",10.1,-42.2,"YES","W12152014N3952914","W12152053N3952877","W12152053N3952877-W12152014N3952914",102911105,"WYANDOTTE 1105",null,"2019-11-20T17:46:46",null,null,"Not assessed","https://viewer.us-3.sharpershape.services/viewer/assets/5ca5a2c6f6b463d0f3a04a55/details","https://viewer.us-3.sharpershape.services/viewer/issues/5ecf8c9734b60c00015ec207/details","high","W12152013N3952902 WYANDOTTE 1105","[GrayPine, DouglasFir, CoastalLiveOak]","GrayPine"]
[100,"NORTHERN","NORTH VALLEY","Tier 2-3","102911105 Tier 2-3",102911105,"WYANDOTTE 1105",75,39.532689999999903,-121.53825000000001,null,77.5,"W12153825N3953269",54,-0.4,"YES","W12153906N3953282","W12153848N3953281","W12153848N3953281-W12153906N3953282",102911105,"WYANDOTTE 1105",null,"2019-11-20T17:46:46",null,null,"Not assessed","https://viewer.us-3.sharpershape.services/viewer/assets/5ca5a2c6f6b46324baa04ba9/details","https://viewer.us-3.sharpershape.services/viewer/issues/5ecf8c9934b60c00015ec32f/details","high","W12153825N3953269 WYANDOTTE 1105","[Other, DouglasFir, GrayPine]","Other"]
[101,"NORTHERN","NORTH VALLEY","Tier 2-3","102911105 Tier 2-3",102911105,"WYANDOTTE 1105",33.200000000000003,39.530529999999899,-121.535539999999,null,30.4,"W12153554N3953053",20.3,7.2,"NO","W12153538N3953063","W12153655N3953063","W12153655N3953063-W12153538N3953063",102911105,"WYANDOTTE 1105",null,"2019-11-20T17:46:46",null,null,"Not assessed","https://viewer.us-3.sharpershape.services/viewer/assets/5ca5a2c6f6b4638037a04ab3/details","https://viewer.us-3.sharpershape.services/viewer/issues/5ecf8c95a03e660001310918/details","high","W12153554N3953053 WYANDOTTE 1105","[Other, DouglasFir, CoastalLiveOak]","Other"]
[102,"NORTHERN","NORTH VALLEY","Tier 2-3","102911105 Tier 2-3",102911105,"WYANDOTTE 1105",26.1999999999999,39.532359999999898,-121.53879999999999,null,29.4,"W12153880N3953236",12,5.3,"NO","W12153905N3953243","W12153810N3953244","W12153810N3953244-W12153905N3953243",102911105,"WYANDOTTE 1105",null,"2019-11-20T17:46:46",null,null,"Not assessed","https://viewer.us-3.sharpershape.services/viewer/assets/5ca5a2c6f6b46300cca04f1d/details","https://viewer.us-3.sharpershape.services/viewer/issues/5ecf8c93a03e6600013108a8/details","high","W12153880N3953236 WYANDOTTE 1105","[Other, BlackOak, CoastalLiveOak]","Other"]
[103,"NORTHERN","NORTH VALLEY","Tier 2-3","102911105 Tier 2-3",102911105,"WYANDOTTE 1105",2.2999999999999998,39.5301499999999,-121.535359999999,null,15,"W12153536N3953015",11.8,14.2,"NO","W12153538N3953063","W12153538N3952985","W12153538N3952985-W12153538N3953063",102911105,"WYANDOTTE 1105",null,"2019-11-20T17:46:46",null,null,"Not assessed","https://viewer.us-3.sharpershape.services/viewer/assets/5ca5a2c6f6b4636d60a0516d/details","https://viewer.us-3.sharpershape.services/viewer/issues/5ecf8e9ea03e660001311084/details","high","W12153536N3953015 WYANDOTTE 1105"]
[104,"NORTHERN","NORTH VALLEY","Tier 2-3","102911105 Tier 2-3",102911105,"WYANDOTTE 1105",56.1,39.5318299999999,-121.532269999999,null,57,"W12153227N3953183",44.3,9,"NO","W12153206N3953153","W12153206N3953192","W12153206N3953192-W12153206N3953153",102911105,"WYANDOTTE 1105",null,"2019-11-20T17:46:46",null,null,"Not assessed","https://viewer.us-3.sharpershape.services/viewer/assets/5ca5a2c6f6b46375f6a04bc0/details","https://viewer.us-3.sharpershape.services/viewer/issues/5ecf8c9834b60c00015ec228/details","high","W12153227N3953183 WYANDOTTE 1105","[GrayPine, Eucalyptus/BlueGum, DouglasFir]","GrayPine"]
[105,"NORTHERN","NORTH VALLEY","Tier 2-3","102911105 Tier 2-3",102911105,"WYANDOTTE 1105",34.700000000000003,39.5355899999999,-121.542259999999,null,59.399999999999899,"W12154226N3953559",21.8,-19.100000000000001,"YES","W12154242N3953570","W12154230N3953520","W12154230N3953520-W12154242N3953570",102911105,"WYANDOTTE 1105",null,"2019-11-20T17:46:46",null,null,"Not assessed","https://viewer.us-3.sharpershape.services/viewer/assets/5ca5a2c6f6b463392ea051c1/details","https://viewer.us-3.sharpershape.services/viewer/issues/5ecf8c9734b60c00015ec1c5/details","high","W12154226N3953559 WYANDOTTE 1105","[Other, LiveOak, DouglasFir]","Other"]
[106,"NORTHERN","NORTH VALLEY","Tier 2-3","102911105 Tier 2-3",102911105,"WYANDOTTE 1105",13.6,39.528669999999899,-121.518709999999,null,49.3,"W12151871N3952867",5.9,-14.8,"YES","W12151873N3952887","W12151852N3952834","W12151852N3952834-W12151873N3952887",102911105,"WYANDOTTE 1105",null,"2019-11-20T17:46:46",null,null,"Not assessed","https://viewer.us-3.sharpershape.services/viewer/assets/5ca5a2c6f6b4631966a05106/details","https://viewer.us-3.sharpershape.services/viewer/issues/5ecf8c99a03e660001310c06/details","high","W12151871N3952867 WYANDOTTE 1105","[GrayPine, ValleyOak, Other]","GrayPine"]
[107,"NORTHERN","NORTH VALLEY","Tier 2-3","102911105 Tier 2-3",102911105,"WYANDOTTE 1105",21.4,39.5291,-121.53197,null,55.6,"W12153197N3952910",12,-13.7,"YES","W12153206N3952881","W12153206N3952972","W12153206N3952972-W12153206N3952881",102911105,"WYANDOTTE 1105",null,"2019-11-20T17:46:46",null,null,"Not assessed","https://viewer.us-3.sharpershape.services/viewer/assets/5ca5a2c6f6b463a605a04c77/details","https://viewer.us-3.sharpershape.services/viewer/issues/5ecf8c9834b60c00015ec29f/details","high","W12153197N3952910 WYANDOTTE 1105","[DouglasFir, TanOak, GrayPine]","DouglasFir"]
[108,"NORTHERN","NORTH VALLEY","Tier 2-3","102911105 Tier 2-3",102911105,"WYANDOTTE 1105",21.8,39.53051,-121.525939999999,null,38.899999999999899,"W12152594N3953051",8.4,-7.2,"YES","W12152603N3952974","W12152603N3953064","W12152603N3953064-W12152603N3952974",102911105,"WYANDOTTE 1105",null,"2019-11-20T17:46:46",null,null,"Not assessed","https://viewer.us-3.sharpershape.services/viewer/assets/5ca5a2c6f6b463cd78a04dbd/details","https://viewer.us-3.sharpershape.services/viewer/issues/5ecf8c98a03e660001310bd9/details","high","W12152594N3953051 WYANDOTTE 1105","[DouglasFir, Other, GrayPine]","DouglasFir"]
[109,"NORTHERN","NORTH VALLEY","Tier 2-3","102911105 Tier 2-3",102911105,"WYANDOTTE 1105",1.4,39.52563,-121.52123,null,20.9,"W12152123N3952563",6.2,7.5,"NO","W12152123N3952539","W12152124N3952614","W12152124N3952614-W12152123N3952539",102911105,"WYANDOTTE 1105",null,"2019-11-20T17:46:46",null,null,"Not assessed","https://viewer.us-3.sharpershape.services/viewer/assets/5ca5a2c6f6b46335f7a04ffc/details","https://viewer.us-3.sharpershape.services/viewer/issues/5ecf8ed034b60c00015ec99e/details","high","W12152123N3952563 WYANDOTTE 1105","[DouglasFir, Other, GrayPine]","DouglasFir"]
[110,"NORTHERN","NORTH VALLEY","Tier 2-3","102911105 Tier 2-3",102911105,"WYANDOTTE 1105",17.5,39.531819999999897,-121.53412,null,41,"W12153412N3953182",12,-4.4000000000000004,"YES","W12153419N3953172","W12153419N3953235","W12153419N3953235-W12153419N3953172",102911105,"WYANDOTTE 1105",null,"2019-11-20T17:46:46",null,null,"Not assessed","https://viewer.us-3.sharpershape.services/viewer/assets/5ca5a2c6f6b463ef61a04c9e/details","https://viewer.us-3.sharpershape.services/viewer/issues/5ee2b42e34b60c0001746b52/details","high","W12153412N3953182 WYANDOTTE 1105","[Other, CoastalLiveOak, DouglasFir]","Other"]
[111,"NORTHERN","NORTH VALLEY","Tier 2-3","102911105 Tier 2-3",102911105,"WYANDOTTE 1105",11.3,39.53219,-121.52611,null,38.5,"W12152611N3953219",7.1,2.5,"NO","W12152606N3953202","W12152605N3953235","W12152605N3953235-W12152606N3953202",102911105,"WYANDOTTE 1105",null,"2019-11-20T17:46:46",null,null,"Not assessed","https://viewer.us-3.sharpershape.services/viewer/assets/5ca5a2c6f6b4631991a04dcc/details","https://viewer.us-3.sharpershape.services/viewer/issues/5ecfe7bca03e66000133409c/details","high","W12152611N3953219 WYANDOTTE 1105","[DouglasFir, Other, ValleyOak]","DouglasFir"]
[112,"NORTHERN","NORTH VALLEY","Tier 0-1","102911105 Tier 0-1",102911105,"WYANDOTTE 1105",22.1,39.525100000000002,-121.5361,null,43.3,"W12153610N3952510",8.3000000000000007,-3.4,"YES","W12153590N3952523","W12153636N3952510","W12153636N3952510-W12153590N3952523",102911105,"WYANDOTTE 1105",null,"2019-11-20T17:46:46",null,null,"Not assessed","https://viewer.us-3.sharpershape.services/viewer/assets/5ca5a2c6f6b4636365a050d5/details","https://viewer.us-3.sharpershape.services/viewer/issues/5ecf8c9534b60c00015ec0a6/details","high","W12153610N3952510 WYANDOTTE 1105","[Other, DouglasFir, GrayPine]","Other"]
[113,"NORTHERN","NORTH VALLEY","Tier 2-3","102911105 Tier 2-3",102911105,"WYANDOTTE 1105",29.6,39.528129999999898,-121.514189999999,null,42.1,"W12151419N3952813",6.2,-0.5,"YES","W12151441N3952799","W12151401N3952860","W12151401N3952860-W12151441N3952799",102911105,"WYANDOTTE 1105",null,"2019-11-20T17:46:46",null,null,"Not assessed","https://viewer.us-3.sharpershape.services/viewer/assets/5ca5a2c6f6b463bdf4a04f50/details","https://viewer.us-3.sharpershape.services/viewer/issues/5ecf8c9534b60c00015ec0e1/details","high","W12151419N3952813 WYANDOTTE 1105","[Other, CoastalLiveOak, DouglasFir]","Other"]
[114,"NORTHERN","NORTH VALLEY","Tier 2-3","102911105 Tier 2-3",102911105,"WYANDOTTE 1105",14.1,39.524999999999899,-121.53792,null,29.6999999999999,"W12153792N3952500",11.2,3.3,"NO","W12153745N3952470","W12153809N3952504","W12153809N3952504-W12153745N3952470",102911105,"WYANDOTTE 1105",null,"2019-11-20T17:46:46",null,null,"Not assessed","https://viewer.us-3.sharpershape.services/viewer/assets/5ca5a2c6f6b4638d21a051a2/details","https://viewer.us-3.sharpershape.services/viewer/issues/5ecf8c95a03e660001310938/details","high","W12153792N3952500 WYANDOTTE 1105","[DouglasFir, GrayPine, Other]","DouglasFir"]
[115,"NORTHERN","NORTH VALLEY","Tier 2-3","102911105 Tier 2-3",102911105,"WYANDOTTE 1105",32.1,39.529829999999897,-121.53219,null,45.6,"W12153219N3952983",6,-2.5,"YES","W12153206N3952972","W12153284N3952973","W12153284N3952973-W12153206N3952972",102911105,"WYANDOTTE 1105",null,"2019-11-20T17:46:46",null,null,"Not assessed","https://viewer.us-3.sharpershape.services/viewer/assets/5ca5a2c6f6b4630785a04d19/details","https://viewer.us-3.sharpershape.services/viewer/issues/5ecf8c98a03e660001310b8d/details","high","W12153219N3952983 WYANDOTTE 1105","[MontereyPine, DouglasFir, CoastalLiveOak]","MontereyPine"]
[116,"NORTHERN","NORTH VALLEY","Tier 0-1","102911105 Tier 0-1",102911105,"WYANDOTTE 1105",30.6999999999999,39.524049999999903,-121.514569999999,null,33.399999999999899,"W12151457N3952405",9,21,"NO","W12151473N3952396","W12151456N3952437","W12151456N3952437-W12151473N3952396",102911105,"WYANDOTTE 1105",null,"2019-11-20T17:46:46",null,null,"Not assessed","https://viewer.us-3.sharpershape.services/viewer/assets/5ca5a2c6f6b4637591a050b5/details","https://viewer.us-3.sharpershape.services/viewer/issues/5ecf8e9ea03e660001311078/details","high","W12151457N3952405 WYANDOTTE 1105","[DouglasFir, Other, CoastalLiveOak]","DouglasFir"]
[117,"NORTHERN","NORTH VALLEY","Tier 2-3","102911105 Tier 2-3",102911105,"WYANDOTTE 1105",4.7,39.532309999999903,-121.534539999999,null,24.5,"W12153454N3953231",5.2,4.2,"NO","W12153557N3953230","W12153419N3953235","W12153419N3953235-W12153557N3953230",102911105,"WYANDOTTE 1105",null,"2019-11-20T17:46:46",null,null,"Not assessed","https://viewer.us-3.sharpershape.services/viewer/assets/5ca5a2c6f6b463191ca04d93/details","https://viewer.us-3.sharpershape.services/viewer/issues/5ee2b430a03e66000146e433/details","high","W12153454N3953231 WYANDOTTE 1105","[DouglasFir, CoastalLiveOak, MontereyPine]","DouglasFir"]
[118,"NORTHERN","NORTH VALLEY","Tier 2-3","102911105 Tier 2-3",102911105,"WYANDOTTE 1105",18.3,39.530290000000001,-121.525949999999,null,39.899999999999899,"W12152595N3953029",3.7,-12.8,"YES","W12152603N3952974","W12152603N3953064","W12152603N3953064-W12152603N3952974",102911105,"WYANDOTTE 1105",null,"2019-11-20T17:46:46",null,null,"Not assessed","https://viewer.us-3.sharpershape.services/viewer/assets/5ca5a2c6f6b463cd78a04dbd/details","https://viewer.us-3.sharpershape.services/viewer/issues/5ecf8c98a03e660001310be4/details","high","W12152595N3953029 WYANDOTTE 1105","[GrayPine, MontereyPine, ValleyOak]","GrayPine"]
[119,"NORTHERN","NORTH VALLEY","Tier 2-3","102911105 Tier 2-3",102911105,"WYANDOTTE 1105",14.8,39.525289999999899,-121.514539999999,null,39.200000000000003,"W12151454N3952529",6.7,-9.5,"YES","W12151459N3952471","W12151461N3952559","W12151461N3952559-W12151459N3952471",102911105,"WYANDOTTE 1105",null,"2019-11-20T17:46:46",null,null,"Not assessed","https://viewer.us-3.sharpershape.services/viewer/assets/5d8b1e506476d7eadd5dd3a0/details","https://viewer.us-3.sharpershape.services/viewer/issues/5ecf8c9934b60c00015ec36b/details","high","W12151454N3952529 WYANDOTTE 1105","[Other, GrayPine, CoastalLiveOak]","Other"]
[120,"NORTHERN","NORTH VALLEY","Tier 2-3","102911105 Tier 2-3",102911105,"WYANDOTTE 1105",0.3,39.532559999999897,-121.526039999999,null,31.3,"W12152604N3953256",4.5,4.9000000000000004,"NO","W12152605N3953285","W12152605N3953235","W12152605N3953235-W12152605N3953285",102911105,"WYANDOTTE 1105",null,"2019-11-20T17:46:46",null,null,"Not assessed","https://viewer.us-3.sharpershape.services/viewer/assets/5e1c22f1942b994ca37b032f/details","https://viewer.us-3.sharpershape.services/viewer/issues/5ecfe7c234b60c000160de50/details","high","W12152604N3953256 WYANDOTTE 1105","[DouglasFir, Other, CoastalLiveOak]","DouglasFir"]
[121,"NORTHERN","NORTH VALLEY","Tier 2-3","102911105 Tier 2-3",102911105,"WYANDOTTE 1105",4.4000000000000004,39.541139999999899,-121.542389999999,null,15,"W12154239N3954114",5.4,4,"NO","W12154206N3954186","W12154249N3954102","W12154249N3954102-W12154206N3954186",102911105,"WYANDOTTE 1105",null,"2019-11-20T17:46:46",null,null,"Not assessed","https://viewer.us-3.sharpershape.services/viewer/assets/5ca5a2c6f6b4631d52a04cea/details","https://viewer.us-3.sharpershape.services/viewer/issues/5ecf8c98a03e660001310bfb/details","high","W12154239N3954114 WYANDOTTE 1105"]
[122,"NORTHERN","NORTH VALLEY","Tier 2-3","102911105 Tier 2-3",102911105,"WYANDOTTE 1105",11.3,39.531369999999903,-121.540889999999,null,24.3,"W12154089N3953137",12,9.5,"NO","W12154086N3953214","W12154084N3953131","W12154084N3953131-W12154086N3953214",102911105,"WYANDOTTE 1105",null,"2019-11-20T17:46:46",null,null,"Not assessed","https://viewer.us-3.sharpershape.services/viewer/assets/5ca5a2c6f6b4630944a04ef1/details","https://viewer.us-3.sharpershape.services/viewer/issues/5ecf8c98a03e660001310b64/details","high","W12154089N3953137 WYANDOTTE 1105","[GrayPine, DouglasFir, ValleyOak]","GrayPine"]
[123,"NORTHERN","NORTH VALLEY","Tier 0-1","102911105 Tier 0-1",102911105,"WYANDOTTE 1105",41,39.523269999999897,-121.515429999999,null,64.799999999999898,"W12151543N3952327",9,0.3,"NO","W12151549N3952385","W12151562N3952310","W12151562N3952310-W12151549N3952385",102911105,"WYANDOTTE 1105",null,"2019-11-20T17:46:46",null,null,"Not assessed","https://viewer.us-3.sharpershape.services/viewer/assets/5ca5a2c6f6b4631737a04c04/details","https://viewer.us-3.sharpershape.services/viewer/issues/5ecf8c9534b60c00015ec087/details","high","W12151543N3952327 WYANDOTTE 1105","[DouglasFir, CoastalLiveOak, MontereyPine]","DouglasFir"]
[124,"NORTHERN","NORTH VALLEY","Tier 2-3","102911105 Tier 2-3",102911105,"WYANDOTTE 1105",12.5,39.532319999999899,-121.54088,null,57,"W12154088N3953232",11.6,-14.2,"YES","W12154073N3953285","W12154086N3953214","W12154086N3953214-W12154073N3953285",102911105,"WYANDOTTE 1105",null,"2019-11-20T17:46:46",null,null,"Not assessed","https://viewer.us-3.sharpershape.services/viewer/assets/5ca5a2c6f6b4635017a04ad1/details","https://viewer.us-3.sharpershape.services/viewer/issues/5ecf8c96a03e6600013109b4/details","high","W12154088N3953232 WYANDOTTE 1105","[DouglasFir, CoastalLiveOak, Other]","DouglasFir"]
[125,"NORTHERN","NORTH VALLEY","Tier 2-3","102911105 Tier 2-3",102911105,"WYANDOTTE 1105",43.2,39.526060000000001,-121.51446,null,21.4,"W12151446N3952606",6.7,18.6999999999999,"NO","W12151463N3952642","W12151461N3952559","W12151461N3952559-W12151463N3952642",102911105,"WYANDOTTE 1105",null,"2019-11-20T17:46:46",null,null,"Not assessed","https://viewer.us-3.sharpershape.services/viewer/assets/5d8b1e4455dd6b5e853f3023/details","https://viewer.us-3.sharpershape.services/viewer/issues/5ecf8eb234b60c00015ec8ea/details","high","W12151446N3952606 WYANDOTTE 1105","[Other, DouglasFir, GrayPine]","Other"]
[126,"NORTHERN","NORTH VALLEY","Tier 2-3","102911105 Tier 2-3",102911105,"WYANDOTTE 1105",21.5,39.530999999999899,-121.538979999999,null,81.2,"W12153898N3953100",12,-47.3,"YES","W12153907N3953103","W12153908N3953063","W12153908N3953063-W12153907N3953103",102911105,"WYANDOTTE 1105",null,"2019-11-20T17:46:46",null,null,"Not assessed","https://viewer.us-3.sharpershape.services/viewer/assets/5ca5a2c6f6b463538ea050f7/details","https://viewer.us-3.sharpershape.services/viewer/issues/5ecf8c9734b60c00015ec1d1/details","high","W12153898N3953100 WYANDOTTE 1105","[GrayPine, Other, DouglasFir]","GrayPine"]
[127,"NORTHERN","NORTH VALLEY","Tier 2-3","102911105 Tier 2-3",102911105,"WYANDOTTE 1105",27,39.524079999999898,-121.53752,null,37.5,"W12153752N3952408",4.9000000000000004,9.4,"NO","W12153716N3952455","W12153751N3952386","W12153751N3952386-W12153716N3952455",102911105,"WYANDOTTE 1105",null,"2019-11-20T17:46:46",null,null,"Not assessed","https://viewer.us-3.sharpershape.services/viewer/assets/5ca5a2c6f6b46351f2a04ede/details","https://viewer.us-3.sharpershape.services/viewer/issues/5ecf8c9634b60c00015ec164/details","high","W12153752N3952408 WYANDOTTE 1105","[Other, DouglasFir, GrayPine]","Other"]
[128,"NORTHERN","NORTH VALLEY","Tier 2-3","102911105 Tier 2-3",102911105,"WYANDOTTE 1105",14.4,39.527189999999898,-121.53542,null,30.1,"W12153542N3952719",12,0.8,"NO","W12153535N3952774","W12153536N3952706","W12153536N3952706-W12153535N3952774",102911105,"WYANDOTTE 1105",null,"2019-11-20T17:46:46",null,null,"Not assessed","https://viewer.us-3.sharpershape.services/viewer/assets/5ca5a2c6f6b463ada9a04fb0/details","https://viewer.us-3.sharpershape.services/viewer/issues/5ecf8c97a03e660001310a73/details","high","W12153542N3952719 WYANDOTTE 1105","[GrayPine, MontereyPine, DouglasFir]","GrayPine"]
[129,"NORTHERN","NORTH VALLEY","Tier 2-3","102911105 Tier 2-3",102911105,"WYANDOTTE 1105",105.2,39.529260000000001,-121.52441,null,97.4,"W12152441N3952926",88.9,7.7,"NO","W12152414N3952959","W12152508N3952949","W12152508N3952949-W12152414N3952959",102911105,"WYANDOTTE 1105",null,"2019-11-20T17:46:46",null,null,"Not assessed","https://viewer.us-3.sharpershape.services/viewer/assets/5ca5a2c6f6b4633d64a04cf9/details","https://viewer.us-3.sharpershape.services/viewer/issues/5ee2b4c3a03e66000146e45f/details","high","W12152441N3952926 WYANDOTTE 1105"]
[130,"NORTHERN","NORTH VALLEY","Tier 2-3","102911105 Tier 2-3",102911105,"WYANDOTTE 1105",15.7,39.53058,-121.536949999999,null,48.899999999999899,"W12153695N3953058",5.9,-16.100000000000001,"YES","W12153771N3953063","W12153655N3953063","W12153655N3953063-W12153771N3953063",102911105,"WYANDOTTE 1105",null,"2019-11-20T17:46:46",null,null,"Not assessed","https://viewer.us-3.sharpershape.services/viewer/assets/5ca5a2c6f6b4639bcca05130/details","https://viewer.us-3.sharpershape.services/viewer/issues/5ecf8c91a03e660001310819/details","high","W12153695N3953058 WYANDOTTE 1105","[DouglasFir, LiveOak, Other]","DouglasFir"]
[131,"NORTHERN","NORTH VALLEY","Tier 2-3","102911105 Tier 2-3",102911105,"WYANDOTTE 1105",45.899999999999899,39.531869999999898,-121.540679999999,null,63.2,"W12154068N3953187",24.3,-14.2,"YES","W12154086N3953214","W12154084N3953131","W12154084N3953131-W12154086N3953214",102911105,"WYANDOTTE 1105",null,"2019-11-20T17:46:46",null,null,"Not assessed","https://viewer.us-3.sharpershape.services/viewer/assets/5ca5a2c6f6b4630944a04ef1/details","https://viewer.us-3.sharpershape.services/viewer/issues/5ecf8c98a03e660001310b4e/details","high","W12154068N3953187 WYANDOTTE 1105","[GrayPine, DouglasFir, Eucalyptus/BlueGum]","GrayPine"]
[132,"NORTHERN","NORTH VALLEY","Tier 2-3","102911105 Tier 2-3",102911105,"WYANDOTTE 1105",9.6999999999999993,39.531770000000002,-121.5365,null,32.700000000000003,"W12153650N3953177",3.3,-0.4,"YES","W12153654N3953154","W12153655N3953211","W12153655N3953211-W12153654N3953154",102911105,"WYANDOTTE 1105",null,"2019-11-20T17:46:46",null,null,"Not assessed","https://viewer.us-3.sharpershape.services/viewer/assets/5ca5a2c6f6b463875ba04bda/details","https://viewer.us-3.sharpershape.services/viewer/issues/5ecf8c9534b60c00015ec08e/details","high","W12153650N3953177 WYANDOTTE 1105","[DouglasFir, Other, Eucalyptus/BlueGum]","DouglasFir"]
[133,"NORTHERN","NORTH VALLEY","Tier 2-3","102911105 Tier 2-3",102911105,"WYANDOTTE 1105",14,39.532800000000002,-121.52611,null,38,"W12152611N3953280",8.8000000000000007,4.5999999999999996,"NO","W12152605N3953285","W12152605N3953235","W12152605N3953235-W12152605N3953285",102911105,"WYANDOTTE 1105",null,"2019-11-20T17:46:46",null,null,"Not assessed","https://viewer.us-3.sharpershape.services/viewer/assets/5e1c22f1942b994ca37b032f/details","https://viewer.us-3.sharpershape.services/viewer/issues/5ecfe7bc34b60c000160de47/details","high","W12152611N3953280 WYANDOTTE 1105","[DouglasFir, Other, LiveOak]","DouglasFir"]
[134,"NORTHERN","NORTH VALLEY","Tier 2-3","102911105 Tier 2-3",102911105,"WYANDOTTE 1105",23.1,39.530009999999898,-121.52204,null,28.6,"W12152204N3953001",7.2,9.1999999999999993,"NO","W12152284N3952992","W12152184N3953012","W12152184N3953012-W12152284N3952992",102911105,"WYANDOTTE 1105",null,"2019-11-20T17:46:46",null,null,"Not assessed","https://viewer.us-3.sharpershape.services/viewer/assets/5ca5a2c6f6b4639636a0497c/details","https://viewer.us-3.sharpershape.services/viewer/issues/5ee2b4c2a03e66000146e44b/details","high","W12152204N3953001 WYANDOTTE 1105","[DouglasFir, MontereyPine, CoastalLiveOak]","DouglasFir"]
[135,"NORTHERN","NORTH VALLEY","Tier 2-3","102911105 Tier 2-3",102911105,"WYANDOTTE 1105",23.4,39.530549999999899,-121.53564,null,31,"W12153564N3953055",8.1,-2.6,"YES","W12153538N3953063","W12153655N3953063","W12153655N3953063-W12153538N3953063",102911105,"WYANDOTTE 1105",null,"2019-11-20T17:46:46",null,null,"Not assessed","https://viewer.us-3.sharpershape.services/viewer/assets/5ca5a2c6f6b4638037a04ab3/details","https://viewer.us-3.sharpershape.services/viewer/issues/5ecf8c95a03e660001310924/details","high","W12153564N3953055 WYANDOTTE 1105","[DouglasFir, Other, Eucalyptus/BlueGum]","DouglasFir"]
[136,"NORTHERN","NORTH VALLEY","Tier 2-3","102911105 Tier 2-3",102911105,"WYANDOTTE 1105",0,39.524450000000002,-121.537219999999,null,33.399999999999899,"W12153722N3952445",5.2,5.2,"NO","W12153716N3952455","W12153751N3952386","W12153751N3952386-W12153716N3952455",102911105,"WYANDOTTE 1105",null,"2019-11-20T17:46:46",null,null,"Not assessed","https://viewer.us-3.sharpershape.services/viewer/assets/5ca5a2c6f6b46351f2a04ede/details","https://viewer.us-3.sharpershape.services/viewer/issues/5ecf95d7a03e660001312160/details","high","W12153722N3952445 WYANDOTTE 1105","[GrayPine, MontereyPine, DouglasFir]","GrayPine"]
[137,"NORTHERN","NORTH VALLEY","Tier 2-3","102911105 Tier 2-3",102911105,"WYANDOTTE 1105",43.3,39.532959999999903,-121.5316,null,50.6,"W12153160N3953296",6.9,-1.5,"YES","W12153205N3953285","W12153118N3953282","W12153118N3953282-W12153205N3953285",102911105,"WYANDOTTE 1105",null,"2019-11-20T17:46:46",null,null,"Not assessed","https://viewer.us-3.sharpershape.services/viewer/assets/5ca5a2c6f6b463490aa04d2f/details","https://viewer.us-3.sharpershape.services/viewer/issues/5ecf8c9534b60c00015ec0cb/details","high","W12153160N3953296 WYANDOTTE 1105","[DouglasFir, TanOak, CoastalLiveOak]","DouglasFir"]
[138,"NORTHERN","NORTH VALLEY","Tier 2-3","102911105 Tier 2-3",102911105,"WYANDOTTE 1105",34.200000000000003,39.535829999999898,-121.54236,null,38.1,"W12154236N3953583",16.6999999999999,3.7,"NO","W12154256N3953592","W12154242N3953570","W12154242N3953570-W12154256N3953592",102911105,"WYANDOTTE 1105",null,"2019-11-20T17:46:46",null,null,"Not assessed","https://viewer.us-3.sharpershape.services/viewer/assets/5ca5a2c6f6b4638a06a050ea/details","https://viewer.us-3.sharpershape.services/viewer/issues/5ecf8c95a03e66000131096a/details","high","W12154236N3953583 WYANDOTTE 1105","[Other, LiveOak, MontereyPine]","Other"]
[139,"NORTHERN","NORTH VALLEY","Tier 2-3","102911105 Tier 2-3",102911105,"WYANDOTTE 1105",12.6,39.527789999999897,-121.527879999999,null,40.6,"W12152788N3952779",4.5,-6.2,"YES","W12152750N3952825","W12152800N3952774","W12152800N3952774-W12152750N3952825",102911105,"WYANDOTTE 1105",null,"2019-11-20T17:46:46",null,null,"Not assessed","https://viewer.us-3.sharpershape.services/viewer/assets/5ca5a2c6f6b4634ff7a05112/details","https://viewer.us-3.sharpershape.services/viewer/issues/5ecf8c9434b60c00015ec045/details","high","W12152788N3952779 WYANDOTTE 1105","[CoastalLiveOak, Eucalyptus/BlueGum, DouglasFir]","CoastalLiveOak"]
[140,"NORTHERN","NORTH VALLEY","Tier 2-3","102911105 Tier 2-3",102911105,"WYANDOTTE 1105",25.1,39.529849999999897,-121.519679999999,null,29.8,"W12151968N3952985",12.2,8.6999999999999993,"NO","W12151936N3952926","W12152005N3953021","W12152005N3953021-W12151936N3952926",102911105,"WYANDOTTE 1105",null,"2019-11-20T17:46:46",null,null,"Not assessed","https://viewer.us-3.sharpershape.services/viewer/assets/5ca5a2c6f6b463d94da04bdf/details","https://viewer.us-3.sharpershape.services/viewer/issues/5ecf8c9834b60c00015ec2c3/details","high","W12151968N3952985 WYANDOTTE 1105","[GrayPine, MontereyPine, Other]","GrayPine"]
[141,"NORTHERN","NORTH VALLEY","Tier 2-3","102911105 Tier 2-3",102911105,"WYANDOTTE 1105",13.3,39.532469999999897,-121.539279999999,null,37.1,"W12153928N3953247",7.8,-2.8,"YES","W12153905N3953243","W12153963N3953242","W12153963N3953242-W12153905N3953243",102911105,"WYANDOTTE 1105",null,"2019-11-20T17:46:46",null,null,"Not assessed","https://viewer.us-3.sharpershape.services/viewer/assets/5ca5a2c6f6b4637e06a05104/details","https://viewer.us-3.sharpershape.services/viewer/issues/5ecf8c9634b60c00015ec15c/details","high","W12153928N3953247 WYANDOTTE 1105","[DouglasFir, LiveOak, Other]","DouglasFir"]
[142,"NORTHERN","NORTH VALLEY","Tier 2-3","102911105 Tier 2-3",102911105,"WYANDOTTE 1105",21,39.532379999999897,-121.538389999999,null,72.400000000000006,"W12153839N3953238",4.4000000000000004,-44.899999999999899,"YES","W12153905N3953243","W12153810N3953244","W12153810N3953244-W12153905N3953243",102911105,"WYANDOTTE 1105",null,"2019-11-20T17:46:46","OH",null,"Not assessed","https://viewer.us-3.sharpershape.services/viewer/assets/5ca5a2c6f6b46300cca04f1d/details","https://viewer.us-3.sharpershape.services/viewer/issues/5ecf8c93a03e6600013108a4/details","high","W12153839N3953238 WYANDOTTE 1105","[DouglasFir, GrayPine, TanOak]","DouglasFir"]
[143,"NORTHERN","NORTH VALLEY","Tier 2-3","102911105 Tier 2-3",102911105,"WYANDOTTE 1105",15,39.530989999999903,-121.53660000000001,null,47.399999999999899,"W12153660N3953099",7.8,-7.5,"YES","W12153654N3953103","W12153655N3953063","W12153655N3953063-W12153654N3953103",102911105,"WYANDOTTE 1105",null,"2019-11-20T17:46:46",null,null,"Not assessed","https://viewer.us-3.sharpershape.services/viewer/assets/5ca5a2c6f6b4639202a04d3a/details","https://viewer.us-3.sharpershape.services/viewer/issues/5ecf8c96a03e660001310a26/details","high","W12153660N3953099 WYANDOTTE 1105","[CoastalLiveOak, Other, Eucalyptus/BlueGum]","CoastalLiveOak"]
[144,"NORTHERN","NORTH VALLEY","Tier 2-3","102911105 Tier 2-3",102911105,"WYANDOTTE 1105",65.7,39.52863,-121.52037,null,95.9,"W12152037N3952863",53.899999999999899,-19.100000000000001,"YES","W12152014N3952914","W12152053N3952877","W12152053N3952877-W12152014N3952914",102911105,"WYANDOTTE 1105",null,"2019-11-20T17:46:46",null,null,"Not assessed","https://viewer.us-3.sharpershape.services/viewer/assets/5ca5a2c6f6b463d0f3a04a55/details","https://viewer.us-3.sharpershape.services/viewer/issues/5ecf8c9734b60c00015ec20d/details","high","W12152037N3952863 WYANDOTTE 1105","[CoastalLiveOak, Other, DouglasFir]","CoastalLiveOak"]
[145,"NORTHERN","NORTH VALLEY","Tier 2-3","102911105 Tier 2-3",102911105,"WYANDOTTE 1105",32.700000000000003,39.527339999999903,-121.531769999999,null,63.1,"W12153177N3952734",12,-22,"YES","W12153152N3952699","W12153200N3952739","W12153200N3952739-W12153152N3952699",102911105,"WYANDOTTE 1105",null,"2019-11-20T17:46:46",null,null,"Not assessed","https://viewer.us-3.sharpershape.services/viewer/assets/5ca5a2c6f6b46337eda04c68/details","https://viewer.us-3.sharpershape.services/viewer/issues/5ecf8c9034b60c00015ebfd9/details","high","W12153177N3952734 WYANDOTTE 1105","[Eucalyptus/BlueGum, DouglasFir, TanOak]","Eucalyptus/BlueGum"]
[146,"NORTHERN","NORTH VALLEY","Tier 2-3","102911105 Tier 2-3",102911105,"WYANDOTTE 1105",56.7,39.532649999999897,-121.53870000000001,null,62.899999999999899,"W12153870N3953265",41.5,-2.4,"YES","W12153906N3953282","W12153848N3953281","W12153848N3953281-W12153906N3953282",102911105,"WYANDOTTE 1105",null,"2019-11-20T17:46:46",null,null,"Not assessed","https://viewer.us-3.sharpershape.services/viewer/assets/5ca5a2c6f6b46324baa04ba9/details","https://viewer.us-3.sharpershape.services/viewer/issues/5ecf8c9934b60c00015ec32e/details","high","W12153870N3953265 WYANDOTTE 1105","[GrayPine, Other, LiveOak]","GrayPine"]
[147,"NORTHERN","NORTH VALLEY","Tier 2-3","102911105 Tier 2-3",102911105,"WYANDOTTE 1105",43.2,39.53295,-121.534379999999,null,46.2,"W12153438N3953295",43.3,8.8000000000000007,"NO","W12153419N3953235","W12153421N3953300","W12153421N3953300-W12153419N3953235",102911105,"WYANDOTTE 1105",null,"2019-11-20T17:46:46",null,null,"Not assessed","https://viewer.us-3.sharpershape.services/viewer/assets/5ca5a2c6f6b4635c05a05132/details","https://viewer.us-3.sharpershape.services/viewer/issues/5ee2b42f34b60c0001746b66/details","high","W12153438N3953295 WYANDOTTE 1105","[GrayPine, DouglasFir, TanOak]","GrayPine"]
[148,"NORTHERN","NORTH VALLEY","Tier 0-1","102911105 Tier 0-1",102911105,"WYANDOTTE 1105",4.8,39.524629999999902,-121.521379999999,null,24.8,"W12152138N3952463",8.6999999999999993,8.4,"NO","W12152121N3952468","W12152223N3952454","W12152223N3952454-W12152121N3952468",102911105,"WYANDOTTE 1105",null,"2019-11-20T17:46:46",null,null,"Not assessed","https://viewer.us-3.sharpershape.services/viewer/assets/5ca5a2c6f6b4634c98a0504c/details","https://viewer.us-3.sharpershape.services/viewer/issues/5ecf8c9634b60c00015ec14e/details","high","W12152138N3952463 WYANDOTTE 1105","[DouglasFir, MontereyPine, Other]","DouglasFir"]
[149,"NORTHERN","NORTH VALLEY","Tier 0-1","102911105 Tier 0-1",102911105,"WYANDOTTE 1105",32.200000000000003,39.525309999999898,-121.5352,null,34.200000000000003,"W12153520N3952531",14.7,9.3000000000000007,"NO","W12153537N3952537","W12153462N3952554","W12153462N3952554-W12153537N3952537",102911105,"WYANDOTTE 1105",null,"2019-11-20T17:46:46",null,null,"Not assessed","https://viewer.us-3.sharpershape.services/viewer/assets/5ca5a2c6f6b463381fa049b8/details","https://viewer.us-3.sharpershape.services/viewer/issues/5ecf8c96a03e6600013109e7/details","high","W12153520N3952531 WYANDOTTE 1105","[CoastalLiveOak, Other, DouglasFir]","CoastalLiveOak"]
[150,"NORTHERN","NORTH VALLEY","Tier 2-3","102911105 Tier 2-3",102911105,"WYANDOTTE 1105",10.3,39.53237,-121.53449999999999,null,41,"W12153450N3953237",6.5,-13.9,"YES","W12153557N3953230","W12153419N3953235","W12153419N3953235-W12153557N3953230",102911105,"WYANDOTTE 1105",null,"2019-11-20T17:46:46",null,null,"Not assessed","https://viewer.us-3.sharpershape.services/viewer/assets/5ca5a2c6f6b463191ca04d93/details","https://viewer.us-3.sharpershape.services/viewer/issues/5ee2b430a03e66000146e440/details","high","W12153450N3953237 WYANDOTTE 1105","[DouglasFir, TanOak, CoastalLiveOak]","DouglasFir"]
[151,"NORTHERN","NORTH VALLEY","Tier 2-3","102911105 Tier 2-3",102911105,"WYANDOTTE 1105",10.6,39.530519999999903,-121.531639999999,null,44,"W12153164N3953052",5.7,-9.4,"YES","W12153206N3953048","W12153157N3953048","W12153157N3953048-W12153206N3953048",102911105,"WYANDOTTE 1105",null,"2019-11-20T17:46:46",null,null,"Not assessed","https://viewer.us-3.sharpershape.services/viewer/assets/5ca5a2c6f6b4633db9a04a98/details","https://viewer.us-3.sharpershape.services/viewer/issues/5ecf8c9634b60c00015ec140/details","high","W12153164N3953052 WYANDOTTE 1105","[LiveOak, DouglasFir, Other]","LiveOak"]
[152,"NORTHERN","NORTH VALLEY","Tier 0-1","102911105 Tier 0-1",102911105,"WYANDOTTE 1105",43.2,39.525509999999898,-121.5339,null,64.5,"W12153390N3952551",25.6999999999999,-10,"YES","W12153390N3952564","W12153462N3952554","W12153462N3952554-W12153390N3952564",102911105,"WYANDOTTE 1105",null,"2019-11-20T17:46:46",null,null,"Not assessed","https://viewer.us-3.sharpershape.services/viewer/assets/5ca5a2c6f6b463cfd6a04cce/details","https://viewer.us-3.sharpershape.services/viewer/issues/5ecf8c9834b60c00015ec277/details","high","W12153390N3952551 WYANDOTTE 1105","[GrayPine, MontereyPine, Eucalyptus/BlueGum]","GrayPine"]
[153,"NORTHERN","NORTH VALLEY","Tier 2-3","102911105 Tier 2-3",102911105,"WYANDOTTE 1105",15.8,39.53069,-121.532,null,35.200000000000003,"W12153200N3953069",4.9000000000000004,-1.7,"YES","W12153206N3953048","W12153207N3953097","W12153207N3953097-W12153206N3953048",102911105,"WYANDOTTE 1105",null,"2019-11-20T17:46:46",null,null,"Not assessed","https://viewer.us-3.sharpershape.services/viewer/assets/5ca5a2c6f6b46317dca04964/details","https://viewer.us-3.sharpershape.services/viewer/issues/5ecf8c95a03e660001310940/details","high","W12153200N3953069 WYANDOTTE 1105","[LiveOak, DouglasFir, GrayPine]","LiveOak"]
[154,"NORTHERN","NORTH VALLEY","Tier 2-3","102911105 Tier 2-3",102911105,"WYANDOTTE 1105",11.7,39.530200000000001,-121.520759999999,null,38.700000000000003,"W12152076N3953020",4.7,-2.1,"YES","W12152091N3953014","W12152005N3953021","W12152005N3953021-W12152091N3953014",102911105,"WYANDOTTE 1105",null,"2019-11-20T17:46:46",null,null,"Not assessed","https://viewer.us-3.sharpershape.services/viewer/assets/5ca5a2c6f6b4637ff5a04e47/details","https://viewer.us-3.sharpershape.services/viewer/issues/5ecf8c9534b60c00015ec077/details","high","W12152076N3953020 WYANDOTTE 1105","[CoastalLiveOak, DouglasFir, Other]","CoastalLiveOak"]
[155,"NORTHERN","NORTH VALLEY","Tier 2-3","102911105 Tier 2-3",102911105,"WYANDOTTE 1105",9.6999999999999993,39.525839999999903,-121.52119999999999,null,24.5,"W12152120N3952584",5.5,2.9,"NO","W12152123N3952539","W12152124N3952614","W12152124N3952614-W12152123N3952539",102911105,"WYANDOTTE 1105",null,"2019-11-20T17:46:46",null,null,"Not assessed","https://viewer.us-3.sharpershape.services/viewer/assets/5ca5a2c6f6b46335f7a04ffc/details","https://viewer.us-3.sharpershape.services/viewer/issues/5ecf8c95a03e66000131090f/details","high","W12152120N3952584 WYANDOTTE 1105","[GrayPine, DouglasFir, Other]","GrayPine"]
[156,"NORTHERN","NORTH VALLEY","Tier 2-3","102911105 Tier 2-3",102911105,"WYANDOTTE 1105",0.8,39.531549999999903,-121.53166,null,26,"W12153166N3953155",4.2,5,"NO","W12153206N3953153","W12153147N3953155","W12153147N3953155-W12153206N3953153",102911105,"WYANDOTTE 1105",null,"2019-11-20T17:46:46",null,null,"Not assessed","https://viewer.us-3.sharpershape.services/viewer/assets/5ca5a2c6f6b4635ba4a04c32/details","https://viewer.us-3.sharpershape.services/viewer/issues/5ecf9571a03e66000131202a/details","high","W12153166N3953155 WYANDOTTE 1105","[DouglasFir, GrayPine, ValleyOak]","DouglasFir"]
[157,"NORTHERN","NORTH VALLEY","Tier 2-3","102911105 Tier 2-3",102911105,"WYANDOTTE 1105",47.899999999999899,39.529910000000001,-121.52217,null,64.099999999999895,"W12152217N3952991",31.4,-10.199999999999999,"YES","W12152284N3952992","W12152184N3953012","W12152184N3953012-W12152284N3952992",102911105,"WYANDOTTE 1105",null,"2019-11-20T17:46:46",null,null,"Not assessed","https://viewer.us-3.sharpershape.services/viewer/assets/5ca5a2c6f6b4639636a0497c/details","https://viewer.us-3.sharpershape.services/viewer/issues/5ee2b4c2a03e66000146e44f/details","high","W12152217N3952991 WYANDOTTE 1105","[MontereyPine, GrayPine, DouglasFir]","MontereyPine"]
[158,"NORTHERN","NORTH VALLEY","Tier 2-3","102911105 Tier 2-3",102911105,"WYANDOTTE 1105",15.6,39.53,-121.522719999999,null,33.700000000000003,"W12152272N3953000",5.7,6.3,"NO","W12152284N3952992","W12152184N3953012","W12152184N3953012-W12152284N3952992",102911105,"WYANDOTTE 1105",null,"2019-11-20T17:46:46",null,null,"Not assessed","https://viewer.us-3.sharpershape.services/viewer/assets/5ca5a2c6f6b4639636a0497c/details","https://viewer.us-3.sharpershape.services/viewer/issues/5ee2b4c2a03e66000146e44e/details","high","W12152272N3953000 WYANDOTTE 1105","[GrayPine, ValleyOak, Other]","GrayPine"]
[159,"NORTHERN","NORTH VALLEY","Tier 2-3","102911105 Tier 2-3",102911105,"WYANDOTTE 1105",43,39.5303299999999,-121.52016,null,62,"W12152016N3953033",26.9,-4.8,"YES","W12152091N3953014","W12152005N3953021","W12152005N3953021-W12152091N3953014",102911105,"WYANDOTTE 1105",null,"2019-11-20T17:46:46",null,null,"Not assessed","https://viewer.us-3.sharpershape.services/viewer/assets/5ca5a2c6f6b4637ff5a04e47/details","https://viewer.us-3.sharpershape.services/viewer/issues/5ecf8c9534b60c00015ec06b/details","high","W12152016N3953033 WYANDOTTE 1105","[GrayPine, Other, DouglasFir]","GrayPine"]
[160,"NORTHERN","NORTH VALLEY","Tier 2-3","102911105 Tier 2-3",102911105,"WYANDOTTE 1105",16.6999999999999,39.532759999999897,-121.53855,null,65.400000000000006,"W12153855N3953276",7.3,-32.1,"YES","W12153906N3953282","W12153848N3953281","W12153848N3953281-W12153906N3953282",102911105,"WYANDOTTE 1105",null,"2019-11-20T17:46:46","OH",null,"Not assessed","https://viewer.us-3.sharpershape.services/viewer/assets/5ca5a2c6f6b46324baa04ba9/details","https://viewer.us-3.sharpershape.services/viewer/issues/5ecf8c9934b60c00015ec31b/details","high","W12153855N3953276 WYANDOTTE 1105","[DouglasFir, CoastalLiveOak, Other]","DouglasFir"]
[161,"NORTHERN","NORTH VALLEY","Tier 2-3","102911105 Tier 2-3",102911105,"WYANDOTTE 1105",34.899999999999899,39.529620000000001,-121.530749999999,null,55.7,"W12153075N3952962",9,-5.5,"YES","W12153068N3952972","W12153130N3952973","W12153130N3952973-W12153068N3952972",102911105,"WYANDOTTE 1105",null,"2019-11-20T17:46:46",null,null,"Not assessed","https://viewer.us-3.sharpershape.services/viewer/assets/5ca5a2c6f6b46312f8a05163/details","https://viewer.us-3.sharpershape.services/viewer/issues/5ecf8c99a03e660001310c1e/details","high","W12153075N3952962 WYANDOTTE 1105","[GrayPine, Other, DouglasFir]","GrayPine"]
[162,"NORTHERN","NORTH VALLEY","Tier 2-3","102911105 Tier 2-3",102911105,"WYANDOTTE 1105",6.9,39.655090000000001,-121.50646,null,21.6999999999999,"W12150646N3965509",10.7,7.5,"NO","W12150643N3965533","W12150660N3965474","W12150660N3965474-W12150643N3965533",102911105,"WYANDOTTE 1105",null,"2019-11-20T17:46:46",null,null,"Not assessed","https://viewer.us-3.sharpershape.services/viewer/assets/5d88be6055dd6b9f923f2ea6/details","https://viewer.us-3.sharpershape.services/viewer/issues/5ecf8c9934b60c00015ec382/details","high","W12150646N3965509 WYANDOTTE 1105","[Other, Eucalyptus/BlueGum, MontereyPine]","Other"]
[163,"NORTHERN","NORTH VALLEY","Tier 2-3","102911105 Tier 2-3",102911105,"WYANDOTTE 1105",12.1,39.532579999999903,-121.5391,null,32.799999999999898,"W12153910N3953258",6,2.8,"NO","W12153906N3953282","W12153905N3953243","W12153905N3953243-W12153906N3953282",102911105,"WYANDOTTE 1105",null,"2019-11-20T17:46:46",null,null,"Not assessed","https://viewer.us-3.sharpershape.services/viewer/assets/5ca5a2c6f6b463fdeba04bb5/details","https://viewer.us-3.sharpershape.services/viewer/issues/5ecf8c9834b60c00015ec233/details","high","W12153910N3953258 WYANDOTTE 1105","[LiveOak, GrayPine, DouglasFir]","LiveOak"]
[164,"NORTHERN","NORTH VALLEY","Tier 2-3","102911105 Tier 2-3",102911105,"WYANDOTTE 1105",32.399999999999899,39.539960000000001,-121.542479999999,null,60.3,"W12154248N3953996",15.6,-26.6,"YES","W12154258N3954066","W12154261N3953987","W12154261N3953987-W12154258N3954066",102911105,"WYANDOTTE 1105",null,"2019-11-20T17:46:46",null,null,"Not assessed","https://viewer.us-3.sharpershape.services/viewer/assets/5ca5a2c6f6b463dd95a04ecd/details","https://viewer.us-3.sharpershape.services/viewer/issues/5ecf8c97a03e660001310acd/details","high","W12154248N3953996 WYANDOTTE 1105","[DouglasFir, Eucalyptus/BlueGum, GrayPine]","DouglasFir"]
[165,"NORTHERN","NORTH VALLEY","Tier 2-3","102911105 Tier 2-3",102911105,"WYANDOTTE 1105",43.399999999999899,39.528509999999898,-121.51876,null,46.3,"W12151876N3952851",9.1999999999999993,5.6,"NO","W12151873N3952887","W12151852N3952834","W12151852N3952834-W12151873N3952887",102911105,"WYANDOTTE 1105",null,"2019-11-20T17:46:46",null,null,"Not assessed","https://viewer.us-3.sharpershape.services/viewer/assets/5ca5a2c6f6b4631966a05106/details","https://viewer.us-3.sharpershape.services/viewer/issues/5ecf8c99a03e660001310bff/details","high","W12151876N3952851 WYANDOTTE 1105","[Other, DouglasFir, MontereyPine]","Other"]
[166,"NORTHERN","NORTH VALLEY","Tier 2-3","102911105 Tier 2-3",102911105,"WYANDOTTE 1105",36,39.537700000000001,-121.54236,null,67.599999999999895,"W12154236N3953770",18.899999999999999,-31.6,"YES","W12154252N3953857","W12154250N3953758","W12154250N3953758-W12154252N3953857",102911105,"WYANDOTTE 1105",null,"2019-11-20T17:46:46",null,null,"Not assessed","https://viewer.us-3.sharpershape.services/viewer/assets/5ca5a2c6f6b463b67da04e4c/details","https://viewer.us-3.sharpershape.services/viewer/issues/5ecf8c97a03e660001310a46/details","high","W12154236N3953770 WYANDOTTE 1105","[Other, GrayPine, DouglasFir]","Other"]
[167,"NORTHERN","NORTH VALLEY","Tier 2-3","102911105 Tier 2-3",102911105,"WYANDOTTE 1105",18,39.53228,-121.53462,null,36,"W12153462N3953228",5.6,-2.7,"YES","W12153557N3953230","W12153419N3953235","W12153419N3953235-W12153557N3953230",102911105,"WYANDOTTE 1105",null,"2019-11-20T17:46:46",null,null,"Not assessed","https://viewer.us-3.sharpershape.services/viewer/assets/5ca5a2c6f6b463191ca04d93/details","https://viewer.us-3.sharpershape.services/viewer/issues/5ee2b430a03e66000146e43c/details","high","W12153462N3953228 WYANDOTTE 1105","[DouglasFir, Other, LiveOak]","DouglasFir"]
[168,"NORTHERN","NORTH VALLEY","Tier 2-3","102911105 Tier 2-3",102911105,"WYANDOTTE 1105",31.5,39.52928,-121.519859999999,null,59,"W12151986N3952928",28.9,-12.4,"YES","W12151936N3952926","W12152014N3952914","W12152014N3952914-W12151936N3952926",102911105,"WYANDOTTE 1105",null,"2019-11-20T17:46:46",null,null,"Not assessed","https://viewer.us-3.sharpershape.services/viewer/assets/5ca5a2c6f6b4634b73a04f6f/details","https://viewer.us-3.sharpershape.services/viewer/issues/5ecf8c96a03e6600013109f4/details","high","W12151986N3952928 WYANDOTTE 1105","[GrayPine, DouglasFir, Other]","GrayPine"]
[169,"NORTHERN","NORTH VALLEY","Tier 2-3","102911105 Tier 2-3",102911105,"WYANDOTTE 1105",18.100000000000001,39.531590000000001,-121.53197,null,38.200000000000003,"W12153197N3953159",10.9,-6.7,"YES","W12153206N3953153","W12153147N3953155","W12153147N3953155-W12153206N3953153",102911105,"WYANDOTTE 1105",null,"2019-11-20T17:46:46",null,null,"Not assessed","https://viewer.us-3.sharpershape.services/viewer/assets/5ca5a2c6f6b4635ba4a04c32/details","https://viewer.us-3.sharpershape.services/viewer/issues/5ecf8c96a03e66000131099d/details","high","W12153197N3953159 WYANDOTTE 1105","[GrayPine, ValleyOak, DouglasFir]","GrayPine"]
[170,"NORTHERN","NORTH VALLEY","Tier 2-3","102911105 Tier 2-3",102911105,"WYANDOTTE 1105",20.9,39.526589999999899,-121.538539999999,null,34.299999999999997,"W12153854N3952659",11.4,9.3000000000000007,"NO","W12153848N3952653","W12153928N3952652","W12153928N3952652-W12153848N3952653",102911105,"WYANDOTTE 1105",null,"2019-11-20T17:46:46",null,null,"Not assessed","https://viewer.us-3.sharpershape.services/viewer/assets/5ca5a2c6f6b463083da04d94/details","https://viewer.us-3.sharpershape.services/viewer/issues/5ecf8c98a03e660001310bbf/details","high","W12153854N3952659 WYANDOTTE 1105","[CoastalLiveOak, DouglasFir, LiveOak]","CoastalLiveOak"]
[171,"NORTHERN","NORTH VALLEY","Tier 2-3","102911105 Tier 2-3",102911105,"WYANDOTTE 1105",60.399999999999899,39.532609999999899,-121.53829,null,71.799999999999898,"W12153829N3953261",48.3,-0.7,"YES","W12153905N3953243","W12153810N3953244","W12153810N3953244-W12153905N3953243",102911105,"WYANDOTTE 1105",null,"2019-11-20T17:46:46",null,null,"Not assessed","https://viewer.us-3.sharpershape.services/viewer/assets/5ca5a2c6f6b46300cca04f1d/details","https://viewer.us-3.sharpershape.services/viewer/issues/5ecf8c93a03e6600013108b3/details","high","W12153829N3953261 WYANDOTTE 1105","[Other, GrayPine, LiveOak]","Other"]
[172,"NORTHERN","NORTH VALLEY","Tier 2-3","102911105 Tier 2-3",102911105,"WYANDOTTE 1105",47.5,39.5250699999999,-121.53726,null,35.200000000000003,"W12153726N3952507",7.7,19.6999999999999,"NO","W12153742N3952569","W12153709N3952512","W12153709N3952512-W12153742N3952569",102911105,"WYANDOTTE 1105",null,"2019-11-20T17:46:46",null,null,"Not assessed","https://viewer.us-3.sharpershape.services/viewer/assets/5ca5a2c6f6b4633f70a04d23/details","https://viewer.us-3.sharpershape.services/viewer/issues/5ecf956234b60c00015ed852/details","high","W12153726N3952507 WYANDOTTE 1105","[GrayPine, ValleyOak, TanOak]","GrayPine"]
[173,"NORTHERN","NORTH VALLEY","Tier 0-1","102911105 Tier 0-1",102911105,"WYANDOTTE 1105",49.2,39.525849999999899,-121.53314,null,51.8,"W12153314N3952585",29.5,5.6,"NO","W12153295N3952615","W12153345N3952585","W12153345N3952585-W12153295N3952615",102911105,"WYANDOTTE 1105",null,"2019-11-20T17:46:46",null,null,"Not assessed","https://viewer.us-3.sharpershape.services/viewer/assets/5ca5a2c6f6b4637e6fa049ea/details","https://viewer.us-3.sharpershape.services/viewer/issues/5ecf8c90a03e66000131080d/details","high","W12153314N3952585 WYANDOTTE 1105","[GrayPine, Eucalyptus/BlueGum, DouglasFir]","GrayPine"]
[174,"NORTHERN","NORTH VALLEY","Tier 0-1","102911105 Tier 0-1",102911105,"WYANDOTTE 1105",51.399999999999899,39.523219999999903,-121.51541,null,61.8,"W12151541N3952322",29,7.4,"NO","W12151549N3952385","W12151562N3952310","W12151562N3952310-W12151549N3952385",102911105,"WYANDOTTE 1105",null,"2019-11-20T17:46:46",null,null,"Not assessed","https://viewer.us-3.sharpershape.services/viewer/assets/5ca5a2c6f6b4631737a04c04/details","https://viewer.us-3.sharpershape.services/viewer/issues/5ecf8c9534b60c00015ec08b/details","high","W12151541N3952322 WYANDOTTE 1105","[GrayPine, DouglasFir, Other]","GrayPine"]
[175,"NORTHERN","NORTH VALLEY","Tier 2-3","102911105 Tier 2-3",102911105,"WYANDOTTE 1105",12.6,39.5297699999999,-121.530439999999,null,34.200000000000003,"W12153044N3952977",7.7,0.6,"NO","W12152988N3952972","W12153068N3952972","W12153068N3952972-W12152988N3952972",102911105,"WYANDOTTE 1105",null,"2019-11-20T17:46:46",null,null,"Not assessed","https://viewer.us-3.sharpershape.services/viewer/assets/5d89b6cc55dd6b81633f2eff/details","https://viewer.us-3.sharpershape.services/viewer/issues/5ecf8c9934b60c00015ec348/details","high","W12153044N3952977 WYANDOTTE 1105","[CoastalLiveOak, MontereyPine, Other]","CoastalLiveOak"]
[176,"NORTHERN","NORTH VALLEY","Tier 2-3","102911105 Tier 2-3",102911105,"WYANDOTTE 1105",15.4,39.529350000000001,-121.525309999999,null,47.399999999999899,"W12152531N3952935",4.5999999999999996,-10,"YES","W12152508N3952949","W12152596N3952916","W12152596N3952916-W12152508N3952949",102911105,"WYANDOTTE 1105",null,"2019-11-20T17:46:46",null,null,"Not assessed","https://viewer.us-3.sharpershape.services/viewer/assets/5ca5a2c6f6b4634e80a04ae4/details","https://viewer.us-3.sharpershape.services/viewer/issues/5ecf8c9734b60c00015ec1de/details","high","W12152531N3952935 WYANDOTTE 1105","[TanOak, MontereyPine, Other]","TanOak"]
[177,"NORTHERN","NORTH VALLEY","Tier 2-3","102911105 Tier 2-3",102911105,"WYANDOTTE 1105",32.1,39.529589999999899,-121.519739999999,null,30,"W12151974N3952959",12,24,"NO","W12151936N3952926","W12152005N3953021","W12152005N3953021-W12151936N3952926",102911105,"WYANDOTTE 1105",null,"2019-11-20T17:46:46",null,null,"Not assessed","https://viewer.us-3.sharpershape.services/viewer/assets/5ca5a2c6f6b463d94da04bdf/details","https://viewer.us-3.sharpershape.services/viewer/issues/5ecf8f2434b60c00015ecb82/details","high","W12151974N3952959 WYANDOTTE 1105","[CoastalLiveOak, Other, MontereyPine]","CoastalLiveOak"]
[178,"NORTHERN","NORTH VALLEY","Tier 0-1","102911105 Tier 0-1",102911105,"WYANDOTTE 1105",3.3,39.5238599999999,-121.51613,null,28.6999999999999,"W12151613N3952386",12,6.5,"NO","W12151682N3952381","W12151594N3952384","W12151594N3952384-W12151682N3952381",102911105,"WYANDOTTE 1105",null,"2019-11-20T17:46:46",null,null,"Not assessed","https://viewer.us-3.sharpershape.services/viewer/assets/5ca5a2c6f6b463b446a04a3d/details","https://viewer.us-3.sharpershape.services/viewer/issues/5ecf8c95a03e66000131094e/details","high","W12151613N3952386 WYANDOTTE 1105","[DouglasFir, Other, CoastalLiveOak]","DouglasFir"]
[179,"NORTHERN","NORTH VALLEY","Tier 2-3","102911105 Tier 2-3",102911105,"WYANDOTTE 1105",0.5,39.5292099999999,-121.519759999999,null,30,"W12151976N3952921",5.8,6.3,"NO","W12151936N3952926","W12152014N3952914","W12152014N3952914-W12151936N3952926",102911105,"WYANDOTTE 1105",null,"2019-11-20T17:46:46",null,null,"Not assessed","https://viewer.us-3.sharpershape.services/viewer/assets/5ca5a2c6f6b4634b73a04f6f/details","https://viewer.us-3.sharpershape.services/viewer/issues/5ecf9549a03e660001311efe/details","high","W12151976N3952921 WYANDOTTE 1105","[GrayPine, DouglasFir, TanOak]","GrayPine"]
[180,"NORTHERN","NORTH VALLEY","Tier 2-3","102911105 Tier 2-3",102911105,"WYANDOTTE 1105",15,39.525109999999898,-121.521159999999,null,45.5,"W12152116N3952511",7.2,-9.6999999999999993,"YES","W12152121N3952468","W12152123N3952539","W12152123N3952539-W12152121N3952468",102911105,"WYANDOTTE 1105",null,"2019-11-20T17:46:46",null,null,"Not assessed","https://viewer.us-3.sharpershape.services/viewer/assets/5ca5a2c6f6b463550ba0502f/details","https://viewer.us-3.sharpershape.services/viewer/issues/5ecf8c9534b60c00015ec0c4/details","high","W12152116N3952511 WYANDOTTE 1105","[CoastalLiveOak, Eucalyptus/BlueGum, DouglasFir]","CoastalLiveOak"]
[181,"NORTHERN","NORTH VALLEY","Tier 2-3","102911105 Tier 2-3",102911105,"WYANDOTTE 1105",18,39.530569999999898,-121.536079999999,null,42.7,"W12153608N3953057",5.6,-15.7,"YES","W12153538N3953063","W12153655N3953063","W12153655N3953063-W12153538N3953063",102911105,"WYANDOTTE 1105",null,"2019-11-20T17:46:46",null,null,"Not assessed","https://viewer.us-3.sharpershape.services/viewer/assets/5ca5a2c6f6b4638037a04ab3/details","https://viewer.us-3.sharpershape.services/viewer/issues/5ecf8c95a03e66000131092b/details","high","W12153608N3953057 WYANDOTTE 1105","[DouglasFir, CoastalLiveOak, Eucalyptus/BlueGum]","DouglasFir"]
[182,"NORTHERN","NORTH VALLEY","Tier 2-3","102911105 Tier 2-3",102911105,"WYANDOTTE 1105",19.600000000000001,39.526200000000003,-121.521039999999,null,37.700000000000003,"W12152104N3952620",8.8000000000000007,1.9,"NO","W12152064N3952615","W12152124N3952614","W12152124N3952614-W12152064N3952615",102911105,"WYANDOTTE 1105",null,"2019-11-20T17:46:46",null,null,"Not assessed","https://viewer.us-3.sharpershape.services/viewer/assets/5ca5a2c6f6b463c7cfa0501b/details","https://viewer.us-3.sharpershape.services/viewer/issues/5ecf8c9634b60c00015ec12c/details","high","W12152104N3952620 WYANDOTTE 1105","[GrayPine, Other, BlackOak]","GrayPine"]
[183,"NORTHERN","NORTH VALLEY","Tier 2-3","102911105 Tier 2-3",102911105,"WYANDOTTE 1105",4.5,39.528500000000001,-121.53207,null,27.1,"W12153207N3952850",6.5,5.7,"NO","W12153206N3952881","W12153205N3952846","W12153205N3952846-W12153206N3952881",102911105,"WYANDOTTE 1105",null,"2019-11-20T17:46:46",null,null,"Not assessed","https://viewer.us-3.sharpershape.services/viewer/assets/5ca5a2c6f6b4635559a050c2/details","https://viewer.us-3.sharpershape.services/viewer/issues/5ecf8c96a03e6600013109aa/details","high","W12153207N3952850 WYANDOTTE 1105","[MontereyPine, DouglasFir, Eucalyptus/BlueGum]","MontereyPine"]
[184,"NORTHERN","NORTH VALLEY","Tier 2-3","102911105 Tier 2-3",102911105,"WYANDOTTE 1105",25.3,39.5250699999999,-121.521119999999,null,36.299999999999997,"W12152112N3952507",8,5.4,"NO","W12152121N3952468","W12152123N3952539","W12152123N3952539-W12152121N3952468",102911105,"WYANDOTTE 1105",null,"2019-11-20T17:46:46",null,null,"Not assessed","https://viewer.us-3.sharpershape.services/viewer/assets/5ca5a2c6f6b463550ba0502f/details","https://viewer.us-3.sharpershape.services/viewer/issues/5ecf8c9534b60c00015ec0bf/details","high","W12152112N3952507 WYANDOTTE 1105","[CoastalLiveOak, Eucalyptus/BlueGum, Other]","CoastalLiveOak"]
[185,"NORTHERN","NORTH VALLEY","Tier 2-3","102911105 Tier 2-3",102911105,"WYANDOTTE 1105",3.5,39.532350000000001,-121.53207,null,19.6999999999999,"W12153207N3953235",12,8.5,"NO","W12153205N3953245","W12153206N3953192","W12153206N3953192-W12153205N3953245",102911105,"WYANDOTTE 1105",null,"2019-11-20T17:46:46",null,null,"Not assessed","https://viewer.us-3.sharpershape.services/viewer/assets/5ca5a2c6f6b463299fa04cf2/details","https://viewer.us-3.sharpershape.services/viewer/issues/5ecf8c9934b60c00015ec371/details","high","W12153207N3953235 WYANDOTTE 1105","[CoastalLiveOak, DouglasFir, Eucalyptus/BlueGum]","CoastalLiveOak"]
[186,"NORTHERN","NORTH VALLEY","Tier 2-3","102911105 Tier 2-3",102911105,"WYANDOTTE 1105",35.899999999999899,39.530279999999898,-121.5206,null,36.1,"W12152060N3953028",5.7,17.6999999999999,"NO","W12152091N3953014","W12152005N3953021","W12152005N3953021-W12152091N3953014",102911105,"WYANDOTTE 1105",null,"2019-11-20T17:46:46",null,null,"Not assessed","https://viewer.us-3.sharpershape.services/viewer/assets/5ca5a2c6f6b4637ff5a04e47/details","https://viewer.us-3.sharpershape.services/viewer/issues/5ecf95ce34b60c00015ed8da/details","high","W12152060N3953028 WYANDOTTE 1105","[Other, TanOak, GrayPine]","Other"]
[187,"NORTHERN","NORTH VALLEY","Tier 2-3","102911105 Tier 2-3",102911105,"WYANDOTTE 1105",17.1999999999999,39.531880000000001,-121.534269999999,null,29,"W12153427N3953188",12,9.1,"NO","W12153419N3953172","W12153419N3953235","W12153419N3953235-W12153419N3953172",102911105,"WYANDOTTE 1105",null,"2019-11-20T17:46:46",null,null,"Not assessed","https://viewer.us-3.sharpershape.services/viewer/assets/5ca5a2c6f6b463ef61a04c9e/details","https://viewer.us-3.sharpershape.services/viewer/issues/5ee2b42e34b60c0001746b50/details","high","W12153427N3953188 WYANDOTTE 1105","[DouglasFir, Other, TanOak]","DouglasFir"]
[188,"NORTHERN","NORTH VALLEY","Tier 2-3","102911105 Tier 2-3",102911105,"WYANDOTTE 1105",65.900000000000006,39.538649999999897,-121.54228000000001,null,77.400000000000006,"W12154228N3953865",49.2,-9.9,"YES","W12154252N3953857","W12154263N3953924","W12154263N3953924-W12154252N3953857",102911105,"WYANDOTTE 1105",null,"2019-11-20T17:46:46",null,null,"Not assessed","https://viewer.us-3.sharpershape.services/viewer/assets/5ca5a2c6f6b463b563a04ed9/details","https://viewer.us-3.sharpershape.services/viewer/issues/5ecf8c9334b60c00015ec02d/details","high","W12154228N3953865 WYANDOTTE 1105","[DouglasFir, GrayPine, Eucalyptus/BlueGum]","DouglasFir"]
[189,"NORTHERN","NORTH VALLEY","Tier 2-3","102911105 Tier 2-3",102911105,"WYANDOTTE 1105",11.6,39.530589999999897,-121.53762,null,24.6,"W12153762N3953059",10.9,9.5,"NO","W12153771N3953063","W12153655N3953063","W12153655N3953063-W12153771N3953063",102911105,"WYANDOTTE 1105",null,"2019-11-20T17:46:46",null,null,"Not assessed","https://viewer.us-3.sharpershape.services/viewer/assets/5ca5a2c6f6b4639bcca05130/details","https://viewer.us-3.sharpershape.services/viewer/issues/5ecf8c91a03e66000131081f/details","high","W12153762N3953059 WYANDOTTE 1105","[LiveOak, DouglasFir, ValleyOak]","LiveOak"]
[190,"NORTHERN","NORTH VALLEY","Tier 2-3","102911105 Tier 2-3",102911105,"WYANDOTTE 1105",8.6,39.531559999999899,-121.53202,null,23.3,"W12153202N3953156",6.6,4.5999999999999996,"NO","W12153206N3953153","W12153147N3953155","W12153147N3953155-W12153206N3953153",102911105,"WYANDOTTE 1105",null,"2019-11-20T17:46:46",null,null,"Not assessed","https://viewer.us-3.sharpershape.services/viewer/assets/5ca5a2c6f6b4635ba4a04c32/details","https://viewer.us-3.sharpershape.services/viewer/issues/5ecf8c96a03e660001310996/details","high","W12153202N3953156 WYANDOTTE 1105","[CoastalLiveOak, Eucalyptus/BlueGum, DouglasFir]","CoastalLiveOak"]
[191,"NORTHERN","NORTH VALLEY","Tier 0-1","102911105 Tier 0-1",102911105,"WYANDOTTE 1105",23,39.52552,-121.534239999999,null,30,"W12153424N3952552",14.5,7.9,"NO","W12153390N3952564","W12153462N3952554","W12153462N3952554-W12153390N3952564",102911105,"WYANDOTTE 1105",null,"2019-11-20T17:46:46",null,null,"Not assessed","https://viewer.us-3.sharpershape.services/viewer/assets/5ca5a2c6f6b463cfd6a04cce/details","https://viewer.us-3.sharpershape.services/viewer/issues/5ecf8c9834b60c00015ec279/details","high","W12153424N3952552 WYANDOTTE 1105","[GrayPine, LiveOak, Other]","GrayPine"]
[192,"NORTHERN","NORTH VALLEY","Tier 0-1","102911105 Tier 0-1",102911105,"WYANDOTTE 1105",14.2,39.525500000000001,-121.535,null,28.6999999999999,"W12153500N3952550",10.199999999999999,6.4,"NO","W12153537N3952537","W12153462N3952554","W12153462N3952554-W12153537N3952537",102911105,"WYANDOTTE 1105",null,"2019-11-20T17:46:46",null,null,"Not assessed","https://viewer.us-3.sharpershape.services/viewer/assets/5ca5a2c6f6b463381fa049b8/details","https://viewer.us-3.sharpershape.services/viewer/issues/5ecf8c96a03e6600013109e9/details","high","W12153500N3952550 WYANDOTTE 1105","[Other, DouglasFir, LiveOak]","Other"]
[193,"NORTHERN","NORTH VALLEY","Tier 0-1","102911105 Tier 0-1",102911105,"WYANDOTTE 1105",25.5,39.524149999999899,-121.53628,null,39.399999999999899,"W12153628N3952415",8.1999999999999904,2.5,"NO","W12153581N3952442","W12153639N3952420","W12153639N3952420-W12153581N3952442",102911105,"WYANDOTTE 1105",null,"2019-11-20T17:46:46",null,null,"Not assessed","https://viewer.us-3.sharpershape.services/viewer/assets/5ca5a2c6f6b46386b0a04cc4/details","https://viewer.us-3.sharpershape.services/viewer/issues/5ecf8c9534b60c00015ec09c/details","high","W12153628N3952415 WYANDOTTE 1105","[Other, CoastalLiveOak, Eucalyptus/BlueGum]","Other"]
[194,"NORTHERN","NORTH VALLEY","Tier 2-3","102911105 Tier 2-3",102911105,"WYANDOTTE 1105",19.100000000000001,39.529419999999902,-121.525909999999,null,25.1999999999999,"W12152591N3952942",9.8000000000000007,21.8,"NO","W12152596N3952916","W12152603N3952974","W12152603N3952974-W12152596N3952916",102911105,"WYANDOTTE 1105",null,"2019-11-20T17:46:46",null,null,"Not assessed","https://viewer.us-3.sharpershape.services/viewer/assets/5ca5a2c6f6b463c9e0a0514e/details","https://viewer.us-3.sharpershape.services/viewer/issues/5ecf8ec2a03e660001311164/details","high","W12152591N3952942 WYANDOTTE 1105","[MontereyPine, Other, DouglasFir]","MontereyPine"]
[195,"NORTHERN","NORTH VALLEY","Tier 2-3","102911105 Tier 2-3",102911105,"WYANDOTTE 1105",41.7,39.529409999999899,-121.524659999999,null,74.2,"W12152466N3952941",25.6,-27.4,"YES","W12152414N3952959","W12152508N3952949","W12152508N3952949-W12152414N3952959",102911105,"WYANDOTTE 1105",null,"2019-11-20T17:46:46",null,null,"Not assessed","https://viewer.us-3.sharpershape.services/viewer/assets/5ca5a2c6f6b4633d64a04cf9/details","https://viewer.us-3.sharpershape.services/viewer/issues/5ee2b4c3a03e66000146e457/details","high","W12152466N3952941 WYANDOTTE 1105","[DouglasFir, Other, MontereyPine]","DouglasFir"]
[196,"NORTHERN","NORTH VALLEY","Tier 2-3","102911105 Tier 2-3",102911105,"WYANDOTTE 1105",49.8,39.532669999999897,-121.538839999999,null,64.599999999999895,"W12153884N3953267",31.9,-10,"YES","W12153906N3953282","W12153848N3953281","W12153848N3953281-W12153906N3953282",102911105,"WYANDOTTE 1105",null,"2019-11-20T17:46:46",null,null,"Not assessed","https://viewer.us-3.sharpershape.services/viewer/assets/5ca5a2c6f6b46324baa04ba9/details","https://viewer.us-3.sharpershape.services/viewer/issues/5ecf8c9934b60c00015ec32a/details","high","W12153884N3953267 WYANDOTTE 1105","[GrayPine, Other, DouglasFir]","GrayPine"]
[197,"NORTHERN","NORTH VALLEY","Tier 2-3","102911105 Tier 2-3",102911105,"WYANDOTTE 1105",25.9,39.531770000000002,-121.53897000000001,null,42.6,"W12153897N3953177",12,-5.4,"YES","W12153907N3953193","W12153907N3953151","W12153907N3953151-W12153907N3953193",102911105,"WYANDOTTE 1105",null,"2019-11-20T17:46:46",null,null,"Not assessed","https://viewer.us-3.sharpershape.services/viewer/assets/5ca5a2c6f6b463c991a04df7/details","https://viewer.us-3.sharpershape.services/viewer/issues/5ecf8c9834b60c00015ec245/details","high","W12153897N3953177 WYANDOTTE 1105","[CoastalLiveOak, DouglasFir, Other]","CoastalLiveOak"]
[198,"NORTHERN","NORTH VALLEY","Tier 2-3","102911105 Tier 2-3",102911105,"WYANDOTTE 1105",32.899999999999899,39.532730000000001,-121.531139999999,null,42.1,"W12153114N3953273",13,-1.2,"YES","W12153205N3953285","W12153118N3953282","W12153118N3953282-W12153205N3953285",102911105,"WYANDOTTE 1105",null,"2019-11-20T17:46:46",null,null,"Not assessed","https://viewer.us-3.sharpershape.services/viewer/assets/5ca5a2c6f6b463490aa04d2f/details","https://viewer.us-3.sharpershape.services/viewer/issues/5ecf8c9534b60c00015ec0ca/details","high","W12153114N3953273 WYANDOTTE 1105","[Other, DouglasFir, LiveOak]","Other"]
[199,"NORTHERN","NORTH VALLEY","Tier 2-3","102911105 Tier 2-3",102911105,"WYANDOTTE 1105",8.4,39.541379999999897,-121.542349999999,null,29.4,"W12154235N3954138",9.1999999999999993,6.9,"NO","W12154206N3954186","W12154249N3954102","W12154249N3954102-W12154206N3954186",102911105,"WYANDOTTE 1105",null,"2019-11-20T17:46:46",null,null,"Not assessed","https://viewer.us-3.sharpershape.services/viewer/assets/5ca5a2c6f6b4631d52a04cea/details","https://viewer.us-3.sharpershape.services/viewer/issues/5ecf8c98a03e660001310bf4/details","high","W12154235N3954138 WYANDOTTE 1105","[DouglasFir, TanOak, LiveOak]","DouglasFir"]
[200,"NORTHERN","NORTH VALLEY","Tier 0-1","102911105 Tier 0-1",102911105,"WYANDOTTE 1105",69.599999999999994,39.525129999999898,-121.535489999999,null,64.799999999999898,"W12153549N3952513",51,7.8,"NO","W12153537N3952537","W12153590N3952523","W12153590N3952523-W12153537N3952537",102911105,"WYANDOTTE 1105",null,"2019-11-20T17:46:46",null,null,"Not assessed","https://viewer.us-3.sharpershape.services/viewer/assets/5ca5a2c6f6b4631c28a0517f/details","https://viewer.us-3.sharpershape.services/viewer/issues/5ecf8c90a03e6600013107f7/details","high","W12153549N3952513 WYANDOTTE 1105","[Other, CoastalLiveOak, Eucalyptus/BlueGum]","Other"]
[201,"NORTHERN","NORTH VALLEY","Tier 2-3","102911105 Tier 2-3",102911105,"WYANDOTTE 1105",8.6999999999999993,39.53313,-121.540779999999,null,22.4,"W12154078N3953313",11.4,9.6999999999999993,"NO","W12154073N3953285","W12154087N3953327","W12154087N3953327-W12154073N3953285",102911105,"WYANDOTTE 1105",null,"2019-11-20T17:46:46",null,null,"Not assessed","https://viewer.us-3.sharpershape.services/viewer/assets/5ca5a2c6f6b463f395a04ceb/details","https://viewer.us-3.sharpershape.services/viewer/issues/5ecf8c97a03e660001310aaa/details","high","W12154078N3953313 WYANDOTTE 1105","[DouglasFir, Eucalyptus/BlueGum, MontereyPine]","DouglasFir"]
[202,"NORTHERN","NORTH VALLEY","Tier 2-3","102911105 Tier 2-3",102911105,"WYANDOTTE 1105",81.400000000000006,39.532640000000001,-121.539729999999,null,90.7,"W12153973N3953264",70.400000000000006,2.5,"NO","W12153905N3953243","W12153963N3953242","W12153963N3953242-W12153905N3953243",102911105,"WYANDOTTE 1105",null,"2019-11-20T17:46:46",null,null,"Not assessed","https://viewer.us-3.sharpershape.services/viewer/assets/5ca5a2c6f6b4637e06a05104/details","https://viewer.us-3.sharpershape.services/viewer/issues/5ecf8c9634b60c00015ec15a/details","high","W12153973N3953264 WYANDOTTE 1105","[DouglasFir, Eucalyptus/BlueGum, GrayPine]","DouglasFir"]
[203,"NORTHERN","NORTH VALLEY","Tier 2-3","102911105 Tier 2-3",102911105,"WYANDOTTE 1105",24.5,39.527629999999903,-121.52843,null,32.899999999999899,"W12152843N3952763",5.9,17.899999999999999,"NO","W12152800N3952774","W12152907N3952726","W12152907N3952726-W12152800N3952774",102911105,"WYANDOTTE 1105",null,"2019-11-20T17:46:46",null,null,"Not assessed","https://viewer.us-3.sharpershape.services/viewer/assets/5ca5a2c6f6b4634630a04e8d/details","https://viewer.us-3.sharpershape.services/viewer/issues/5ecf9555a03e660001311f70/details","high","W12152843N3952763 WYANDOTTE 1105","[Other, GrayPine, TanOak]","Other"]
[204,"NORTHERN","NORTH VALLEY","Tier 0-1","102911105 Tier 0-1",102911105,"WYANDOTTE 1105",25.1,39.522579999999898,-121.515109999999,null,31.6,"W12151511N3952258",10.4,8.3000000000000007,"NO","W12151515N3952268","W12151444N3952251","W12151444N3952251-W12151515N3952268",102911105,"WYANDOTTE 1105",null,"2019-11-20T17:46:46",null,null,"Not assessed","https://viewer.us-3.sharpershape.services/viewer/assets/5d88b94855dd6b09963f2e91/details","https://viewer.us-3.sharpershape.services/viewer/issues/5ecf8c99a03e660001310c19/details","high","W12151511N3952258 WYANDOTTE 1105","[ValleyOak, Other, DouglasFir]","ValleyOak"]
[205,"NORTHERN","NORTH VALLEY","Tier 2-3","102911105 Tier 2-3",102911105,"WYANDOTTE 1105",0.5,39.529979999999902,-121.52252,null,20.8,"W12152252N3952998",8.9,9.3000000000000007,"NO","W12152284N3952992","W12152184N3953012","W12152184N3953012-W12152284N3952992",102911105,"WYANDOTTE 1105",null,"2019-11-20T17:46:46",null,null,"Not assessed","https://viewer.us-3.sharpershape.services/viewer/assets/5ca5a2c6f6b4639636a0497c/details","https://viewer.us-3.sharpershape.services/viewer/issues/5ee2b979a03e66000146e4ca/details","high","W12152252N3952998 WYANDOTTE 1105","[Other, GrayPine, MontereyPine]","Other"]
[206,"NORTHERN","NORTH VALLEY","Tier 2-3","102911105 Tier 2-3",102911105,"WYANDOTTE 1105",54.399999999999899,39.53087,-121.533029999999,null,81,"W12153303N3953087",33.200000000000003,-19,"YES","W12153323N3953048","W12153322N3953104","W12153322N3953104-W12153323N3953048",102911105,"WYANDOTTE 1105",null,"2019-11-20T17:46:46",null,null,"Not assessed","https://viewer.us-3.sharpershape.services/viewer/assets/5ca5a2c6f6b463a1c6a051b8/details","https://viewer.us-3.sharpershape.services/viewer/issues/5ecf8c9334b60c00015ec038/details","high","W12153303N3953087 WYANDOTTE 1105","[GrayPine, Other, DouglasFir]","GrayPine"]
[207,"NORTHERN","NORTH VALLEY","Tier 0-1","102911105 Tier 0-1",102911105,"WYANDOTTE 1105",38.799999999999997,39.5245099999999,-121.521569999999,null,61,"W12152157N3952451",25.8,-12.9,"YES","W12152121N3952468","W12152223N3952454","W12152223N3952454-W12152121N3952468",102911105,"WYANDOTTE 1105",null,"2019-11-20T17:46:46",null,null,"Not assessed","https://viewer.us-3.sharpershape.services/viewer/assets/5ca5a2c6f6b4634c98a0504c/details","https://viewer.us-3.sharpershape.services/viewer/issues/5ecf8c9634b60c00015ec14c/details","high","W12152157N3952451 WYANDOTTE 1105","[MontereyPine, CoastalLiveOak, DouglasFir]","MontereyPine"]
[208,"NORTHERN","NORTH VALLEY","Tier 2-3","102911105 Tier 2-3",102911105,"WYANDOTTE 1105",21.3,39.532609999999899,-121.540859999999,null,47.1,"W12154086N3953261",12,1.2,"NO","W12154073N3953285","W12154086N3953214","W12154086N3953214-W12154073N3953285",102911105,"WYANDOTTE 1105",null,"2019-11-20T17:46:46",null,null,"Not assessed","https://viewer.us-3.sharpershape.services/viewer/assets/5ca5a2c6f6b4635017a04ad1/details","https://viewer.us-3.sharpershape.services/viewer/issues/5ecf8c96a03e6600013109b7/details","high","W12154086N3953261 WYANDOTTE 1105","[Eucalyptus/BlueGum, DouglasFir, Other]","Eucalyptus/BlueGum"]
[209,"NORTHERN","NORTH VALLEY","Tier 2-3","102911105 Tier 2-3",102911105,"WYANDOTTE 1105",54.7,39.5274,-121.531739999999,null,52.399999999999899,"W12153174N3952740",37.1,7.4,"NO","W12153152N3952699","W12153200N3952739","W12153200N3952739-W12153152N3952699",102911105,"WYANDOTTE 1105",null,"2019-11-20T17:46:46",null,null,"Not assessed","https://viewer.us-3.sharpershape.services/viewer/assets/5ca5a2c6f6b46337eda04c68/details","https://viewer.us-3.sharpershape.services/viewer/issues/5ecf8c9034b60c00015ebfdb/details","high","W12153174N3952740 WYANDOTTE 1105"]
[210,"NORTHERN","NORTH VALLEY","Tier 2-3","102911105 Tier 2-3",102911105,"WYANDOTTE 1105",15.9,39.540959999999899,-121.542429999999,null,30.5,"W12154243N3954096",7.9,-9.4,"YES","W12154249N3954102","W12154258N3954066","W12154258N3954066-W12154249N3954102",102911105,"WYANDOTTE 1105",null,"2019-11-20T17:46:46","OH",null,"Not assessed","https://viewer.us-3.sharpershape.services/viewer/assets/5ca5a2c6f6b4638a8aa050a6/details","https://viewer.us-3.sharpershape.services/viewer/issues/5ecf8c96a03e660001310977/details","high","W12154243N3954096 WYANDOTTE 1105","[Eucalyptus/BlueGum, DouglasFir, CoastalLiveOak]","Eucalyptus/BlueGum"]
[211,"NORTHERN","NORTH VALLEY","Tier 2-3","102911105 Tier 2-3",102911105,"WYANDOTTE 1105",14.1,39.530670000000001,-121.53546,null,27.4,"W12153546N3953067",9,5.4,"NO","W12153538N3953063","W12153655N3953063","W12153655N3953063-W12153538N3953063",102911105,"WYANDOTTE 1105",null,"2019-11-20T17:46:46",null,null,"Not assessed","https://viewer.us-3.sharpershape.services/viewer/assets/5ca5a2c6f6b4638037a04ab3/details","https://viewer.us-3.sharpershape.services/viewer/issues/5ecf8c95a03e660001310926/details","high","W12153546N3953067 WYANDOTTE 1105","[CoastalLiveOak, GrayPine, ValleyOak]","CoastalLiveOak"]
[212,"NORTHERN","NORTH VALLEY","Tier 2-3","102911105 Tier 2-3",102911105,"WYANDOTTE 1105",1.7,39.530119999999897,-121.521389999999,null,22,"W12152139N3953012",9.3000000000000007,9.6999999999999993,"NO","W12152184N3953012","W12152091N3953014","W12152091N3953014-W12152184N3953012",102911105,"WYANDOTTE 1105",null,"2019-11-20T17:46:46",null,null,"Not assessed","https://viewer.us-3.sharpershape.services/viewer/assets/5ca5a2c6f6b463611da04cf7/details","https://viewer.us-3.sharpershape.services/viewer/issues/5ecf8c97a03e660001310a93/details","high","W12152139N3953012 WYANDOTTE 1105"]
[213,"NORTHERN","NORTH VALLEY","Tier 2-3","102911105 Tier 2-3",102911105,"WYANDOTTE 1105",30.6,39.532089999999897,-121.531949999999,null,27.6,"W12153195N3953209",10.3,22.3,"NO","W12153205N3953245","W12153206N3953192","W12153206N3953192-W12153205N3953245",102911105,"WYANDOTTE 1105",null,"2019-11-20T17:46:46",null,null,"Not assessed","https://viewer.us-3.sharpershape.services/viewer/assets/5ca5a2c6f6b463299fa04cf2/details","https://viewer.us-3.sharpershape.services/viewer/issues/5ecf959ea03e6600013120f4/details","high","W12153195N3953209 WYANDOTTE 1105","[GrayPine, DouglasFir, ValleyOak]","GrayPine"]
[214,"NORTHERN","NORTH VALLEY","Tier 2-3","102911105 Tier 2-3",102911105,"WYANDOTTE 1105",27.1999999999999,39.529789999999899,-121.525919999999,null,26.1,"W12152592N3952979",7.1,19.100000000000001,"NO","W12152603N3952974","W12152603N3953064","W12152603N3953064-W12152603N3952974",102911105,"WYANDOTTE 1105",null,"2019-11-20T17:46:46",null,null,"Not assessed","https://viewer.us-3.sharpershape.services/viewer/assets/5ca5a2c6f6b463cd78a04dbd/details","https://viewer.us-3.sharpershape.services/viewer/issues/5ecf8efa34b60c00015ecad6/details","high","W12152592N3952979 WYANDOTTE 1105","[GrayPine, TanOak, MontereyPine]","GrayPine"]
[215,"NORTHERN","NORTH VALLEY","Tier 2-3","102911105 Tier 2-3",102911105,"WYANDOTTE 1105",11.7,39.530200000000001,-121.532119999999,null,33.6,"W12153212N3953020",5.0999999999999996,1.1000000000000001,"NO","W12153206N3953048","W12153206N3953018","W12153206N3953018-W12153206N3953048",102911105,"WYANDOTTE 1105",null,"2019-11-20T17:46:46",null,null,"Not assessed","https://viewer.us-3.sharpershape.services/viewer/assets/5ca5a2c6f6b463534ca04e23/details","https://viewer.us-3.sharpershape.services/viewer/issues/5ecf8c94a03e6600013108d8/details","high","W12153212N3953020 WYANDOTTE 1105","[DouglasFir, TanOak, Other]","DouglasFir"]
[216,"NORTHERN","NORTH VALLEY","Tier 2-3","102911105 Tier 2-3",102911105,"WYANDOTTE 1105",40.5,39.530229999999897,-121.51981000000001,null,49.899999999999899,"W12151981N3953023",22.4,2.2000000000000002,"NO","W12151923N3953089","W12152005N3953021","W12152005N3953021-W12151923N3953089",102911105,"WYANDOTTE 1105",null,"2019-11-20T17:46:46",null,null,"Not assessed","https://viewer.us-3.sharpershape.services/viewer/assets/5ca5a2c6f6b46307baa0515f/details","https://viewer.us-3.sharpershape.services/viewer/issues/5ecf8c93a03e6600013108cc/details","high","W12151981N3953023 WYANDOTTE 1105","[GrayPine, ValleyOak, Other]","GrayPine"]
[217,"NORTHERN","NORTH VALLEY","Tier 0-1","102911105 Tier 0-1",102911105,"WYANDOTTE 1105",0,39.5254499999999,-121.53501,null,31.6999999999999,"W12153501N3952545",4.5,4.5,"NO","W12153537N3952537","W12153462N3952554","W12153462N3952554-W12153537N3952537",102911105,"WYANDOTTE 1105",null,"2019-11-20T17:46:46",null,null,"Not assessed","https://viewer.us-3.sharpershape.services/viewer/assets/5ca5a2c6f6b463381fa049b8/details","https://viewer.us-3.sharpershape.services/viewer/issues/5ecf8f0a34b60c00015ecb1e/details","high","W12153501N3952545 WYANDOTTE 1105","[Other, GrayPine, LiveOak]","Other"]
[218,"NORTHERN","NORTH VALLEY","Tier 2-3","102911105 Tier 2-3",102911105,"WYANDOTTE 1105",16.399999999999899,39.531129999999898,-121.53914,null,34.799999999999997,"W12153914N3953113",7.8,0.5,"NO","W12153907N3953151","W12153907N3953103","W12153907N3953103-W12153907N3953151",102911105,"WYANDOTTE 1105",null,"2019-11-20T17:46:46",null,null,"Not assessed","https://viewer.us-3.sharpershape.services/viewer/assets/5ca5a2c6f6b46346bca04e9d/details","https://viewer.us-3.sharpershape.services/viewer/issues/5ecf8c94a03e6600013108fa/details","high","W12153914N3953113 WYANDOTTE 1105","[Other, DouglasFir, CoastalLiveOak]","Other"]
[219,"NORTHERN","NORTH VALLEY","Tier 2-3","102911105 Tier 2-3",102911105,"WYANDOTTE 1105",100.5,39.526899999999998,-121.529499999999,null,99.6,"W12152950N3952690",84.7,2.7,"NO","W12152907N3952726","W12152971N3952716","W12152971N3952716-W12152907N3952726",102911105,"WYANDOTTE 1105",null,"2019-11-20T17:46:46",null,null,"Not assessed","https://viewer.us-3.sharpershape.services/viewer/assets/5ca5a2c6f6b4635805a04cab/details","https://viewer.us-3.sharpershape.services/viewer/issues/5ecf8c9734b60c00015ec1e6/details","high","W12152950N3952690 WYANDOTTE 1105","[MontereyPine, GrayPine, Eucalyptus/BlueGum]","MontereyPine"]
[220,"NORTHERN","NORTH VALLEY","Tier 2-3","102911105 Tier 2-3",102911105,"WYANDOTTE 1105",46.3,39.532559999999897,-121.539519999999,null,87.6,"W12153952N3953256",32.1,-29.6999999999999,"YES","W12153905N3953243","W12153963N3953242","W12153963N3953242-W12153905N3953243",102911105,"WYANDOTTE 1105",null,"2019-11-20T17:46:46",null,null,"Not assessed","https://viewer.us-3.sharpershape.services/viewer/assets/5ca5a2c6f6b4637e06a05104/details","https://viewer.us-3.sharpershape.services/viewer/issues/5ecf8c9634b60c00015ec161/details","high","W12153952N3953256 WYANDOTTE 1105","[Other, GrayPine, TanOak]","Other"]
[221,"NORTHERN","NORTH VALLEY","Tier 2-3","102911105 Tier 2-3",102911105,"WYANDOTTE 1105",53.7,39.53266,-121.53878,null,69.799999999999898,"W12153878N3953266",39.6,-12,"YES","W12153906N3953282","W12153848N3953281","W12153848N3953281-W12153906N3953282",102911105,"WYANDOTTE 1105",null,"2019-11-20T17:46:46",null,null,"Not assessed","https://viewer.us-3.sharpershape.services/viewer/assets/5ca5a2c6f6b46324baa04ba9/details","https://viewer.us-3.sharpershape.services/viewer/issues/5ecf8c9934b60c00015ec322/details","high","W12153878N3953266 WYANDOTTE 1105","[GrayPine, DouglasFir, Other]","GrayPine"]
[222,"NORTHERN","NORTH VALLEY","Tier 2-3","102911105 Tier 2-3",102911105,"WYANDOTTE 1105",1.3,39.531959999999899,-121.540869999999,null,22.9,"W12154087N3953196",9.1999999999999993,10.5,"NO","W12154086N3953214","W12154084N3953131","W12154084N3953131-W12154086N3953214",102911105,"WYANDOTTE 1105",null,"2019-11-20T17:46:46",null,null,"Not assessed","https://viewer.us-3.sharpershape.services/viewer/assets/5ca5a2c6f6b4630944a04ef1/details","https://viewer.us-3.sharpershape.services/viewer/issues/5ecf8eae34b60c00015ec8d2/details","high","W12154087N3953196 WYANDOTTE 1105","[CoastalLiveOak, DouglasFir, Eucalyptus/BlueGum]","CoastalLiveOak"]
[223,"NORTHERN","NORTH VALLEY","Tier 2-3","102911105 Tier 2-3",102911105,"WYANDOTTE 1105",28.3,39.527200000000001,-121.530829999999,null,65.599999999999895,"W12153083N3952720",12,-23.5,"YES","W12153054N3952731","W12153116N3952725","W12153116N3952725-W12153054N3952731",102911105,"WYANDOTTE 1105",null,"2019-11-20T17:46:46",null,null,"Not assessed","https://viewer.us-3.sharpershape.services/viewer/assets/5ca5a2c6f6b4632e29a04bb0/details","https://viewer.us-3.sharpershape.services/viewer/issues/5ecf8c99a03e660001310c56/details","high","W12153083N3952720 WYANDOTTE 1105","[TanOak, MontereyPine, DouglasFir]","TanOak"]
[224,"NORTHERN","NORTH VALLEY","Tier 2-3","102911105 Tier 2-3",102911105,"WYANDOTTE 1105",22.1999999999999,39.529559999999897,-121.523719999999,null,28.6,"W12152372N3952956",6.2,9.6999999999999993,"NO","W12152351N3952966","W12152414N3952959","W12152414N3952959-W12152351N3952966",102911105,"WYANDOTTE 1105",null,"2019-11-20T17:46:46",null,null,"Not assessed","https://viewer.us-3.sharpershape.services/viewer/assets/5ca5a2c6f6b463d8dea04db3/details","https://viewer.us-3.sharpershape.services/viewer/issues/5ee2b4c2a03e66000146e449/details","high","W12152372N3952956 WYANDOTTE 1105","[GrayPine, Other, DouglasFir]","GrayPine"]
[225,"NORTHERN","NORTH VALLEY","Tier 2-3","102911105 Tier 2-3",102911105,"WYANDOTTE 1105",2.2000000000000002,39.532440000000001,-121.539389999999,null,22.1999999999999,"W12153939N3953244",7.4,7.8,"NO","W12153905N3953243","W12153963N3953242","W12153963N3953242-W12153905N3953243",102911105,"WYANDOTTE 1105",null,"2019-11-20T17:46:46",null,null,"Not assessed","https://viewer.us-3.sharpershape.services/viewer/assets/5ca5a2c6f6b4637e06a05104/details","https://viewer.us-3.sharpershape.services/viewer/issues/5ecf8c9634b60c00015ec15d/details","high","W12153939N3953244 WYANDOTTE 1105"]
[226,"NORTHERN","NORTH VALLEY","Tier 2-3","102911105 Tier 2-3",102911105,"WYANDOTTE 1105",9.3000000000000007,39.532179999999897,-121.5321,null,28.1999999999999,"W12153210N3953218",6.3,-0.1,"YES","W12153205N3953245","W12153206N3953192","W12153206N3953192-W12153205N3953245",102911105,"WYANDOTTE 1105",null,"2019-11-20T17:46:46",null,null,"Not assessed","https://viewer.us-3.sharpershape.services/viewer/assets/5ca5a2c6f6b463299fa04cf2/details","https://viewer.us-3.sharpershape.services/viewer/issues/5ecf8c9934b60c00015ec380/details","high","W12153210N3953218 WYANDOTTE 1105","[DouglasFir, CoastalLiveOak, Other]","DouglasFir"]
[227,"NORTHERN","NORTH VALLEY","Tier 2-3","102911105 Tier 2-3",102911105,"WYANDOTTE 1105",60.8,39.531259999999897,-121.53184,null,86.7,"W12153184N3953126",45.899999999999899,-22.6999999999999,"YES","W12153206N3953153","W12153207N3953097","W12153207N3953097-W12153206N3953153",102911105,"WYANDOTTE 1105",null,"2019-11-20T17:46:46",null,null,"Not assessed","https://viewer.us-3.sharpershape.services/viewer/assets/5ca5a2c6f6b463f9cfa04c7e/details","https://viewer.us-3.sharpershape.services/viewer/issues/5ecf8c98a03e660001310b42/details","high","W12153184N3953126 WYANDOTTE 1105","[GrayPine, Other, DouglasFir]","GrayPine"]
[228,"NORTHERN","NORTH VALLEY","Tier 2-3","102911105 Tier 2-3",102911105,"WYANDOTTE 1105",46.5,39.533470000000001,-121.54084,null,88.6,"W12154084N3953347",26,-13.1,"YES","W12154087N3953327","W12154149N3953393","W12154149N3953393-W12154087N3953327",102911105,"WYANDOTTE 1105",null,"2019-11-20T17:46:46",null,null,"Not assessed","https://viewer.us-3.sharpershape.services/viewer/assets/5ca5a2c6f6b4635000a04d2e/details","https://viewer.us-3.sharpershape.services/viewer/issues/5ecf8c9234b60c00015ec00e/details","high","W12154084N3953347 WYANDOTTE 1105","[DouglasFir, GrayPine, CoastalLiveOak]","DouglasFir"]
[229,"NORTHERN","NORTH VALLEY","Tier 2-3","102911105 Tier 2-3",102911105,"WYANDOTTE 1105",27.9,39.529139999999899,-121.52575,null,36.700000000000003,"W12152575N3952914",14.3,2.9,"NO","W12152508N3952949","W12152596N3952916","W12152596N3952916-W12152508N3952949",102911105,"WYANDOTTE 1105",null,"2019-11-20T17:46:46",null,null,"Not assessed","https://viewer.us-3.sharpershape.services/viewer/assets/5ca5a2c6f6b4634e80a04ae4/details","https://viewer.us-3.sharpershape.services/viewer/issues/5ecf8c9734b60c00015ec1da/details","high","W12152575N3952914 WYANDOTTE 1105","[MontereyPine, GrayPine, Eucalyptus/BlueGum]","MontereyPine"]
[230,"NORTHERN","NORTH VALLEY","Tier 2-3","102911105 Tier 2-3",102911105,"WYANDOTTE 1105",15.3,39.524270000000001,-121.537369999999,null,43.5,"W12153737N3952427",6.8,-6,"YES","W12153716N3952455","W12153751N3952386","W12153751N3952386-W12153716N3952455",102911105,"WYANDOTTE 1105",null,"2019-11-20T17:46:46",null,null,"Not assessed","https://viewer.us-3.sharpershape.services/viewer/assets/5ca5a2c6f6b46351f2a04ede/details","https://viewer.us-3.sharpershape.services/viewer/issues/5ecf8c9634b60c00015ec16d/details","high","W12153737N3952427 WYANDOTTE 1105","[Other, CoastalLiveOak, DouglasFir]","Other"]
[231,"NORTHERN","NORTH VALLEY","Tier 2-3","102911105 Tier 2-3",102911105,"WYANDOTTE 1105",12.9,39.53058,-121.535529999999,null,26.9,"W12153553N3953058",8.1,-2.9,"YES","W12153538N3953063","W12153655N3953063","W12153655N3953063-W12153538N3953063",102911105,"WYANDOTTE 1105",null,"2019-11-20T17:46:46",null,null,"Not assessed","https://viewer.us-3.sharpershape.services/viewer/assets/5ca5a2c6f6b4638037a04ab3/details","https://viewer.us-3.sharpershape.services/viewer/issues/5ecf8c95a03e660001310929/details","high","W12153553N3953058 WYANDOTTE 1105","[CoastalLiveOak, DouglasFir, Eucalyptus/BlueGum]","CoastalLiveOak"]
[232,"NORTHERN","NORTH VALLEY","Tier 2-3","102911105 Tier 2-3",102911105,"WYANDOTTE 1105",36.1,39.53219,-121.53579999999999,null,31,"W12153580N3953219",8.1,20.100000000000001,"NO","W12153557N3953230","W12153644N3953230","W12153644N3953230-W12153557N3953230",102911105,"WYANDOTTE 1105",null,"2019-11-20T17:46:46",null,null,"Not assessed","https://viewer.us-3.sharpershape.services/viewer/assets/5ca5a2c6f6b4630717a04d92/details","https://viewer.us-3.sharpershape.services/viewer/issues/5ecf8f0434b60c00015ecaf0/details","high","W12153580N3953219 WYANDOTTE 1105","[DouglasFir, ValleyOak, GrayPine]","DouglasFir"]
[233,"NORTHERN","NORTH VALLEY","Tier 0-1","102911105 Tier 0-1",102911105,"WYANDOTTE 1105",52.899999999999899,39.523689999999903,-121.51596000000001,null,65.599999999999895,"W12151596N3952369",48.8,0.1,"NO","W12151682N3952381","W12151594N3952384","W12151594N3952384-W12151682N3952381",102911105,"WYANDOTTE 1105",null,"2019-11-20T17:46:46",null,null,"Not assessed","https://viewer.us-3.sharpershape.services/viewer/assets/5ca5a2c6f6b463b446a04a3d/details","https://viewer.us-3.sharpershape.services/viewer/issues/5ecf8c95a03e660001310949/details","high","W12151596N3952369 WYANDOTTE 1105","[GrayPine, Other, ValleyOak]","GrayPine"]
[234,"NORTHERN","NORTH VALLEY","Tier 2-3","102911105 Tier 2-3",102911105,"WYANDOTTE 1105",65.7,39.531199999999998,-121.52628,null,73.400000000000006,"W12152628N3953120",52.7,4.5999999999999996,"NO","W12152603N3953064","W12152604N3953139","W12152604N3953139-W12152603N3953064",102911105,"WYANDOTTE 1105",null,"2019-11-20T17:46:46",null,null,"Not assessed","https://viewer.us-3.sharpershape.services/viewer/assets/5ca5a2c6f6b463f925a04ce0/details","https://viewer.us-3.sharpershape.services/viewer/issues/5ecf8c98a03e660001310bce/details","high","W12152628N3953120 WYANDOTTE 1105","[GrayPine, Other, DouglasFir]","GrayPine"]
[235,"NORTHERN","NORTH VALLEY","Tier 2-3","102911105 Tier 2-3",102911105,"WYANDOTTE 1105",35.399999999999899,39.525909999999897,-121.537689999999,null,78.799999999999898,"W12153769N3952591",9.9,-28.5,"YES","W12153742N3952569","W12153767N3952612","W12153767N3952612-W12153742N3952569",102911105,"WYANDOTTE 1105",null,"2019-11-20T17:46:46",null,null,"Not assessed","https://viewer.us-3.sharpershape.services/viewer/assets/5e1b0881942b992c9e7b02ef/details","https://viewer.us-3.sharpershape.services/viewer/issues/5ecf8c9934b60c00015ec3a2/details","high","W12153769N3952591 WYANDOTTE 1105","[Other, DouglasFir, CoastalLiveOak]","Other"]
[236,"NORTHERN","NORTH VALLEY","Tier 2-3","102911105 Tier 2-3",102911105,"WYANDOTTE 1105",18.5,39.5272399999999,-121.53067,null,28.1999999999999,"W12153067N3952724",11.7,23.6999999999999,"NO","W12153054N3952731","W12153116N3952725","W12153116N3952725-W12153054N3952731",102911105,"WYANDOTTE 1105",null,"2019-11-20T17:46:46",null,null,"Not assessed","https://viewer.us-3.sharpershape.services/viewer/assets/5ca5a2c6f6b4632e29a04bb0/details","https://viewer.us-3.sharpershape.services/viewer/issues/5ecf8e99a03e66000131104c/details","high","W12153067N3952724 WYANDOTTE 1105","[DouglasFir, Other, ValleyOak]","DouglasFir"]
[237,"NORTHERN","NORTH VALLEY","Tier 2-3","102911105 Tier 2-3",102911105,"WYANDOTTE 1105",23.9,39.6526,-121.50709000000001,null,36.1,"W12150709N3965260",15.7,9.1999999999999993,"NO","W12150742N3965186","W12150660N3965474","W12150660N3965474-W12150742N3965186",102911105,"WYANDOTTE 1105",null,"2019-11-20T17:46:46",null,null,"Not assessed","https://viewer.us-3.sharpershape.services/viewer/assets/5d88b9de6476d776cb5dd20b/details","https://viewer.us-3.sharpershape.services/viewer/issues/5ecf8c9a34b60c00015ec3c5/details","high","W12150709N3965260 WYANDOTTE 1105","[DouglasFir, MontereyPine, TanOak]","DouglasFir"]
[238,"NORTHERN","NORTH VALLEY","Tier 2-3","102911105 Tier 2-3",102911105,"WYANDOTTE 1105",3.3,39.526289999999896,-121.53538,null,26.4,"W12153538N3952629",12,8.1,"NO","W12153537N3952598","W12153535N3952637","W12153535N3952637-W12153537N3952598",102911105,"WYANDOTTE 1105",null,"2019-11-20T17:46:46",null,null,"Not assessed","https://viewer.us-3.sharpershape.services/viewer/assets/5ca5a2c6f6b4634b4fa04e4e/details","https://viewer.us-3.sharpershape.services/viewer/issues/5ecf8c92a03e66000131083e/details","high","W12153538N3952629 WYANDOTTE 1105","[Eucalyptus/BlueGum, CoastalLiveOak, MontereyPine]","Eucalyptus/BlueGum"]
[239,"NORTHERN","NORTH VALLEY","Tier 2-3","102911105 Tier 2-3",102911105,"WYANDOTTE 1105",14.9,39.530429999999903,-121.53233,null,36.1,"W12153233N3953043",5.0999999999999996,-7.3,"YES","W12153206N3953048","W12153269N3953048","W12153269N3953048-W12153206N3953048",102911105,"WYANDOTTE 1105",null,"2019-11-20T17:46:46",null,null,"Not assessed","https://viewer.us-3.sharpershape.services/viewer/assets/5ca5a2c6f6b46331cba04b4a/details","https://viewer.us-3.sharpershape.services/viewer/issues/5ecf8c92a03e66000131085c/details","high","W12153233N3953043 WYANDOTTE 1105","[CoastalLiveOak, Eucalyptus/BlueGum, DouglasFir]","CoastalLiveOak"]
[240,"NORTHERN","NORTH VALLEY","Tier 2-3","102911105 Tier 2-3",102911105,"WYANDOTTE 1105",13.6,39.53058,-121.537759999999,null,43.3,"W12153776N3953058",6.2,-6.3,"YES","W12153771N3953063","W12153843N3953063","W12153843N3953063-W12153771N3953063",102911105,"WYANDOTTE 1105",null,"2019-11-20T17:46:46",null,null,"Not assessed","https://viewer.us-3.sharpershape.services/viewer/assets/5ca5a2c6f6b4638d7aa04e91/details","https://viewer.us-3.sharpershape.services/viewer/issues/5ecf8c96a03e6600013109a2/details","high","W12153776N3953058 WYANDOTTE 1105","[LiveOak, TanOak, DouglasFir]","LiveOak"]
[241,"NORTHERN","NORTH VALLEY","Tier 2-3","102911105 Tier 2-3",102911105,"WYANDOTTE 1105",72.099999999999994,39.529979999999902,-121.53233,null,79.099999999999994,"W12153233N3952998",60.899999999999899,0.4,"NO","W12153206N3953018","W12153206N3952972","W12153206N3952972-W12153206N3953018",102911105,"WYANDOTTE 1105",null,"2019-11-20T17:46:46",null,null,"Not assessed","https://viewer.us-3.sharpershape.services/viewer/assets/5ca5a2c6f6b4636702a04ca2/details","https://viewer.us-3.sharpershape.services/viewer/issues/5ecf8c9734b60c00015ec1f5/details","high","W12153233N3952998 WYANDOTTE 1105","[Eucalyptus/BlueGum, GrayPine, DouglasFir]","Eucalyptus/BlueGum"]
[242,"NORTHERN","NORTH VALLEY","Tier 2-3","102911105 Tier 2-3",102911105,"WYANDOTTE 1105",12.5,39.530519999999903,-121.533069999999,null,27.6999999999999,"W12153307N3953052",12,8.1999999999999904,"NO","W12153323N3953048","W12153269N3953048","W12153269N3953048-W12153323N3953048",102911105,"WYANDOTTE 1105",null,"2019-11-20T17:46:46",null,null,"Not assessed","https://viewer.us-3.sharpershape.services/viewer/assets/5ca5a2c6f6b4636013a051bf/details","https://viewer.us-3.sharpershape.services/viewer/issues/5ecf8c9834b60c00015ec28d/details","high","W12153307N3953052 WYANDOTTE 1105"]
[243,"NORTHERN","NORTH VALLEY","Tier 2-3","102911105 Tier 2-3",102911105,"WYANDOTTE 1105",22.4,39.532689999999903,-121.53663,null,34.299999999999997,"W12153663N3953269",6.6,6.1,"NO","W12153655N3953283","W12153655N3953245","W12153655N3953245-W12153655N3953283",102911105,"WYANDOTTE 1105",null,"2019-11-20T17:46:46",null,null,"Not assessed","https://viewer.us-3.sharpershape.services/viewer/assets/5ca5a2c6f6b463379ea04ebb/details","https://viewer.us-3.sharpershape.services/viewer/issues/5ecf8c94a03e6600013108e5/details","high","W12153663N3953269 WYANDOTTE 1105","[DouglasFir, GrayPine, LiveOak]","DouglasFir"]
[244,"NORTHERN","NORTH VALLEY","Tier 2-3","102911105 Tier 2-3",102911105,"WYANDOTTE 1105",11.4,39.528759999999899,-121.53211,null,29.8,"W12153211N3952876",8.6999999999999993,3.5,"NO","W12153206N3952881","W12153205N3952846","W12153205N3952846-W12153206N3952881",102911105,"WYANDOTTE 1105",null,"2019-11-20T17:46:46",null,null,"Not assessed","https://viewer.us-3.sharpershape.services/viewer/assets/5ca5a2c6f6b4635559a050c2/details","https://viewer.us-3.sharpershape.services/viewer/issues/5ecf8c96a03e6600013109a6/details","high","W12153211N3952876 WYANDOTTE 1105","[Eucalyptus/BlueGum, CoastalLiveOak, MontereyPine]","Eucalyptus/BlueGum"]
[245,"NORTHERN","NORTH VALLEY","Tier 2-3","102911105 Tier 2-3",102911105,"WYANDOTTE 1105",14.5,39.530069999999903,-121.51989,null,38.1,"W12151989N3953007",7.5,3.3,"NO","W12151936N3952926","W12152005N3953021","W12152005N3953021-W12151936N3952926",102911105,"WYANDOTTE 1105",null,"2019-11-20T17:46:46",null,null,"Not assessed","https://viewer.us-3.sharpershape.services/viewer/assets/5ca5a2c6f6b463d94da04bdf/details","https://viewer.us-3.sharpershape.services/viewer/issues/5ecf8c9834b60c00015ec2ae/details","high","W12151989N3953007 WYANDOTTE 1105","[DouglasFir, GrayPine, LiveOak]","DouglasFir"]
[246,"NORTHERN","NORTH VALLEY","Tier 2-3","102911105 Tier 2-3",102911105,"WYANDOTTE 1105",30.5,39.529899999999998,-121.525909999999,null,23.5,"W12152591N3952990",5.8,17.8,"NO","W12152603N3952974","W12152603N3953064","W12152603N3953064-W12152603N3952974",102911105,"WYANDOTTE 1105",null,"2019-11-20T17:46:46",null,null,"Not assessed","https://viewer.us-3.sharpershape.services/viewer/assets/5ca5a2c6f6b463cd78a04dbd/details","https://viewer.us-3.sharpershape.services/viewer/issues/5ecf8efa34b60c00015ecace/details","high","W12152591N3952990 WYANDOTTE 1105","[Other, CoastalLiveOak, MontereyPine]","Other"]
[247,"NORTHERN","NORTH VALLEY","Tier 2-3","102911105 Tier 2-3",102911105,"WYANDOTTE 1105",23.1999999999999,39.530209999999897,-121.521279999999,null,37.299999999999997,"W12152128N3953021",7,3.1,"NO","W12152184N3953012","W12152091N3953014","W12152091N3953014-W12152184N3953012",102911105,"WYANDOTTE 1105",null,"2019-11-20T17:46:46",null,null,"Not assessed","https://viewer.us-3.sharpershape.services/viewer/assets/5ca5a2c6f6b463611da04cf7/details","https://viewer.us-3.sharpershape.services/viewer/issues/5ecf8c97a03e660001310a8f/details","high","W12152128N3953021 WYANDOTTE 1105","[GrayPine, Other, CoastalLiveOak]","GrayPine"]
[248,"NORTHERN","NORTH VALLEY","Tier 2-3","102911105 Tier 2-3",102911105,"WYANDOTTE 1105",17.3,39.529589999999899,-121.523609999999,null,38.1,"W12152361N3952959",6.3,-1.9,"YES","W12152351N3952966","W12152414N3952959","W12152414N3952959-W12152351N3952966",102911105,"WYANDOTTE 1105",null,"2019-11-20T17:46:46",null,null,"Not assessed","https://viewer.us-3.sharpershape.services/viewer/assets/5ca5a2c6f6b463d8dea04db3/details","https://viewer.us-3.sharpershape.services/viewer/issues/5ee2b4c2a03e66000146e441/details","high","W12152361N3952959 WYANDOTTE 1105","[GrayPine, ValleyOak, TanOak]","GrayPine"]
[249,"NORTHERN","NORTH VALLEY","Tier 2-3","102911105 Tier 2-3",102911105,"WYANDOTTE 1105",15.3,39.531019999999899,-121.51904,null,39.5,"W12151904N3953102",8.6,-3.8,"YES","W12151868N3953111","W12151923N3953089","W12151923N3953089-W12151868N3953111",102911105,"WYANDOTTE 1105",null,"2019-11-20T17:46:46",null,null,"Not assessed","https://viewer.us-3.sharpershape.services/viewer/assets/5ca5a2c6f6b4636ea8a04d47/details","https://viewer.us-3.sharpershape.services/viewer/issues/5ecf8c97a03e660001310aa4/details","high","W12151904N3953102 WYANDOTTE 1105","[GrayPine, ValleyOak, DouglasFir]","GrayPine"]
[250,"NORTHERN","NORTH VALLEY","Tier 2-3","102911105 Tier 2-3",102911105,"WYANDOTTE 1105",16,39.5302399999999,-121.520319999999,null,33.899999999999899,"W12152032N3953024",6.8,3.9,"NO","W12152091N3953014","W12152005N3953021","W12152005N3953021-W12152091N3953014",102911105,"WYANDOTTE 1105",null,"2019-11-20T17:46:46",null,null,"Not assessed","https://viewer.us-3.sharpershape.services/viewer/assets/5ca5a2c6f6b4637ff5a04e47/details","https://viewer.us-3.sharpershape.services/viewer/issues/5ecf8c9534b60c00015ec06e/details","high","W12152032N3953024 WYANDOTTE 1105","[Other, GrayPine, DouglasFir]","Other"]
[251,"NORTHERN","NORTH VALLEY","Tier 2-3","102911105 Tier 2-3",102911105,"WYANDOTTE 1105",55.8,39.534819999999897,-121.542419999999,null,96.799999999999898,"W12154242N3953482",42.8,-20.1999999999999,"YES","W12154214N3953455","W12154230N3953520","W12154230N3953520-W12154214N3953455",102911105,"WYANDOTTE 1105",null,"2019-11-20T17:46:46",null,null,"Not assessed","https://viewer.us-3.sharpershape.services/viewer/assets/5ca5a2c6f6b4638e61a05162/details","https://viewer.us-3.sharpershape.services/viewer/issues/5ecf8c9534b60c00015ec0b2/details","high","W12154242N3953482 WYANDOTTE 1105","[DouglasFir, GrayPine, Other]","DouglasFir"]
[252,"NORTHERN","NORTH VALLEY","Tier 2-3","102911105 Tier 2-3",102911105,"WYANDOTTE 1105",35,39.530519999999903,-121.537019999999,null,40,"W12153702N3953052",17.100000000000001,4.4000000000000004,"NO","W12153771N3953063","W12153655N3953063","W12153655N3953063-W12153771N3953063",102911105,"WYANDOTTE 1105",null,"2019-11-20T17:46:46",null,null,"Not assessed","https://viewer.us-3.sharpershape.services/viewer/assets/5ca5a2c6f6b4639bcca05130/details","https://viewer.us-3.sharpershape.services/viewer/issues/5ecf8c91a03e660001310817/details","high","W12153702N3953052 WYANDOTTE 1105","[DouglasFir, LiveOak, Other]","DouglasFir"]
[253,"NORTHERN","NORTH VALLEY","Tier 2-3","102911105 Tier 2-3",102911105,"WYANDOTTE 1105",29.5,39.528559999999899,-121.52691,null,43.6,"W12152691N3952856",12,-0.6,"YES","W12152680N3952875","W12152750N3952825","W12152750N3952825-W12152680N3952875",102911105,"WYANDOTTE 1105",null,"2019-11-20T17:46:46",null,null,"Not assessed","https://viewer.us-3.sharpershape.services/viewer/assets/5ca5a2c6f6b46337c2a04be5/details","https://viewer.us-3.sharpershape.services/viewer/issues/5ecf8c9634b60c00015ec0ec/details","high","W12152691N3952856 WYANDOTTE 1105","[GrayPine, MontereyPine, Other]","GrayPine"]
[254,"NORTHERN","NORTH VALLEY","Tier 2-3","102911105 Tier 2-3",102911105,"WYANDOTTE 1105",20.6,39.525669999999899,-121.537489999999,null,35,"W12153749N3952567",4.7,5.5,"NO","W12153742N3952569","W12153767N3952612","W12153767N3952612-W12153742N3952569",102911105,"WYANDOTTE 1105",null,"2019-11-20T17:46:46",null,null,"Not assessed","https://viewer.us-3.sharpershape.services/viewer/assets/5e1b0881942b992c9e7b02ef/details","https://viewer.us-3.sharpershape.services/viewer/issues/5ecf8c9934b60c00015ec3a4/details","high","W12153749N3952567 WYANDOTTE 1105","[CoastalLiveOak, Other, DouglasFir]","CoastalLiveOak"]
[255,"NORTHERN","NORTH VALLEY","Tier 2-3","102911105 Tier 2-3",102911105,"WYANDOTTE 1105",0.1,39.532200000000003,-121.539069999999,null,30.3,"W12153907N3953220",4.4000000000000004,4.5,"NO","W12153905N3953243","W12153907N3953193","W12153907N3953193-W12153905N3953243",102911105,"WYANDOTTE 1105",null,"2019-11-20T17:46:46",null,null,"Not assessed","https://viewer.us-3.sharpershape.services/viewer/assets/5ca5a2c6f6b46326f9a04de3/details","https://viewer.us-3.sharpershape.services/viewer/issues/5ecf8ebc34b60c00015ec916/details","high","W12153907N3953220 WYANDOTTE 1105","[DouglasFir, LiveOak, Eucalyptus/BlueGum]","DouglasFir"]
[256,"NORTHERN","NORTH VALLEY","Tier 0-1","102911105 Tier 0-1",102911105,"WYANDOTTE 1105",0.6,39.517759999999903,-121.540549999999,null,25.1999999999999,"W12154055N3951776",10.1,9.8000000000000007,"NO","W12154034N3951798","W12154067N3951764","W12154067N3951764-W12154034N3951798",102911105,"WYANDOTTE 1105",null,"2019-11-20T17:46:46",null,null,"Not assessed","https://viewer.us-3.sharpershape.services/viewer/assets/5ca5a2c6f6b4636236a05070/details","https://viewer.us-3.sharpershape.services/viewer/issues/5ecf8c95a03e660001310900/details","high","W12154055N3951776 WYANDOTTE 1105","[GrayPine, Eucalyptus/BlueGum, DouglasFir]","GrayPine"]
[257,"NORTHERN","NORTH VALLEY","Tier 2-3","102911105 Tier 2-3",102911105,"WYANDOTTE 1105",3.4,39.528839999999903,-121.534639999999,null,25.3,"W12153464N3952884",6.9,6.7,"NO","W12153422N3952882","W12153537N3952882","W12153537N3952882-W12153422N3952882",102911105,"WYANDOTTE 1105",null,"2019-11-20T17:46:46",null,null,"Not assessed","https://viewer.us-3.sharpershape.services/viewer/assets/5ca5a2c6f6b4638913a05099/details","https://viewer.us-3.sharpershape.services/viewer/issues/5ecf8c95a03e660001310961/details","high","W12153464N3952884 WYANDOTTE 1105","[DouglasFir, GrayPine, LiveOak]","DouglasFir"]
[258,"NORTHERN","NORTH VALLEY","Tier 2-3","102911105 Tier 2-3",102911105,"WYANDOTTE 1105",16.399999999999899,39.529669999999903,-121.52991,null,48.5,"W12152991N3952967",6.5,-6.9,"YES","W12152988N3952972","W12153068N3952972","W12153068N3952972-W12152988N3952972",102911105,"WYANDOTTE 1105",null,"2019-11-20T17:46:46",null,null,"Not assessed","https://viewer.us-3.sharpershape.services/viewer/assets/5d89b6cc55dd6b81633f2eff/details","https://viewer.us-3.sharpershape.services/viewer/issues/5ecf8c9934b60c00015ec33b/details","high","W12152991N3952967 WYANDOTTE 1105","[DouglasFir, Other, LiveOak]","DouglasFir"]
[259,"NORTHERN","NORTH VALLEY","Tier 2-3","102911105 Tier 2-3",102911105,"WYANDOTTE 1105",9.6,39.531349999999897,-121.539019999999,null,30.4,"W12153902N3953135",5.0999999999999996,1.5,"NO","W12153907N3953151","W12153907N3953103","W12153907N3953103-W12153907N3953151",102911105,"WYANDOTTE 1105",null,"2019-11-20T17:46:46",null,null,"Not assessed","https://viewer.us-3.sharpershape.services/viewer/assets/5ca5a2c6f6b46346bca04e9d/details","https://viewer.us-3.sharpershape.services/viewer/issues/5ecf8c94a03e6600013108fc/details","high","W12153902N3953135 WYANDOTTE 1105","[DouglasFir, Other, LiveOak]","DouglasFir"]
[260,"NORTHERN","NORTH VALLEY","Tier 2-3","102911105 Tier 2-3",102911105,"WYANDOTTE 1105",40.6,39.530900000000003,-121.518869999999,null,35.799999999999997,"W12151887N3953090",8,20,"NO","W12151868N3953111","W12151923N3953089","W12151923N3953089-W12151868N3953111",102911105,"WYANDOTTE 1105",null,"2019-11-20T17:46:46",null,null,"Not assessed","https://viewer.us-3.sharpershape.services/viewer/assets/5ca5a2c6f6b4636ea8a04d47/details","https://viewer.us-3.sharpershape.services/viewer/issues/5ecf954034b60c00015ed6e0/details","high","W12151887N3953090 WYANDOTTE 1105","[DouglasFir, CoastalLiveOak, MontereyPine]","DouglasFir"]
[261,"NORTHERN","NORTH VALLEY","Tier 2-3","102911105 Tier 2-3",102911105,"WYANDOTTE 1105",11.4,39.534050000000001,-121.541669999999,null,58.6,"W12154167N3953405",7.2,-21.4,"YES","W12154149N3953393","W12154179N3953424","W12154179N3953424-W12154149N3953393",102911105,"WYANDOTTE 1105",null,"2019-11-20T17:46:46","OH",null,"Not assessed","https://viewer.us-3.sharpershape.services/viewer/assets/5ca5a2c6f6b4633bbba04c51/details","https://viewer.us-3.sharpershape.services/viewer/issues/5ecf8c92a03e66000131084a/details","high","W12154167N3953405 WYANDOTTE 1105","[DouglasFir, LiveOak, TanOak]","DouglasFir"]
[262,"NORTHERN","NORTH VALLEY","Tier 2-3","102911105 Tier 2-3",102911105,"WYANDOTTE 1105",45.5,39.66957,-121.497209999999,null,75.599999999999994,"W12149721N3966957",24.1,8.6999999999999993,"NO","W12149700N3966999","W12150124N3966627","W12150124N3966627-W12149700N3966999",102911105,"WYANDOTTE 1105",null,"2019-11-20T17:46:46",null,null,"Not assessed","https://viewer.us-3.sharpershape.services/viewer/assets/5ca5a2c6f6b4630eb4a04d37/details","https://viewer.us-3.sharpershape.services/viewer/issues/5ecf8c99a03e660001310c0f/details","high","W12149721N3966957 WYANDOTTE 1105","[Other, CoastalLiveOak, DouglasFir]","Other"]
[263,"NORTHERN","NORTH VALLEY","Tier 2-3","102911105 Tier 2-3",102911105,"WYANDOTTE 1105",15.5,39.530429999999903,-121.532539999999,null,35.799999999999997,"W12153254N3953043",6.9,-5,"YES","W12153206N3953048","W12153269N3953048","W12153269N3953048-W12153206N3953048",102911105,"WYANDOTTE 1105",null,"2019-11-20T17:46:46",null,null,"Not assessed","https://viewer.us-3.sharpershape.services/viewer/assets/5ca5a2c6f6b46331cba04b4a/details","https://viewer.us-3.sharpershape.services/viewer/issues/5ecf8c92a03e660001310864/details","high","W12153254N3953043 WYANDOTTE 1105","[CoastalLiveOak, Other, ValleyOak]","CoastalLiveOak"]
[264,"NORTHERN","NORTH VALLEY","Tier 2-3","102911105 Tier 2-3",102911105,"WYANDOTTE 1105",19.399999999999999,39.5289199999999,-121.532139999999,null,51.5,"W12153214N3952892",6.1,-17.600000000000001,"YES","W12153206N3952881","W12153206N3952972","W12153206N3952972-W12153206N3952881",102911105,"WYANDOTTE 1105",null,"2019-11-20T17:46:46","OH",null,"Not assessed","https://viewer.us-3.sharpershape.services/viewer/assets/5ca5a2c6f6b463a605a04c77/details","https://viewer.us-3.sharpershape.services/viewer/issues/5ecf8c9834b60c00015ec2a6/details","high","W12153214N3952892 WYANDOTTE 1105","[GrayPine, DouglasFir, Other]","GrayPine"]
[265,"NORTHERN","NORTH VALLEY","Tier 2-3","102911105 Tier 2-3",102911105,"WYANDOTTE 1105",0.1,39.530479999999898,-121.532859999999,null,23.4,"W12153286N3953048",8.9,9,"NO","W12153323N3953048","W12153269N3953048","W12153269N3953048-W12153323N3953048",102911105,"WYANDOTTE 1105",null,"2019-11-20T17:46:46",null,null,"Not assessed","https://viewer.us-3.sharpershape.services/viewer/assets/5ca5a2c6f6b4636013a051bf/details","https://viewer.us-3.sharpershape.services/viewer/issues/5ecf955c34b60c00015ed83e/details","high","W12153286N3953048 WYANDOTTE 1105","[DouglasFir, GrayPine, LiveOak]","DouglasFir"]
[266,"NORTHERN","NORTH VALLEY","Tier 2-3","102911105 Tier 2-3",102911105,"WYANDOTTE 1105",48.8,39.530349999999899,-121.51963000000001,null,97.4,"W12151963N3953035",32.700000000000003,-42.6,"YES","W12151923N3953089","W12152005N3953021","W12152005N3953021-W12151923N3953089",102911105,"WYANDOTTE 1105",null,"2019-11-20T17:46:46",null,null,"Not assessed","https://viewer.us-3.sharpershape.services/viewer/assets/5ca5a2c6f6b46307baa0515f/details","https://viewer.us-3.sharpershape.services/viewer/issues/5ecf8c93a03e6600013108c1/details","high","W12151963N3953035 WYANDOTTE 1105","[GrayPine, Other, DouglasFir]","GrayPine"]
[267,"NORTHERN","NORTH VALLEY","Tier 2-3","102911105 Tier 2-3",102911105,"WYANDOTTE 1105",0.1,39.526139999999899,-121.52087,null,24,"W12152087N3952614",12,8.6,"NO","W12152064N3952615","W12152124N3952614","W12152124N3952614-W12152064N3952615",102911105,"WYANDOTTE 1105",null,"2019-11-20T17:46:46",null,null,"Not assessed","https://viewer.us-3.sharpershape.services/viewer/assets/5ca5a2c6f6b463c7cfa0501b/details","https://viewer.us-3.sharpershape.services/viewer/issues/5ecf8c9634b60c00015ec133/details","high","W12152087N3952614 WYANDOTTE 1105","[CoastalLiveOak, Eucalyptus/BlueGum, DouglasFir]","CoastalLiveOak"]
[268,"NORTHERN","NORTH VALLEY","Tier 2-3","102911105 Tier 2-3",102911105,"WYANDOTTE 1105",20.100000000000001,39.528239999999897,-121.52741,null,47.2,"W12152741N3952824",12,-9.1,"YES","W12152680N3952875","W12152750N3952825","W12152750N3952825-W12152680N3952875",102911105,"WYANDOTTE 1105",null,"2019-11-20T17:46:46",null,null,"Not assessed","https://viewer.us-3.sharpershape.services/viewer/assets/5ca5a2c6f6b46337c2a04be5/details","https://viewer.us-3.sharpershape.services/viewer/issues/5ecf8c9634b60c00015ec0f3/details","high","W12152741N3952824 WYANDOTTE 1105","[GrayPine, Eucalyptus/BlueGum, MontereyPine]","GrayPine"]
[269,"NORTHERN","NORTH VALLEY","Tier 2-3","102911105 Tier 2-3",102911105,"WYANDOTTE 1105",65.799999999999898,39.537329999999898,-121.542259999999,null,71.099999999999994,"W12154226N3953733",45.1,-2.2999999999999998,"YES","W12154253N3953660","W12154250N3953758","W12154250N3953758-W12154253N3953660",102911105,"WYANDOTTE 1105",null,"2019-11-20T17:46:46",null,null,"Not assessed","https://viewer.us-3.sharpershape.services/viewer/assets/5ca5a2c6f6b4637989a05102/details","https://viewer.us-3.sharpershape.services/viewer/issues/5ecf8c9734b60c00015ec1b1/details","high","W12154226N3953733 WYANDOTTE 1105","[GrayPine, Eucalyptus/BlueGum, DouglasFir]","GrayPine"]
[270,"NORTHERN","NORTH VALLEY","Tier 2-3","102911105 Tier 2-3",102911105,"WYANDOTTE 1105",2.4,39.541339999999899,-121.5423,null,9.1999999999999993,"W12154230N3954134",8.8000000000000007,7.5,"NO","W12154206N3954186","W12154249N3954102","W12154249N3954102-W12154206N3954186",102911105,"WYANDOTTE 1105",null,"2019-11-20T17:46:46",null,null,"Not assessed","https://viewer.us-3.sharpershape.services/viewer/assets/5ca5a2c6f6b4631d52a04cea/details","https://viewer.us-3.sharpershape.services/viewer/issues/5ecf8c98a03e660001310be7/details","high","W12154230N3954134 WYANDOTTE 1105","[DouglasFir, LiveOak, TanOak]","DouglasFir"]
[271,"NORTHERN","NORTH VALLEY","Tier 2-3","102911105 Tier 2-3",102911105,"WYANDOTTE 1105",5,39.527180000000001,-121.52996,null,29.1999999999999,"W12152996N3952718",7.6,5.5,"NO","W12152971N3952716","W12153054N3952731","W12153054N3952731-W12152971N3952716",102911105,"WYANDOTTE 1105",null,"2019-11-20T17:46:46",null,null,"Not assessed","https://viewer.us-3.sharpershape.services/viewer/assets/5ca5a2c6f6b4637c8aa04fdb/details","https://viewer.us-3.sharpershape.services/viewer/issues/5ecf8c94a03e6600013108e1/details","high","W12152996N3952718 WYANDOTTE 1105","[GrayPine, Other, DouglasFir]","GrayPine"]
[272,"NORTHERN","NORTH VALLEY","Tier 2-3","102911105 Tier 2-3",102911105,"WYANDOTTE 1105",25.6999999999999,39.52863,-121.53547,null,32.299999999999898,"W12153547N3952863",15.2,7.9,"NO","W12153534N3952830","W12153534N3952830","W12153534N3952830-W12153534N3952830",102911105,"WYANDOTTE 1105",null,"2019-11-20T17:46:46",null,null,"Not assessed","https://viewer.us-3.sharpershape.services/viewer/assets/5ca5a2c6f6b4631e4ba04b95/details","https://viewer.us-3.sharpershape.services/viewer/issues/5ecf8c96a03e6600013109e0/details","high","W12153547N3952863 WYANDOTTE 1105","[CoastalLiveOak, Other, DouglasFir]","CoastalLiveOak"]
[273,"NORTHERN","NORTH VALLEY","Tier 2-3","102911105 Tier 2-3",102911105,"WYANDOTTE 1105",36.5,39.533180000000002,-121.540979999999,null,76,"W12154098N3953318",11.8,-16,"YES","W12154073N3953285","W12154087N3953327","W12154087N3953327-W12154073N3953285",102911105,"WYANDOTTE 1105",null,"2019-11-20T17:46:46",null,null,"Not assessed","https://viewer.us-3.sharpershape.services/viewer/assets/5ca5a2c6f6b463f395a04ceb/details","https://viewer.us-3.sharpershape.services/viewer/issues/5ecf8c97a03e660001310abb/details","high","W12154098N3953318 WYANDOTTE 1105","[Other, DouglasFir, LiveOak]","Other"]
[274,"NORTHERN","NORTH VALLEY","Tier 2-3","102911105 Tier 2-3",102911105,"WYANDOTTE 1105",18.1999999999999,39.530569999999898,-121.53591,null,37.799999999999997,"W12153591N3953057",5.8,-10.7,"YES","W12153538N3953063","W12153655N3953063","W12153655N3953063-W12153538N3953063",102911105,"WYANDOTTE 1105",null,"2019-11-20T17:46:46",null,null,"Not assessed","https://viewer.us-3.sharpershape.services/viewer/assets/5ca5a2c6f6b4638037a04ab3/details","https://viewer.us-3.sharpershape.services/viewer/issues/5ecf8c95a03e660001310928/details","high","W12153591N3953057 WYANDOTTE 1105","[CoastalLiveOak, Other, DouglasFir]","CoastalLiveOak"]
[275,"NORTHERN","NORTH VALLEY","Tier 2-3","102911105 Tier 2-3",102911105,"WYANDOTTE 1105",69.400000000000006,39.529379999999897,-121.51989,null,77,"W12151989N3952938",57.5,2.2999999999999998,"NO","W12151936N3952926","W12152014N3952914","W12152014N3952914-W12151936N3952926",102911105,"WYANDOTTE 1105",null,"2019-11-20T17:46:46",null,null,"Not assessed","https://viewer.us-3.sharpershape.services/viewer/assets/5ca5a2c6f6b4634b73a04f6f/details","https://viewer.us-3.sharpershape.services/viewer/issues/5ecf8c96a03e6600013109f5/details","high","W12151989N3952938 WYANDOTTE 1105","[CoastalLiveOak, MontereyPine, Other]","CoastalLiveOak"]
[276,"NORTHERN","NORTH VALLEY","Tier 2-3","102911105 Tier 2-3",102911105,"WYANDOTTE 1105",15.7,39.52543,-121.521159999999,null,44.2,"W12152116N3952543",5.9,-8.4,"YES","W12152123N3952539","W12152124N3952614","W12152124N3952614-W12152123N3952539",102911105,"WYANDOTTE 1105",null,"2019-11-20T17:46:46",null,null,"Not assessed","https://viewer.us-3.sharpershape.services/viewer/assets/5ca5a2c6f6b46335f7a04ffc/details","https://viewer.us-3.sharpershape.services/viewer/issues/5ecf8c95a03e660001310917/details","high","W12152116N3952543 WYANDOTTE 1105","[DouglasFir, Other, GrayPine]","DouglasFir"]
[277,"NORTHERN","NORTH VALLEY","Tier 2-3","102911105 Tier 2-3",102911105,"WYANDOTTE 1105",33.1,39.5319,-121.539189999999,null,41.8,"W12153919N3953190",8.1999999999999904,8,"NO","W12153907N3953193","W12153907N3953151","W12153907N3953151-W12153907N3953193",102911105,"WYANDOTTE 1105",null,"2019-11-20T17:46:46",null,null,"Not assessed","https://viewer.us-3.sharpershape.services/viewer/assets/5ca5a2c6f6b463c991a04df7/details","https://viewer.us-3.sharpershape.services/viewer/issues/5ecf8c9834b60c00015ec242/details","high","W12153919N3953190 WYANDOTTE 1105","[Other, DouglasFir, CoastalLiveOak]","Other"]
[278,"NORTHERN","NORTH VALLEY","Tier 2-3","102911105 Tier 2-3",102911105,"WYANDOTTE 1105",17,39.527119999999897,-121.531579999999,null,26.6,"W12153158N3952712",9.6,7.3,"NO","W12153152N3952699","W12153200N3952739","W12153200N3952739-W12153152N3952699",102911105,"WYANDOTTE 1105",null,"2019-11-20T17:46:46",null,null,"Not assessed","https://viewer.us-3.sharpershape.services/viewer/assets/5ca5a2c6f6b46337eda04c68/details","https://viewer.us-3.sharpershape.services/viewer/issues/5ecf8c9034b60c00015ebfd6/details","high","W12153158N3952712 WYANDOTTE 1105","[GrayPine, TanOak, LiveOak]","GrayPine"]
[279,"NORTHERN","NORTH VALLEY","Tier 0-1","102911105 Tier 0-1",102911105,"WYANDOTTE 1105",25.1999999999999,39.518279999999898,-121.540319999999,null,32.6,"W12154032N3951828",9.6999999999999993,21.6999999999999,"NO","W12154022N3951889","W12154022N3951835","W12154022N3951835-W12154022N3951889",102911105,"WYANDOTTE 1105",null,"2019-11-20T17:46:46",null,null,"Not assessed","https://viewer.us-3.sharpershape.services/viewer/assets/5ca5a2c6f6b4636fcba04c5d/details","https://viewer.us-3.sharpershape.services/viewer/issues/5ecf8e9334b60c00015ec823/details","high","W12154032N3951828 WYANDOTTE 1105","[GrayPine, TanOak, Other]","GrayPine"]
[280,"NORTHERN","NORTH VALLEY","Tier 0-1","102911105 Tier 0-1",102911105,"WYANDOTTE 1105",31.8,39.525169999999903,-121.53574,null,47.1,"W12153574N3952517",19.100000000000001,-2.8,"YES","W12153537N3952537","W12153590N3952523","W12153590N3952523-W12153537N3952537",102911105,"WYANDOTTE 1105",null,"2019-11-20T17:46:46",null,null,"Not assessed","https://viewer.us-3.sharpershape.services/viewer/assets/5ca5a2c6f6b4631c28a0517f/details","https://viewer.us-3.sharpershape.services/viewer/issues/5ecf8c90a03e6600013107ff/details","high","W12153574N3952517 WYANDOTTE 1105","[GrayPine, Eucalyptus/BlueGum, MontereyPine]","GrayPine"]
[281,"NORTHERN","NORTH VALLEY","Tier 2-3","102911105 Tier 2-3",102911105,"WYANDOTTE 1105",36.799999999999997,39.531379999999899,-121.540689999999,null,51.7,"W12154069N3953138",17.899999999999999,-7.6,"YES","W12154086N3953214","W12154084N3953131","W12154084N3953131-W12154086N3953214",102911105,"WYANDOTTE 1105",null,"2019-11-20T17:46:46",null,null,"Not assessed","https://viewer.us-3.sharpershape.services/viewer/assets/5ca5a2c6f6b4630944a04ef1/details","https://viewer.us-3.sharpershape.services/viewer/issues/5ecf8c98a03e660001310b54/details","high","W12154069N3953138 WYANDOTTE 1105","[DouglasFir, LiveOak, CoastalLiveOak]","DouglasFir"]
[282,"NORTHERN","NORTH VALLEY","Tier 2-3","102911105 Tier 2-3",102911105,"WYANDOTTE 1105",11.7,39.532319999999899,-121.5321,null,24.5,"W12153210N3953232",12,5.9,"NO","W12153205N3953245","W12153206N3953192","W12153206N3953192-W12153205N3953245",102911105,"WYANDOTTE 1105",null,"2019-11-20T17:46:46",null,null,"Not assessed","https://viewer.us-3.sharpershape.services/viewer/assets/5ca5a2c6f6b463299fa04cf2/details","https://viewer.us-3.sharpershape.services/viewer/issues/5ecf8c9934b60c00015ec37f/details","high","W12153210N3953232 WYANDOTTE 1105","[CoastalLiveOak, Eucalyptus/BlueGum, DouglasFir]","CoastalLiveOak"]
[283,"NORTHERN","NORTH VALLEY","Tier 2-3","102911105 Tier 2-3",102911105,"WYANDOTTE 1105",0.2,39.5288299999999,-121.535269999999,null,28.1,"W12153527N3952883",3.6,3.8,"NO","W12153422N3952882","W12153537N3952882","W12153537N3952882-W12153422N3952882",102911105,"WYANDOTTE 1105",null,"2019-11-20T17:46:46",null,null,"Not assessed","https://viewer.us-3.sharpershape.services/viewer/assets/5ca5a2c6f6b4638913a05099/details","https://viewer.us-3.sharpershape.services/viewer/issues/5ecf8f8d34b60c00015ecbd0/details","high","W12153527N3952883 WYANDOTTE 1105","[DouglasFir, ValleyOak, LiveOak]","DouglasFir"]
[284,"NORTHERN","NORTH VALLEY","Tier 0-1","102911105 Tier 0-1",102911105,"WYANDOTTE 1105",65.400000000000006,39.5258299999999,-121.53512000000001,null,71,"W12153512N3952583",48,1,"NO","W12153537N3952537","W12153537N3952598","W12153537N3952598-W12153537N3952537",102911105,"WYANDOTTE 1105",null,"2019-11-20T17:46:46",null,null,"Not assessed","https://viewer.us-3.sharpershape.services/viewer/assets/5ca5a2c6f6b4634b85a04d18/details","https://viewer.us-3.sharpershape.services/viewer/issues/5ecf8c97a03e660001310afa/details","high","W12153512N3952583 WYANDOTTE 1105","[Eucalyptus/BlueGum, CoastalLiveOak, LiveOak]","Eucalyptus/BlueGum"]
[285,"NORTHERN","NORTH VALLEY","Tier 2-3","102911105 Tier 2-3",102911105,"WYANDOTTE 1105",38.200000000000003,39.529989999999898,-121.521889999999,null,25.8,"W12152189N3952999",6.3,18.3,"NO","W12152284N3952992","W12152184N3953012","W12152184N3953012-W12152284N3952992",102911105,"WYANDOTTE 1105",null,"2019-11-20T17:46:46",null,null,"Not assessed","https://viewer.us-3.sharpershape.services/viewer/assets/5ca5a2c6f6b4639636a0497c/details","https://viewer.us-3.sharpershape.services/viewer/issues/5ee2b979a03e66000146e4b6/details","high","W12152189N3952999 WYANDOTTE 1105","[GrayPine, TanOak, MontereyPine]","GrayPine"]
[286,"NORTHERN","NORTH VALLEY","Tier 2-3","102911105 Tier 2-3",102911105,"WYANDOTTE 1105",12.4,39.530989999999903,-121.518869999999,null,37.299999999999997,"W12151887N3953099",7.5,-1.1000000000000001,"YES","W12151868N3953111","W12151923N3953089","W12151923N3953089-W12151868N3953111",102911105,"WYANDOTTE 1105",null,"2019-11-20T17:46:46",null,null,"Not assessed","https://viewer.us-3.sharpershape.services/viewer/assets/5ca5a2c6f6b4636ea8a04d47/details","https://viewer.us-3.sharpershape.services/viewer/issues/5ecf8c97a03e660001310a9f/details","high","W12151887N3953099 WYANDOTTE 1105","[CoastalLiveOak, DouglasFir, Other]","CoastalLiveOak"]
[287,"NORTHERN","NORTH VALLEY","Tier 2-3","102911105 Tier 2-3",102911105,"WYANDOTTE 1105",1,39.532289999999897,-121.526049999999,null,25.3,"W12152605N3953229",10.6,11.6,"NO","W12152606N3953202","W12152605N3953235","W12152605N3953235-W12152606N3953202",102911105,"WYANDOTTE 1105",null,"2019-11-20T17:46:46",null,null,"Not assessed","https://viewer.us-3.sharpershape.services/viewer/assets/5ca5a2c6f6b4631991a04dcc/details","https://viewer.us-3.sharpershape.services/viewer/issues/5ecfe7b3a03e660001334094/details","high","W12152605N3953229 WYANDOTTE 1105","[DouglasFir, LiveOak, TanOak]","DouglasFir"]
[288,"NORTHERN","NORTH VALLEY","Tier 2-3","102911105 Tier 2-3",102911105,"WYANDOTTE 1105",42,39.52458,-121.53694,null,38.700000000000003,"W12153694N3952458",26.6999999999999,9.4,"NO","W12153682N3952487","W12153716N3952455","W12153716N3952455-W12153682N3952487",102911105,"WYANDOTTE 1105",null,"2019-11-20T17:46:46",null,null,"Not assessed","https://viewer.us-3.sharpershape.services/viewer/assets/5ca5a2c6f6b4630bb0a049ec/details","https://viewer.us-3.sharpershape.services/viewer/issues/5ecf8c9834b60c00015ec262/details","high","W12153694N3952458 WYANDOTTE 1105","[Other, DouglasFir, TanOak]","Other"]
[289,"NORTHERN","NORTH VALLEY","Tier 2-3","102911105 Tier 2-3",102911105,"WYANDOTTE 1105",14.9,39.656979999999898,-121.505859999999,null,23,"W12150586N3965698",12,1.9,"NO","W12150561N3965801","W12150604N3965661","W12150604N3965661-W12150561N3965801",102911105,"WYANDOTTE 1105",null,"2019-11-20T17:46:46",null,null,"Not assessed","https://viewer.us-3.sharpershape.services/viewer/assets/5d88be906476d7a8685dd21a/details","https://viewer.us-3.sharpershape.services/viewer/issues/5ecf8c9a34b60c00015ec3ba/details","high","W12150586N3965698 WYANDOTTE 1105","[Eucalyptus/BlueGum, Other, CoastalLiveOak]","Eucalyptus/BlueGum"]
[290,"NORTHERN","NORTH VALLEY","Tier 0-1","102911105 Tier 0-1",102911105,"WYANDOTTE 1105",0,39.522939999999899,-121.537689999999,null,30.3,"W12153769N3952294",8.5,8.5,"NO","W12153761N3952311","W12153775N3952283","W12153775N3952283-W12153761N3952311",102911105,"WYANDOTTE 1105",null,"2019-11-20T17:46:46",null,null,"Not assessed","https://viewer.us-3.sharpershape.services/viewer/assets/5ca5a2c6f6b463b271a05203/details","https://viewer.us-3.sharpershape.services/viewer/issues/5ecf8ed034b60c00015ec9b2/details","high","W12153769N3952294 WYANDOTTE 1105","[DouglasFir, Other, CoastalLiveOak]","DouglasFir"]
[291,"NORTHERN","NORTH VALLEY","Tier 2-3","102911105 Tier 2-3",102911105,"WYANDOTTE 1105",26.9,39.52863,-121.518749999999,null,63.8,"W12151875N3952863",14.3,-23.6,"YES","W12151873N3952887","W12151852N3952834","W12151852N3952834-W12151873N3952887",102911105,"WYANDOTTE 1105",null,"2019-11-20T17:46:46",null,null,"Not assessed","https://viewer.us-3.sharpershape.services/viewer/assets/5ca5a2c6f6b4631966a05106/details","https://viewer.us-3.sharpershape.services/viewer/issues/5ecf8c99a03e660001310bfe/details","high","W12151875N3952863 WYANDOTTE 1105","[Other, GrayPine, ValleyOak]","Other"]
[292,"NORTHERN","NORTH VALLEY","Tier 2-3","102911105 Tier 2-3",102911105,"WYANDOTTE 1105",3.4,39.5301499999999,-121.521339999999,null,24.5,"W12152134N3953015",7.1,8.1,"NO","W12152184N3953012","W12152091N3953014","W12152091N3953014-W12152184N3953012",102911105,"WYANDOTTE 1105",null,"2019-11-20T17:46:46",null,null,"Not assessed","https://viewer.us-3.sharpershape.services/viewer/assets/5ca5a2c6f6b463611da04cf7/details","https://viewer.us-3.sharpershape.services/viewer/issues/5ecf8c97a03e660001310a92/details","high","W12152134N3953015 WYANDOTTE 1105","[GrayPine, Other, ValleyOak]","GrayPine"]
[293,"NORTHERN","NORTH VALLEY","Tier 2-3","102911105 Tier 2-3",102911105,"WYANDOTTE 1105",16.5,39.526330000000002,-121.51456,null,25.3,"W12151456N3952633",7.3,8.4,"NO","W12151463N3952642","W12151461N3952559","W12151461N3952559-W12151463N3952642",102911105,"WYANDOTTE 1105",null,"2019-11-20T17:46:46",null,null,"Not assessed","https://viewer.us-3.sharpershape.services/viewer/assets/5d8b1e4455dd6b5e853f3023/details","https://viewer.us-3.sharpershape.services/viewer/issues/5ecf8c99a03e660001310c3c/details","high","W12151456N3952633 WYANDOTTE 1105","[Other, GrayPine, ValleyOak]","Other"]
[294,"NORTHERN","NORTH VALLEY","Tier 2-3","102911105 Tier 2-3",102911105,"WYANDOTTE 1105",16.100000000000001,39.529779999999903,-121.53019,null,25.8,"W12153019N3952978",12,7.8,"NO","W12152988N3952972","W12153068N3952972","W12153068N3952972-W12152988N3952972",102911105,"WYANDOTTE 1105",null,"2019-11-20T17:46:46",null,null,"Not assessed","https://viewer.us-3.sharpershape.services/viewer/assets/5d89b6cc55dd6b81633f2eff/details","https://viewer.us-3.sharpershape.services/viewer/issues/5ecf8c9934b60c00015ec337/details","high","W12153019N3952978 WYANDOTTE 1105","[Other, CoastalLiveOak, DouglasFir]","Other"]
[295,"NORTHERN","NORTH VALLEY","Tier 2-3","102911105 Tier 2-3",102911105,"WYANDOTTE 1105",22.1999999999999,39.529879999999899,-121.51971,null,27.1,"W12151971N3952988",12,9.9,"NO","W12151936N3952926","W12152005N3953021","W12152005N3953021-W12151936N3952926",102911105,"WYANDOTTE 1105",null,"2019-11-20T17:46:46",null,null,"Not assessed","https://viewer.us-3.sharpershape.services/viewer/assets/5ca5a2c6f6b463d94da04bdf/details","https://viewer.us-3.sharpershape.services/viewer/issues/5ecf8c9834b60c00015ec2bb/details","high","W12151971N3952988 WYANDOTTE 1105","[GrayPine, MontereyPine, Other]","GrayPine"]
[296,"NORTHERN","NORTH VALLEY","Tier 2-3","102911105 Tier 2-3",102911105,"WYANDOTTE 1105",22.8,39.532359999999898,-121.539339999999,null,30.5,"W12153934N3953236",12,4.7,"NO","W12153905N3953243","W12153963N3953242","W12153963N3953242-W12153905N3953243",102911105,"WYANDOTTE 1105",null,"2019-11-20T17:46:46",null,null,"Not assessed","https://viewer.us-3.sharpershape.services/viewer/assets/5ca5a2c6f6b4637e06a05104/details","https://viewer.us-3.sharpershape.services/viewer/issues/5ecf8c9634b60c00015ec162/details","high","W12153934N3953236 WYANDOTTE 1105"]
[297,"NORTHERN","NORTH VALLEY","Tier 2-3","102911105 Tier 2-3",102911105,"WYANDOTTE 1105",0.4,39.529959999999903,-121.52091,null,19.399999999999999,"W12152091N3952996",7.4,7.8,"NO","W12152091N3952965","W12152091N3953014","W12152091N3953014-W12152091N3952965",102911105,"WYANDOTTE 1105",null,"2019-11-20T17:46:46",null,null,"Not assessed","https://viewer.us-3.sharpershape.services/viewer/assets/5ca5a2c6f6b46337e8a04a3f/details","https://viewer.us-3.sharpershape.services/viewer/issues/5ecf8eb9a03e66000131112e/details","high","W12152091N3952996 WYANDOTTE 1105","[GrayPine, ValleyOak, DouglasFir]","GrayPine"]
[298,"NORTHERN","NORTH VALLEY","Tier 2-3","102911105 Tier 2-3",102911105,"WYANDOTTE 1105",4.5999999999999996,39.532419999999902,-121.53846,null,62.399999999999899,"W12153846N3953242",3.8,-40.299999999999997,"YES","W12153905N3953243","W12153810N3953244","W12153810N3953244-W12153905N3953243",102911105,"WYANDOTTE 1105",null,"2019-11-20T17:46:46","OH",null,"Not assessed","https://viewer.us-3.sharpershape.services/viewer/assets/5ca5a2c6f6b46300cca04f1d/details","https://viewer.us-3.sharpershape.services/viewer/issues/5ecf8c93a03e6600013108a3/details","high","W12153846N3953242 WYANDOTTE 1105","[DouglasFir, TanOak, GrayPine]","DouglasFir"]
[299,"NORTHERN","NORTH VALLEY","Tier 2-3","102911105 Tier 2-3",102911105,"WYANDOTTE 1105",14,39.52966,-121.523889999999,null,53.6,"W12152389N3952966",10.5,-12.3,"YES","W12152351N3952966","W12152414N3952959","W12152414N3952959-W12152351N3952966",102911105,"WYANDOTTE 1105",null,"2019-11-20T17:46:46",null,null,"Not assessed","https://viewer.us-3.sharpershape.services/viewer/assets/5ca5a2c6f6b463d8dea04db3/details","https://viewer.us-3.sharpershape.services/viewer/issues/5ee2b4c2a03e66000146e442/details","high","W12152389N3952966 WYANDOTTE 1105","[Other, DouglasFir, ValleyOak]","Other"]
[300,"NORTHERN","NORTH VALLEY","Tier 2-3","102911105 Tier 2-3",102911105,"WYANDOTTE 1105",32.5,39.529139999999899,-121.52030000000001,null,60.7,"W12152030N3952914",11.1,-11.5,"YES","W12152014N3952914","W12152053N3952877","W12152053N3952877-W12152014N3952914",102911105,"WYANDOTTE 1105",null,"2019-11-20T17:46:46",null,null,"Not assessed","https://viewer.us-3.sharpershape.services/viewer/assets/5ca5a2c6f6b463d0f3a04a55/details","https://viewer.us-3.sharpershape.services/viewer/issues/5ecf8c9734b60c00015ec20b/details","high","W12152030N3952914 WYANDOTTE 1105","[GrayPine, Other, MontereyPine]","GrayPine"]
[301,"NORTHERN","NORTH VALLEY","Tier 2-3","102911105 Tier 2-3",102911105,"WYANDOTTE 1105",10.6,39.52657,-121.5354,null,42.399999999999899,"W12153540N3952657",6.4,-8.3000000000000007,"YES","W12153535N3952637","W12153536N3952706","W12153536N3952706-W12153535N3952637",102911105,"WYANDOTTE 1105",null,"2019-11-20T17:46:46",null,null,"Not assessed","https://viewer.us-3.sharpershape.services/viewer/assets/5e7a18565dcbeb387a17baf6/details","https://viewer.us-3.sharpershape.services/viewer/issues/5ecf8c9934b60c00015ec398/details","high","W12153540N3952657 WYANDOTTE 1105","[DouglasFir, LiveOak, ValleyOak]","DouglasFir"]
[302,"NORTHERN","NORTH VALLEY","Tier 2-3","102911105 Tier 2-3",102911105,"WYANDOTTE 1105",4.3,39.532350000000001,-121.53207999999999,null,21.8,"W12153208N3953235",12,6.4,"NO","W12153205N3953245","W12153206N3953192","W12153206N3953192-W12153205N3953245",102911105,"WYANDOTTE 1105",null,"2019-11-20T17:46:46",null,null,"Not assessed","https://viewer.us-3.sharpershape.services/viewer/assets/5ca5a2c6f6b463299fa04cf2/details","https://viewer.us-3.sharpershape.services/viewer/issues/5ecf8c9934b60c00015ec374/details","high","W12153208N3953235 WYANDOTTE 1105","[CoastalLiveOak, DouglasFir, MontereyPine]","CoastalLiveOak"]
[303,"NORTHERN","NORTH VALLEY","Tier 2-3","102911105 Tier 2-3",102911105,"WYANDOTTE 1105",8.6,39.532449999999898,-121.531649999999,null,25.6,"W12153165N3953245",6.3,2.4,"NO","W12153205N3953245","W12153117N3953239","W12153117N3953239-W12153205N3953245",102911105,"WYANDOTTE 1105",null,"2019-11-20T17:46:46",null,null,"Not assessed","https://viewer.us-3.sharpershape.services/viewer/assets/5ca5a2c6f6b4636b14a051ca/details","https://viewer.us-3.sharpershape.services/viewer/issues/5ecf8c9734b60c00015ec172/details","high","W12153165N3953245 WYANDOTTE 1105","[CoastalLiveOak, ValleyOak, Other]","CoastalLiveOak"]
[304,"NORTHERN","NORTH VALLEY","Tier 0-1","102911105 Tier 0-1",102911105,"WYANDOTTE 1105",23.3,39.524609999999903,-121.522779999999,null,52,"W12152278N3952461",9,-9.8000000000000007,"YES","W12152293N3952453","W12152223N3952454","W12152223N3952454-W12152293N3952453",102911105,"WYANDOTTE 1105",null,"2019-11-20T17:46:46","OH",null,"Not assessed","https://viewer.us-3.sharpershape.services/viewer/assets/5ca5a2c6f6b4634c38a04c9a/details","https://viewer.us-3.sharpershape.services/viewer/issues/5ecf8c9634b60c00015ec109/details","high","W12152278N3952461 WYANDOTTE 1105","[GrayPine, Other, ValleyOak]","GrayPine"]
[305,"NORTHERN","NORTH VALLEY","Tier 2-3","102911105 Tier 2-3",102911105,"WYANDOTTE 1105",16.3,39.534329999999898,-121.541979999999,null,55.2,"W12154198N3953433",6.3,-18.6999999999999,"YES","W12154214N3953455","W12154179N3953424","W12154179N3953424-W12154214N3953455",102911105,"WYANDOTTE 1105",null,"2019-11-20T17:46:46","OH",null,"Not assessed","https://viewer.us-3.sharpershape.services/viewer/assets/5ca5a2c6f6b4634756a04ae5/details","https://viewer.us-3.sharpershape.services/viewer/issues/5ecf8c9534b60c00015ec098/details","high","W12154198N3953433 WYANDOTTE 1105","[DouglasFir, GrayPine, Eucalyptus/BlueGum]","DouglasFir"]
[306,"NORTHERN","NORTH VALLEY","Tier 2-3","102911105 Tier 2-3",102911105,"WYANDOTTE 1105",65.099999999999895,39.537500000000001,-121.542259999999,null,77.2,"W12154226N3953750",45.6,-10.6,"YES","W12154253N3953660","W12154250N3953758","W12154250N3953758-W12154253N3953660",102911105,"WYANDOTTE 1105",null,"2019-11-20T17:46:46",null,null,"Not assessed","https://viewer.us-3.sharpershape.services/viewer/assets/5ca5a2c6f6b4637989a05102/details","https://viewer.us-3.sharpershape.services/viewer/issues/5ecf8c9734b60c00015ec1aa/details","high","W12154226N3953750 WYANDOTTE 1105","[Eucalyptus/BlueGum, DouglasFir, CoastalLiveOak]","Eucalyptus/BlueGum"]
[307,"NORTHERN","NORTH VALLEY","Tier 2-3","102911105 Tier 2-3",102911105,"WYANDOTTE 1105",20.5,39.530110000000001,-121.53215,null,33.200000000000003,"W12153215N3953011",12,4.0999999999999996,"NO","W12153206N3953018","W12153206N3952972","W12153206N3952972-W12153206N3953018",102911105,"WYANDOTTE 1105",null,"2019-11-20T17:46:46",null,null,"Not assessed","https://viewer.us-3.sharpershape.services/viewer/assets/5ca5a2c6f6b4636702a04ca2/details","https://viewer.us-3.sharpershape.services/viewer/issues/5ecf8c9734b60c00015ec1f9/details","high","W12153215N3953011 WYANDOTTE 1105","[LiveOak, DouglasFir, TanOak]","LiveOak"]
[308,"NORTHERN","NORTH VALLEY","Tier 0-1","102911105 Tier 0-1",102911105,"WYANDOTTE 1105",10.1,39.52319,-121.51179999999999,null,42,"W12151180N3952319",3.9,-9.6999999999999993,"YES","W12151196N3952324","W12151167N3952308","W12151167N3952308-W12151196N3952324",102911105,"WYANDOTTE 1105",null,"2019-11-20T17:46:46",null,null,"Not assessed","https://viewer.us-3.sharpershape.services/viewer/assets/5ca5a2c6f6b463c0a8a04fe8/details","https://viewer.us-3.sharpershape.services/viewer/issues/5ecf8c9434b60c00015ec059/details","high","W12151180N3952319 WYANDOTTE 1105","[LiveOak, GrayPine, ValleyOak]","LiveOak"]
[309,"NORTHERN","NORTH VALLEY","Tier 2-3","102911105 Tier 2-3",102911105,"WYANDOTTE 1105",26.9,39.53257,-121.536649999999,null,29.1,"W12153665N3953257",11.3,23.3,"NO","W12153655N3953283","W12153655N3953245","W12153655N3953245-W12153655N3953283",102911105,"WYANDOTTE 1105",null,"2019-11-20T17:46:46",null,null,"Not assessed","https://viewer.us-3.sharpershape.services/viewer/assets/5ca5a2c6f6b463379ea04ebb/details","https://viewer.us-3.sharpershape.services/viewer/issues/5ecf9556a03e660001311f88/details","high","W12153665N3953257 WYANDOTTE 1105","[Other, DouglasFir, LiveOak]","Other"]
[310,"NORTHERN","NORTH VALLEY","Tier 2-3","102911105 Tier 2-3",102911105,"WYANDOTTE 1105",31,39.526150000000001,-121.53274,null,25.8,"W12153274N3952615",7,19,"NO","W12153224N3952655","W12153295N3952615","W12153295N3952615-W12153224N3952655",102911105,"WYANDOTTE 1105",null,"2019-11-20T17:46:46",null,null,"Not assessed","https://viewer.us-3.sharpershape.services/viewer/assets/5ca5a2c6f6b4635390a04a71/details","https://viewer.us-3.sharpershape.services/viewer/issues/5ecf8ee0a03e66000131125e/details","high","W12153274N3952615 WYANDOTTE 1105","[DouglasFir, Eucalyptus/BlueGum, GrayPine]","DouglasFir"]
[311,"NORTHERN","NORTH VALLEY","Tier 2-3","102911105 Tier 2-3",102911105,"WYANDOTTE 1105",35.700000000000003,39.528230000000001,-121.5304,null,59.2,"W12153040N3952823",9.3000000000000007,-4.5,"YES","W12153053N3952876","W12153054N3952815","W12153054N3952815-W12153053N3952876",102911105,"WYANDOTTE 1105",null,"2019-11-20T17:46:46",null,null,"Not assessed","https://viewer.us-3.sharpershape.services/viewer/assets/5ca5a2c6f6b463a3b1a04e34/details","https://viewer.us-3.sharpershape.services/viewer/issues/5ecf8c9034b60c00015ebfd0/details","high","W12153040N3952823 WYANDOTTE 1105","[GrayPine, Other, ValleyOak]","GrayPine"]
[312,"NORTHERN","NORTH VALLEY","Tier 2-3","102911105 Tier 2-3",102911105,"WYANDOTTE 1105",6.2,39.532400000000003,-121.53416,null,28.6999999999999,"W12153416N3953240",12,6.7,"NO","W12153419N3953235","W12153421N3953300","W12153421N3953300-W12153419N3953235",102911105,"WYANDOTTE 1105",null,"2019-11-20T17:46:46",null,null,"Not assessed","https://viewer.us-3.sharpershape.services/viewer/assets/5ca5a2c6f6b4635c05a05132/details","https://viewer.us-3.sharpershape.services/viewer/issues/5ee2b42f34b60c0001746b60/details","high","W12153416N3953240 WYANDOTTE 1105","[DouglasFir, TanOak, CoastalLiveOak]","DouglasFir"]
[313,"NORTHERN","NORTH VALLEY","Tier 2-3","102911105 Tier 2-3",102911105,"WYANDOTTE 1105",24.6,39.5296799999999,-121.52979999999999,null,43.1,"W12152980N3952968",12,4.5999999999999996,"NO","W12152988N3952972","W12153068N3952972","W12153068N3952972-W12152988N3952972",102911105,"WYANDOTTE 1105",null,"2019-11-20T17:46:46",null,null,"Not assessed","https://viewer.us-3.sharpershape.services/viewer/assets/5d89b6cc55dd6b81633f2eff/details","https://viewer.us-3.sharpershape.services/viewer/issues/5ecf8c9934b60c00015ec34c/details","high","W12152980N3952968 WYANDOTTE 1105","[CoastalLiveOak, Other, DouglasFir]","CoastalLiveOak"]
[314,"NORTHERN","NORTH VALLEY","Tier 2-3","102911105 Tier 2-3",102911105,"WYANDOTTE 1105",27.5,39.531439999999897,-121.531949999999,null,29.1999999999999,"W12153195N3953144",7.1,9.3000000000000007,"NO","W12153206N3953153","W12153207N3953097","W12153207N3953097-W12153206N3953153",102911105,"WYANDOTTE 1105",null,"2019-11-20T17:46:46",null,null,"Not assessed","https://viewer.us-3.sharpershape.services/viewer/assets/5ca5a2c6f6b463f9cfa04c7e/details","https://viewer.us-3.sharpershape.services/viewer/issues/5ecf8c98a03e660001310b41/details","high","W12153195N3953144 WYANDOTTE 1105","[GrayPine, DouglasFir, Other]","GrayPine"]
[315,"NORTHERN","NORTH VALLEY","Tier 2-3","102911105 Tier 2-3",102911105,"WYANDOTTE 1105",32.200000000000003,39.540189999999903,-121.542469999999,null,54.7,"W12154247N3954019",12.4,-21.6999999999999,"YES","W12154258N3954066","W12154261N3953987","W12154261N3953987-W12154258N3954066",102911105,"WYANDOTTE 1105",null,"2019-11-20T17:46:46",null,null,"Not assessed","https://viewer.us-3.sharpershape.services/viewer/assets/5ca5a2c6f6b463dd95a04ecd/details","https://viewer.us-3.sharpershape.services/viewer/issues/5ecf8c97a03e660001310ac0/details","high","W12154247N3954019 WYANDOTTE 1105","[DouglasFir, GrayPine, Other]","DouglasFir"]
[316,"NORTHERN","NORTH VALLEY","Tier 2-3","102911105 Tier 2-3",102911105,"WYANDOTTE 1105",10.3,39.527249999999903,-121.528989999999,null,36.200000000000003,"W12152899N3952725",6.8,0.9,"NO","W12152800N3952774","W12152907N3952726","W12152907N3952726-W12152800N3952774",102911105,"WYANDOTTE 1105",null,"2019-11-20T17:46:46",null,null,"Not assessed","https://viewer.us-3.sharpershape.services/viewer/assets/5ca5a2c6f6b4634630a04e8d/details","https://viewer.us-3.sharpershape.services/viewer/issues/5ecf8c97a03e660001310aec/details","high","W12152899N3952725 WYANDOTTE 1105","[GrayPine, ValleyOak, TanOak]","GrayPine"]
[317,"NORTHERN","NORTH VALLEY","Tier 0-1","102911105 Tier 0-1",102911105,"WYANDOTTE 1105",19,39.523089999999897,-121.51218,null,88.299999999999898,"W12151218N3952309",6.1,-59.1,"YES","W12151282N3952292","W12151196N3952324","W12151196N3952324-W12151282N3952292",102911105,"WYANDOTTE 1105",null,"2019-11-20T17:46:46","OH",null,"Not assessed","https://viewer.us-3.sharpershape.services/viewer/assets/5ca5a2c6f6b463e9a0a04bb9/details","https://viewer.us-3.sharpershape.services/viewer/issues/5ecf8c98a03e660001310ba4/details","high","W12151218N3952309 WYANDOTTE 1105","[DouglasFir, GrayPine, LiveOak]","DouglasFir"]
[318,"NORTHERN","NORTH VALLEY","Tier 2-3","102911105 Tier 2-3",102911105,"WYANDOTTE 1105",24.1,39.527659999999898,-121.527979999999,null,32.899999999999899,"W12152798N3952766",9.1999999999999993,7.3,"NO","W12152800N3952774","W12152907N3952726","W12152907N3952726-W12152800N3952774",102911105,"WYANDOTTE 1105",null,"2019-11-20T17:46:46",null,null,"Not assessed","https://viewer.us-3.sharpershape.services/viewer/assets/5ca5a2c6f6b4634630a04e8d/details","https://viewer.us-3.sharpershape.services/viewer/issues/5ecf8c97a03e660001310aee/details","high","W12152798N3952766 WYANDOTTE 1105","[CoastalLiveOak, DouglasFir, Eucalyptus/BlueGum]","CoastalLiveOak"]
[319,"NORTHERN","NORTH VALLEY","Tier 2-3","102911105 Tier 2-3",102911105,"WYANDOTTE 1105",13.7,39.527169999999899,-121.529349999999,null,39.799999999999997,"W12152935N3952717",6.5,-5.4,"YES","W12152907N3952726","W12152971N3952716","W12152971N3952716-W12152907N3952726",102911105,"WYANDOTTE 1105",null,"2019-11-20T17:46:46",null,null,"Not assessed","https://viewer.us-3.sharpershape.services/viewer/assets/5ca5a2c6f6b4635805a04cab/details","https://viewer.us-3.sharpershape.services/viewer/issues/5ecf8c9734b60c00015ec1ed/details","high","W12152935N3952717 WYANDOTTE 1105","[DouglasFir, Other, GrayPine]","DouglasFir"]
[320,"NORTHERN","NORTH VALLEY","Tier 2-3","102911105 Tier 2-3",102911105,"WYANDOTTE 1105",22.1999999999999,39.531659999999903,-121.53417,null,69.599999999999994,"W12153417N3953166",12,-27.1,"YES","W12153419N3953172","W12153419N3953235","W12153419N3953235-W12153419N3953172",102911105,"WYANDOTTE 1105",null,"2019-11-20T17:46:46",null,null,"Not assessed","https://viewer.us-3.sharpershape.services/viewer/assets/5ca5a2c6f6b463ef61a04c9e/details","https://viewer.us-3.sharpershape.services/viewer/issues/5ee2b42e34b60c0001746b4d/details","high","W12153417N3953166 WYANDOTTE 1105","[DouglasFir, GrayPine, Other]","DouglasFir"]
[321,"NORTHERN","NORTH VALLEY","Tier 2-3","102911105 Tier 2-3",102911105,"WYANDOTTE 1105",16.6999999999999,39.532869999999903,-121.5391,null,37.1,"W12153910N3953287",6.7,-1,"YES","W12153906N3953282","W12153944N3953282","W12153944N3953282-W12153906N3953282",102911105,"WYANDOTTE 1105",null,"2019-11-20T17:46:46",null,null,"Not assessed","https://viewer.us-3.sharpershape.services/viewer/assets/5ca5a2c6f6b463739ea04cfc/details","https://viewer.us-3.sharpershape.services/viewer/issues/5ecf8c9534b60c00015ec07f/details","high","W12153910N3953287 WYANDOTTE 1105","[CoastalLiveOak, DouglasFir, Other]","CoastalLiveOak"]
[322,"NORTHERN","NORTH VALLEY","Tier 2-3","102911105 Tier 2-3",102911105,"WYANDOTTE 1105",69.299999999999898,39.538170000000001,-121.542249999999,null,93,"W12154225N3953817",52.6,-22.6,"YES","W12154252N3953857","W12154250N3953758","W12154250N3953758-W12154252N3953857",102911105,"WYANDOTTE 1105",null,"2019-11-20T17:46:46",null,null,"Not assessed","https://viewer.us-3.sharpershape.services/viewer/assets/5ca5a2c6f6b463b67da04e4c/details","https://viewer.us-3.sharpershape.services/viewer/issues/5ecf8c97a03e660001310a4d/details","high","W12154225N3953817 WYANDOTTE 1105"]
[323,"NORTHERN","NORTH VALLEY","Tier 2-3","102911105 Tier 2-3",102911105,"WYANDOTTE 1105",15.3,39.531559999999899,-121.51769,null,59.8,"W12151769N3953156",9.3000000000000007,-20.6999999999999,"YES","W12151822N3953157","W12151765N3953162","W12151765N3953162-W12151822N3953157",102911105,"WYANDOTTE 1105",null,"2019-11-20T17:46:46","OH",null,"Not assessed","https://viewer.us-3.sharpershape.services/viewer/assets/5ca5a2c6f6b463f67aa051de/details","https://viewer.us-3.sharpershape.services/viewer/issues/5ecf8c9734b60c00015ec19c/details","high","W12151769N3953156 WYANDOTTE 1105","[CoastalLiveOak, Other, Eucalyptus/BlueGum]","CoastalLiveOak"]
[324,"NORTHERN","NORTH VALLEY","Tier 2-3","102911105 Tier 2-3",102911105,"WYANDOTTE 1105",14.6,39.530589999999897,-121.532,null,34.700000000000003,"W12153200N3953059",7.1,-0.1,"YES","W12153206N3953048","W12153207N3953097","W12153207N3953097-W12153206N3953048",102911105,"WYANDOTTE 1105",null,"2019-11-20T17:46:46",null,null,"Not assessed","https://viewer.us-3.sharpershape.services/viewer/assets/5ca5a2c6f6b46317dca04964/details","https://viewer.us-3.sharpershape.services/viewer/issues/5ecf8c95a03e66000131093b/details","high","W12153200N3953059 WYANDOTTE 1105","[CoastalLiveOak, DouglasFir, Eucalyptus/BlueGum]","CoastalLiveOak"]
[325,"NORTHERN","NORTH VALLEY","Tier 0-1","102911105 Tier 0-1",102911105,"WYANDOTTE 1105",13.4,39.524629999999902,-121.52194,null,64.599999999999895,"W12152194N3952463",5.3,-28.4,"YES","W12152121N3952468","W12152223N3952454","W12152223N3952454-W12152121N3952468",102911105,"WYANDOTTE 1105",null,"2019-11-20T17:46:46","OH",null,"Not assessed","https://viewer.us-3.sharpershape.services/viewer/assets/5ca5a2c6f6b4634c98a0504c/details","https://viewer.us-3.sharpershape.services/viewer/issues/5ecf8c9634b60c00015ec14f/details","high","W12152194N3952463 WYANDOTTE 1105","[GrayPine, DouglasFir, TanOak]","GrayPine"]
[326,"NORTHERN","NORTH VALLEY","Tier 2-3","102911105 Tier 2-3",102911105,"WYANDOTTE 1105",11.6,39.52487,-121.51464,null,31.4,"W12151464N3952487",5.5,2.2000000000000002,"NO","W12151459N3952471","W12151461N3952559","W12151461N3952559-W12151459N3952471",102911105,"WYANDOTTE 1105",null,"2019-11-20T17:46:46",null,null,"Not assessed","https://viewer.us-3.sharpershape.services/viewer/assets/5d8b1e506476d7eadd5dd3a0/details","https://viewer.us-3.sharpershape.services/viewer/issues/5ecf8c9934b60c00015ec369/details","high","W12151464N3952487 WYANDOTTE 1105","[DouglasFir, Eucalyptus/BlueGum, BlackOak]","DouglasFir"]
[327,"NORTHERN","NORTH VALLEY","Tier 2-3","102911105 Tier 2-3",102911105,"WYANDOTTE 1105",8.3000000000000007,39.672609999999899,-121.49727,null,21.6999999999999,"W12149727N3967261",8.1999999999999904,3.9,"NO","W12149658N3967347","W12149755N3967217","W12149755N3967217-W12149658N3967347",0,"WYANDOTTE 1105",null,"2019-11-20T17:46:46",null,null,"Not assessed","https://viewer.us-3.sharpershape.services/viewer/assets/5ca5a2c6f6b463d89ea04e5a/details","https://viewer.us-3.sharpershape.services/viewer/issues/5ecf8c9834b60c00015ec2d3/details","high","W12149727N3967261 WYANDOTTE 1105"]
[328,"NORTHERN","NORTH VALLEY","Tier 2-3","102911105 Tier 2-3",102911105,"WYANDOTTE 1105",14.4,39.531779999999898,-121.54079,null,63.2,"W12154079N3953178",8.5,-35.1,"YES","W12154086N3953214","W12154084N3953131","W12154084N3953131-W12154086N3953214",102911105,"WYANDOTTE 1105",null,"2019-11-20T17:46:46","OH",null,"Not assessed","https://viewer.us-3.sharpershape.services/viewer/assets/5ca5a2c6f6b4630944a04ef1/details","https://viewer.us-3.sharpershape.services/viewer/issues/5ecf8c98a03e660001310b50/details","high","W12154079N3953178 WYANDOTTE 1105","[DouglasFir, GrayPine, CoastalLiveOak]","DouglasFir"]
[329,"NORTHERN","NORTH VALLEY","Tier 2-3","102911105 Tier 2-3",102911105,"WYANDOTTE 1105",42,39.52711,-121.53010999999999,null,46,"W12153011N3952711",23.6,9.8000000000000007,"NO","W12152971N3952716","W12153054N3952731","W12153054N3952731-W12152971N3952716",102911105,"WYANDOTTE 1105",null,"2019-11-20T17:46:46",null,null,"Not assessed","https://viewer.us-3.sharpershape.services/viewer/assets/5ca5a2c6f6b4637c8aa04fdb/details","https://viewer.us-3.sharpershape.services/viewer/issues/5ecf8c94a03e6600013108e3/details","high","W12153011N3952711 WYANDOTTE 1105","[DouglasFir, CoastalLiveOak, Eucalyptus/BlueGum]","DouglasFir"]
[330,"NORTHERN","NORTH VALLEY","Tier 2-3","102911105 Tier 2-3",102911105,"WYANDOTTE 1105",8.6,39.54177,-121.542149999999,null,28.1999999999999,"W12154215N3954177",8.1,5,"NO","W12154206N3954186","W12154249N3954102","W12154249N3954102-W12154206N3954186",102911105,"WYANDOTTE 1105",null,"2019-11-20T17:46:46",null,null,"Not assessed","https://viewer.us-3.sharpershape.services/viewer/assets/5ca5a2c6f6b4631d52a04cea/details","https://viewer.us-3.sharpershape.services/viewer/issues/5ecf8c98a03e660001310bfa/details","high","W12154215N3954177 WYANDOTTE 1105","[DouglasFir, Other, CoastalLiveOak]","DouglasFir"]
[331,"NORTHERN","NORTH VALLEY","Tier 0-1","102911105 Tier 0-1",102911105,"WYANDOTTE 1105",10.3,39.525509999999898,-121.533209999999,null,30.5,"W12153321N3952551",9.4,8.3000000000000007,"NO","W12153345N3952585","W12153312N3952549","W12153312N3952549-W12153345N3952585",102911105,"WYANDOTTE 1105",null,"2019-11-20T17:46:46",null,null,"Not assessed","https://viewer.us-3.sharpershape.services/viewer/assets/5ca5a2c6f6b4639894a04b2d/details","https://viewer.us-3.sharpershape.services/viewer/issues/5ecf8c94a03e6600013108f4/details","high","W12153321N3952551 WYANDOTTE 1105","[LiveOak, DouglasFir, ValleyOak]","LiveOak"]
[332,"NORTHERN","NORTH VALLEY","Tier 0-1","102911105 Tier 0-1",102911105,"WYANDOTTE 1105",22.4,39.523849999999896,-121.537309999999,null,34.700000000000003,"W12153731N3952385",7.6,-2.2999999999999998,"YES","W12153751N3952386","W12153708N3952399","W12153708N3952399-W12153751N3952386",102911105,"WYANDOTTE 1105",null,"2019-11-20T17:46:46",null,null,"Not assessed","https://viewer.us-3.sharpershape.services/viewer/assets/5ca5a2c6f6b46361e1a04b3c/details","https://viewer.us-3.sharpershape.services/viewer/issues/5ecf8c9634b60c00015ec0f9/details","high","W12153731N3952385 WYANDOTTE 1105","[DouglasFir, TanOak, LiveOak]","DouglasFir"]
[333,"NORTHERN","NORTH VALLEY","Tier 2-3","102911105 Tier 2-3",102911105,"WYANDOTTE 1105",16.8,39.5302399999999,-121.52042,null,38.299999999999997,"W12152042N3953024",7.6,-0.6,"YES","W12152091N3953014","W12152005N3953021","W12152005N3953021-W12152091N3953014",102911105,"WYANDOTTE 1105",null,"2019-11-20T17:46:46",null,null,"Not assessed","https://viewer.us-3.sharpershape.services/viewer/assets/5ca5a2c6f6b4637ff5a04e47/details","https://viewer.us-3.sharpershape.services/viewer/issues/5ecf8c9534b60c00015ec079/details","high","W12152042N3953024 WYANDOTTE 1105","[DouglasFir, Eucalyptus/BlueGum, CoastalLiveOak]","DouglasFir"]
[334,"NORTHERN","NORTH VALLEY","Tier 2-3","102911105 Tier 2-3",102911105,"WYANDOTTE 1105",21.4,39.674239999999898,-121.49567,null,37.5,"W12149567N3967424",12,2.4,"NO","W12149590N3967413","W12149366N3967635","W12149366N3967635-W12149590N3967413",102911105,"WYANDOTTE 1105",null,"2019-11-20T17:46:46",null,null,"Not assessed","https://viewer.us-3.sharpershape.services/viewer/assets/5ca5a2c6f6b46310cea04dc9/details","https://viewer.us-3.sharpershape.services/viewer/issues/5ecf8c92a03e660001310850/details","high","W12149567N3967424 WYANDOTTE 1105"]
[335,"NORTHERN","NORTH VALLEY","Tier 2-3","102911105 Tier 2-3",102911105,"WYANDOTTE 1105",16.5,39.538350000000001,-121.542439999999,null,8.6999999999999993,"W12154244N3953835",12,24,"NO","W12154252N3953857","W12154250N3953758","W12154250N3953758-W12154252N3953857",102911105,"WYANDOTTE 1105",null,"2019-11-20T17:46:46",null,null,"Not assessed","https://viewer.us-3.sharpershape.services/viewer/assets/5ca5a2c6f6b463b67da04e4c/details","https://viewer.us-3.sharpershape.services/viewer/issues/5ecf8e94a03e660001311024/details","high","W12154244N3953835 WYANDOTTE 1105","[Eucalyptus/BlueGum, LiveOak, DouglasFir]","Eucalyptus/BlueGum"]
[336,"NORTHERN","NORTH VALLEY","Tier 2-3","102911105 Tier 2-3",102911105,"WYANDOTTE 1105",21.1,39.525709999999897,-121.53752,null,30.1,"W12153752N3952571",10.6,22.6,"NO","W12153742N3952569","W12153767N3952612","W12153767N3952612-W12153742N3952569",102911105,"WYANDOTTE 1105",null,"2019-11-20T17:46:46",null,null,"Not assessed","https://viewer.us-3.sharpershape.services/viewer/assets/5e1b0881942b992c9e7b02ef/details","https://viewer.us-3.sharpershape.services/viewer/issues/5ecf9545a03e660001311ed2/details","high","W12153752N3952571 WYANDOTTE 1105"]
[337,"NORTHERN","NORTH VALLEY","Tier 2-3","102911105 Tier 2-3",102911105,"WYANDOTTE 1105",32.5,39.538629999999898,-121.5424,null,97,"W12154240N3953863",14.1,-64.299999999999898,"YES","W12154252N3953857","W12154263N3953924","W12154263N3953924-W12154252N3953857",102911105,"WYANDOTTE 1105",null,"2019-11-20T17:46:46",null,null,"Not assessed","https://viewer.us-3.sharpershape.services/viewer/assets/5ca5a2c6f6b463b563a04ed9/details","https://viewer.us-3.sharpershape.services/viewer/issues/5ecf8c9334b60c00015ec029/details","high","W12154240N3953863 WYANDOTTE 1105","[GrayPine, DouglasFir, Eucalyptus/BlueGum]","GrayPine"]
[338,"NORTHERN","NORTH VALLEY","Tier 2-3","102911105 Tier 2-3",102911105,"WYANDOTTE 1105",2.2000000000000002,39.5292099999999,-121.52588,null,28.8,"W12152588N3952921",8,6.9,"NO","W12152596N3952916","W12152603N3952974","W12152603N3952974-W12152596N3952916",102911105,"WYANDOTTE 1105",null,"2019-11-20T17:46:46",null,null,"Not assessed","https://viewer.us-3.sharpershape.services/viewer/assets/5ca5a2c6f6b463c9e0a0514e/details","https://viewer.us-3.sharpershape.services/viewer/issues/5ecf8c9734b60c00015ec191/details","high","W12152588N3952921 WYANDOTTE 1105","[LiveOak, Other, DouglasFir]","LiveOak"]
[339,"NORTHERN","NORTH VALLEY","Tier 2-3","102911105 Tier 2-3",102911105,"WYANDOTTE 1105",32.6,39.525329999999897,-121.53734,null,33.5,"W12153734N3952533",9,21,"NO","W12153742N3952569","W12153709N3952512","W12153709N3952512-W12153742N3952569",102911105,"WYANDOTTE 1105",null,"2019-11-20T17:46:46",null,null,"Not assessed","https://viewer.us-3.sharpershape.services/viewer/assets/5ca5a2c6f6b4633f70a04d23/details","https://viewer.us-3.sharpershape.services/viewer/issues/5ecf956234b60c00015ed856/details","high","W12153734N3952533 WYANDOTTE 1105","[DouglasFir, CoastalLiveOak, Other]","DouglasFir"]
[340,"NORTHERN","NORTH VALLEY","Tier 2-3","102911105 Tier 2-3",102911105,"WYANDOTTE 1105",35.200000000000003,39.530380000000001,-121.53292,null,80.799999999999898,"W12153292N3953038",6.9,-33.700000000000003,"YES","W12153323N3953048","W12153269N3953048","W12153269N3953048-W12153323N3953048",102911105,"WYANDOTTE 1105",null,"2019-11-20T17:46:46",null,null,"Not assessed","https://viewer.us-3.sharpershape.services/viewer/assets/5ca5a2c6f6b4636013a051bf/details","https://viewer.us-3.sharpershape.services/viewer/issues/5ecf8c9834b60c00015ec282/details","high","W12153292N3953038 WYANDOTTE 1105","[GrayPine, DouglasFir, LiveOak]","GrayPine"]
[341,"NORTHERN","NORTH VALLEY","Tier 2-3","102911105 Tier 2-3",102911105,"WYANDOTTE 1105",2.7,39.527929999999898,-121.51443,null,26.5,"W12151443N3952793",9.6,9.9,"NO","W12151437N3952744","W12151441N3952799","W12151441N3952799-W12151437N3952744",102911105,"WYANDOTTE 1105",null,"2019-11-20T17:46:46",null,null,"Not assessed","https://viewer.us-3.sharpershape.services/viewer/assets/5ca5a2c6f6b463015da04b5c/details","https://viewer.us-3.sharpershape.services/viewer/issues/5ecf8c98a03e660001310b2c/details","high","W12151443N3952793 WYANDOTTE 1105","[DouglasFir, GrayPine, Other]","DouglasFir"]
[342,"NORTHERN","NORTH VALLEY","Tier 2-3","102911105 Tier 2-3",102911105,"WYANDOTTE 1105",28.6999999999999,39.538069999999898,-121.542389999999,null,94.2,"W12154239N3953807",9.8000000000000007,-65.400000000000006,"YES","W12154252N3953857","W12154250N3953758","W12154250N3953758-W12154252N3953857",102911105,"WYANDOTTE 1105",null,"2019-11-20T17:46:46",null,null,"Not assessed","https://viewer.us-3.sharpershape.services/viewer/assets/5ca5a2c6f6b463b67da04e4c/details","https://viewer.us-3.sharpershape.services/viewer/issues/5ecf8c97a03e660001310a50/details","high","W12154239N3953807 WYANDOTTE 1105","[CoastalLiveOak, Other, DouglasFir]","CoastalLiveOak"]
[343,"NORTHERN","NORTH VALLEY","Tier 2-3","102911105 Tier 2-3",102911105,"WYANDOTTE 1105",84.1,39.530229999999897,-121.533459999999,null,87.4,"W12153346N3953023",70.599999999999994,6.1,"NO","W12153355N3953046","W12153323N3953048","W12153323N3953048-W12153355N3953046",102911105,"WYANDOTTE 1105",null,"2019-11-20T17:46:46",null,null,"Not assessed","https://viewer.us-3.sharpershape.services/viewer/assets/5ca5a2c6f6b463e131a04ef3/details","https://viewer.us-3.sharpershape.services/viewer/issues/5ecf8c9834b60c00015ec23d/details","high","W12153346N3953023 WYANDOTTE 1105","[GrayPine, MontereyPine, Other]","GrayPine"]
[344,"NORTHERN","NORTH VALLEY","Tier 2-3","102911105 Tier 2-3",102911105,"WYANDOTTE 1105",13.5,39.532869999999903,-121.531279999999,null,25.3,"W12153128N3953287",6.1,3.6,"NO","W12153205N3953285","W12153118N3953282","W12153118N3953282-W12153205N3953285",102911105,"WYANDOTTE 1105",null,"2019-11-20T17:46:46",null,null,"Not assessed","https://viewer.us-3.sharpershape.services/viewer/assets/5ca5a2c6f6b463490aa04d2f/details","https://viewer.us-3.sharpershape.services/viewer/issues/5ecf8c9534b60c00015ec0c8/details","high","W12153128N3953287 WYANDOTTE 1105","[CoastalLiveOak, DouglasFir, Other]","CoastalLiveOak"]
[345,"NORTHERN","NORTH VALLEY","Tier 2-3","102911105 Tier 2-3",102911105,"WYANDOTTE 1105",7.2,39.53246,-121.538759999999,null,23.8,"W12153876N3953246",5.0999999999999996,5.5,"NO","W12153905N3953243","W12153810N3953244","W12153810N3953244-W12153905N3953243",102911105,"WYANDOTTE 1105",null,"2019-11-20T17:46:46",null,null,"Not assessed","https://viewer.us-3.sharpershape.services/viewer/assets/5ca5a2c6f6b46300cca04f1d/details","https://viewer.us-3.sharpershape.services/viewer/issues/5ecf8c93a03e6600013108b5/details","high","W12153876N3953246 WYANDOTTE 1105","[CoastalLiveOak, Other, Eucalyptus/BlueGum]","CoastalLiveOak"]
[346,"NORTHERN","NORTH VALLEY","Tier 0-1","102911105 Tier 0-1",102911105,"WYANDOTTE 1105",38.799999999999997,39.5226299999999,-121.51372000000001,null,55.2,"W12151372N3952263",23.6999999999999,-3.6,"YES","W12151335N3952254","W12151389N3952251","W12151389N3952251-W12151335N3952254",102911105,"WYANDOTTE 1105",null,"2019-11-20T17:46:46",null,null,"Not assessed","https://viewer.us-3.sharpershape.services/viewer/assets/5d8b1edb55dd6b072e3f3024/details","https://viewer.us-3.sharpershape.services/viewer/issues/5ecf8c99a03e660001310c59/details","high","W12151372N3952263 WYANDOTTE 1105","[Other, DouglasFir, MontereyPine]","Other"]
[347,"NORTHERN","NORTH VALLEY","Tier 2-3","102911105 Tier 2-3",102911105,"WYANDOTTE 1105",15.1,39.528239999999897,-121.530479999999,null,36.6,"W12153048N3952824",8.8000000000000007,3.6,"NO","W12153053N3952876","W12153054N3952815","W12153054N3952815-W12153053N3952876",102911105,"WYANDOTTE 1105",null,"2019-11-20T17:46:46",null,null,"Not assessed","https://viewer.us-3.sharpershape.services/viewer/assets/5ca5a2c6f6b463a3b1a04e34/details","https://viewer.us-3.sharpershape.services/viewer/issues/5ecf8c9034b60c00015ebfcc/details","high","W12153048N3952824 WYANDOTTE 1105","[CoastalLiveOak, MontereyPine, DouglasFir]","CoastalLiveOak"]
[348,"NORTHERN","NORTH VALLEY","Tier 2-3","102911105 Tier 2-3",102911105,"WYANDOTTE 1105",34,39.5244,-121.537109999999,null,57.3,"W12153711N3952440",8.6,-15.8,"YES","W12153716N3952455","W12153751N3952386","W12153751N3952386-W12153716N3952455",102911105,"WYANDOTTE 1105",null,"2019-11-20T17:46:46",null,null,"Not assessed","https://viewer.us-3.sharpershape.services/viewer/assets/5ca5a2c6f6b46351f2a04ede/details","https://viewer.us-3.sharpershape.services/viewer/issues/5ecf8c9634b60c00015ec16b/details","high","W12153711N3952440 WYANDOTTE 1105","[GrayPine, DouglasFir, Other]","GrayPine"]
[349,"NORTHERN","NORTH VALLEY","Tier 2-3","102911105 Tier 2-3",102911105,"WYANDOTTE 1105",37.299999999999997,39.53228,-121.53112,null,33.200000000000003,"W12153112N3953228",6.6,18.600000000000001,"NO","W12153205N3953245","W12153117N3953239","W12153117N3953239-W12153205N3953245",102911105,"WYANDOTTE 1105",null,"2019-11-20T17:46:46",null,null,"Not assessed","https://viewer.us-3.sharpershape.services/viewer/assets/5ca5a2c6f6b4636b14a051ca/details","https://viewer.us-3.sharpershape.services/viewer/issues/5ecf8f03a03e66000131133e/details","high","W12153112N3953228 WYANDOTTE 1105","[DouglasFir, CoastalLiveOak, MontereyPine]","DouglasFir"]
[350,"NORTHERN","NORTH VALLEY","Tier 2-3","102911105 Tier 2-3",102911105,"WYANDOTTE 1105",42.2,39.530609999999903,-121.532229999999,null,31.8,"W12153223N3953061",7.2,19.1999999999999,"NO","W12153206N3953048","W12153207N3953097","W12153207N3953097-W12153206N3953048",102911105,"WYANDOTTE 1105",null,"2019-11-20T17:46:46",null,null,"Not assessed","https://viewer.us-3.sharpershape.services/viewer/assets/5ca5a2c6f6b46317dca04964/details","https://viewer.us-3.sharpershape.services/viewer/issues/5ecf8eee34b60c00015eca9a/details","high","W12153223N3953061 WYANDOTTE 1105","[DouglasFir, CoastalLiveOak, Eucalyptus/BlueGum]","DouglasFir"]
[351,"NORTHERN","NORTH VALLEY","Tier 2-3","102911105 Tier 2-3",102911105,"WYANDOTTE 1105",20,39.532489999999903,-121.539169999999,null,30,"W12153917N3953249",12,8.5,"NO","W12153905N3953243","W12153963N3953242","W12153963N3953242-W12153905N3953243",102911105,"WYANDOTTE 1105",null,"2019-11-20T17:46:46",null,null,"Not assessed","https://viewer.us-3.sharpershape.services/viewer/assets/5ca5a2c6f6b4637e06a05104/details","https://viewer.us-3.sharpershape.services/viewer/issues/5ecf8c9634b60c00015ec15e/details","high","W12153917N3953249 WYANDOTTE 1105","[LiveOak, Other, DouglasFir]","LiveOak"]
[352,"NORTHERN","NORTH VALLEY","Tier 2-3","102911105 Tier 2-3",102911105,"WYANDOTTE 1105",95.2,39.659799999999997,-121.50458999999999,null,109.6,"W12150459N3965980",73.900000000000006,4.4000000000000004,"NO","W12150545N3965863","W12150368N3966300","W12150368N3966300-W12150545N3965863",102911105,"WYANDOTTE 1105",null,"2019-11-20T17:46:46",null,null,"Not assessed","https://viewer.us-3.sharpershape.services/viewer/assets/5ca5a2c6f6b463c54aa04b33/details","https://viewer.us-3.sharpershape.services/viewer/issues/5ecf8c9a34b60c00015ec3aa/details","high","W12150459N3965980 WYANDOTTE 1105","[DouglasFir, MontereyPine, Eucalyptus/BlueGum]","DouglasFir"]
[353,"NORTHERN","NORTH VALLEY","Tier 2-3","102911105 Tier 2-3",102911105,"WYANDOTTE 1105",6.5,39.5302399999999,-121.526,null,21,"W12152600N3953024",5.3,2.2999999999999998,"NO","W12152603N3952974","W12152603N3953064","W12152603N3953064-W12152603N3952974",102911105,"WYANDOTTE 1105",null,"2019-11-20T17:46:46",null,null,"Not assessed","https://viewer.us-3.sharpershape.services/viewer/assets/5ca5a2c6f6b463cd78a04dbd/details","https://viewer.us-3.sharpershape.services/viewer/issues/5ecf8c98a03e660001310bdb/details","high","W12152600N3953024 WYANDOTTE 1105","[LiveOak, DouglasFir, MontereyPine]","LiveOak"]
[354,"NORTHERN","NORTH VALLEY","Tier 2-3","102911105 Tier 2-3",102911105,"WYANDOTTE 1105",19,39.526620000000001,-121.51442,null,38.799999999999997,"W12151442N3952662",6.1,-2.6,"YES","W12151463N3952642","W12151433N3952690","W12151433N3952690-W12151463N3952642",102911105,"WYANDOTTE 1105",null,"2019-11-20T17:46:46",null,null,"Not assessed","https://viewer.us-3.sharpershape.services/viewer/assets/5ca5a2c6f6b46359cca05184/details","https://viewer.us-3.sharpershape.services/viewer/issues/5ecf8c96a03e66000131098f/details","high","W12151442N3952662 WYANDOTTE 1105","[DouglasFir, Other, GrayPine]","DouglasFir"]
[355,"NORTHERN","NORTH VALLEY","Tier 2-3","102911105 Tier 2-3",102911105,"WYANDOTTE 1105",16.1999999999999,39.532249999999898,-121.53565999999999,null,32.799999999999898,"W12153566N3953225",7.3,2.9,"NO","W12153557N3953230","W12153644N3953230","W12153644N3953230-W12153557N3953230",102911105,"WYANDOTTE 1105",null,"2019-11-20T17:46:46",null,null,"Not assessed","https://viewer.us-3.sharpershape.services/viewer/assets/5ca5a2c6f6b4630717a04d92/details","https://viewer.us-3.sharpershape.services/viewer/issues/5ecf8c97a03e660001310ada/details","high","W12153566N3953225 WYANDOTTE 1105","[Eucalyptus/BlueGum, DouglasFir, GrayPine]","Eucalyptus/BlueGum"]
[356,"NORTHERN","NORTH VALLEY","Tier 2-3","102911105 Tier 2-3",102911105,"WYANDOTTE 1105",35,39.6547699999999,-121.50673,null,74.799999999999898,"W12150673N3965477",28.9,-17.3,"YES","W12150643N3965533","W12150660N3965474","W12150660N3965474-W12150643N3965533",102911105,"WYANDOTTE 1105",null,"2019-11-20T17:46:46",null,null,"Not assessed","https://viewer.us-3.sharpershape.services/viewer/assets/5d88be6055dd6b9f923f2ea6/details","https://viewer.us-3.sharpershape.services/viewer/issues/5ecf8c9934b60c00015ec386/details","high","W12150673N3965477 WYANDOTTE 1105"]
[357,"NORTHERN","NORTH VALLEY","Tier 0-1","102911105 Tier 0-1",102911105,"WYANDOTTE 1105",43.899999999999899,39.522979999999897,-121.51178,null,78.799999999999898,"W12151178N3952298",5.6,-27.3,"YES","W12151196N3952324","W12151167N3952308","W12151167N3952308-W12151196N3952324",102911105,"WYANDOTTE 1105",null,"2019-11-20T17:46:46",null,null,"Not assessed","https://viewer.us-3.sharpershape.services/viewer/assets/5ca5a2c6f6b463c0a8a04fe8/details","https://viewer.us-3.sharpershape.services/viewer/issues/5ecf8c9434b60c00015ec053/details","high","W12151178N3952298 WYANDOTTE 1105","[GrayPine, DouglasFir, Other]","GrayPine"]
[358,"NORTHERN","NORTH VALLEY","Tier 2-3","102911105 Tier 2-3",102911105,"WYANDOTTE 1105",34.6,39.527740000000001,-121.53548000000001,null,39.200000000000003,"W12153548N3952774",22.1,9.5,"NO","W12153535N3952774","W12153536N3952706","W12153536N3952706-W12153535N3952774",102911105,"WYANDOTTE 1105",null,"2019-11-20T17:46:46",null,null,"Not assessed","https://viewer.us-3.sharpershape.services/viewer/assets/5ca5a2c6f6b463ada9a04fb0/details","https://viewer.us-3.sharpershape.services/viewer/issues/5ecf8c97a03e660001310a89/details","high","W12153548N3952774 WYANDOTTE 1105","[GrayPine, DouglasFir, ValleyOak]","GrayPine"]
[359,"NORTHERN","NORTH VALLEY","Tier 2-3","102911105 Tier 2-3",102911105,"WYANDOTTE 1105",71.7,39.526620000000001,-121.538169999999,null,72.900000000000006,"W12153817N3952662",60.2,5.7,"NO","W12153848N3952653","W12153767N3952612","W12153767N3952612-W12153848N3952653",102911105,"WYANDOTTE 1105",null,"2019-11-20T17:46:46",null,null,"Not assessed","https://viewer.us-3.sharpershape.services/viewer/assets/5ca5a2c6f6b463399da04f5c/details","https://viewer.us-3.sharpershape.services/viewer/issues/5ecf8c9434b60c00015ec05e/details","high","W12153817N3952662 WYANDOTTE 1105","[GrayPine, DouglasFir, CoastalLiveOak]","GrayPine"]
[360,"NORTHERN","NORTH VALLEY","Tier 2-3","102911105 Tier 2-3",102911105,"WYANDOTTE 1105",39.299999999999997,39.528929999999903,-121.534239999999,null,90.799999999999898,"W12153424N3952893",25,-34.700000000000003,"YES","W12153422N3952882","W12153537N3952882","W12153537N3952882-W12153422N3952882",102911105,"WYANDOTTE 1105",null,"2019-11-20T17:46:46",null,null,"Not assessed","https://viewer.us-3.sharpershape.services/viewer/assets/5ca5a2c6f6b4638913a05099/details","https://viewer.us-3.sharpershape.services/viewer/issues/5ecf8c95a03e66000131095a/details","high","W12153424N3952893 WYANDOTTE 1105","[GrayPine, Other, DouglasFir]","GrayPine"]
[361,"NORTHERN","NORTH VALLEY","Tier 2-3","102911105 Tier 2-3",102911105,"WYANDOTTE 1105",22.1999999999999,39.524859999999897,-121.521129999999,null,38.700000000000003,"W12152113N3952486",12,1.6,"NO","W12152121N3952468","W12152123N3952539","W12152123N3952539-W12152121N3952468",102911105,"WYANDOTTE 1105",null,"2019-11-20T17:46:46",null,null,"Not assessed","https://viewer.us-3.sharpershape.services/viewer/assets/5ca5a2c6f6b463550ba0502f/details","https://viewer.us-3.sharpershape.services/viewer/issues/5ecf8c9534b60c00015ec0c6/details","high","W12152113N3952486 WYANDOTTE 1105","[GrayPine, DouglasFir, Other]","GrayPine"]
[362,"NORTHERN","NORTH VALLEY","Tier 2-3","102911105 Tier 2-3",102911105,"WYANDOTTE 1105",0.1,39.5255399999999,-121.51461,null,26.4,"W12151461N3952554",9.6,9.6999999999999993,"NO","W12151459N3952471","W12151461N3952559","W12151461N3952559-W12151459N3952471",102911105,"WYANDOTTE 1105",null,"2019-11-20T17:46:46",null,null,"Not assessed","https://viewer.us-3.sharpershape.services/viewer/assets/5d8b1e506476d7eadd5dd3a0/details","https://viewer.us-3.sharpershape.services/viewer/issues/5ecf957ea03e66000131209e/details","high","W12151461N3952554 WYANDOTTE 1105","[DouglasFir, GrayPine, CoastalLiveOak]","DouglasFir"]
[363,"NORTHERN","NORTH VALLEY","Tier 2-3","102911105 Tier 2-3",102911105,"WYANDOTTE 1105",0.5,39.526779999999903,-121.535359999999,null,25,"W12153536N3952678",8,8.5,"NO","W12153535N3952637","W12153536N3952706","W12153536N3952706-W12153535N3952637",102911105,"WYANDOTTE 1105",null,"2019-11-20T17:46:46",null,null,"Not assessed","https://viewer.us-3.sharpershape.services/viewer/assets/5e7a18565dcbeb387a17baf6/details","https://viewer.us-3.sharpershape.services/viewer/issues/5ecf8eea34b60c00015eca60/details","high","W12153536N3952678 WYANDOTTE 1105","[DouglasFir, CoastalLiveOak, Other]","DouglasFir"]
[364,"NORTHERN","NORTH VALLEY","Tier 2-3","102911105 Tier 2-3",102911105,"WYANDOTTE 1105",51.1,39.526119999999899,-121.532679999999,null,72.900000000000006,"W12153268N3952612",43.2,-17.5,"YES","W12153224N3952655","W12153295N3952615","W12153295N3952615-W12153224N3952655",102911105,"WYANDOTTE 1105",null,"2019-11-20T17:46:46",null,null,"Not assessed","https://viewer.us-3.sharpershape.services/viewer/assets/5ca5a2c6f6b4635390a04a71/details","https://viewer.us-3.sharpershape.services/viewer/issues/5ecf8c96a03e6600013109cf/details","high","W12153268N3952612 WYANDOTTE 1105","[DouglasFir, GrayPine, Eucalyptus/BlueGum]","DouglasFir"]
[365,"NORTHERN","NORTH VALLEY","Tier 2-3","102911105 Tier 2-3",102911105,"WYANDOTTE 1105",28.9,39.530049999999903,-121.525919999999,null,25.8,"W12152592N3953005",8.3000000000000007,20.3,"NO","W12152603N3952974","W12152603N3953064","W12152603N3953064-W12152603N3952974",102911105,"WYANDOTTE 1105",null,"2019-11-20T17:46:46",null,null,"Not assessed","https://viewer.us-3.sharpershape.services/viewer/assets/5ca5a2c6f6b463cd78a04dbd/details","https://viewer.us-3.sharpershape.services/viewer/issues/5ecf8efa34b60c00015ecada/details","high","W12152592N3953005 WYANDOTTE 1105","[GrayPine, ValleyOak, MontereyPine]","GrayPine"]
[366,"NORTHERN","NORTH VALLEY","Tier 2-3","102911105 Tier 2-3",102911105,"WYANDOTTE 1105",47.3,39.527139999999903,-121.530929999999,null,49.1,"W12153093N3952714",27.6,6.3,"NO","W12153054N3952731","W12153116N3952725","W12153116N3952725-W12153054N3952731",102911105,"WYANDOTTE 1105",null,"2019-11-20T17:46:46",null,null,"Not assessed","https://viewer.us-3.sharpershape.services/viewer/assets/5ca5a2c6f6b4632e29a04bb0/details","https://viewer.us-3.sharpershape.services/viewer/issues/5ecf8c99a03e660001310c54/details","high","W12153093N3952714 WYANDOTTE 1105","[MontereyPine, LiveOak, Eucalyptus/BlueGum]","MontereyPine"]
[367,"NORTHERN","NORTH VALLEY","Tier 2-3","102911105 Tier 2-3",102911105,"WYANDOTTE 1105",21.6,39.529789999999899,-121.531049999999,null,35.1,"W12153105N3952979",12.3,2.2000000000000002,"NO","W12153068N3952972","W12153130N3952973","W12153130N3952973-W12153068N3952972",102911105,"WYANDOTTE 1105",null,"2019-11-20T17:46:46",null,null,"Not assessed","https://viewer.us-3.sharpershape.services/viewer/assets/5ca5a2c6f6b46312f8a05163/details","https://viewer.us-3.sharpershape.services/viewer/issues/5ecf8c99a03e660001310c23/details","high","W12153105N3952979 WYANDOTTE 1105","[Eucalyptus/BlueGum, DouglasFir, CoastalLiveOak]","Eucalyptus/BlueGum"]
[368,"NORTHERN","NORTH VALLEY","Tier 2-3","102911105 Tier 2-3",102911105,"WYANDOTTE 1105",34.700000000000003,39.529989999999898,-121.521979999999,null,39,"W12152198N3952999",16.5,7,"NO","W12152284N3952992","W12152184N3953012","W12152184N3953012-W12152284N3952992",102911105,"WYANDOTTE 1105",null,"2019-11-20T17:46:46",null,null,"Not assessed","https://viewer.us-3.sharpershape.services/viewer/assets/5ca5a2c6f6b4639636a0497c/details","https://viewer.us-3.sharpershape.services/viewer/issues/5ee2b4c2a03e66000146e453/details","high","W12152198N3952999 WYANDOTTE 1105","[TanOak, GrayPine, MontereyPine]","TanOak"]
[369,"NORTHERN","NORTH VALLEY","Tier 2-3","102911105 Tier 2-3",102911105,"WYANDOTTE 1105",13.8,39.530529999999899,-121.532889999999,null,53.2,"W12153289N3953053",6.6,-16.399999999999899,"YES","W12153323N3953048","W12153269N3953048","W12153269N3953048-W12153323N3953048",102911105,"WYANDOTTE 1105",null,"2019-11-20T17:46:46","OH",null,"Not assessed","https://viewer.us-3.sharpershape.services/viewer/assets/5ca5a2c6f6b4636013a051bf/details","https://viewer.us-3.sharpershape.services/viewer/issues/5ecf8c9834b60c00015ec28e/details","high","W12153289N3953053 WYANDOTTE 1105","[DouglasFir, LiveOak, GrayPine]","DouglasFir"]
[370,"NORTHERN","NORTH VALLEY","Tier 2-3","102911105 Tier 2-3",102911105,"WYANDOTTE 1105",6.1,39.53436,-121.54187,null,17.899999999999999,"W12154187N3953436",11.7,17.899999999999999,"NO","W12154214N3953455","W12154179N3953424","W12154179N3953424-W12154214N3953455",102911105,"WYANDOTTE 1105",null,"2019-11-20T17:46:46",null,null,"Not assessed","https://viewer.us-3.sharpershape.services/viewer/assets/5ca5a2c6f6b4634756a04ae5/details","https://viewer.us-3.sharpershape.services/viewer/issues/5ecf94eb34b60c00015ed5ec/details","high","W12154187N3953436 WYANDOTTE 1105","[DouglasFir, LiveOak, Other]","DouglasFir"]
[371,"NORTHERN","NORTH VALLEY","Tier 2-3","102911105 Tier 2-3",102911105,"WYANDOTTE 1105",29.6,39.531949999999902,-121.54097,null,55.8,"W12154097N3953195",22.8,-9.3000000000000007,"YES","W12154086N3953214","W12154084N3953131","W12154084N3953131-W12154086N3953214",102911105,"WYANDOTTE 1105",null,"2019-11-20T17:46:46",null,null,"Not assessed","https://viewer.us-3.sharpershape.services/viewer/assets/5ca5a2c6f6b4630944a04ef1/details","https://viewer.us-3.sharpershape.services/viewer/issues/5ecf8c98a03e660001310b5b/details","high","W12154097N3953195 WYANDOTTE 1105","[DouglasFir, Other, MontereyPine]","DouglasFir"]
[372,"NORTHERN","NORTH VALLEY","Tier 0-1","102911105 Tier 0-1",102911105,"WYANDOTTE 1105",11.9,39.5255399999999,-121.534779999999,null,31,"W12153478N3952554",7.3,2.9,"NO","W12153537N3952537","W12153462N3952554","W12153462N3952554-W12153537N3952537",102911105,"WYANDOTTE 1105",null,"2019-11-20T17:46:46",null,null,"Not assessed","https://viewer.us-3.sharpershape.services/viewer/assets/5ca5a2c6f6b463381fa049b8/details","https://viewer.us-3.sharpershape.services/viewer/issues/5ecf8c96a03e6600013109e5/details","high","W12153478N3952554 WYANDOTTE 1105","[GrayPine, Other, DouglasFir]","GrayPine"]
[373,"NORTHERN","NORTH VALLEY","Tier 2-3","102911105 Tier 2-3",102911105,"WYANDOTTE 1105",25.1,39.532350000000001,-121.540719999999,null,46,"W12154072N3953235",11.2,-5.7,"YES","W12154073N3953285","W12154086N3953214","W12154086N3953214-W12154073N3953285",102911105,"WYANDOTTE 1105",null,"2019-11-20T17:46:46",null,null,"Not assessed","https://viewer.us-3.sharpershape.services/viewer/assets/5ca5a2c6f6b4635017a04ad1/details","https://viewer.us-3.sharpershape.services/viewer/issues/5ecf8c96a03e6600013109c5/details","high","W12154072N3953235 WYANDOTTE 1105","[DouglasFir, GrayPine, ValleyOak]","DouglasFir"]
[374,"NORTHERN","NORTH VALLEY","Tier 2-3","102911105 Tier 2-3",102911105,"WYANDOTTE 1105",50.5,39.530819999999899,-121.53304,null,62.899999999999899,"W12153304N3953082",31.8,-4.7,"YES","W12153323N3953048","W12153322N3953104","W12153322N3953104-W12153323N3953048",102911105,"WYANDOTTE 1105",null,"2019-11-20T17:46:46",null,null,"Not assessed","https://viewer.us-3.sharpershape.services/viewer/assets/5ca5a2c6f6b463a1c6a051b8/details","https://viewer.us-3.sharpershape.services/viewer/issues/5ecf8c9334b60c00015ec03b/details","high","W12153304N3953082 WYANDOTTE 1105","[GrayPine, Other, DouglasFir]","GrayPine"]
[375,"NORTHERN","NORTH VALLEY","Tier 2-3","102911105 Tier 2-3",102911105,"WYANDOTTE 1105",18.600000000000001,39.51979,-121.539749999999,null,23.5,"W12153975N3951979",10.6,22.6,"NO","W12153944N3952000","W12154012N3951968","W12154012N3951968-W12153944N3952000",102911105,"WYANDOTTE 1105",null,"2019-11-20T17:46:46",null,null,"Not assessed","https://viewer.us-3.sharpershape.services/viewer/assets/5ca5a2c6f6b4634735a04f99/details","https://viewer.us-3.sharpershape.services/viewer/issues/5ecf94e2a03e660001311d24/details","high","W12153975N3951979 WYANDOTTE 1105","[GrayPine, TanOak, DouglasFir]","GrayPine"]
[376,"NORTHERN","NORTH VALLEY","Tier 2-3","102911105 Tier 2-3",102911105,"WYANDOTTE 1105",25.4,39.529170000000001,-121.51944,null,60.7,"W12151944N3952917",8.5,-23.3,"YES","W12151936N3952926","W12152014N3952914","W12152014N3952914-W12151936N3952926",102911105,"WYANDOTTE 1105",null,"2019-11-20T17:46:46",null,null,"Not assessed","https://viewer.us-3.sharpershape.services/viewer/assets/5ca5a2c6f6b4634b73a04f6f/details","https://viewer.us-3.sharpershape.services/viewer/issues/5ecf8c96a03e6600013109f1/details","high","W12151944N3952917 WYANDOTTE 1105","[GrayPine, DouglasFir, ValleyOak]","GrayPine"]
[377,"NORTHERN","NORTH VALLEY","Tier 2-3","102911105 Tier 2-3",102911105,"WYANDOTTE 1105",15.2,39.530429999999903,-121.531329999999,null,42.899999999999899,"W12153133N3953043",3.9,-8.6999999999999993,"YES","W12153111N3953048","W12153157N3953048","W12153157N3953048-W12153111N3953048",102911105,"WYANDOTTE 1105",null,"2019-11-20T17:46:46",null,null,"Not assessed","https://viewer.us-3.sharpershape.services/viewer/assets/5ca5a2c6f6b4636c9ba049d5/details","https://viewer.us-3.sharpershape.services/viewer/issues/5ecf8c9634b60c00015ec126/details","high","W12153133N3953043 WYANDOTTE 1105","[CoastalLiveOak, Other, Eucalyptus/BlueGum]","CoastalLiveOak"]
[378,"NORTHERN","NORTH VALLEY","Tier 2-3","102911105 Tier 2-3",102911105,"WYANDOTTE 1105",11.1,39.529739999999897,-121.523179999999,null,28.1999999999999,"W12152318N3952974",7.1,4.5,"NO","W12152284N3952992","W12152351N3952966","W12152351N3952966-W12152284N3952992",102911105,"WYANDOTTE 1105",null,"2019-11-20T17:46:46",null,null,"Not assessed","https://viewer.us-3.sharpershape.services/viewer/assets/5ca5a2c6f6b4635ce1a0510b/details","https://viewer.us-3.sharpershape.services/viewer/issues/5ee2b4c134b60c0001746b6f/details","high","W12152318N3952974 WYANDOTTE 1105","[Other, DouglasFir, CoastalLiveOak]","Other"]
[379,"NORTHERN","NORTH VALLEY","Tier 2-3","102911105 Tier 2-3",102911105,"WYANDOTTE 1105",49.6,39.532579999999903,-121.53833,null,69.2,"W12153833N3953258",34.5,-8,"YES","W12153905N3953243","W12153810N3953244","W12153810N3953244-W12153905N3953243",102911105,"WYANDOTTE 1105",null,"2019-11-20T17:46:46",null,null,"Not assessed","https://viewer.us-3.sharpershape.services/viewer/assets/5ca5a2c6f6b46300cca04f1d/details","https://viewer.us-3.sharpershape.services/viewer/issues/5ecf8c93a03e66000131089d/details","high","W12153833N3953258 WYANDOTTE 1105","[Other, GrayPine, DouglasFir]","Other"]
[380,"NORTHERN","NORTH VALLEY","Tier 2-3","102911105 Tier 2-3",102911105,"WYANDOTTE 1105",30.9,39.539659999999898,-121.54249,null,74.900000000000006,"W12154249N3953966",17.1999999999999,-43.7,"YES","W12154261N3953987","W12154263N3953924","W12154263N3953924-W12154261N3953987",102911105,"WYANDOTTE 1105",null,"2019-11-20T17:46:46",null,null,"Not assessed","https://viewer.us-3.sharpershape.services/viewer/assets/5ca5a2c6f6b4637988a04a3e/details","https://viewer.us-3.sharpershape.services/viewer/issues/5ecf8c93a03e66000131087c/details","high","W12154249N3953966 WYANDOTTE 1105","[DouglasFir, GrayPine, Other]","DouglasFir"]
[381,"NORTHERN","NORTH VALLEY","Tier 2-3","102911105 Tier 2-3",102911105,"WYANDOTTE 1105",27.3,39.528819999999897,-121.518919999999,null,57,"W12151892N3952882",12,-17,"YES","W12151911N3952893","W12151873N3952887","W12151873N3952887-W12151911N3952893",102911105,"WYANDOTTE 1105",null,"2019-11-20T17:46:46",null,null,"Not assessed","https://viewer.us-3.sharpershape.services/viewer/assets/5ca5a2c6f6b463604ea04ea6/details","https://viewer.us-3.sharpershape.services/viewer/issues/5ecf8c93a03e660001310890/details","high","W12151892N3952882 WYANDOTTE 1105","[GrayPine, MontereyPine, DouglasFir]","GrayPine"]
[382,"NORTHERN","NORTH VALLEY","Tier 2-3","102911105 Tier 2-3",102911105,"WYANDOTTE 1105",20.100000000000001,39.529959999999903,-121.520989999999,null,47,"W12152099N3952996",12.5,-14.7,"YES","W12152091N3952965","W12152091N3953014","W12152091N3953014-W12152091N3952965",102911105,"WYANDOTTE 1105",null,"2019-11-20T17:46:46",null,null,"Not assessed","https://viewer.us-3.sharpershape.services/viewer/assets/5ca5a2c6f6b46337e8a04a3f/details","https://viewer.us-3.sharpershape.services/viewer/issues/5ecf8c9734b60c00015ec18a/details","high","W12152099N3952996 WYANDOTTE 1105","[GrayPine, ValleyOak, Other]","GrayPine"]
[383,"NORTHERN","NORTH VALLEY","Tier 2-3","102911105 Tier 2-3",102911105,"WYANDOTTE 1105",52.899999999999899,39.532849999999897,-121.537319999999,null,55.3,"W12153732N3953285",40.399999999999899,6.1,"NO","W12153713N3953284","W12153655N3953283","W12153655N3953283-W12153713N3953284",102911105,"WYANDOTTE 1105",null,"2019-11-20T17:46:46",null,null,"Not assessed","https://viewer.us-3.sharpershape.services/viewer/assets/5ca5a2c6f6b46315baa04b02/details","https://viewer.us-3.sharpershape.services/viewer/issues/5ecf8c98a03e660001310bd5/details","high","W12153732N3953285 WYANDOTTE 1105","[DouglasFir, CoastalLiveOak, Other]","DouglasFir"]
[384,"NORTHERN","NORTH VALLEY","Tier 2-3","102911105 Tier 2-3",102911105,"WYANDOTTE 1105",49.7,39.531039999999898,-121.53673000000001,null,57.3,"W12153673N3953104",37,7.2,"NO","W12153654N3953103","W12153654N3953154","W12153654N3953154-W12153654N3953103",102911105,"WYANDOTTE 1105",null,"2019-11-20T17:46:46",null,null,"Not assessed","https://viewer.us-3.sharpershape.services/viewer/assets/5ca5a2c6f6b463060ca04c49/details","https://viewer.us-3.sharpershape.services/viewer/issues/5ecf8c98a03e660001310b0a/details","high","W12153673N3953104 WYANDOTTE 1105","[LiveOak, DouglasFir, ValleyOak]","LiveOak"]
[385,"NORTHERN","NORTH VALLEY","Tier 2-3","102911105 Tier 2-3",102911105,"WYANDOTTE 1105",11.1,39.532469999999897,-121.538479999999,null,70.7,"W12153848N3953247",6.5,-40.799999999999997,"YES","W12153905N3953243","W12153810N3953244","W12153810N3953244-W12153905N3953243",102911105,"WYANDOTTE 1105",null,"2019-11-20T17:46:46","OH",null,"Not assessed","https://viewer.us-3.sharpershape.services/viewer/assets/5ca5a2c6f6b46300cca04f1d/details","https://viewer.us-3.sharpershape.services/viewer/issues/5ecf8c93a03e6600013108a0/details","high","W12153848N3953247 WYANDOTTE 1105","[DouglasFir, GrayPine, TanOak]","DouglasFir"]
[386,"NORTHERN","NORTH VALLEY","Tier 2-3","102911105 Tier 2-3",102911105,"WYANDOTTE 1105",0.6,39.522129999999898,-121.53807999999999,null,28.3,"W12153808N3952213",6.8,7.1,"NO","W12153791N3952249","W12153812N3952205","W12153812N3952205-W12153791N3952249",102911105,"WYANDOTTE 1105",null,"2019-11-20T17:46:46",null,null,"Not assessed","https://viewer.us-3.sharpershape.services/viewer/assets/5ca5a2c6f6b46356cda04a7c/details","https://viewer.us-3.sharpershape.services/viewer/issues/5ecf8c93a03e660001310897/details","high","W12153808N3952213 WYANDOTTE 1105","[DouglasFir, Other, GrayPine]","DouglasFir"]
[387,"NORTHERN","NORTH VALLEY","Tier 2-3","102911105 Tier 2-3",102911105,"WYANDOTTE 1105",38.6,39.5415899999999,-121.54204,null,31.1999999999999,"W12154204N3954159",21.3,7.4,"NO","W12154206N3954186","W12154249N3954102","W12154249N3954102-W12154206N3954186",102911105,"WYANDOTTE 1105",null,"2019-11-20T17:46:46",null,null,"Not assessed","https://viewer.us-3.sharpershape.services/viewer/assets/5ca5a2c6f6b4631d52a04cea/details","https://viewer.us-3.sharpershape.services/viewer/issues/5ecf8c98a03e660001310bf9/details","high","W12154204N3954159 WYANDOTTE 1105","[DouglasFir, CoastalLiveOak, Other]","DouglasFir"]
[388,"NORTHERN","NORTH VALLEY","Tier 2-3","102911105 Tier 2-3",102911105,"WYANDOTTE 1105",0.2,39.525680000000001,-121.5146,null,34.399999999999899,"W12151460N3952568",6.8,7,"NO","W12151459N3952471","W12151461N3952559","W12151461N3952559-W12151459N3952471",102911105,"WYANDOTTE 1105",null,"2019-11-20T17:46:46",null,null,"Not assessed","https://viewer.us-3.sharpershape.services/viewer/assets/5d8b1e506476d7eadd5dd3a0/details","https://viewer.us-3.sharpershape.services/viewer/issues/5ecf957ea03e6600013120a2/details","high","W12151460N3952568 WYANDOTTE 1105","[DouglasFir, Other, LiveOak]","DouglasFir"]
[389,"NORTHERN","NORTH VALLEY","Tier 2-3","102911105 Tier 2-3",102911105,"WYANDOTTE 1105",11.4,39.529899999999998,-121.522719999999,null,33.6,"W12152272N3952990",8.1,2.6,"NO","W12152284N3952992","W12152184N3953012","W12152184N3953012-W12152284N3952992",102911105,"WYANDOTTE 1105",null,"2019-11-20T17:46:46",null,null,"Not assessed","https://viewer.us-3.sharpershape.services/viewer/assets/5ca5a2c6f6b4639636a0497c/details","https://viewer.us-3.sharpershape.services/viewer/issues/5ee2b4c2a03e66000146e455/details","high","W12152272N3952990 WYANDOTTE 1105","[GrayPine, Other, ValleyOak]","GrayPine"]
[390,"NORTHERN","NORTH VALLEY","Tier 2-3","102911105 Tier 2-3",102911105,"WYANDOTTE 1105",37.6,39.528009999999902,-121.533829999999,null,32.799999999999898,"W12153383N3952801",8.6,20.6,"NO","W12153270N3952789","W12153385N3952791","W12153385N3952791-W12153270N3952789",102911105,"WYANDOTTE 1105",null,"2019-11-20T17:46:46",null,null,"Not assessed","https://viewer.us-3.sharpershape.services/viewer/assets/5ca5a2c6f6b463466ba049bf/details","https://viewer.us-3.sharpershape.services/viewer/issues/5ecf8ed934b60c00015ec9fa/details","high","W12153383N3952801 WYANDOTTE 1105","[LiveOak, GrayPine, ValleyOak]","LiveOak"]
[391,"NORTHERN","NORTH VALLEY","Tier 0-1","102911105 Tier 0-1",102911105,"WYANDOTTE 1105",31,39.518789999999903,-121.54034,null,42,"W12154034N3951879",11.7,5.2,"NO","W12154022N3951889","W12154022N3951835","W12154022N3951835-W12154022N3951889",102911105,"WYANDOTTE 1105",null,"2019-11-20T17:46:46",null,null,"Not assessed","https://viewer.us-3.sharpershape.services/viewer/assets/5ca5a2c6f6b4636fcba04c5d/details","https://viewer.us-3.sharpershape.services/viewer/issues/5ecf8c9734b60c00015ec1c0/details","high","W12154034N3951879 WYANDOTTE 1105","[GrayPine, Eucalyptus/BlueGum, DouglasFir]","GrayPine"]
[392,"NORTHERN","NORTH VALLEY","Tier 2-3","102911105 Tier 2-3",102911105,"WYANDOTTE 1105",48.2,39.532809999999898,-121.53830000000001,null,82.7,"W12153830N3953281",30,-26.4,"YES","W12153906N3953282","W12153848N3953281","W12153848N3953281-W12153906N3953282",102911105,"WYANDOTTE 1105",null,"2019-11-20T17:46:46",null,null,"Not assessed","https://viewer.us-3.sharpershape.services/viewer/assets/5ca5a2c6f6b46324baa04ba9/details","https://viewer.us-3.sharpershape.services/viewer/issues/5ecf8c9934b60c00015ec31e/details","high","W12153830N3953281 WYANDOTTE 1105","[DouglasFir, GrayPine, TanOak]","DouglasFir"]
[393,"NORTHERN","NORTH VALLEY","Tier 2-3","102911105 Tier 2-3",102911105,"WYANDOTTE 1105",11.6,39.531709999999897,-121.53201,null,38.5,"W12153201N3953171",6.4,-6,"YES","W12153206N3953153","W12153206N3953192","W12153206N3953192-W12153206N3953153",102911105,"WYANDOTTE 1105",null,"2019-11-20T17:46:46",null,null,"Not assessed","https://viewer.us-3.sharpershape.services/viewer/assets/5ca5a2c6f6b46375f6a04bc0/details","https://viewer.us-3.sharpershape.services/viewer/issues/5ecf8c9834b60c00015ec22a/details","high","W12153201N3953171 WYANDOTTE 1105","[GrayPine, MontereyPine, DouglasFir]","GrayPine"]
[394,"NORTHERN","NORTH VALLEY","Tier 2-3","102911105 Tier 2-3",102911105,"WYANDOTTE 1105",83.299999999999898,39.658760000000001,-121.505049999999,null,84.299999999999898,"W12150505N3965876",65.5,2.5,"NO","W12150545N3965863","W12150368N3966300","W12150368N3966300-W12150545N3965863",102911105,"WYANDOTTE 1105",null,"2019-11-20T17:46:46",null,null,"Not assessed","https://viewer.us-3.sharpershape.services/viewer/assets/5ca5a2c6f6b463c54aa04b33/details","https://viewer.us-3.sharpershape.services/viewer/issues/5ecf8c9a34b60c00015ec3ae/details","high","W12150505N3965876 WYANDOTTE 1105"]
[395,"NORTHERN","NORTH VALLEY","Tier 2-3","102911105 Tier 2-3",102911105,"WYANDOTTE 1105",29.6999999999999,39.52469,-121.536869999999,null,40.700000000000003,"W12153687N3952469",12,2.1,"NO","W12153682N3952487","W12153716N3952455","W12153716N3952455-W12153682N3952487",102911105,"WYANDOTTE 1105",null,"2019-11-20T17:46:46",null,null,"Not assessed","https://viewer.us-3.sharpershape.services/viewer/assets/5ca5a2c6f6b4630bb0a049ec/details","https://viewer.us-3.sharpershape.services/viewer/issues/5ecf8c9834b60c00015ec265/details","high","W12153687N3952469 WYANDOTTE 1105","[MontereyPine, TanOak, GrayPine]","MontereyPine"]
[396,"NORTHERN","NORTH VALLEY","Tier 2-3","102911105 Tier 2-3",102911105,"WYANDOTTE 1105",43.5,39.531929999999903,-121.540689999999,null,68.2,"W12154069N3953193",11.3,-19.899999999999999,"YES","W12154086N3953214","W12154084N3953131","W12154084N3953131-W12154086N3953214",102911105,"WYANDOTTE 1105",null,"2019-11-20T17:46:46",null,null,"Not assessed","https://viewer.us-3.sharpershape.services/viewer/assets/5ca5a2c6f6b4630944a04ef1/details","https://viewer.us-3.sharpershape.services/viewer/issues/5ecf8c98a03e660001310b53/details","high","W12154069N3953193 WYANDOTTE 1105","[GrayPine, Eucalyptus/BlueGum, DouglasFir]","GrayPine"]
[397,"NORTHERN","NORTH VALLEY","Tier 2-3","102911105 Tier 2-3",102911105,"WYANDOTTE 1105",32.200000000000003,39.532419999999902,-121.534639999999,null,44.2,"W12153464N3953242",5.3,-6.8,"YES","W12153557N3953230","W12153419N3953235","W12153419N3953235-W12153557N3953230",102911105,"WYANDOTTE 1105",null,"2019-11-20T17:46:46",null,null,"Not assessed","https://viewer.us-3.sharpershape.services/viewer/assets/5ca5a2c6f6b463191ca04d93/details","https://viewer.us-3.sharpershape.services/viewer/issues/5ee2b430a03e66000146e43b/details","high","W12153464N3953242 WYANDOTTE 1105","[MontereyPine, CoastalLiveOak, DouglasFir]","MontereyPine"]
[398,"NORTHERN","NORTH VALLEY","Tier 2-3","102911105 Tier 2-3",102911105,"WYANDOTTE 1105",36.700000000000003,39.532539999999898,-121.53877,null,39.200000000000003,"W12153877N3953254",8.5,20.5,"NO","W12153905N3953243","W12153810N3953244","W12153810N3953244-W12153905N3953243",102911105,"WYANDOTTE 1105",null,"2019-11-20T17:46:46",null,null,"Not assessed","https://viewer.us-3.sharpershape.services/viewer/assets/5ca5a2c6f6b46300cca04f1d/details","https://viewer.us-3.sharpershape.services/viewer/issues/5ecf9591a03e6600013120d8/details","high","W12153877N3953254 WYANDOTTE 1105","[Eucalyptus/BlueGum, Other, CoastalLiveOak]","Eucalyptus/BlueGum"]
[399,"NORTHERN","NORTH VALLEY","Tier 0-1","102911105 Tier 0-1",102911105,"WYANDOTTE 1105",70.400000000000006,39.525169999999903,-121.535339999999,null,69,"W12153534N3952517",50.1,5.7,"NO","W12153537N3952537","W12153590N3952523","W12153590N3952523-W12153537N3952537",102911105,"WYANDOTTE 1105",null,"2019-11-20T17:46:46",null,null,"Not assessed","https://viewer.us-3.sharpershape.services/viewer/assets/5ca5a2c6f6b4631c28a0517f/details","https://viewer.us-3.sharpershape.services/viewer/issues/5ecf8c90a03e6600013107f8/details","high","W12153534N3952517 WYANDOTTE 1105","[Other, Eucalyptus/BlueGum, GrayPine]","Other"]
[400,"NORTHERN","NORTH VALLEY","Tier 0-1","102911105 Tier 0-1",102911105,"WYANDOTTE 1105",2.7,39.522549999999903,-121.513469999999,null,25.6,"W12151347N3952255",9.6999999999999993,12.4,"NO","W12151335N3952254","W12151389N3952251","W12151389N3952251-W12151335N3952254",102911105,"WYANDOTTE 1105",null,"2019-11-20T17:46:46",null,null,"Not assessed","https://viewer.us-3.sharpershape.services/viewer/assets/5d8b1edb55dd6b072e3f3024/details","https://viewer.us-3.sharpershape.services/viewer/issues/5ecf8e8ba03e660001310fe0/details","high","W12151347N3952255 WYANDOTTE 1105","[Other, DouglasFir, CoastalLiveOak]","Other"]
[401,"NORTHERN","NORTH VALLEY","Tier 2-3","102911105 Tier 2-3",102911105,"WYANDOTTE 1105",45.6,39.531419999999898,-121.518149999999,null,50,"W12151815N3953142",29.1999999999999,7.5,"NO","W12151868N3953111","W12151822N3953157","W12151822N3953157-W12151868N3953111",102911105,"WYANDOTTE 1105",null,"2019-11-20T17:46:46",null,null,"Not assessed","https://viewer.us-3.sharpershape.services/viewer/assets/5ca5a2c6f6b4630821a04f40/details","https://viewer.us-3.sharpershape.services/viewer/issues/5ecf8c9334b60c00015ec018/details","high","W12151815N3953142 WYANDOTTE 1105","[Other, DouglasFir, GrayPine]","Other"]
[402,"NORTHERN","NORTH VALLEY","Tier 2-3","102911105 Tier 2-3",102911105,"WYANDOTTE 1105",12.6,39.528569999999903,-121.51867,null,33.200000000000003,"W12151867N3952857",8.8000000000000007,1.7,"NO","W12151873N3952887","W12151852N3952834","W12151852N3952834-W12151873N3952887",102911105,"WYANDOTTE 1105",null,"2019-11-20T17:46:46",null,null,"Not assessed","https://viewer.us-3.sharpershape.services/viewer/assets/5ca5a2c6f6b4631966a05106/details","https://viewer.us-3.sharpershape.services/viewer/issues/5ecf8c99a03e660001310c02/details","high","W12151867N3952857 WYANDOTTE 1105","[Other, CoastalLiveOak, DouglasFir]","Other"]
[403,"NORTHERN","NORTH VALLEY","Tier 2-3","102911105 Tier 2-3",102911105,"WYANDOTTE 1105",20.6999999999999,39.533999999999899,-121.54165999999999,null,62.3,"W12154166N3953400",9.1,-20.100000000000001,"YES","W12154149N3953393","W12154179N3953424","W12154179N3953424-W12154149N3953393",102911105,"WYANDOTTE 1105",null,"2019-11-20T17:46:46","OH",null,"Not assessed","https://viewer.us-3.sharpershape.services/viewer/assets/5ca5a2c6f6b4633bbba04c51/details","https://viewer.us-3.sharpershape.services/viewer/issues/5ecf8c92a03e660001310848/details","high","W12154166N3953400 WYANDOTTE 1105","[DouglasFir, LiveOak, Other]","DouglasFir"]
[404,"NORTHERN","NORTH VALLEY","Tier 2-3","102911105 Tier 2-3",102911105,"WYANDOTTE 1105",61.899999999999899,39.531799999999997,-121.51766000000001,null,80.299999999999898,"W12151766N3953180",46.6,1.5,"NO","W12151822N3953157","W12151765N3953162","W12151765N3953162-W12151822N3953157",102911105,"WYANDOTTE 1105",null,"2019-11-20T17:46:46",null,null,"Not assessed","https://viewer.us-3.sharpershape.services/viewer/assets/5ca5a2c6f6b463f67aa051de/details","https://viewer.us-3.sharpershape.services/viewer/issues/5ecf8c9734b60c00015ec19d/details","high","W12151766N3953180 WYANDOTTE 1105","[Other, GrayPine, DouglasFir]","Other"]
[405,"NORTHERN","NORTH VALLEY","Tier 2-3","102911105 Tier 2-3",102911105,"WYANDOTTE 1105",10.5,39.53246,-121.526,null,29.6999999999999,"W12152600N3953246",5.4,0.1,"NO","W12152605N3953285","W12152605N3953235","W12152605N3953235-W12152605N3953285",102911105,"WYANDOTTE 1105",null,"2019-11-20T17:46:46",null,null,"Not assessed","https://viewer.us-3.sharpershape.services/viewer/assets/5e1c22f1942b994ca37b032f/details","https://viewer.us-3.sharpershape.services/viewer/issues/5ecfe7bc34b60c000160de4d/details","high","W12152600N3953246 WYANDOTTE 1105","[TanOak, GrayPine, DouglasFir]","TanOak"]
[406,"NORTHERN","NORTH VALLEY","Tier 0-1","102911105 Tier 0-1",102911105,"WYANDOTTE 1105",64.299999999999898,39.525410000000001,-121.53425,null,60.2,"W12153425N3952541",51.399999999999899,7.8,"NO","W12153390N3952564","W12153462N3952554","W12153462N3952554-W12153390N3952564",102911105,"WYANDOTTE 1105",null,"2019-11-20T17:46:46",null,null,"Not assessed","https://viewer.us-3.sharpershape.services/viewer/assets/5ca5a2c6f6b463cfd6a04cce/details","https://viewer.us-3.sharpershape.services/viewer/issues/5ecf8c9834b60c00015ec272/details","high","W12153425N3952541 WYANDOTTE 1105","[Other, TanOak, ValleyOak]","Other"]
[407,"NORTHERN","NORTH VALLEY","Tier 2-3","102911105 Tier 2-3",102911105,"WYANDOTTE 1105",19.600000000000001,39.532339999999898,-121.531379999999,null,34.5,"W12153138N3953234",8.4,3,"NO","W12153205N3953245","W12153117N3953239","W12153117N3953239-W12153205N3953245",102911105,"WYANDOTTE 1105",null,"2019-11-20T17:46:46",null,null,"Not assessed","https://viewer.us-3.sharpershape.services/viewer/assets/5ca5a2c6f6b4636b14a051ca/details","https://viewer.us-3.sharpershape.services/viewer/issues/5ecf8c9734b60c00015ec176/details","high","W12153138N3953234 WYANDOTTE 1105","[DouglasFir, MontereyPine, CoastalLiveOak]","DouglasFir"]
[408,"NORTHERN","NORTH VALLEY","Tier 2-3","102911105 Tier 2-3",102911105,"WYANDOTTE 1105",19,39.53237,-121.53923,null,18.5,"W12153923N3953237",11.4,23.4,"NO","W12153905N3953243","W12153963N3953242","W12153963N3953242-W12153905N3953243",102911105,"WYANDOTTE 1105",null,"2019-11-20T17:46:46",null,null,"Not assessed","https://viewer.us-3.sharpershape.services/viewer/assets/5ca5a2c6f6b4637e06a05104/details","https://viewer.us-3.sharpershape.services/viewer/issues/5ecf954ea03e660001311f30/details","high","W12153923N3953237 WYANDOTTE 1105","[DouglasFir, Eucalyptus/BlueGum, ValleyOak]","DouglasFir"]
[409,"NORTHERN","NORTH VALLEY","Tier 2-3","102911105 Tier 2-3",102911105,"WYANDOTTE 1105",31.1,39.528320000000001,-121.52723,null,40.700000000000003,"W12152723N3952832",10.1,0.6,"NO","W12152680N3952875","W12152750N3952825","W12152750N3952825-W12152680N3952875",102911105,"WYANDOTTE 1105",null,"2019-11-20T17:46:46",null,null,"Not assessed","https://viewer.us-3.sharpershape.services/viewer/assets/5ca5a2c6f6b46337c2a04be5/details","https://viewer.us-3.sharpershape.services/viewer/issues/5ecf8c9634b60c00015ec0e7/details","high","W12152723N3952832 WYANDOTTE 1105","[GrayPine, DouglasFir, Other]","GrayPine"]
[410,"NORTHERN","NORTH VALLEY","Tier 2-3","102911105 Tier 2-3",102911105,"WYANDOTTE 1105",47.399999999999899,39.529539999999898,-121.51935,null,67.299999999999898,"W12151935N3952954",28.4,-13.6,"YES","W12151936N3952926","W12152005N3953021","W12152005N3953021-W12151936N3952926",102911105,"WYANDOTTE 1105",null,"2019-11-20T17:46:46",null,null,"Not assessed","https://viewer.us-3.sharpershape.services/viewer/assets/5ca5a2c6f6b463d94da04bdf/details","https://viewer.us-3.sharpershape.services/viewer/issues/5ecf8c9834b60c00015ec2b9/details","high","W12151935N3952954 WYANDOTTE 1105","[GrayPine, Other, DouglasFir]","GrayPine"]
[411,"NORTHERN","NORTH VALLEY","Tier 2-3","102911105 Tier 2-3",102911105,"WYANDOTTE 1105",14.1,39.525579999999898,-121.521289999999,null,34,"W12152129N3952558",4.7,-4.2,"YES","W12152123N3952539","W12152124N3952614","W12152124N3952614-W12152123N3952539",102911105,"WYANDOTTE 1105",null,"2019-11-20T17:46:46",null,null,"Not assessed","https://viewer.us-3.sharpershape.services/viewer/assets/5ca5a2c6f6b46335f7a04ffc/details","https://viewer.us-3.sharpershape.services/viewer/issues/5ecf8c95a03e660001310914/details","high","W12152129N3952558 WYANDOTTE 1105","[DouglasFir, Other, LiveOak]","DouglasFir"]
[412,"NORTHERN","NORTH VALLEY","Tier 0-1","102911105 Tier 0-1",102911105,"WYANDOTTE 1105",14.1,39.526119999999899,-121.53542,null,38.200000000000003,"W12153542N3952612",6.4,-1.9,"YES","W12153537N3952598","W12153535N3952637","W12153535N3952637-W12153537N3952598",102911105,"WYANDOTTE 1105",null,"2019-11-20T17:46:46",null,null,"Not assessed","https://viewer.us-3.sharpershape.services/viewer/assets/5ca5a2c6f6b4634b4fa04e4e/details","https://viewer.us-3.sharpershape.services/viewer/issues/5ecf8c92a03e660001310843/details","high","W12153542N3952612 WYANDOTTE 1105","[Other, Eucalyptus/BlueGum, DouglasFir]","Other"]
[413,"NORTHERN","NORTH VALLEY","Tier 2-3","102911105 Tier 2-3",102911105,"WYANDOTTE 1105",25.6999999999999,39.529800000000002,-121.531309999999,null,36.700000000000003,"W12153131N3952980",6.3,6,"NO","W12153130N3952973","W12153133N3952927","W12153133N3952927-W12153130N3952973",102911105,"WYANDOTTE 1105",null,"2019-11-20T17:46:46",null,null,"Not assessed","https://viewer.us-3.sharpershape.services/viewer/assets/5ca5a2c6f6b463b19aa050cd/details","https://viewer.us-3.sharpershape.services/viewer/issues/5ecf8c97a03e660001310adb/details","high","W12153131N3952980 WYANDOTTE 1105","[Other, CoastalLiveOak, Eucalyptus/BlueGum]","Other"]
[414,"NORTHERN","NORTH VALLEY","Tier 2-3","102911105 Tier 2-3",102911105,"WYANDOTTE 1105",27.4,39.532689999999903,-121.540639999999,null,43.899999999999899,"W12154064N3953269",12,-1.6,"YES","W12154073N3953285","W12154086N3953214","W12154086N3953214-W12154073N3953285",102911105,"WYANDOTTE 1105",null,"2019-11-20T17:46:46",null,null,"Not assessed","https://viewer.us-3.sharpershape.services/viewer/assets/5ca5a2c6f6b4635017a04ad1/details","https://viewer.us-3.sharpershape.services/viewer/issues/5ecf8c96a03e6600013109be/details","high","W12154064N3953269 WYANDOTTE 1105","[GrayPine, MontereyPine, DouglasFir]","GrayPine"]
[415,"NORTHERN","NORTH VALLEY","Tier 2-3","102911105 Tier 2-3",102911105,"WYANDOTTE 1105",47.3,39.532550000000001,-121.53798,null,66,"W12153798N3953255",28.6,-7.3,"YES","W12153905N3953243","W12153810N3953244","W12153810N3953244-W12153905N3953243",102911105,"WYANDOTTE 1105",null,"2019-11-20T17:46:46",null,null,"Not assessed","https://viewer.us-3.sharpershape.services/viewer/assets/5ca5a2c6f6b46300cca04f1d/details","https://viewer.us-3.sharpershape.services/viewer/issues/5ecf8c93a03e6600013108b0/details","high","W12153798N3953255 WYANDOTTE 1105","[GrayPine, DouglasFir, MontereyPine]","GrayPine"]
[416,"NORTHERN","NORTH VALLEY","Tier 2-3","102911105 Tier 2-3",102911105,"WYANDOTTE 1105",13.3,39.532489999999903,-121.53198999999999,null,25.3,"W12153199N3953249",6.1,9.8000000000000007,"NO","W12153205N3953245","W12153117N3953239","W12153117N3953239-W12153205N3953245",102911105,"WYANDOTTE 1105",null,"2019-11-20T17:46:46",null,null,"Not assessed","https://viewer.us-3.sharpershape.services/viewer/assets/5ca5a2c6f6b4636b14a051ca/details","https://viewer.us-3.sharpershape.services/viewer/issues/5ecf8c9734b60c00015ec170/details","high","W12153199N3953249 WYANDOTTE 1105","[DouglasFir, CoastalLiveOak, Eucalyptus/BlueGum]","DouglasFir"]
[417,"NORTHERN","NORTH VALLEY","Tier 0-1","102911105 Tier 0-1",102911105,"WYANDOTTE 1105",32,39.525509999999898,-121.532979999999,null,52.6,"W12153298N3952551",12.7,-6.2,"YES","W12153312N3952549","W12153279N3952515","W12153279N3952515-W12153312N3952549",102911105,"WYANDOTTE 1105",null,"2019-11-20T17:46:46",null,null,"Not assessed","https://viewer.us-3.sharpershape.services/viewer/assets/5ca5a2c6f6b463ab92a051ae/details","https://viewer.us-3.sharpershape.services/viewer/issues/5ecf8c9534b60c00015ec0bc/details","high","W12153298N3952551 WYANDOTTE 1105","[GrayPine, Other, DouglasFir]","GrayPine"]
[418,"NORTHERN","NORTH VALLEY","Tier 2-3","102911105 Tier 2-3",102911105,"WYANDOTTE 1105",5.0999999999999996,39.527169999999899,-121.52947,null,25.6999999999999,"W12152947N3952717",7.4,6.3,"NO","W12152907N3952726","W12152971N3952716","W12152971N3952716-W12152907N3952726",102911105,"WYANDOTTE 1105",null,"2019-11-20T17:46:46",null,null,"Not assessed","https://viewer.us-3.sharpershape.services/viewer/assets/5ca5a2c6f6b4635805a04cab/details","https://viewer.us-3.sharpershape.services/viewer/issues/5ecf8c9734b60c00015ec1e2/details","high","W12152947N3952717 WYANDOTTE 1105","[DouglasFir, GrayPine, Other]","DouglasFir"]
[419,"NORTHERN","NORTH VALLEY","Tier 0-1","102911105 Tier 0-1",102911105,"WYANDOTTE 1105",32.700000000000003,39.523260000000001,-121.511679999999,null,69.2,"W12151168N3952326",5.6,-27.5,"YES","W12151196N3952324","W12151119N3952361","W12151119N3952361-W12151196N3952324",102911105,"WYANDOTTE 1105",null,"2019-11-20T17:46:46",null,null,"Not assessed","https://viewer.us-3.sharpershape.services/viewer/assets/5ca5a2c6f6b4638f7da04e40/details","https://viewer.us-3.sharpershape.services/viewer/issues/5ecf8c9634b60c00015ec121/details","high","W12151168N3952326 WYANDOTTE 1105","[GrayPine, ValleyOak, Other]","GrayPine"]
[420,"NORTHERN","NORTH VALLEY","Tier 2-3","102911105 Tier 2-3",102911105,"WYANDOTTE 1105",9.1999999999999993,39.532559999999897,-121.53201,null,36.399999999999899,"W12153201N3953256",6.8,-5.9,"YES","W12153205N3953285","W12153205N3953245","W12153205N3953245-W12153205N3953285",102911105,"WYANDOTTE 1105",null,"2019-11-20T17:46:46",null,null,"Not assessed","https://viewer.us-3.sharpershape.services/viewer/assets/5ca5a2c6f6b46321caa04c4b/details","https://viewer.us-3.sharpershape.services/viewer/issues/5ecf8c9934b60c00015ec352/details","high","W12153201N3953256 WYANDOTTE 1105","[GrayPine, DouglasFir, Other]","GrayPine"]
[421,"NORTHERN","NORTH VALLEY","Tier 2-3","102911105 Tier 2-3",102911105,"WYANDOTTE 1105",24.5,39.529449999999898,-121.526089999999,null,23.6999999999999,"W12152609N3952945",10.5,22.5,"NO","W12152596N3952916","W12152603N3952974","W12152603N3952974-W12152596N3952916",102911105,"WYANDOTTE 1105",null,"2019-11-20T17:46:46",null,null,"Not assessed","https://viewer.us-3.sharpershape.services/viewer/assets/5ca5a2c6f6b463c9e0a0514e/details","https://viewer.us-3.sharpershape.services/viewer/issues/5ecf8ec2a03e660001311168/details","high","W12152609N3952945 WYANDOTTE 1105","[TanOak, LiveOak, DouglasFir]","TanOak"]
[422,"NORTHERN","NORTH VALLEY","Tier 2-3","102911105 Tier 2-3",102911105,"WYANDOTTE 1105",66.400000000000006,39.5396,-121.54237000000001,null,58.8,"W12154237N3953960",48.8,8.5,"NO","W12154261N3953987","W12154263N3953924","W12154263N3953924-W12154261N3953987",102911105,"WYANDOTTE 1105",null,"2019-11-20T17:46:46",null,null,"Not assessed","https://viewer.us-3.sharpershape.services/viewer/assets/5ca5a2c6f6b4637988a04a3e/details","https://viewer.us-3.sharpershape.services/viewer/issues/5ecf8c93a03e660001310872/details","high","W12154237N3953960 WYANDOTTE 1105","[DouglasFir, Other, GrayPine]","DouglasFir"]
[423,"NORTHERN","NORTH VALLEY","Tier 2-3","102911105 Tier 2-3",102911105,"WYANDOTTE 1105",33.299999999999898,39.531559999999899,-121.54097,null,59.899999999999899,"W12154097N3953156",24.4,-13.2,"YES","W12154086N3953214","W12154084N3953131","W12154084N3953131-W12154086N3953214",102911105,"WYANDOTTE 1105",null,"2019-11-20T17:46:46",null,null,"Not assessed","https://viewer.us-3.sharpershape.services/viewer/assets/5ca5a2c6f6b4630944a04ef1/details","https://viewer.us-3.sharpershape.services/viewer/issues/5ecf8c98a03e660001310b4b/details","high","W12154097N3953156 WYANDOTTE 1105","[GrayPine, Other, DouglasFir]","GrayPine"]
[424,"NORTHERN","NORTH VALLEY","Tier 0-1","102911105 Tier 0-1",102911105,"WYANDOTTE 1105",27.6,39.525039999999898,-121.536259999999,null,50.399999999999899,"W12153626N3952504",12,-8.1,"YES","W12153590N3952523","W12153636N3952510","W12153636N3952510-W12153590N3952523",102911105,"WYANDOTTE 1105",null,"2019-11-20T17:46:46",null,null,"Not assessed","https://viewer.us-3.sharpershape.services/viewer/assets/5ca5a2c6f6b4636365a050d5/details","https://viewer.us-3.sharpershape.services/viewer/issues/5ecf8c9534b60c00015ec0a5/details","high","W12153626N3952504 WYANDOTTE 1105","[DouglasFir, Other, GrayPine]","DouglasFir"]
[425,"NORTHERN","NORTH VALLEY","Tier 2-3","102911105 Tier 2-3",102911105,"WYANDOTTE 1105",11.7,39.536580000000001,-121.542479999999,null,93.7,"W12154248N3953658",12,-66.900000000000006,"YES","W12154253N3953660","W12154256N3953592","W12154256N3953592-W12154253N3953660",102911105,"WYANDOTTE 1105",null,"2019-11-20T17:46:46","OH",null,"Not assessed","https://viewer.us-3.sharpershape.services/viewer/assets/5ca5a2c6f6b4630e63a05050/details","https://viewer.us-3.sharpershape.services/viewer/issues/5ecf8c9834b60c00015ec256/details","high","W12154248N3953658 WYANDOTTE 1105","[GrayPine, DouglasFir, Other]","GrayPine"]
[426,"NORTHERN","NORTH VALLEY","Tier 2-3","102911105 Tier 2-3",102911105,"WYANDOTTE 1105",22.4,39.541460000000001,-121.542159999999,null,21.1999999999999,"W12154216N3954146",10.1,2,"NO","W12154206N3954186","W12154249N3954102","W12154249N3954102-W12154206N3954186",102911105,"WYANDOTTE 1105",null,"2019-11-20T17:46:46",null,null,"Not assessed","https://viewer.us-3.sharpershape.services/viewer/assets/5ca5a2c6f6b4631d52a04cea/details","https://viewer.us-3.sharpershape.services/viewer/issues/5ecf8c98a03e660001310bf6/details","high","W12154216N3954146 WYANDOTTE 1105","[Other, CoastalLiveOak, DouglasFir]","Other"]
[427,"NORTHERN","NORTH VALLEY","Tier 2-3","102911105 Tier 2-3",102911105,"WYANDOTTE 1105",0.5,39.532600000000002,-121.53906000000001,null,31.9,"W12153906N3953260",6.2,6.7,"NO","W12153906N3953282","W12153905N3953243","W12153905N3953243-W12153906N3953282",102911105,"WYANDOTTE 1105",null,"2019-11-20T17:46:46",null,null,"Not assessed","https://viewer.us-3.sharpershape.services/viewer/assets/5ca5a2c6f6b463fdeba04bb5/details","https://viewer.us-3.sharpershape.services/viewer/issues/5ecf8ed634b60c00015ec9be/details","high","W12153906N3953260 WYANDOTTE 1105"]
[428,"NORTHERN","NORTH VALLEY","Tier 2-3","102911105 Tier 2-3",102911105,"WYANDOTTE 1105",31.6999999999999,39.526429999999898,-121.538679999999,null,41.899999999999899,"W12153868N3952643",18.899999999999999,7.2,"NO","W12153848N3952653","W12153928N3952652","W12153928N3952652-W12153848N3952653",102911105,"WYANDOTTE 1105",null,"2019-11-20T17:46:46",null,null,"Not assessed","https://viewer.us-3.sharpershape.services/viewer/assets/5ca5a2c6f6b463083da04d94/details","https://viewer.us-3.sharpershape.services/viewer/issues/5ecf8c98a03e660001310bbe/details","high","W12153868N3952643 WYANDOTTE 1105","[DouglasFir, Eucalyptus/BlueGum, MontereyPine]","DouglasFir"]
[429,"NORTHERN","NORTH VALLEY","Tier 2-3","102911105 Tier 2-3",102911105,"WYANDOTTE 1105",39.399999999999899,39.5313599999999,-121.536389999999,null,50.1,"W12153639N3953136",4.9000000000000004,-1.8,"YES","W12153654N3953103","W12153654N3953154","W12153654N3953154-W12153654N3953103",102911105,"WYANDOTTE 1105",null,"2019-11-20T17:46:46",null,null,"Not assessed","https://viewer.us-3.sharpershape.services/viewer/assets/5ca5a2c6f6b463060ca04c49/details","https://viewer.us-3.sharpershape.services/viewer/issues/5ecf8c98a03e660001310b12/details","high","W12153639N3953136 WYANDOTTE 1105","[DouglasFir, LiveOak, TanOak]","DouglasFir"]
[430,"NORTHERN","NORTH VALLEY","Tier 2-3","102911105 Tier 2-3",102911105,"WYANDOTTE 1105",16.399999999999899,39.531590000000001,-121.540769999999,null,55.7,"W12154077N3953159",9.1999999999999993,-29.5,"YES","W12154086N3953214","W12154084N3953131","W12154084N3953131-W12154086N3953214",102911105,"WYANDOTTE 1105",null,"2019-11-20T17:46:46","OH",null,"Not assessed","https://viewer.us-3.sharpershape.services/viewer/assets/5ca5a2c6f6b4630944a04ef1/details","https://viewer.us-3.sharpershape.services/viewer/issues/5ecf8c98a03e660001310b61/details","high","W12154077N3953159 WYANDOTTE 1105","[DouglasFir, LiveOak, GrayPine]","DouglasFir"]
[431,"NORTHERN","NORTH VALLEY","Tier 2-3","102911105 Tier 2-3",102911105,"WYANDOTTE 1105",17.100000000000001,39.528880000000001,-121.53529,null,28.9,"W12153529N3952888",12,7,"NO","W12153422N3952882","W12153537N3952882","W12153537N3952882-W12153422N3952882",102911105,"WYANDOTTE 1105",null,"2019-11-20T17:46:46",null,null,"Not assessed","https://viewer.us-3.sharpershape.services/viewer/assets/5ca5a2c6f6b4638913a05099/details","https://viewer.us-3.sharpershape.services/viewer/issues/5ecf8c95a03e66000131095e/details","high","W12153529N3952888 WYANDOTTE 1105","[ValleyOak, GrayPine, DouglasFir]","ValleyOak"]
[432,"NORTHERN","NORTH VALLEY","Tier 2-3","102911105 Tier 2-3",102911105,"WYANDOTTE 1105",0.3,39.5277099999999,-121.514389999999,null,23.1,"W12151439N3952771",7.8,8.1,"NO","W12151437N3952744","W12151441N3952799","W12151441N3952799-W12151437N3952744",102911105,"WYANDOTTE 1105",null,"2019-11-20T17:46:46",null,null,"Not assessed","https://viewer.us-3.sharpershape.services/viewer/assets/5ca5a2c6f6b463015da04b5c/details","https://viewer.us-3.sharpershape.services/viewer/issues/5ecf954da03e660001311f20/details","high","W12151439N3952771 WYANDOTTE 1105","[GrayPine, Other, ValleyOak]","GrayPine"]
[433,"NORTHERN","NORTH VALLEY","Tier 2-3","102911105 Tier 2-3",102911105,"WYANDOTTE 1105",39,39.528689999999898,-121.52061,null,60.8,"W12152061N3952869",23.8,-9.1,"YES","W12152014N3952914","W12152053N3952877","W12152053N3952877-W12152014N3952914",102911105,"WYANDOTTE 1105",null,"2019-11-20T17:46:46",null,null,"Not assessed","https://viewer.us-3.sharpershape.services/viewer/assets/5ca5a2c6f6b463d0f3a04a55/details","https://viewer.us-3.sharpershape.services/viewer/issues/5ecf8c9734b60c00015ec1fd/details","high","W12152061N3952869 WYANDOTTE 1105","[DouglasFir, GrayPine, Other]","DouglasFir"]
[434,"NORTHERN","NORTH VALLEY","Tier 0-1","102911105 Tier 0-1",102911105,"WYANDOTTE 1105",24,39.525689999999898,-121.533189999999,null,41.7,"W12153319N3952569",12,1.5,"NO","W12153345N3952585","W12153312N3952549","W12153312N3952549-W12153345N3952585",102911105,"WYANDOTTE 1105",null,"2019-11-20T17:46:46",null,null,"Not assessed","https://viewer.us-3.sharpershape.services/viewer/assets/5ca5a2c6f6b4639894a04b2d/details","https://viewer.us-3.sharpershape.services/viewer/issues/5ecf8c94a03e6600013108e8/details","high","W12153319N3952569 WYANDOTTE 1105","[GrayPine, Eucalyptus/BlueGum, Other]","GrayPine"]
[435,"NORTHERN","NORTH VALLEY","Tier 0-1","102911105 Tier 0-1",102911105,"WYANDOTTE 1105",21.1,39.523600000000002,-121.51111,null,45.5,"W12151111N3952360",3.5,-6.1,"YES","W12151196N3952324","W12151119N3952361","W12151119N3952361-W12151196N3952324",102911105,"WYANDOTTE 1105",null,"2019-11-20T17:46:46",null,null,"Not assessed","https://viewer.us-3.sharpershape.services/viewer/assets/5ca5a2c6f6b4638f7da04e40/details","https://viewer.us-3.sharpershape.services/viewer/issues/5ecf8c9634b60c00015ec11f/details","high","W12151111N3952360 WYANDOTTE 1105","[GrayPine, DouglasFir, LiveOak]","GrayPine"]
[436,"NORTHERN","NORTH VALLEY","Tier 2-3","102911105 Tier 2-3",102911105,"WYANDOTTE 1105",0.7,39.532330000000002,-121.534809999999,null,24.3,"W12153481N3953233",5,5.7,"NO","W12153557N3953230","W12153419N3953235","W12153419N3953235-W12153557N3953230",102911105,"WYANDOTTE 1105",null,"2019-11-20T17:46:46",null,null,"Not assessed","https://viewer.us-3.sharpershape.services/viewer/assets/5ca5a2c6f6b463191ca04d93/details","https://viewer.us-3.sharpershape.services/viewer/issues/5ee2b99c34b60c0001746b98/details","high","W12153481N3953233 WYANDOTTE 1105","[DouglasFir, CoastalLiveOak, TanOak]","DouglasFir"]
[437,"NORTHERN","NORTH VALLEY","Tier 0-1","102911105 Tier 0-1",102911105,"WYANDOTTE 1105",1.3,39.523179999999897,-121.51214,null,22.3,"W12151214N3952318",6.8,7.4,"NO","W12151282N3952292","W12151196N3952324","W12151196N3952324-W12151282N3952292",102911105,"WYANDOTTE 1105",null,"2019-11-20T17:46:46",null,null,"Not assessed","https://viewer.us-3.sharpershape.services/viewer/assets/5ca5a2c6f6b463e9a0a04bb9/details","https://viewer.us-3.sharpershape.services/viewer/issues/5ecf8c98a03e660001310b9a/details","high","W12151214N3952318 WYANDOTTE 1105","[LiveOak, DouglasFir, Other]","LiveOak"]
[438,"NORTHERN","NORTH VALLEY","Tier 2-3","102911105 Tier 2-3",102911105,"WYANDOTTE 1105",29.8,39.670429999999897,-121.497249999999,null,28.4,"W12149725N3967043",24,2.2999999999999998,"NO","W12149700N3966999","W12149727N3967099","W12149727N3967099-W12149700N3966999",0,"WYANDOTTE 1105",null,"2019-11-20T17:46:46",null,null,"Not assessed","https://viewer.us-3.sharpershape.services/viewer/assets/5ca5a2c6f6b4636b1ca05155/details","https://viewer.us-3.sharpershape.services/viewer/issues/5ecf8c9834b60c00015ec27c/details","high","W12149725N3967043 WYANDOTTE 1105"]
[439,"NORTHERN","NORTH VALLEY","Tier 2-3","102911105 Tier 2-3",102911105,"WYANDOTTE 1105",46.2,39.53049,-121.53565999999999,null,38,"W12153566N3953049",32.200000000000003,9.9,"NO","W12153538N3953063","W12153655N3953063","W12153655N3953063-W12153538N3953063",102911105,"WYANDOTTE 1105",null,"2019-11-20T17:46:46",null,null,"Not assessed","https://viewer.us-3.sharpershape.services/viewer/assets/5ca5a2c6f6b4638037a04ab3/details","https://viewer.us-3.sharpershape.services/viewer/issues/5ecf8c95a03e660001310919/details","high","W12153566N3953049 WYANDOTTE 1105","[DouglasFir, Eucalyptus/BlueGum, GrayPine]","DouglasFir"]
[440,"NORTHERN","NORTH VALLEY","Tier 2-3","102911105 Tier 2-3",102911105,"WYANDOTTE 1105",38.299999999999997,39.532449999999898,-121.534369999999,null,44.8,"W12153437N3953245",5.3,1.4,"NO","W12153557N3953230","W12153419N3953235","W12153419N3953235-W12153557N3953230",102911105,"WYANDOTTE 1105",null,"2019-11-20T17:46:46",null,null,"Not assessed","https://viewer.us-3.sharpershape.services/viewer/assets/5ca5a2c6f6b463191ca04d93/details","https://viewer.us-3.sharpershape.services/viewer/issues/5ee2b430a03e66000146e42c/details","high","W12153437N3953245 WYANDOTTE 1105","[DouglasFir, Other, CoastalLiveOak]","DouglasFir"]
[441,"NORTHERN","NORTH VALLEY","Tier 2-3","102911105 Tier 2-3",102911105,"WYANDOTTE 1105",14.9,39.52657,-121.53869,null,35.899999999999899,"W12153869N3952657",12,3.9,"NO","W12153848N3952653","W12153928N3952652","W12153928N3952652-W12153848N3952653",102911105,"WYANDOTTE 1105",null,"2019-11-20T17:46:46",null,null,"Not assessed","https://viewer.us-3.sharpershape.services/viewer/assets/5ca5a2c6f6b463083da04d94/details","https://viewer.us-3.sharpershape.services/viewer/issues/5ecf8c98a03e660001310bc6/details","high","W12153869N3952657 WYANDOTTE 1105","[LiveOak, CoastalLiveOak, DouglasFir]","LiveOak"]
[442,"NORTHERN","NORTH VALLEY","Tier 2-3","102911105 Tier 2-3",102911105,"WYANDOTTE 1105",43.5,39.524719999999903,-121.51443,null,64.2,"W12151443N3952472",25.5,-8.1,"YES","W12151459N3952471","W12151461N3952559","W12151461N3952559-W12151459N3952471",102911105,"WYANDOTTE 1105",null,"2019-11-20T17:46:46",null,null,"Not assessed","https://viewer.us-3.sharpershape.services/viewer/assets/5d8b1e506476d7eadd5dd3a0/details","https://viewer.us-3.sharpershape.services/viewer/issues/5ecf8c9934b60c00015ec366/details","high","W12151443N3952472 WYANDOTTE 1105","[GrayPine, DouglasFir, Other]","GrayPine"]
[443,"NORTHERN","NORTH VALLEY","Tier 2-3","102911105 Tier 2-3",102911105,"WYANDOTTE 1105",12,39.528770000000002,-121.53439,null,29,"W12153439N3952877",6.9,7.3,"NO","W12153422N3952882","W12153537N3952882","W12153537N3952882-W12153422N3952882",102911105,"WYANDOTTE 1105",null,"2019-11-20T17:46:46",null,null,"Not assessed","https://viewer.us-3.sharpershape.services/viewer/assets/5ca5a2c6f6b4638913a05099/details","https://viewer.us-3.sharpershape.services/viewer/issues/5ecf8c95a03e66000131095d/details","high","W12153439N3952877 WYANDOTTE 1105","[DouglasFir, LiveOak, CoastalLiveOak]","DouglasFir"]
[444,"NORTHERN","NORTH VALLEY","Tier 2-3","102911105 Tier 2-3",102911105,"WYANDOTTE 1105",13.9,39.529200000000003,-121.519379999999,null,35.399999999999899,"W12151938N3952920",8,0.4,"NO","W12151936N3952926","W12152014N3952914","W12152014N3952914-W12151936N3952926",102911105,"WYANDOTTE 1105",null,"2019-11-20T17:46:46",null,null,"Not assessed","https://viewer.us-3.sharpershape.services/viewer/assets/5ca5a2c6f6b4634b73a04f6f/details","https://viewer.us-3.sharpershape.services/viewer/issues/5ecf8c96a03e660001310a04/details","high","W12151938N3952920 WYANDOTTE 1105","[GrayPine, DouglasFir, Eucalyptus/BlueGum]","GrayPine"]
[445,"NORTHERN","NORTH VALLEY","Tier 0-1","102911105 Tier 0-1",102911105,"WYANDOTTE 1105",24.3,39.524500000000003,-121.521919999999,null,36.299999999999997,"W12152192N3952450",12,0.3,"NO","W12152121N3952468","W12152223N3952454","W12152223N3952454-W12152121N3952468",102911105,"WYANDOTTE 1105",null,"2019-11-20T17:46:46",null,null,"Not assessed","https://viewer.us-3.sharpershape.services/viewer/assets/5ca5a2c6f6b4634c98a0504c/details","https://viewer.us-3.sharpershape.services/viewer/issues/5ecf8c9634b60c00015ec14d/details","high","W12152192N3952450 WYANDOTTE 1105","[DouglasFir, MontereyPine, CoastalLiveOak]","DouglasFir"]
[446,"NORTHERN","NORTH VALLEY","Tier 2-3","102911105 Tier 2-3",102911105,"WYANDOTTE 1105",69.099999999999994,39.530679999999897,-121.53238,null,71.799999999999898,"W12153238N3953068",57,4.5999999999999996,"NO","W12153206N3953048","W12153269N3953048","W12153269N3953048-W12153206N3953048",102911105,"WYANDOTTE 1105",null,"2019-11-20T17:46:46",null,null,"Not assessed","https://viewer.us-3.sharpershape.services/viewer/assets/5ca5a2c6f6b46331cba04b4a/details","https://viewer.us-3.sharpershape.services/viewer/issues/5ecf8c92a03e66000131085b/details","high","W12153238N3953068 WYANDOTTE 1105","[DouglasFir, Other, GrayPine]","DouglasFir"]
[447,"NORTHERN","NORTH VALLEY","Tier 2-3","102911105 Tier 2-3",102911105,"WYANDOTTE 1105",44.8,39.529319999999899,-121.519829999999,null,47.2,"W12151983N3952932",33.399999999999899,9.8000000000000007,"NO","W12151936N3952926","W12152014N3952914","W12152014N3952914-W12151936N3952926",102911105,"WYANDOTTE 1105",null,"2019-11-20T17:46:46",null,null,"Not assessed","https://viewer.us-3.sharpershape.services/viewer/assets/5ca5a2c6f6b4634b73a04f6f/details","https://viewer.us-3.sharpershape.services/viewer/issues/5ecf8c96a03e660001310a08/details","high","W12151983N3952932 WYANDOTTE 1105","[CoastalLiveOak, MontereyPine, GrayPine]","CoastalLiveOak"]
[448,"NORTHERN","NORTH VALLEY","Tier 2-3","102911105 Tier 2-3",102911105,"WYANDOTTE 1105",14.1,39.526179999999897,-121.521169999999,null,43.899999999999899,"W12152117N3952618",4.5999999999999996,-8.1,"YES","W12152064N3952615","W12152124N3952614","W12152124N3952614-W12152064N3952615",102911105,"WYANDOTTE 1105",null,"2019-11-20T17:46:46",null,null,"Not assessed","https://viewer.us-3.sharpershape.services/viewer/assets/5ca5a2c6f6b463c7cfa0501b/details","https://viewer.us-3.sharpershape.services/viewer/issues/5ecf8c9634b60c00015ec132/details","high","W12152117N3952618 WYANDOTTE 1105","[GrayPine, Other, ValleyOak]","GrayPine"]
[449,"NORTHERN","NORTH VALLEY","Tier 2-3","102911105 Tier 2-3",102911105,"WYANDOTTE 1105",5.5,39.53143,-121.5184,null,30.8,"W12151840N3953143",6.7,5.6,"NO","W12151868N3953111","W12151822N3953157","W12151822N3953157-W12151868N3953111",102911105,"WYANDOTTE 1105",null,"2019-11-20T17:46:46",null,null,"Not assessed","https://viewer.us-3.sharpershape.services/viewer/assets/5ca5a2c6f6b4630821a04f40/details","https://viewer.us-3.sharpershape.services/viewer/issues/5ecf8c9334b60c00015ec01e/details","high","W12151840N3953143 WYANDOTTE 1105","[GrayPine, ValleyOak, MontereyPine]","GrayPine"]
[450,"NORTHERN","NORTH VALLEY","Tier 2-3","102911105 Tier 2-3",102911105,"WYANDOTTE 1105",14.9,39.53145,-121.532129999999,null,53.399999999999899,"W12153213N3953145",11.1,-19.600000000000001,"YES","W12153206N3953153","W12153207N3953097","W12153207N3953097-W12153206N3953153",102911105,"WYANDOTTE 1105",null,"2019-11-20T17:46:46","OH",null,"Not assessed","https://viewer.us-3.sharpershape.services/viewer/assets/5ca5a2c6f6b463f9cfa04c7e/details","https://viewer.us-3.sharpershape.services/viewer/issues/5ecf8c98a03e660001310b32/details","high","W12153213N3953145 WYANDOTTE 1105","[GrayPine, DouglasFir, Other]","GrayPine"]
[451,"NORTHERN","NORTH VALLEY","Tier 0-1","102911105 Tier 0-1",102911105,"WYANDOTTE 1105",36.899999999999899,39.5244199999999,-121.53537,null,51.399999999999899,"W12153537N3952442",7.5,-4.4000000000000004,"YES","W12153530N3952456","W12153581N3952442","W12153581N3952442-W12153530N3952456",102911105,"WYANDOTTE 1105",null,"2019-11-20T17:46:46",null,null,"Not assessed","https://viewer.us-3.sharpershape.services/viewer/assets/5ca5a2c6f6b463115ca04a27/details","https://viewer.us-3.sharpershape.services/viewer/issues/5ecf8c98a03e660001310ba9/details","high","W12153537N3952442 WYANDOTTE 1105","[Other, CoastalLiveOak, DouglasFir]","Other"]
[452,"NORTHERN","NORTH VALLEY","Tier 2-3","102911105 Tier 2-3",102911105,"WYANDOTTE 1105",57.7,39.531469999999899,-121.540629999999,null,68.5,"W12154063N3953147",42.3,-10.199999999999999,"YES","W12154086N3953214","W12154084N3953131","W12154084N3953131-W12154086N3953214",102911105,"WYANDOTTE 1105",null,"2019-11-20T17:46:46",null,null,"Not assessed","https://viewer.us-3.sharpershape.services/viewer/assets/5ca5a2c6f6b4630944a04ef1/details","https://viewer.us-3.sharpershape.services/viewer/issues/5ecf8c98a03e660001310b62/details","high","W12154063N3953147 WYANDOTTE 1105","[GrayPine, DouglasFir, Other]","GrayPine"]
[453,"NORTHERN","NORTH VALLEY","Tier 2-3","102911105 Tier 2-3",102911105,"WYANDOTTE 1105",61.399999999999899,39.522259999999903,-121.53779,null,72.599999999999994,"W12153779N3952226",39.799999999999997,3.5,"NO","W12153791N3952249","W12153812N3952205","W12153812N3952205-W12153791N3952249",102911105,"WYANDOTTE 1105",null,"2019-11-20T17:46:46",null,null,"Not assessed","https://viewer.us-3.sharpershape.services/viewer/assets/5ca5a2c6f6b46356cda04a7c/details","https://viewer.us-3.sharpershape.services/viewer/issues/5ecf8c93a03e660001310896/details","high","W12153779N3952226 WYANDOTTE 1105","[GrayPine, MontereyPine, CoastalLiveOak]","GrayPine"]
[454,"NORTHERN","NORTH VALLEY","Tier 2-3","102911105 Tier 2-3",102911105,"WYANDOTTE 1105",18.899999999999999,39.530999999999899,-121.518789999999,null,36.200000000000003,"W12151879N3953100",7.8,-1.6,"YES","W12151868N3953111","W12151923N3953089","W12151923N3953089-W12151868N3953111",102911105,"WYANDOTTE 1105",null,"2019-11-20T17:46:46",null,null,"Not assessed","https://viewer.us-3.sharpershape.services/viewer/assets/5ca5a2c6f6b4636ea8a04d47/details","https://viewer.us-3.sharpershape.services/viewer/issues/5ecf8c97a03e660001310a97/details","high","W12151879N3953100 WYANDOTTE 1105","[CoastalLiveOak, MontereyPine, DouglasFir]","CoastalLiveOak"]
[455,"NORTHERN","NORTH VALLEY","Tier 2-3","102911105 Tier 2-3",102911105,"WYANDOTTE 1105",33.399999999999899,39.524539999999902,-121.537009999999,null,47,"W12153701N3952454",12,-2.1,"YES","W12153682N3952487","W12153716N3952455","W12153716N3952455-W12153682N3952487",102911105,"WYANDOTTE 1105",null,"2019-11-20T17:46:46",null,null,"Not assessed","https://viewer.us-3.sharpershape.services/viewer/assets/5ca5a2c6f6b4630bb0a049ec/details","https://viewer.us-3.sharpershape.services/viewer/issues/5ecf8c9834b60c00015ec25d/details","high","W12153701N3952454 WYANDOTTE 1105","[Other, DouglasFir, GrayPine]","Other"]
[456,"NORTHERN","NORTH VALLEY","Tier 2-3","102911105 Tier 2-3",102911105,"WYANDOTTE 1105",25.1999999999999,39.531500000000001,-121.518159999999,null,37.899999999999899,"W12151816N3953150",12.2,9,"NO","W12151822N3953157","W12151765N3953162","W12151765N3953162-W12151822N3953157",102911105,"WYANDOTTE 1105",null,"2019-11-20T17:46:46",null,null,"Not assessed","https://viewer.us-3.sharpershape.services/viewer/assets/5ca5a2c6f6b463f67aa051de/details","https://viewer.us-3.sharpershape.services/viewer/issues/5ecf8c9734b60c00015ec197/details","high","W12151816N3953150 WYANDOTTE 1105","[DouglasFir, Other, GrayPine]","DouglasFir"]
[457,"NORTHERN","NORTH VALLEY","Tier 2-3","102911105 Tier 2-3",102911105,"WYANDOTTE 1105",41.1,39.53546,-121.54219999999999,null,42.899999999999899,"W12154220N3953546",22.6,1.8,"NO","W12154242N3953570","W12154230N3953520","W12154230N3953520-W12154242N3953570",102911105,"WYANDOTTE 1105",null,"2019-11-20T17:46:46",null,null,"Not assessed","https://viewer.us-3.sharpershape.services/viewer/assets/5ca5a2c6f6b463392ea051c1/details","https://viewer.us-3.sharpershape.services/viewer/issues/5ecf8c9734b60c00015ec1c7/details","high","W12154220N3953546 WYANDOTTE 1105","[Other, LiveOak, DouglasFir]","Other"]
[458,"NORTHERN","NORTH VALLEY","Tier 2-3","102911105 Tier 2-3",102911105,"WYANDOTTE 1105",69.2,39.530429999999903,-121.53897000000001,null,78,"W12153897N3953043",50,2.2000000000000002,"NO","W12153908N3953063","W12153843N3953063","W12153843N3953063-W12153908N3953063",102911105,"WYANDOTTE 1105",null,"2019-11-20T17:46:46",null,null,"Not assessed","https://viewer.us-3.sharpershape.services/viewer/assets/5ca5a2c6f6b46390f3a04fa9/details","https://viewer.us-3.sharpershape.services/viewer/issues/5ecf8c9134b60c00015ebfe5/details","high","W12153897N3953043 WYANDOTTE 1105","[GrayPine, Other, DouglasFir]","GrayPine"]
[459,"NORTHERN","NORTH VALLEY","Tier 2-3","102911105 Tier 2-3",102911105,"WYANDOTTE 1105",26.1999999999999,39.532719999999898,-121.531949999999,null,38.700000000000003,"W12153195N3953272",10.1,0.3,"NO","W12153205N3953285","W12153205N3953245","W12153205N3953245-W12153205N3953285",102911105,"WYANDOTTE 1105",null,"2019-11-20T17:46:46",null,null,"Not assessed","https://viewer.us-3.sharpershape.services/viewer/assets/5ca5a2c6f6b46321caa04c4b/details","https://viewer.us-3.sharpershape.services/viewer/issues/5ecf8c9934b60c00015ec351/details","high","W12153195N3953272 WYANDOTTE 1105","[CoastalLiveOak, DouglasFir, Eucalyptus/BlueGum]","CoastalLiveOak"]
[460,"NORTHERN","NORTH VALLEY","Tier 2-3","102911105 Tier 2-3",102911105,"WYANDOTTE 1105",28.4,39.5308899999999,-121.536439999999,null,53.8,"W12153644N3953089",8.1999999999999904,-13.7,"YES","W12153654N3953103","W12153655N3953063","W12153655N3953063-W12153654N3953103",102911105,"WYANDOTTE 1105",null,"2019-11-20T17:46:46",null,null,"Not assessed","https://viewer.us-3.sharpershape.services/viewer/assets/5ca5a2c6f6b4639202a04d3a/details","https://viewer.us-3.sharpershape.services/viewer/issues/5ecf8c96a03e660001310a22/details","high","W12153644N3953089 WYANDOTTE 1105","[LiveOak, Other, DouglasFir]","LiveOak"]
[461,"NORTHERN","NORTH VALLEY","Tier 2-3","102911105 Tier 2-3",102911105,"WYANDOTTE 1105",25.1999999999999,39.540379999999899,-121.54249,null,35,"W12154249N3954038",12,-6.5,"YES","W12154258N3954066","W12154261N3953987","W12154261N3953987-W12154258N3954066",102911105,"WYANDOTTE 1105",null,"2019-11-20T17:46:46",null,null,"Not assessed","https://viewer.us-3.sharpershape.services/viewer/assets/5ca5a2c6f6b463dd95a04ecd/details","https://viewer.us-3.sharpershape.services/viewer/issues/5ecf8c97a03e660001310ace/details","high","W12154249N3954038 WYANDOTTE 1105","[GrayPine, Eucalyptus/BlueGum, MontereyPine]","GrayPine"]
[462,"NORTHERN","NORTH VALLEY","Tier 2-3","102911105 Tier 2-3",102911105,"WYANDOTTE 1105",0.2,39.673279999999899,-121.496729999999,null,40.1,"W12149673N3967328",11.9,12.1,"NO","W12149658N3967347","W12149755N3967217","W12149755N3967217-W12149658N3967347",0,"WYANDOTTE 1105",null,"2019-11-20T17:46:46",null,null,"Not assessed","https://viewer.us-3.sharpershape.services/viewer/assets/5ca5a2c6f6b463d89ea04e5a/details","https://viewer.us-3.sharpershape.services/viewer/issues/5ecf8ef2a03e6600013112f2/details","high","W12149673N3967328 WYANDOTTE 1105"]
[463,"NORTHERN","NORTH VALLEY","Tier 2-3","102911105 Tier 2-3",102911105,"WYANDOTTE 1105",24.6999999999999,39.5304,-121.53172000000001,null,48.5,"W12153172N3953040",4.7,-8.6,"YES","W12153206N3953048","W12153157N3953048","W12153157N3953048-W12153206N3953048",102911105,"WYANDOTTE 1105",null,"2019-11-20T17:46:46",null,null,"Not assessed","https://viewer.us-3.sharpershape.services/viewer/assets/5ca5a2c6f6b4633db9a04a98/details","https://viewer.us-3.sharpershape.services/viewer/issues/5ecf8c9634b60c00015ec141/details","high","W12153172N3953040 WYANDOTTE 1105","[DouglasFir, LiveOak, CoastalLiveOak]","DouglasFir"]
[464,"NORTHERN","NORTH VALLEY","Tier 2-3","102911105 Tier 2-3",102911105,"WYANDOTTE 1105",63.5,39.529029999999899,-121.519649999999,null,79.099999999999994,"W12151965N3952903",53.399999999999899,-12.6,"YES","W12151936N3952926","W12152014N3952914","W12152014N3952914-W12151936N3952926",102911105,"WYANDOTTE 1105",null,"2019-11-20T17:46:46",null,null,"Not assessed","https://viewer.us-3.sharpershape.services/viewer/assets/5ca5a2c6f6b4634b73a04f6f/details","https://viewer.us-3.sharpershape.services/viewer/issues/5ecf8c96a03e660001310a07/details","high","W12151965N3952903 WYANDOTTE 1105","[GrayPine, Other, DouglasFir]","GrayPine"]
[465,"NORTHERN","NORTH VALLEY","Tier 2-3","102911105 Tier 2-3",102911105,"WYANDOTTE 1105",18.1999999999999,39.532139999999899,-121.53412,null,37.799999999999997,"W12153412N3953214",12,-3.5,"YES","W12153419N3953172","W12153419N3953235","W12153419N3953235-W12153419N3953172",102911105,"WYANDOTTE 1105",null,"2019-11-20T17:46:46",null,null,"Not assessed","https://viewer.us-3.sharpershape.services/viewer/assets/5ca5a2c6f6b463ef61a04c9e/details","https://viewer.us-3.sharpershape.services/viewer/issues/5ee2b42e34b60c0001746b59/details","high","W12153412N3953214 WYANDOTTE 1105","[CoastalLiveOak, DouglasFir, Eucalyptus/BlueGum]","CoastalLiveOak"]
[466,"NORTHERN","NORTH VALLEY","Tier 2-3","102911105 Tier 2-3",102911105,"WYANDOTTE 1105",0.2,39.532440000000001,-121.531779999999,null,23.3,"W12153178N3953244",5.8,6,"NO","W12153205N3953245","W12153117N3953239","W12153117N3953239-W12153205N3953245",102911105,"WYANDOTTE 1105",null,"2019-11-20T17:46:46",null,null,"Not assessed","https://viewer.us-3.sharpershape.services/viewer/assets/5ca5a2c6f6b4636b14a051ca/details","https://viewer.us-3.sharpershape.services/viewer/issues/5ecf8f03a03e660001311336/details","high","W12153178N3953244 WYANDOTTE 1105","[LiveOak, DouglasFir, Other]","LiveOak"]
[467,"NORTHERN","NORTH VALLEY","Tier 2-3","102911105 Tier 2-3",102911105,"WYANDOTTE 1105",17.899999999999999,39.521989999999903,-121.53896,null,23.1,"W12153896N3952199",7.8,19.8,"NO","W12153812N3952205","W12153891N3952195","W12153891N3952195-W12153812N3952205",102911105,"WYANDOTTE 1105",null,"2019-11-20T17:46:46",null,null,"Not assessed","https://viewer.us-3.sharpershape.services/viewer/assets/5ca5a2c6f6b463d5b0a04bae/details","https://viewer.us-3.sharpershape.services/viewer/issues/5ecf9557a03e660001311f9a/details","high","W12153896N3952199 WYANDOTTE 1105","[Eucalyptus/BlueGum, DouglasFir, CoastalLiveOak]","Eucalyptus/BlueGum"]
[468,"NORTHERN","NORTH VALLEY","Tier 2-3","102911105 Tier 2-3",102911105,"WYANDOTTE 1105",12.8,39.524920000000002,-121.537769999999,null,27.1999999999999,"W12153777N3952492",7.4,3.2,"NO","W12153745N3952470","W12153809N3952504","W12153809N3952504-W12153745N3952470",102911105,"WYANDOTTE 1105",null,"2019-11-20T17:46:46",null,null,"Not assessed","https://viewer.us-3.sharpershape.services/viewer/assets/5ca5a2c6f6b4638d21a051a2/details","https://viewer.us-3.sharpershape.services/viewer/issues/5ecf8c95a03e660001310937/details","high","W12153777N3952492 WYANDOTTE 1105","[DouglasFir, GrayPine, Other]","DouglasFir"]
[469,"NORTHERN","NORTH VALLEY","Tier 2-3","102911105 Tier 2-3",102911105,"WYANDOTTE 1105",16.399999999999899,39.531669999999899,-121.51764,null,57.899999999999899,"W12151764N3953167",10.5,-14,"YES","W12151822N3953157","W12151765N3953162","W12151765N3953162-W12151822N3953157",102911105,"WYANDOTTE 1105",null,"2019-11-20T17:46:46",null,null,"Not assessed","https://viewer.us-3.sharpershape.services/viewer/assets/5ca5a2c6f6b463f67aa051de/details","https://viewer.us-3.sharpershape.services/viewer/issues/5ecf8c9734b60c00015ec19e/details","high","W12151764N3953167 WYANDOTTE 1105","[DouglasFir, CoastalLiveOak, Eucalyptus/BlueGum]","DouglasFir"]
[470,"NORTHERN","NORTH VALLEY","Tier 2-3","102911105 Tier 2-3",102911105,"WYANDOTTE 1105",4,39.532309999999903,-121.53476000000001,null,17.899999999999999,"W12153476N3953231",5.5,7,"NO","W12153557N3953230","W12153419N3953235","W12153419N3953235-W12153557N3953230",102911105,"WYANDOTTE 1105",null,"2019-11-20T17:46:46",null,null,"Not assessed","https://viewer.us-3.sharpershape.services/viewer/assets/5ca5a2c6f6b463191ca04d93/details","https://viewer.us-3.sharpershape.services/viewer/issues/5ee2b430a03e66000146e434/details","high","W12153476N3953231 WYANDOTTE 1105","[CoastalLiveOak, Other, TanOak]","CoastalLiveOak"]
[471,"NORTHERN","NORTH VALLEY","Tier 0-1","102911105 Tier 0-1",102911105,"WYANDOTTE 1105",36.5,39.54195,-121.54213,null,59.2,"W12154213N3954195",25.3,-2.9,"YES","W12154206N3954186","W12154249N3954102","W12154249N3954102-W12154206N3954186",102911105,"WYANDOTTE 1105",null,"2019-11-20T17:46:46",null,null,"Not assessed","https://viewer.us-3.sharpershape.services/viewer/assets/5ca5a2c6f6b4631d52a04cea/details","https://viewer.us-3.sharpershape.services/viewer/issues/5ecf8c98a03e660001310bf8/details","high","W12154213N3954195 WYANDOTTE 1105","[TanOak, GrayPine, DouglasFir]","TanOak"]
[472,"NORTHERN","NORTH VALLEY","Tier 2-3","102911105 Tier 2-3",102911105,"WYANDOTTE 1105",48,39.536029999999897,-121.54237000000001,null,45.399999999999899,"W12154237N3953603",30.3,3.7,"NO","W12154253N3953660","W12154256N3953592","W12154256N3953592-W12154253N3953660",102911105,"WYANDOTTE 1105",null,"2019-11-20T17:46:46",null,null,"Not assessed","https://viewer.us-3.sharpershape.services/viewer/assets/5ca5a2c6f6b4630e63a05050/details","https://viewer.us-3.sharpershape.services/viewer/issues/5ecf8c9834b60c00015ec258/details","high","W12154237N3953603 WYANDOTTE 1105","[CoastalLiveOak, DouglasFir, Other]","CoastalLiveOak"]
[473,"NORTHERN","NORTH VALLEY","Tier 2-3","102911105 Tier 2-3",102911105,"WYANDOTTE 1105",0.3,39.529249999999898,-121.53207,null,27.6999999999999,"W12153207N3952925",9.4,9.6999999999999993,"NO","W12153206N3952881","W12153206N3952972","W12153206N3952972-W12153206N3952881",102911105,"WYANDOTTE 1105",null,"2019-11-20T17:46:46",null,null,"Not assessed","https://viewer.us-3.sharpershape.services/viewer/assets/5ca5a2c6f6b463a605a04c77/details","https://viewer.us-3.sharpershape.services/viewer/issues/5ecf8f14a03e660001311384/details","high","W12153207N3952925 WYANDOTTE 1105","[MontereyPine, CoastalLiveOak, DouglasFir]","MontereyPine"]
[474,"NORTHERN","NORTH VALLEY","Tier 2-3","102911105 Tier 2-3",102911105,"WYANDOTTE 1105",13.1,39.532779999999903,-121.532,null,37.5,"W12153200N3953278",3.8,-2.7,"YES","W12153205N3953285","W12153205N3953245","W12153205N3953245-W12153205N3953285",102911105,"WYANDOTTE 1105",null,"2019-11-20T17:46:46",null,null,"Not assessed","https://viewer.us-3.sharpershape.services/viewer/assets/5ca5a2c6f6b46321caa04c4b/details","https://viewer.us-3.sharpershape.services/viewer/issues/5ecf8c9934b60c00015ec356/details","high","W12153200N3953278 WYANDOTTE 1105","[CoastalLiveOak, DouglasFir, Eucalyptus/BlueGum]","CoastalLiveOak"]
[475,"NORTHERN","NORTH VALLEY","Tier 2-3","102911105 Tier 2-3",102911105,"WYANDOTTE 1105",65.7,39.53396,-121.541219999999,null,81.799999999999898,"W12154122N3953396",48.6,-13,"YES","W12154087N3953327","W12154149N3953393","W12154149N3953393-W12154087N3953327",102911105,"WYANDOTTE 1105",null,"2019-11-20T17:46:46",null,null,"Not assessed","https://viewer.us-3.sharpershape.services/viewer/assets/5ca5a2c6f6b4635000a04d2e/details","https://viewer.us-3.sharpershape.services/viewer/issues/5ecf8c9234b60c00015ec002/details","high","W12154122N3953396 WYANDOTTE 1105","[CoastalLiveOak, GrayPine, MontereyPine]","CoastalLiveOak"]
[476,"NORTHERN","NORTH VALLEY","Tier 2-3","102911105 Tier 2-3",102911105,"WYANDOTTE 1105",5.6,39.53257,-121.540809999999,null,28.5,"W12154081N3953257",8.6999999999999993,8,"NO","W12154073N3953285","W12154086N3953214","W12154086N3953214-W12154073N3953285",102911105,"WYANDOTTE 1105",null,"2019-11-20T17:46:46",null,null,"Not assessed","https://viewer.us-3.sharpershape.services/viewer/assets/5ca5a2c6f6b4635017a04ad1/details","https://viewer.us-3.sharpershape.services/viewer/issues/5ecf8c96a03e6600013109ae/details","high","W12154081N3953257 WYANDOTTE 1105","[DouglasFir, Other, CoastalLiveOak]","DouglasFir"]
[477,"NORTHERN","NORTH VALLEY","Tier 2-3","102911105 Tier 2-3",102911105,"WYANDOTTE 1105",12.8,39.52205,-121.538489999999,null,25.6999999999999,"W12153849N3952205",8.1999999999999904,-4,"YES","W12153812N3952205","W12153891N3952195","W12153891N3952195-W12153812N3952205",102911105,"WYANDOTTE 1105",null,"2019-11-20T17:46:46",null,null,"Not assessed","https://viewer.us-3.sharpershape.services/viewer/assets/5ca5a2c6f6b463d5b0a04bae/details","https://viewer.us-3.sharpershape.services/viewer/issues/5ecf8c98a03e660001310b1f/details","high","W12153849N3952205 WYANDOTTE 1105"]
[478,"NORTHERN","NORTH VALLEY","Tier 2-3","102911105 Tier 2-3",102911105,"WYANDOTTE 1105",51.1,39.532240000000002,-121.541039999999,null,63.3,"W12154104N3953224",37.700000000000003,3.8,"NO","W12154073N3953285","W12154086N3953214","W12154086N3953214-W12154073N3953285",102911105,"WYANDOTTE 1105",null,"2019-11-20T17:46:46",null,null,"Not assessed","https://viewer.us-3.sharpershape.services/viewer/assets/5ca5a2c6f6b4635017a04ad1/details","https://viewer.us-3.sharpershape.services/viewer/issues/5ecf8c96a03e6600013109b1/details","high","W12154104N3953224 WYANDOTTE 1105","[GrayPine, Other, DouglasFir]","GrayPine"]
[479,"NORTHERN","NORTH VALLEY","Tier 0-1","102911105 Tier 0-1",102911105,"WYANDOTTE 1105",15.7,39.524639999999899,-121.521169999999,null,33.299999999999898,"W12152117N3952464",5.3,2.2999999999999998,"NO","W12152121N3952468","W12152123N3952539","W12152123N3952539-W12152121N3952468",102911105,"WYANDOTTE 1105",null,"2019-11-20T17:46:46",null,null,"Not assessed","https://viewer.us-3.sharpershape.services/viewer/assets/5ca5a2c6f6b463550ba0502f/details","https://viewer.us-3.sharpershape.services/viewer/issues/5ecf8c9534b60c00015ec0c1/details","high","W12152117N3952464 WYANDOTTE 1105","[DouglasFir, GrayPine, ValleyOak]","DouglasFir"]
[480,"NORTHERN","NORTH VALLEY","Tier 2-3","102911105 Tier 2-3",102911105,"WYANDOTTE 1105",19.600000000000001,39.532889999999902,-121.526,null,48,"W12152600N3953289",5.7,-7.9,"YES","W12152605N3953285","W12152605N3953235","W12152605N3953235-W12152605N3953285",102911105,"WYANDOTTE 1105",null,"2019-11-20T17:46:46",null,null,"Not assessed","https://viewer.us-3.sharpershape.services/viewer/assets/5e1c22f1942b994ca37b032f/details","https://viewer.us-3.sharpershape.services/viewer/issues/5ecfe7bc34b60c000160de48/details","high","W12152600N3953289 WYANDOTTE 1105","[DouglasFir, Other, GrayPine]","DouglasFir"]
[481,"NORTHERN","NORTH VALLEY","Tier 2-3","102911105 Tier 2-3",102911105,"WYANDOTTE 1105",36.5,39.528849999999899,-121.53059,null,41.2,"W12153059N3952885",21.8,5.0999999999999996,"NO","W12153053N3952876","W12153054N3952815","W12153054N3952815-W12153053N3952876",102911105,"WYANDOTTE 1105",null,"2019-11-20T17:46:46",null,null,"Not assessed","https://viewer.us-3.sharpershape.services/viewer/assets/5ca5a2c6f6b463a3b1a04e34/details","https://viewer.us-3.sharpershape.services/viewer/issues/5ecf8c9034b60c00015ebfd1/details","high","W12153059N3952885 WYANDOTTE 1105","[GrayPine, CoastalLiveOak, Other]","GrayPine"]
[482,"NORTHERN","NORTH VALLEY","Tier 2-3","102911105 Tier 2-3",102911105,"WYANDOTTE 1105",63.899999999999899,39.529019999999903,-121.51972000000001,null,60.5,"W12151972N3952902",46.5,6.5,"NO","W12151936N3952926","W12152014N3952914","W12152014N3952914-W12151936N3952926",102911105,"WYANDOTTE 1105",null,"2019-11-20T17:46:46",null,null,"Not assessed","https://viewer.us-3.sharpershape.services/viewer/assets/5ca5a2c6f6b4634b73a04f6f/details","https://viewer.us-3.sharpershape.services/viewer/issues/5ecf8c96a03e6600013109fc/details","high","W12151972N3952902 WYANDOTTE 1105","[GrayPine, ValleyOak, LiveOak]","GrayPine"]
[483,"NORTHERN","NORTH VALLEY","Tier 0-1","102911105 Tier 0-1",102911105,"WYANDOTTE 1105",23.9,39.523040000000002,-121.512259999999,null,65.900000000000006,"W12151226N3952304",1.5,-33.399999999999899,"YES","W12151282N3952292","W12151196N3952324","W12151196N3952324-W12151282N3952292",102911105,"WYANDOTTE 1105",null,"2019-11-20T17:46:46","OH",null,"Not assessed","https://viewer.us-3.sharpershape.services/viewer/assets/5ca5a2c6f6b463e9a0a04bb9/details","https://viewer.us-3.sharpershape.services/viewer/issues/5ecf8c98a03e660001310b9b/details","high","W12151226N3952304 WYANDOTTE 1105","[DouglasFir, Other, LiveOak]","DouglasFir"]
[484,"NORTHERN","NORTH VALLEY","Tier 2-3","102911105 Tier 2-3",102911105,"WYANDOTTE 1105",22.6999999999999,39.53595,-121.542469999999,null,61.1,"W12154247N3953595",12,-30.8,"YES","W12154253N3953660","W12154256N3953592","W12154256N3953592-W12154253N3953660",102911105,"WYANDOTTE 1105",null,"2019-11-20T17:46:46",null,null,"Not assessed","https://viewer.us-3.sharpershape.services/viewer/assets/5ca5a2c6f6b4630e63a05050/details","https://viewer.us-3.sharpershape.services/viewer/issues/5ecf8c9834b60c00015ec247/details","high","W12154247N3953595 WYANDOTTE 1105","[Other, LiveOak, GrayPine]","Other"]
[485,"NORTHERN","NORTH VALLEY","Tier 2-3","102911105 Tier 2-3",102911105,"WYANDOTTE 1105",15.3,39.521969999999897,-121.538439999999,null,28.3,"W12153844N3952197",9.3000000000000007,-0.1,"YES","W12153812N3952205","W12153891N3952195","W12153891N3952195-W12153812N3952205",102911105,"WYANDOTTE 1105",null,"2019-11-20T17:46:46",null,null,"Not assessed","https://viewer.us-3.sharpershape.services/viewer/assets/5ca5a2c6f6b463d5b0a04bae/details","https://viewer.us-3.sharpershape.services/viewer/issues/5ecf8c98a03e660001310b18/details","high","W12153844N3952197 WYANDOTTE 1105","[GrayPine, Other, DouglasFir]","GrayPine"]
[486,"NORTHERN","NORTH VALLEY","Tier 0-1","102911105 Tier 0-1",102911105,"WYANDOTTE 1105",22.6999999999999,39.5250699999999,-121.53619999999999,null,37.200000000000003,"W12153620N3952507",12,2.5,"NO","W12153590N3952523","W12153636N3952510","W12153636N3952510-W12153590N3952523",102911105,"WYANDOTTE 1105",null,"2019-11-20T17:46:46",null,null,"Not assessed","https://viewer.us-3.sharpershape.services/viewer/assets/5ca5a2c6f6b4636365a050d5/details","https://viewer.us-3.sharpershape.services/viewer/issues/5ecf8c9534b60c00015ec0a4/details","high","W12153620N3952507 WYANDOTTE 1105","[DouglasFir, Eucalyptus/BlueGum, Other]","DouglasFir"]
[487,"NORTHERN","NORTH VALLEY","Tier 2-3","102911105 Tier 2-3",102911105,"WYANDOTTE 1105",70.2,39.536159999999903,-121.542289999999,null,96.4,"W12154229N3953616",48.1,-26.1,"YES","W12154253N3953660","W12154256N3953592","W12154256N3953592-W12154253N3953660",102911105,"WYANDOTTE 1105",null,"2019-11-20T17:46:46",null,null,"Not assessed","https://viewer.us-3.sharpershape.services/viewer/assets/5ca5a2c6f6b4630e63a05050/details","https://viewer.us-3.sharpershape.services/viewer/issues/5ecf8c9834b60c00015ec251/details","high","W12154229N3953616 WYANDOTTE 1105","[GrayPine, Other, DouglasFir]","GrayPine"]
[488,"NORTHERN","NORTH VALLEY","Tier 2-3","102911105 Tier 2-3",102911105,"WYANDOTTE 1105",53.5,39.525659999999903,-121.514809999999,null,60.2,"W12151481N3952566",43.1,8.6999999999999993,"NO","W12151463N3952642","W12151461N3952559","W12151461N3952559-W12151463N3952642",102911105,"WYANDOTTE 1105",null,"2019-11-20T17:46:46",null,null,"Not assessed","https://viewer.us-3.sharpershape.services/viewer/assets/5d8b1e4455dd6b5e853f3023/details","https://viewer.us-3.sharpershape.services/viewer/issues/5ecf8c99a03e660001310c33/details","high","W12151481N3952566 WYANDOTTE 1105","[GrayPine, Other, ValleyOak]","GrayPine"]
[489,"NORTHERN","NORTH VALLEY","Tier 2-3","102911105 Tier 2-3",102911105,"WYANDOTTE 1105",19.8,39.530949999999898,-121.53198999999999,null,72.2,"W12153199N3953095",8.3000000000000007,-37.1,"YES","W12153206N3953048","W12153207N3953097","W12153207N3953097-W12153206N3953048",102911105,"WYANDOTTE 1105",null,"2019-11-20T17:46:46","OH",null,"Not assessed","https://viewer.us-3.sharpershape.services/viewer/assets/5ca5a2c6f6b46317dca04964/details","https://viewer.us-3.sharpershape.services/viewer/issues/5ecf8c95a03e660001310944/details","high","W12153199N3953095 WYANDOTTE 1105","[GrayPine, DouglasFir, LiveOak]","GrayPine"]
[490,"NORTHERN","NORTH VALLEY","Tier 2-3","102911105 Tier 2-3",102911105,"WYANDOTTE 1105",9.1,39.530850000000001,-121.53202,null,35.5,"W12153202N3953085",5,-4.5,"YES","W12153206N3953048","W12153207N3953097","W12153207N3953097-W12153206N3953048",102911105,"WYANDOTTE 1105",null,"2019-11-20T17:46:46","OH",null,"Not assessed","https://viewer.us-3.sharpershape.services/viewer/assets/5ca5a2c6f6b46317dca04964/details","https://viewer.us-3.sharpershape.services/viewer/issues/5ecf8c95a03e660001310941/details","high","W12153202N3953085 WYANDOTTE 1105","[CoastalLiveOak, Eucalyptus/BlueGum, Other]","CoastalLiveOak"]
[491,"NORTHERN","NORTH VALLEY","Tier 0-1","102911105 Tier 0-1",102911105,"WYANDOTTE 1105",45.899999999999899,39.523400000000002,-121.51196,null,69.299999999999898,"W12151196N3952340",8.1999999999999904,-4.8,"YES","W12151196N3952324","W12151119N3952361","W12151119N3952361-W12151196N3952324",102911105,"WYANDOTTE 1105",null,"2019-11-20T17:46:46",null,null,"Not assessed","https://viewer.us-3.sharpershape.services/viewer/assets/5ca5a2c6f6b4638f7da04e40/details","https://viewer.us-3.sharpershape.services/viewer/issues/5ecf8c9634b60c00015ec117/details","high","W12151196N3952340 WYANDOTTE 1105","[DouglasFir, GrayPine, LiveOak]","DouglasFir"]
[492,"NORTHERN","NORTH VALLEY","Tier 2-3","102911105 Tier 2-3",102911105,"WYANDOTTE 1105",30.3,39.530929999999898,-121.525919999999,null,41.6,"W12152592N3953093",7.6,2.7,"NO","W12152603N3953064","W12152604N3953139","W12152604N3953139-W12152603N3953064",102911105,"WYANDOTTE 1105",null,"2019-11-20T17:46:46",null,null,"Not assessed","https://viewer.us-3.sharpershape.services/viewer/assets/5ca5a2c6f6b463f925a04ce0/details","https://viewer.us-3.sharpershape.services/viewer/issues/5ecf8c98a03e660001310bcf/details","high","W12152592N3953093 WYANDOTTE 1105","[GrayPine, TanOak, MontereyPine]","GrayPine"]
[493,"NORTHERN","NORTH VALLEY","Tier 0-1","102911105 Tier 0-1",102911105,"WYANDOTTE 1105",1.5,39.52319,-121.512069999999,null,57.2,"W12151207N3952319",5.7,-25.6999999999999,"YES","W12151282N3952292","W12151196N3952324","W12151196N3952324-W12151282N3952292",102911105,"WYANDOTTE 1105",null,"2019-11-20T17:46:46","OH",null,"Not assessed","https://viewer.us-3.sharpershape.services/viewer/assets/5ca5a2c6f6b463e9a0a04bb9/details","https://viewer.us-3.sharpershape.services/viewer/issues/5ecf8c98a03e660001310b9e/details","high","W12151207N3952319 WYANDOTTE 1105","[DouglasFir, LiveOak, GrayPine]","DouglasFir"]
[494,"NORTHERN","NORTH VALLEY","Tier 2-3","102911105 Tier 2-3",102911105,"WYANDOTTE 1105",1.9,39.52863,-121.535359999999,null,15.9,"W12153536N3952863",10.5,12.4,"NO","W12153534N3952830","W12153534N3952830","W12153534N3952830-W12153534N3952830",102911105,"WYANDOTTE 1105",null,"2019-11-20T17:46:46",null,null,"Not assessed","https://viewer.us-3.sharpershape.services/viewer/assets/5ca5a2c6f6b4631e4ba04b95/details","https://viewer.us-3.sharpershape.services/viewer/issues/5ecf955b34b60c00015ed82e/details","high","W12153536N3952863 WYANDOTTE 1105","[Other, DouglasFir, ValleyOak]","Other"]
[495,"NORTHERN","NORTH VALLEY","Tier 2-3","102911105 Tier 2-3",102911105,"WYANDOTTE 1105",3.8,39.52872,-121.53539000000001,null,24.9,"W12153539N3952872",6.5,4.9000000000000004,"NO","W12153534N3952830","W12153534N3952830","W12153534N3952830-W12153534N3952830",102911105,"WYANDOTTE 1105",null,"2019-11-20T17:46:46",null,null,"Not assessed","https://viewer.us-3.sharpershape.services/viewer/assets/5ca5a2c6f6b4631e4ba04b95/details","https://viewer.us-3.sharpershape.services/viewer/issues/5ecf8c96a03e6600013109dc/details","high","W12153539N3952872 WYANDOTTE 1105","[TanOak, GrayPine, Other]","TanOak"]
[496,"NORTHERN","NORTH VALLEY","Tier 2-3","102911105 Tier 2-3",102911105,"WYANDOTTE 1105",42.8,39.530609999999903,-121.532489999999,null,67.7,"W12153249N3953061",8.1,-14.6,"YES","W12153206N3953048","W12153269N3953048","W12153269N3953048-W12153206N3953048",102911105,"WYANDOTTE 1105",null,"2019-11-20T17:46:46",null,null,"Not assessed","https://viewer.us-3.sharpershape.services/viewer/assets/5ca5a2c6f6b46331cba04b4a/details","https://viewer.us-3.sharpershape.services/viewer/issues/5ecf8c92a03e660001310865/details","high","W12153249N3953061 WYANDOTTE 1105","[DouglasFir, GrayPine, CoastalLiveOak]","DouglasFir"]
[497,"NORTHERN","NORTH VALLEY","Tier 2-3","102911105 Tier 2-3",102911105,"WYANDOTTE 1105",34.399999999999899,39.529069999999898,-121.53192,null,51.8,"W12153192N3952907",17.5,-2.4,"YES","W12153206N3952881","W12153206N3952972","W12153206N3952972-W12153206N3952881",102911105,"WYANDOTTE 1105",null,"2019-11-20T17:46:46",null,null,"Not assessed","https://viewer.us-3.sharpershape.services/viewer/assets/5ca5a2c6f6b463a605a04c77/details","https://viewer.us-3.sharpershape.services/viewer/issues/5ecf8c9834b60c00015ec297/details","high","W12153192N3952907 WYANDOTTE 1105","[DouglasFir, GrayPine, TanOak]","DouglasFir"]
[498,"NORTHERN","NORTH VALLEY","Tier 2-3","102911105 Tier 2-3",102911105,"WYANDOTTE 1105",23.1999999999999,39.532469999999897,-121.531379999999,null,47.6,"W12153138N3953247",6.7,-6.4,"YES","W12153205N3953245","W12153117N3953239","W12153117N3953239-W12153205N3953245",102911105,"WYANDOTTE 1105",null,"2019-11-20T17:46:46",null,null,"Not assessed","https://viewer.us-3.sharpershape.services/viewer/assets/5ca5a2c6f6b4636b14a051ca/details","https://viewer.us-3.sharpershape.services/viewer/issues/5ecf8c9734b60c00015ec173/details","high","W12153138N3953247 WYANDOTTE 1105","[CoastalLiveOak, DouglasFir, ValleyOak]","CoastalLiveOak"]
[499,"NORTHERN","NORTH VALLEY","Tier 2-3","102911105 Tier 2-3",102911105,"WYANDOTTE 1105",54.7,39.532039999999903,-121.54106,null,70.400000000000006,"W12154106N3953204",42.8,-2.1,"YES","W12154086N3953214","W12154084N3953131","W12154084N3953131-W12154086N3953214",102911105,"WYANDOTTE 1105",null,"2019-11-20T17:46:46",null,null,"Not assessed","https://viewer.us-3.sharpershape.services/viewer/assets/5ca5a2c6f6b4630944a04ef1/details","https://viewer.us-3.sharpershape.services/viewer/issues/5ecf8c98a03e660001310b5a/details","high","W12154106N3953204 WYANDOTTE 1105","[DouglasFir, GrayPine, Other]","DouglasFir"]
[500,"NORTHERN","NORTH VALLEY","Tier 2-3","102911105 Tier 2-3",102911105,"WYANDOTTE 1105",34.1,39.53237,-121.540949999999,null,55.899999999999899,"W12154095N3953237",24.6,-2,"YES","W12154073N3953285","W12154086N3953214","W12154086N3953214-W12154073N3953285",102911105,"WYANDOTTE 1105",null,"2019-11-20T17:46:46",null,null,"Not assessed","https://viewer.us-3.sharpershape.services/viewer/assets/5ca5a2c6f6b4635017a04ad1/details","https://viewer.us-3.sharpershape.services/viewer/issues/5ecf8c96a03e6600013109c1/details","high","W12154095N3953237 WYANDOTTE 1105","[DouglasFir, Other, CoastalLiveOak]","DouglasFir"]
[501,"NORTHERN","NORTH VALLEY","Tier 2-3","102911105 Tier 2-3",102911105,"WYANDOTTE 1105",3.6,39.52955,-121.532089999999,null,26.5,"W12153209N3952955",12,8,"NO","W12153206N3952881","W12153206N3952972","W12153206N3952972-W12153206N3952881",102911105,"WYANDOTTE 1105",null,"2019-11-20T17:46:46",null,null,"Not assessed","https://viewer.us-3.sharpershape.services/viewer/assets/5ca5a2c6f6b463a605a04c77/details","https://viewer.us-3.sharpershape.services/viewer/issues/5ecf8c9834b60c00015ec29a/details","high","W12153209N3952955 WYANDOTTE 1105"]
[502,"NORTHERN","NORTH VALLEY","Tier 2-3","102911105 Tier 2-3",102911105,"WYANDOTTE 1105",21.1999999999999,39.530700000000003,-121.53856,null,30,"W12153856N3953070",9.1,-0.9,"YES","W12153908N3953063","W12153843N3953063","W12153843N3953063-W12153908N3953063",102911105,"WYANDOTTE 1105",null,"2019-11-20T17:46:46",null,null,"Not assessed","https://viewer.us-3.sharpershape.services/viewer/assets/5ca5a2c6f6b46390f3a04fa9/details","https://viewer.us-3.sharpershape.services/viewer/issues/5ecf8c9134b60c00015ebfe6/details","high","W12153856N3953070 WYANDOTTE 1105","[GrayPine, LiveOak, DouglasFir]","GrayPine"]
[503,"NORTHERN","NORTH VALLEY","Tier 2-3","102911105 Tier 2-3",102911105,"WYANDOTTE 1105",13.8,39.528149999999897,-121.51437,null,26.4,"W12151437N3952815",7.8,8.5,"NO","W12151441N3952799","W12151401N3952860","W12151401N3952860-W12151441N3952799",102911105,"WYANDOTTE 1105",null,"2019-11-20T17:46:46",null,null,"Not assessed","https://viewer.us-3.sharpershape.services/viewer/assets/5ca5a2c6f6b463bdf4a04f50/details","https://viewer.us-3.sharpershape.services/viewer/issues/5ecf8c9534b60c00015ec0e2/details","high","W12151437N3952815 WYANDOTTE 1105","[DouglasFir, Other, GrayPine]","DouglasFir"]
[504,"NORTHERN","NORTH VALLEY","Tier 2-3","102911105 Tier 2-3",102911105,"WYANDOTTE 1105",0.4,39.525799999999997,-121.52123,null,25.1,"W12152123N3952580",5.8,6.2,"NO","W12152123N3952539","W12152124N3952614","W12152124N3952614-W12152123N3952539",102911105,"WYANDOTTE 1105",null,"2019-11-20T17:46:46",null,null,"Not assessed","https://viewer.us-3.sharpershape.services/viewer/assets/5ca5a2c6f6b46335f7a04ffc/details","https://viewer.us-3.sharpershape.services/viewer/issues/5ecf8ed034b60c00015ec998/details","high","W12152123N3952580 WYANDOTTE 1105","[GrayPine, LiveOak, TanOak]","GrayPine"]
[505,"NORTHERN","NORTH VALLEY","Tier 2-3","102911105 Tier 2-3",102911105,"WYANDOTTE 1105",21.4,39.531089999999899,-121.53215,null,31,"W12153215N3953109",7.5,3.5,"NO","W12153206N3953153","W12153207N3953097","W12153207N3953097-W12153206N3953153",102911105,"WYANDOTTE 1105",null,"2019-11-20T17:46:46",null,null,"Not assessed","https://viewer.us-3.sharpershape.services/viewer/assets/5ca5a2c6f6b463f9cfa04c7e/details","https://viewer.us-3.sharpershape.services/viewer/issues/5ecf8c98a03e660001310b36/details","high","W12153215N3953109 WYANDOTTE 1105","[DouglasFir, GrayPine, MontereyPine]","DouglasFir"]
[506,"NORTHERN","NORTH VALLEY","Tier 0-1","102911105 Tier 0-1",102911105,"WYANDOTTE 1105",39.899999999999899,39.523449999999897,-121.51124,null,34.399999999999899,"W12151124N3952345",6,18,"NO","W12151196N3952324","W12151119N3952361","W12151119N3952361-W12151196N3952324",102911105,"WYANDOTTE 1105",null,"2019-11-20T17:46:46",null,null,"Not assessed","https://viewer.us-3.sharpershape.services/viewer/assets/5ca5a2c6f6b4638f7da04e40/details","https://viewer.us-3.sharpershape.services/viewer/issues/5ecf9574a03e66000131205a/details","high","W12151124N3952345 WYANDOTTE 1105","[DouglasFir, CoastalLiveOak, Eucalyptus/BlueGum]","DouglasFir"]
[507,"NORTHERN","NORTH VALLEY","Tier 2-3","102911105 Tier 2-3",102911105,"WYANDOTTE 1105",18.8,39.530539999999903,-121.53215,null,28.1999999999999,"W12153215N3953054",7.1,8.1999999999999904,"NO","W12153206N3953048","W12153269N3953048","W12153269N3953048-W12153206N3953048",102911105,"WYANDOTTE 1105",null,"2019-11-20T17:46:46",null,null,"Not assessed","https://viewer.us-3.sharpershape.services/viewer/assets/5ca5a2c6f6b46331cba04b4a/details","https://viewer.us-3.sharpershape.services/viewer/issues/5ecf8c92a03e66000131085e/details","high","W12153215N3953054 WYANDOTTE 1105","[DouglasFir, GrayPine, TanOak]","DouglasFir"]
[508,"NORTHERN","NORTH VALLEY","Tier 0-1","102911105 Tier 0-1",102911105,"WYANDOTTE 1105",40.399999999999899,39.524760000000001,-121.52151000000001,null,57.1,"W12152151N3952476",28,-3.8,"YES","W12152121N3952468","W12152223N3952454","W12152223N3952454-W12152121N3952468",102911105,"WYANDOTTE 1105",null,"2019-11-20T17:46:46",null,null,"Not assessed","https://viewer.us-3.sharpershape.services/viewer/assets/5ca5a2c6f6b4634c98a0504c/details","https://viewer.us-3.sharpershape.services/viewer/issues/5ecf8c9634b60c00015ec155/details","high","W12152151N3952476 WYANDOTTE 1105","[GrayPine, DouglasFir, Eucalyptus/BlueGum]","GrayPine"]
[509,"NORTHERN","NORTH VALLEY","Tier 2-3","102911105 Tier 2-3",102911105,"WYANDOTTE 1105",22.3,39.532879999999899,-121.539009999999,null,37.899999999999899,"W12153901N3953288",10.6,1.7,"NO","W12153906N3953282","W12153848N3953281","W12153848N3953281-W12153906N3953282",102911105,"WYANDOTTE 1105",null,"2019-11-20T17:46:46",null,null,"Not assessed","https://viewer.us-3.sharpershape.services/viewer/assets/5ca5a2c6f6b46324baa04ba9/details","https://viewer.us-3.sharpershape.services/viewer/issues/5ecf8c9934b60c00015ec330/details","high","W12153901N3953288 WYANDOTTE 1105","[LiveOak, DouglasFir, CoastalLiveOak]","LiveOak"]
[510,"NORTHERN","NORTH VALLEY","Tier 2-3","102911105 Tier 2-3",102911105,"WYANDOTTE 1105",3.5,39.527180000000001,-121.51437,null,27.1,"W12151437N3952718",8.6,8.3000000000000007,"NO","W12151433N3952690","W12151437N3952744","W12151437N3952744-W12151433N3952690",102911105,"WYANDOTTE 1105",null,"2019-11-20T17:46:46",null,null,"Not assessed","https://viewer.us-3.sharpershape.services/viewer/assets/5ca5a2c6f6b46309eba051c7/details","https://viewer.us-3.sharpershape.services/viewer/issues/5ecf8c98a03e660001310b25/details","high","W12151437N3952718 WYANDOTTE 1105","[DouglasFir, GrayPine, Other]","DouglasFir"]
[511,"NORTHERN","NORTH VALLEY","Tier 0-1","102911105 Tier 0-1",102911105,"WYANDOTTE 1105",16,39.540729999999897,-121.54264000000001,null,92.5,"W12154264N3954073",8.6999999999999993,-50.3,"YES","W12154249N3954102","W12154258N3954066","W12154258N3954066-W12154249N3954102",102911105,"WYANDOTTE 1105",null,"2019-11-20T17:46:46","OH",null,"Not assessed","https://viewer.us-3.sharpershape.services/viewer/assets/5ca5a2c6f6b4638a8aa050a6/details","https://viewer.us-3.sharpershape.services/viewer/issues/5ecf8c96a03e660001310976/details","high","W12154264N3954073 WYANDOTTE 1105","[DouglasFir, GrayPine, TanOak]","DouglasFir"]
[512,"NORTHERN","NORTH VALLEY","Tier 2-3","102911105 Tier 2-3",102911105,"WYANDOTTE 1105",20.6999999999999,39.530159999999903,-121.525939999999,null,28.1999999999999,"W12152594N3953016",12,1.8,"NO","W12152603N3952974","W12152603N3953064","W12152603N3953064-W12152603N3952974",102911105,"WYANDOTTE 1105",null,"2019-11-20T17:46:46",null,null,"Not assessed","https://viewer.us-3.sharpershape.services/viewer/assets/5ca5a2c6f6b463cd78a04dbd/details","https://viewer.us-3.sharpershape.services/viewer/issues/5ecf8c98a03e660001310be3/details","high","W12152594N3953016 WYANDOTTE 1105","[GrayPine, MontereyPine, ValleyOak]","GrayPine"]
[513,"NORTHERN","NORTH VALLEY","Tier 2-3","102911105 Tier 2-3",102911105,"WYANDOTTE 1105",74.5,39.531239999999897,-121.53327,null,79.7,"W12153327N3953124",60.2,0.9,"NO","W12153323N3953048","W12153322N3953104","W12153322N3953104-W12153323N3953048",102911105,"WYANDOTTE 1105",null,"2019-11-20T17:46:46",null,null,"Not assessed","https://viewer.us-3.sharpershape.services/viewer/assets/5ca5a2c6f6b463a1c6a051b8/details","https://viewer.us-3.sharpershape.services/viewer/issues/5ecf8c9334b60c00015ec039/details","high","W12153327N3953124 WYANDOTTE 1105","[GrayPine, DouglasFir, Eucalyptus/BlueGum]","GrayPine"]
[514,"NORTHERN","NORTH VALLEY","Tier 2-3","102911105 Tier 2-3",102911105,"WYANDOTTE 1105",35.899999999999899,39.531639999999904,-121.53601,null,40,"W12153601N3953164",22.1,8,"NO","W12153585N3953154","W12153654N3953154","W12153654N3953154-W12153585N3953154",102911105,"WYANDOTTE 1105",null,"2019-11-20T17:46:46",null,null,"Not assessed","https://viewer.us-3.sharpershape.services/viewer/assets/5ca5a2c6f6b46360cfa049fb/details","https://viewer.us-3.sharpershape.services/viewer/issues/5ecf8c9734b60c00015ec211/details","high","W12153601N3953164 WYANDOTTE 1105","[GrayPine, Eucalyptus/BlueGum, LiveOak]","GrayPine"]
[515,"NORTHERN","NORTH VALLEY","Tier 2-3","102911105 Tier 2-3",102911105,"WYANDOTTE 1105",55,39.528979999999898,-121.534269999999,null,96.4,"W12153427N3952898",42.5,-27.1999999999999,"YES","W12153422N3952882","W12153537N3952882","W12153537N3952882-W12153422N3952882",102911105,"WYANDOTTE 1105",null,"2019-11-20T17:46:46",null,null,"Not assessed","https://viewer.us-3.sharpershape.services/viewer/assets/5ca5a2c6f6b4638913a05099/details","https://viewer.us-3.sharpershape.services/viewer/issues/5ecf8c95a03e660001310958/details","high","W12153427N3952898 WYANDOTTE 1105","[GrayPine, DouglasFir, Other]","GrayPine"]
[516,"NORTHERN","NORTH VALLEY","Tier 0-1","102911105 Tier 0-1",102911105,"WYANDOTTE 1105",24.6,39.525390000000002,-121.53492,null,28.1,"W12153492N3952539",12.8,8.9,"NO","W12153537N3952537","W12153462N3952554","W12153462N3952554-W12153537N3952537",102911105,"WYANDOTTE 1105",null,"2019-11-20T17:46:46",null,null,"Not assessed","https://viewer.us-3.sharpershape.services/viewer/assets/5ca5a2c6f6b463381fa049b8/details","https://viewer.us-3.sharpershape.services/viewer/issues/5ecf8c96a03e6600013109e3/details","high","W12153492N3952539 WYANDOTTE 1105","[GrayPine, DouglasFir, MontereyPine]","GrayPine"]
[517,"NORTHERN","NORTH VALLEY","Tier 2-3","102911105 Tier 2-3",102911105,"WYANDOTTE 1105",8.8000000000000007,39.530859999999898,-121.536509999999,null,26.4,"W12153651N3953086",6.7,4.5,"NO","W12153654N3953103","W12153655N3953063","W12153655N3953063-W12153654N3953103",102911105,"WYANDOTTE 1105",null,"2019-11-20T17:46:46",null,null,"Not assessed","https://viewer.us-3.sharpershape.services/viewer/assets/5ca5a2c6f6b4639202a04d3a/details","https://viewer.us-3.sharpershape.services/viewer/issues/5ecf8c96a03e660001310a1e/details","high","W12153651N3953086 WYANDOTTE 1105","[LiveOak, GrayPine, Other]","LiveOak"]
[518,"NORTHERN","NORTH VALLEY","Tier 2-3","102911105 Tier 2-3",102911105,"WYANDOTTE 1105",11.9,39.5304,-121.53201,null,28.6999999999999,"W12153201N3953040",9.6999999999999993,6.2,"NO","W12153206N3953048","W12153206N3953018","W12153206N3953018-W12153206N3953048",102911105,"WYANDOTTE 1105",null,"2019-11-20T17:46:46",null,null,"Not assessed","https://viewer.us-3.sharpershape.services/viewer/assets/5ca5a2c6f6b463534ca04e23/details","https://viewer.us-3.sharpershape.services/viewer/issues/5ecf8c94a03e6600013108da/details","high","W12153201N3953040 WYANDOTTE 1105","[CoastalLiveOak, Eucalyptus/BlueGum, DouglasFir]","CoastalLiveOak"]
[519,"NORTHERN","NORTH VALLEY","Tier 2-3","102911105 Tier 2-3",102911105,"WYANDOTTE 1105",19.100000000000001,39.52469,-121.514659999999,null,40.399999999999899,"W12151466N3952469",7.9,1.8,"NO","W12151459N3952471","W12151456N3952437","W12151456N3952437-W12151459N3952471",102911105,"WYANDOTTE 1105",null,"2019-11-20T17:46:46",null,null,"Not assessed","https://viewer.us-3.sharpershape.services/viewer/assets/5ca5a2c6f6b46347dfa04b7e/details","https://viewer.us-3.sharpershape.services/viewer/issues/5ecf8c95a03e660001310954/details","high","W12151466N3952469 WYANDOTTE 1105","[DouglasFir, Eucalyptus/BlueGum, GrayPine]","DouglasFir"]
[520,"NORTHERN","NORTH VALLEY","Tier 2-3","102911105 Tier 2-3",102911105,"WYANDOTTE 1105",8.6,39.538350000000001,-121.542469999999,null,16.5,"W12154247N3953835",6.2,3.4,"NO","W12154252N3953857","W12154250N3953758","W12154250N3953758-W12154252N3953857",102911105,"WYANDOTTE 1105",null,"2019-11-20T17:46:46",null,null,"Not assessed","https://viewer.us-3.sharpershape.services/viewer/assets/5ca5a2c6f6b463b67da04e4c/details","https://viewer.us-3.sharpershape.services/viewer/issues/5ecf8c97a03e660001310a37/details","high","W12154247N3953835 WYANDOTTE 1105","[CoastalLiveOak, DouglasFir, Eucalyptus/BlueGum]","CoastalLiveOak"]
[521,"NORTHERN","NORTH VALLEY","Tier 2-3","102911105 Tier 2-3",102911105,"WYANDOTTE 1105",31.6,39.527700000000003,-121.530649999999,null,40.700000000000003,"W12153065N3952770",5.4,3.6,"NO","W12153054N3952815","W12153052N3952749","W12153052N3952749-W12153054N3952815",102911105,"WYANDOTTE 1105",null,"2019-11-20T17:46:46",null,null,"Not assessed","https://viewer.us-3.sharpershape.services/viewer/assets/5ca5a2c6f6b4636011a051da/details","https://viewer.us-3.sharpershape.services/viewer/issues/5ecf8c9734b60c00015ec193/details","high","W12153065N3952770 WYANDOTTE 1105","[DouglasFir, CoastalLiveOak, Other]","DouglasFir"]
[522,"NORTHERN","NORTH VALLEY","Tier 2-3","102911105 Tier 2-3",102911105,"WYANDOTTE 1105",25.1,39.532879999999899,-121.5386,null,36,"W12153860N3953288",10.7,8.9,"NO","W12153906N3953282","W12153848N3953281","W12153848N3953281-W12153906N3953282",102911105,"WYANDOTTE 1105",null,"2019-11-20T17:46:46",null,null,"Not assessed","https://viewer.us-3.sharpershape.services/viewer/assets/5ca5a2c6f6b46324baa04ba9/details","https://viewer.us-3.sharpershape.services/viewer/issues/5ecf8c9934b60c00015ec320/details","high","W12153860N3953288 WYANDOTTE 1105","[DouglasFir, CoastalLiveOak, LiveOak]","DouglasFir"]
[523,"NORTHERN","NORTH VALLEY","Tier 2-3","102911105 Tier 2-3",102911105,"WYANDOTTE 1105",25.1999999999999,39.53087,-121.51939,null,46.5,"W12151939N3953087",10.9,-5,"YES","W12151923N3953089","W12152005N3953021","W12152005N3953021-W12151923N3953089",102911105,"WYANDOTTE 1105",null,"2019-11-20T17:46:46",null,null,"Not assessed","https://viewer.us-3.sharpershape.services/viewer/assets/5ca5a2c6f6b46307baa0515f/details","https://viewer.us-3.sharpershape.services/viewer/issues/5ecf8c93a03e6600013108c7/details","high","W12151939N3953087 WYANDOTTE 1105","[GrayPine, Other, Eucalyptus/BlueGum]","GrayPine"]
[524,"NORTHERN","NORTH VALLEY","Tier 2-3","102911105 Tier 2-3",102911105,"WYANDOTTE 1105",5.0999999999999996,39.525590000000001,-121.52119999999999,null,22.6999999999999,"W12152120N3952559",12,5.5,"NO","W12152123N3952539","W12152124N3952614","W12152124N3952614-W12152123N3952539",102911105,"WYANDOTTE 1105",null,"2019-11-20T17:46:46",null,null,"Not assessed","https://viewer.us-3.sharpershape.services/viewer/assets/5ca5a2c6f6b46335f7a04ffc/details","https://viewer.us-3.sharpershape.services/viewer/issues/5ecf8c95a03e660001310910/details","high","W12152120N3952559 WYANDOTTE 1105","[DouglasFir, ValleyOak, Other]","DouglasFir"]
[525,"NORTHERN","NORTH VALLEY","Tier 2-3","102911105 Tier 2-3",102911105,"WYANDOTTE 1105",56.1,39.532170000000001,-121.53475,null,88.4,"W12153475N3953217",42.3,-24.5,"YES","W12153557N3953230","W12153419N3953235","W12153419N3953235-W12153557N3953230",102911105,"WYANDOTTE 1105",null,"2019-11-20T17:46:46",null,null,"Not assessed","https://viewer.us-3.sharpershape.services/viewer/assets/5ca5a2c6f6b463191ca04d93/details","https://viewer.us-3.sharpershape.services/viewer/issues/5ee2b430a03e66000146e42d/details","high","W12153475N3953217 WYANDOTTE 1105","[Other, GrayPine, LiveOak]","Other"]
[526,"NORTHERN","NORTH VALLEY","Tier 2-3","102911105 Tier 2-3",102911105,"WYANDOTTE 1105",0.3,39.532319999999899,-121.53489999999999,null,15.5,"W12153490N3953232",12,8.3000000000000007,"NO","W12153557N3953230","W12153419N3953235","W12153419N3953235-W12153557N3953230",102911105,"WYANDOTTE 1105",null,"2019-11-20T17:46:46",null,null,"Not assessed","https://viewer.us-3.sharpershape.services/viewer/assets/5ca5a2c6f6b463191ca04d93/details","https://viewer.us-3.sharpershape.services/viewer/issues/5ee2b430a03e66000146e43d/details","high","W12153490N3953232 WYANDOTTE 1105","[DouglasFir, TanOak, CoastalLiveOak]","DouglasFir"]
[527,"NORTHERN","NORTH VALLEY","Tier 0-1","102911105 Tier 0-1",102911105,"WYANDOTTE 1105",7.1,39.52534,-121.533019999999,null,27.6999999999999,"W12153302N3952534",6.3,7,"NO","W12153312N3952549","W12153279N3952515","W12153279N3952515-W12153312N3952549",102911105,"WYANDOTTE 1105",null,"2019-11-20T17:46:46",null,null,"Not assessed","https://viewer.us-3.sharpershape.services/viewer/assets/5ca5a2c6f6b463ab92a051ae/details","https://viewer.us-3.sharpershape.services/viewer/issues/5ecf8c9534b60c00015ec0b6/details","high","W12153302N3952534 WYANDOTTE 1105","[Other, CoastalLiveOak, Eucalyptus/BlueGum]","Other"]
[528,"NORTHERN","NORTH VALLEY","Tier 2-3","102911105 Tier 2-3",102911105,"WYANDOTTE 1105",15,39.528869999999898,-121.53404,null,35.799999999999997,"W12153404N3952887",8.4,2.7,"NO","W12153422N3952882","W12153363N3952882","W12153363N3952882-W12153422N3952882",102911105,"WYANDOTTE 1105",null,"2019-11-20T17:46:46",null,null,"Not assessed","https://viewer.us-3.sharpershape.services/viewer/assets/5ca5a2c6f6b46376c8a04f8b/details","https://viewer.us-3.sharpershape.services/viewer/issues/5ecf8c9534b60c00015ec0db/details","high","W12153404N3952887 WYANDOTTE 1105","[CoastalLiveOak, Other, MontereyPine]","CoastalLiveOak"]
[529,"NORTHERN","NORTH VALLEY","Tier 2-3","102911105 Tier 2-3",102911105,"WYANDOTTE 1105",54.3,39.53481,-121.542,null,51.2,"W12154200N3953481",38.6,6.2,"NO","W12154214N3953455","W12154230N3953520","W12154230N3953520-W12154214N3953455",102911105,"WYANDOTTE 1105",null,"2019-11-20T17:46:46",null,null,"Not assessed","https://viewer.us-3.sharpershape.services/viewer/assets/5ca5a2c6f6b4638e61a05162/details","https://viewer.us-3.sharpershape.services/viewer/issues/5ecf8c9534b60c00015ec0ae/details","high","W12154200N3953481 WYANDOTTE 1105","[DouglasFir, Other, LiveOak]","DouglasFir"]
[530,"NORTHERN","NORTH VALLEY","Tier 2-3","102911105 Tier 2-3",102911105,"WYANDOTTE 1105",73.400000000000006,39.537819999999897,-121.54223,null,80.299999999999898,"W12154223N3953782",54.2,-4.8,"YES","W12154252N3953857","W12154250N3953758","W12154250N3953758-W12154252N3953857",102911105,"WYANDOTTE 1105",null,"2019-11-20T17:46:46",null,null,"Not assessed","https://viewer.us-3.sharpershape.services/viewer/assets/5ca5a2c6f6b463b67da04e4c/details","https://viewer.us-3.sharpershape.services/viewer/issues/5ecf8c97a03e660001310a4a/details","high","W12154223N3953782 WYANDOTTE 1105","[GrayPine, DouglasFir, Eucalyptus/BlueGum]","GrayPine"]
[531,"NORTHERN","NORTH VALLEY","Tier 2-3","102911105 Tier 2-3",102911105,"WYANDOTTE 1105",25.1,39.529150000000001,-121.51939,null,37.399999999999899,"W12151939N3952915",20.3,8.3000000000000007,"NO","W12151936N3952926","W12152014N3952914","W12152014N3952914-W12151936N3952926",102911105,"WYANDOTTE 1105",null,"2019-11-20T17:46:46",null,null,"Not assessed","https://viewer.us-3.sharpershape.services/viewer/assets/5ca5a2c6f6b4634b73a04f6f/details","https://viewer.us-3.sharpershape.services/viewer/issues/5ecf8c96a03e6600013109f6/details","high","W12151939N3952915 WYANDOTTE 1105","[CoastalLiveOak, GrayPine, MontereyPine]","CoastalLiveOak"]
[532,"NORTHERN","NORTH VALLEY","Tier 2-3","102911105 Tier 2-3",102911105,"WYANDOTTE 1105",16.8,39.529579999999903,-121.524749999999,null,48.399999999999899,"W12152475N3952958",8.4,-6.8,"YES","W12152414N3952959","W12152508N3952949","W12152508N3952949-W12152414N3952959",102911105,"WYANDOTTE 1105",null,"2019-11-20T17:46:46","OH",null,"Not assessed","https://viewer.us-3.sharpershape.services/viewer/assets/5ca5a2c6f6b4633d64a04cf9/details","https://viewer.us-3.sharpershape.services/viewer/issues/5ee2b4c3a03e66000146e460/details","high","W12152475N3952958 WYANDOTTE 1105","[GrayPine, TanOak, DouglasFir]","GrayPine"]
[533,"NORTHERN","NORTH VALLEY","Tier 2-3","102911105 Tier 2-3",102911105,"WYANDOTTE 1105",36.1,39.524729999999899,-121.537149999999,null,45.6,"W12153715N3952473",22.6999999999999,8,"NO","W12153682N3952487","W12153716N3952455","W12153716N3952455-W12153682N3952487",102911105,"WYANDOTTE 1105",null,"2019-11-20T17:46:46",null,null,"Not assessed","https://viewer.us-3.sharpershape.services/viewer/assets/5ca5a2c6f6b4630bb0a049ec/details","https://viewer.us-3.sharpershape.services/viewer/issues/5ecf8c9834b60c00015ec263/details","high","W12153715N3952473 WYANDOTTE 1105","[DouglasFir, CoastalLiveOak, MontereyPine]","DouglasFir"]
[534,"NORTHERN","NORTH VALLEY","Tier 2-3","102911105 Tier 2-3",102911105,"WYANDOTTE 1105",39.200000000000003,39.673380000000002,-121.49683,null,76.2,"W12149683N3967338",31,-8.6999999999999993,"YES","W12149658N3967347","W12149755N3967217","W12149755N3967217-W12149658N3967347",0,"WYANDOTTE 1105",null,"2019-11-20T17:46:46",null,null,"Not assessed","https://viewer.us-3.sharpershape.services/viewer/assets/5ca5a2c6f6b463d89ea04e5a/details","https://viewer.us-3.sharpershape.services/viewer/issues/5ecf8c9834b60c00015ec2d6/details","high","W12149683N3967338 WYANDOTTE 1105","[MontereyPine, DouglasFir, Other]","MontereyPine"]
[535,"NORTHERN","NORTH VALLEY","Tier 2-3","102911105 Tier 2-3",102911105,"WYANDOTTE 1105",33.799999999999898,39.530529999999899,-121.53596,null,28.9,"W12153596N3953053",10.9,9.5,"NO","W12153538N3953063","W12153655N3953063","W12153655N3953063-W12153538N3953063",102911105,"WYANDOTTE 1105",null,"2019-11-20T17:46:46",null,null,"Not assessed","https://viewer.us-3.sharpershape.services/viewer/assets/5ca5a2c6f6b4638037a04ab3/details","https://viewer.us-3.sharpershape.services/viewer/issues/5ecf8c95a03e660001310931/details","high","W12153596N3953053 WYANDOTTE 1105","[GrayPine, DouglasFir, Eucalyptus/BlueGum]","GrayPine"]
[536,"NORTHERN","NORTH VALLEY","Tier 0-1","102911105 Tier 0-1",102911105,"WYANDOTTE 1105",16,39.523260000000001,-121.512059999999,null,41.2,"W12151206N3952326",7.6,5.6,"NO","W12151282N3952292","W12151196N3952324","W12151196N3952324-W12151282N3952292",102911105,"WYANDOTTE 1105",null,"2019-11-20T17:46:46",null,null,"Not assessed","https://viewer.us-3.sharpershape.services/viewer/assets/5ca5a2c6f6b463e9a0a04bb9/details","https://viewer.us-3.sharpershape.services/viewer/issues/5ecf8c98a03e660001310ba5/details","high","W12151206N3952326 WYANDOTTE 1105","[LiveOak, DouglasFir, GrayPine]","LiveOak"]
[537,"NORTHERN","NORTH VALLEY","Tier 2-3","102911105 Tier 2-3",102911105,"WYANDOTTE 1105",25.1999999999999,39.534659999999903,-121.542059999999,null,35.1,"W12154206N3953466",12,1.3,"NO","W12154214N3953455","W12154230N3953520","W12154230N3953520-W12154214N3953455",102911105,"WYANDOTTE 1105",null,"2019-11-20T17:46:46",null,null,"Not assessed","https://viewer.us-3.sharpershape.services/viewer/assets/5ca5a2c6f6b4638e61a05162/details","https://viewer.us-3.sharpershape.services/viewer/issues/5ecf8c9534b60c00015ec0b1/details","high","W12154206N3953466 WYANDOTTE 1105","[DouglasFir, Other, LiveOak]","DouglasFir"]
[538,"NORTHERN","NORTH VALLEY","Tier 2-3","102911105 Tier 2-3",102911105,"WYANDOTTE 1105",11.6,39.530209999999897,-121.53201,null,33.799999999999898,"W12153201N3953021",4.8,1.6,"NO","W12153206N3953048","W12153206N3953018","W12153206N3953018-W12153206N3953048",102911105,"WYANDOTTE 1105",null,"2019-11-20T17:46:46",null,null,"Not assessed","https://viewer.us-3.sharpershape.services/viewer/assets/5ca5a2c6f6b463534ca04e23/details","https://viewer.us-3.sharpershape.services/viewer/issues/5ecf8c94a03e6600013108d9/details","high","W12153201N3953021 WYANDOTTE 1105","[DouglasFir, LiveOak, Other]","DouglasFir"]
[539,"NORTHERN","NORTH VALLEY","Tier 2-3","102911105 Tier 2-3",102911105,"WYANDOTTE 1105",36.899999999999899,39.652259999999899,-121.507139999999,null,43.5,"W12150714N3965226",20.3,7.5,"NO","W12150742N3965186","W12150660N3965474","W12150660N3965474-W12150742N3965186",102911105,"WYANDOTTE 1105",null,"2019-11-20T17:46:46",null,null,"Not assessed","https://viewer.us-3.sharpershape.services/viewer/assets/5d88b9de6476d776cb5dd20b/details","https://viewer.us-3.sharpershape.services/viewer/issues/5ecf8c9a34b60c00015ec3c7/details","high","W12150714N3965226 WYANDOTTE 1105","[Eucalyptus/BlueGum, DouglasFir, GrayPine]","Eucalyptus/BlueGum"]
[540,"NORTHERN","NORTH VALLEY","Tier 2-3","102911105 Tier 2-3",102911105,"WYANDOTTE 1105",5,39.522149999999897,-121.538049999999,null,27.6999999999999,"W12153805N3952215",11.2,16.1999999999999,"NO","W12153791N3952249","W12153812N3952205","W12153812N3952205-W12153791N3952249",102911105,"WYANDOTTE 1105",null,"2019-11-20T17:46:46",null,null,"Not assessed","https://viewer.us-3.sharpershape.services/viewer/assets/5ca5a2c6f6b46356cda04a7c/details","https://viewer.us-3.sharpershape.services/viewer/issues/5ecf9569a03e660001311fea/details","high","W12153805N3952215 WYANDOTTE 1105","[Other, DouglasFir, GrayPine]","Other"]
[541,"NORTHERN","NORTH VALLEY","Tier 2-3","102911105 Tier 2-3",102911105,"WYANDOTTE 1105",22.5,39.532759999999897,-121.534109999999,null,61.899999999999899,"W12153411N3953276",5.7,-23.3,"YES","W12153419N3953235","W12153421N3953300","W12153421N3953300-W12153419N3953235",102911105,"WYANDOTTE 1105",null,"2019-11-20T17:46:46",null,null,"Not assessed","https://viewer.us-3.sharpershape.services/viewer/assets/5ca5a2c6f6b4635c05a05132/details","https://viewer.us-3.sharpershape.services/viewer/issues/5ee2b42f34b60c0001746b68/details","high","W12153411N3953276 WYANDOTTE 1105","[MontereyPine, CoastalLiveOak, Other]","MontereyPine"]
[542,"NORTHERN","NORTH VALLEY","Tier 2-3","102911105 Tier 2-3",102911105,"WYANDOTTE 1105",66.2,39.530650000000001,-121.51918000000001,null,86,"W12151918N3953065",52.1,-16.1999999999999,"YES","W12151923N3953089","W12152005N3953021","W12152005N3953021-W12151923N3953089",102911105,"WYANDOTTE 1105",null,"2019-11-20T17:46:46",null,null,"Not assessed","https://viewer.us-3.sharpershape.services/viewer/assets/5ca5a2c6f6b46307baa0515f/details","https://viewer.us-3.sharpershape.services/viewer/issues/5ecf8c93a03e6600013108cb/details","high","W12151918N3953065 WYANDOTTE 1105","[GrayPine, Other, DouglasFir]","GrayPine"]
[543,"NORTHERN","NORTH VALLEY","Tier 2-3","102911105 Tier 2-3",102911105,"WYANDOTTE 1105",76.299999999999898,39.532219999999903,-121.538619999999,null,79,"W12153862N3953222",64.799999999999898,-2.2000000000000002,"YES","W12153905N3953243","W12153810N3953244","W12153810N3953244-W12153905N3953243",102911105,"WYANDOTTE 1105",null,"2019-11-20T17:46:46",null,null,"Not assessed","https://viewer.us-3.sharpershape.services/viewer/assets/5ca5a2c6f6b46300cca04f1d/details","https://viewer.us-3.sharpershape.services/viewer/issues/5ecf8c93a03e6600013108aa/details","high","W12153862N3953222 WYANDOTTE 1105","[Eucalyptus/BlueGum, DouglasFir, MontereyPine]","Eucalyptus/BlueGum"]
[544,"NORTHERN","NORTH VALLEY","Tier 2-3","102911105 Tier 2-3",102911105,"WYANDOTTE 1105",7.1,39.525509999999898,-121.53735,null,27,"W12153735N3952551",6.2,3.6,"NO","W12153742N3952569","W12153709N3952512","W12153709N3952512-W12153742N3952569",102911105,"WYANDOTTE 1105",null,"2019-11-20T17:46:46",null,null,"Not assessed","https://viewer.us-3.sharpershape.services/viewer/assets/5ca5a2c6f6b4633f70a04d23/details","https://viewer.us-3.sharpershape.services/viewer/issues/5ecf8c9234b60c00015ebff3/details","high","W12153735N3952551 WYANDOTTE 1105","[GrayPine, Other, DouglasFir]","GrayPine"]
[545,"NORTHERN","NORTH VALLEY","Tier 0-1","102911105 Tier 0-1",102911105,"WYANDOTTE 1105",21.8,39.52384,-121.515129999999,null,28.1,"W12151513N3952384",11,23,"NO","W12151549N3952385","W12151473N3952396","W12151473N3952396-W12151549N3952385",102911105,"WYANDOTTE 1105",null,"2019-11-20T17:46:46",null,null,"Not assessed","https://viewer.us-3.sharpershape.services/viewer/assets/5ca5a2c6f6b46317dfa04ac8/details","https://viewer.us-3.sharpershape.services/viewer/issues/5ecf953e34b60c00015ed6d0/details","high","W12151513N3952384 WYANDOTTE 1105","[GrayPine, DouglasFir, Other]","GrayPine"]
[546,"NORTHERN","NORTH VALLEY","Tier 2-3","102911105 Tier 2-3",102911105,"WYANDOTTE 1105",27.8,39.523689999999903,-121.537639999999,null,47.2,"W12153764N3952369",8.8000000000000007,2.6,"NO","W12153761N3952311","W12153751N3952386","W12153751N3952386-W12153761N3952311",102911105,"WYANDOTTE 1105",null,"2019-11-20T17:46:46",null,null,"Not assessed","https://viewer.us-3.sharpershape.services/viewer/assets/5ca5a2c6f6b46364c0a0520a/details","https://viewer.us-3.sharpershape.services/viewer/issues/5ecf8c96a03e660001310a0e/details","high","W12153764N3952369 WYANDOTTE 1105","[GrayPine, TanOak, LiveOak]","GrayPine"]
[547,"NORTHERN","NORTH VALLEY","Tier 2-3","102911105 Tier 2-3",102911105,"WYANDOTTE 1105",19.1999999999999,39.532379999999897,-121.53897000000001,null,32.1,"W12153897N3953238",8.5,2.7,"NO","W12153905N3953243","W12153810N3953244","W12153810N3953244-W12153905N3953243",102911105,"WYANDOTTE 1105",null,"2019-11-20T17:46:46",null,null,"Not assessed","https://viewer.us-3.sharpershape.services/viewer/assets/5ca5a2c6f6b46300cca04f1d/details","https://viewer.us-3.sharpershape.services/viewer/issues/5ecf8c93a03e6600013108ab/details","high","W12153897N3953238 WYANDOTTE 1105","[Other, CoastalLiveOak, DouglasFir]","Other"]
[548,"NORTHERN","NORTH VALLEY","Tier 2-3","102911105 Tier 2-3",102911105,"WYANDOTTE 1105",17.1999999999999,39.53819,-121.542439999999,null,43.8,"W12154244N3953819",9.6,-24.3,"YES","W12154252N3953857","W12154250N3953758","W12154250N3953758-W12154252N3953857",102911105,"WYANDOTTE 1105",null,"2019-11-20T17:46:46",null,null,"Not assessed","https://viewer.us-3.sharpershape.services/viewer/assets/5ca5a2c6f6b463b67da04e4c/details","https://viewer.us-3.sharpershape.services/viewer/issues/5ecf8c97a03e660001310a49/details","high","W12154244N3953819 WYANDOTTE 1105","[CoastalLiveOak, DouglasFir, Eucalyptus/BlueGum]","CoastalLiveOak"]
[549,"NORTHERN","NORTH VALLEY","Tier 2-3","102911105 Tier 2-3",102911105,"WYANDOTTE 1105",14.2,39.53772,-121.542439999999,null,12.8,"W12154244N3953772",12,9.6,"NO","W12154252N3953857","W12154250N3953758","W12154250N3953758-W12154252N3953857",102911105,"WYANDOTTE 1105",null,"2019-11-20T17:46:46",null,null,"Not assessed","https://viewer.us-3.sharpershape.services/viewer/assets/5ca5a2c6f6b463b67da04e4c/details","https://viewer.us-3.sharpershape.services/viewer/issues/5ecf8c97a03e660001310a38/details","high","W12154244N3953772 WYANDOTTE 1105"]
[550,"NORTHERN","NORTH VALLEY","Tier 2-3","102911105 Tier 2-3",102911105,"WYANDOTTE 1105",12.6,39.524769999999897,-121.51464,null,36.5,"W12151464N3952477",6.2,0.7,"NO","W12151459N3952471","W12151461N3952559","W12151461N3952559-W12151459N3952471",102911105,"WYANDOTTE 1105",null,"2019-11-20T17:46:46",null,null,"Not assessed","https://viewer.us-3.sharpershape.services/viewer/assets/5d8b1e506476d7eadd5dd3a0/details","https://viewer.us-3.sharpershape.services/viewer/issues/5ecf8c9934b60c00015ec368/details","high","W12151464N3952477 WYANDOTTE 1105","[Eucalyptus/BlueGum, DouglasFir, Other]","Eucalyptus/BlueGum"]
[551,"NORTHERN","NORTH VALLEY","Tier 0-1","102911105 Tier 0-1",102911105,"WYANDOTTE 1105",27.4,39.524119999999897,-121.53636,null,33.700000000000003,"W12153636N3952412",9.8000000000000007,9.6999999999999993,"NO","W12153639N3952420","W12153708N3952399","W12153708N3952399-W12153639N3952420",102911105,"WYANDOTTE 1105",null,"2019-11-20T17:46:46",null,null,"Not assessed","https://viewer.us-3.sharpershape.services/viewer/assets/5ca5a2c6f6b4632769a05060/details","https://viewer.us-3.sharpershape.services/viewer/issues/5ecf8c99a03e660001310c2d/details","high","W12153636N3952412 WYANDOTTE 1105","[LiveOak, GrayPine, DouglasFir]","LiveOak"]
[552,"NORTHERN","NORTH VALLEY","Tier 2-3","102911105 Tier 2-3",102911105,"WYANDOTTE 1105",38.899999999999899,39.529779999999903,-121.51990000000001,null,65.7,"W12151990N3952978",24.1999999999999,-11.7,"YES","W12151936N3952926","W12152005N3953021","W12152005N3953021-W12151936N3952926",102911105,"WYANDOTTE 1105",null,"2019-11-20T17:46:46",null,null,"Not assessed","https://viewer.us-3.sharpershape.services/viewer/assets/5ca5a2c6f6b463d94da04bdf/details","https://viewer.us-3.sharpershape.services/viewer/issues/5ecf8c9834b60c00015ec2c2/details","high","W12151990N3952978 WYANDOTTE 1105","[GrayPine, Other, DouglasFir]","GrayPine"]
[553,"NORTHERN","NORTH VALLEY","Tier 2-3","102911105 Tier 2-3",102911105,"WYANDOTTE 1105",44.8,39.530500000000004,-121.5367,null,45.2,"W12153670N3953050",29.5,7.5,"NO","W12153771N3953063","W12153655N3953063","W12153655N3953063-W12153771N3953063",102911105,"WYANDOTTE 1105",null,"2019-11-20T17:46:46",null,null,"Not assessed","https://viewer.us-3.sharpershape.services/viewer/assets/5ca5a2c6f6b4639bcca05130/details","https://viewer.us-3.sharpershape.services/viewer/issues/5ecf8c91a03e66000131081c/details","high","W12153670N3953050 WYANDOTTE 1105","[CoastalLiveOak, DouglasFir, Eucalyptus/BlueGum]","CoastalLiveOak"]
[554,"NORTHERN","NORTH VALLEY","Tier 0-1","102911105 Tier 0-1",102911105,"WYANDOTTE 1105",13.2,39.52299,-121.5125,null,112,"W12151250N3952299",4,-83.9,"YES","W12151282N3952292","W12151196N3952324","W12151196N3952324-W12151282N3952292",102911105,"WYANDOTTE 1105",null,"2019-11-20T17:46:46","OH",null,"Not assessed","https://viewer.us-3.sharpershape.services/viewer/assets/5ca5a2c6f6b463e9a0a04bb9/details","https://viewer.us-3.sharpershape.services/viewer/issues/5ecf8c98a03e660001310b97/details","high","W12151250N3952299 WYANDOTTE 1105","[DouglasFir, Other, CoastalLiveOak]","DouglasFir"]
[555,"NORTHERN","NORTH VALLEY","Tier 2-3","102911105 Tier 2-3",102911105,"WYANDOTTE 1105",25.4,39.529719999999898,-121.523709999999,null,54.8,"W12152371N3952972",9.9,-9.6,"YES","W12152351N3952966","W12152414N3952959","W12152414N3952959-W12152351N3952966",102911105,"WYANDOTTE 1105",null,"2019-11-20T17:46:46",null,null,"Not assessed","https://viewer.us-3.sharpershape.services/viewer/assets/5ca5a2c6f6b463d8dea04db3/details","https://viewer.us-3.sharpershape.services/viewer/issues/5ee2b4c2a03e66000146e446/details","high","W12152371N3952972 WYANDOTTE 1105","[GrayPine, Other, DouglasFir]","GrayPine"]
[556,"NORTHERN","NORTH VALLEY","Tier 0-1","102911105 Tier 0-1",102911105,"WYANDOTTE 1105",50,39.525489999999898,-121.533969999999,null,63.5,"W12153397N3952549",34.899999999999899,-5.4,"YES","W12153390N3952564","W12153462N3952554","W12153462N3952554-W12153390N3952564",102911105,"WYANDOTTE 1105",null,"2019-11-20T17:46:46",null,null,"Not assessed","https://viewer.us-3.sharpershape.services/viewer/assets/5ca5a2c6f6b463cfd6a04cce/details","https://viewer.us-3.sharpershape.services/viewer/issues/5ecf8c9834b60c00015ec271/details","high","W12153397N3952549 WYANDOTTE 1105","[DouglasFir, CoastalLiveOak, GrayPine]","DouglasFir"]
[557,"NORTHERN","NORTH VALLEY","Tier 2-3","102911105 Tier 2-3",102911105,"WYANDOTTE 1105",15.7,39.529779999999903,-121.530649999999,null,39.1,"W12153065N3952978",7.9,1.1000000000000001,"NO","W12152988N3952972","W12153068N3952972","W12153068N3952972-W12152988N3952972",102911105,"WYANDOTTE 1105",null,"2019-11-20T17:46:46",null,null,"Not assessed","https://viewer.us-3.sharpershape.services/viewer/assets/5d89b6cc55dd6b81633f2eff/details","https://viewer.us-3.sharpershape.services/viewer/issues/5ecf8c9934b60c00015ec340/details","high","W12153065N3952978 WYANDOTTE 1105","[CoastalLiveOak, DouglasFir, Eucalyptus/BlueGum]","CoastalLiveOak"]
[558,"NORTHERN","NORTH VALLEY","Tier 2-3","102911105 Tier 2-3",102911105,"WYANDOTTE 1105",19,39.541379999999897,-121.54222,null,17.100000000000001,"W12154222N3954138",6.6,2.5,"NO","W12154206N3954186","W12154249N3954102","W12154249N3954102-W12154206N3954186",102911105,"WYANDOTTE 1105",null,"2019-11-20T17:46:46",null,null,"Not assessed","https://viewer.us-3.sharpershape.services/viewer/assets/5ca5a2c6f6b4631d52a04cea/details","https://viewer.us-3.sharpershape.services/viewer/issues/5ecf8c98a03e660001310bf1/details","high","W12154222N3954138 WYANDOTTE 1105"]
[559,"NORTHERN","NORTH VALLEY","Tier 2-3","102911105 Tier 2-3",102911105,"WYANDOTTE 1105",12.6,39.530009999999898,-121.52217,null,27.5,"W12152217N3953001",6.3,3.8,"NO","W12152284N3952992","W12152184N3953012","W12152184N3953012-W12152284N3952992",102911105,"WYANDOTTE 1105",null,"2019-11-20T17:46:46",null,null,"Not assessed","https://viewer.us-3.sharpershape.services/viewer/assets/5ca5a2c6f6b4639636a0497c/details","https://viewer.us-3.sharpershape.services/viewer/issues/5ee2b4c2a03e66000146e456/details","high","W12152217N3953001 WYANDOTTE 1105","[MontereyPine, DouglasFir, CoastalLiveOak]","MontereyPine"]
[560,"NORTHERN","NORTH VALLEY","Tier 2-3","102911105 Tier 2-3",102911105,"WYANDOTTE 1105",53.2,39.528469999999899,-121.52692,null,69.5,"W12152692N3952847",33.899999999999899,-12,"YES","W12152680N3952875","W12152750N3952825","W12152750N3952825-W12152680N3952875",102911105,"WYANDOTTE 1105",null,"2019-11-20T17:46:46",null,null,"Not assessed","https://viewer.us-3.sharpershape.services/viewer/assets/5ca5a2c6f6b46337c2a04be5/details","https://viewer.us-3.sharpershape.services/viewer/issues/5ecf8c9634b60c00015ec0f2/details","high","W12152692N3952847 WYANDOTTE 1105"]
[561,"NORTHERN","NORTH VALLEY","Tier 2-3","102911105 Tier 2-3",102911105,"WYANDOTTE 1105",37.399999999999899,39.5321199999999,-121.54071,null,57.6,"W12154071N3953212",21,-12,"YES","W12154086N3953214","W12154084N3953131","W12154084N3953131-W12154086N3953214",102911105,"WYANDOTTE 1105",null,"2019-11-20T17:46:46",null,null,"Not assessed","https://viewer.us-3.sharpershape.services/viewer/assets/5ca5a2c6f6b4630944a04ef1/details","https://viewer.us-3.sharpershape.services/viewer/issues/5ecf8c98a03e660001310b6c/details","high","W12154071N3953212 WYANDOTTE 1105","[GrayPine, DouglasFir, Other]","GrayPine"]
[562,"NORTHERN","NORTH VALLEY","Tier 0-1","102911105 Tier 0-1",102911105,"WYANDOTTE 1105",34.5,39.524529999999899,-121.52151000000001,null,52.3,"W12152151N3952453",6.2,-6.6,"YES","W12152121N3952468","W12152223N3952454","W12152223N3952454-W12152121N3952468",102911105,"WYANDOTTE 1105",null,"2019-11-20T17:46:46",null,null,"Not assessed","https://viewer.us-3.sharpershape.services/viewer/assets/5ca5a2c6f6b4634c98a0504c/details","https://viewer.us-3.sharpershape.services/viewer/issues/5ecf8c9634b60c00015ec147/details","high","W12152151N3952453 WYANDOTTE 1105","[MontereyPine, CoastalLiveOak, DouglasFir]","MontereyPine"]
[563,"NORTHERN","NORTH VALLEY","Tier 2-3","102911105 Tier 2-3",102911105,"WYANDOTTE 1105",43.8,39.5283599999999,-121.52758,null,46,"W12152758N3952836",9.6,21.6,"NO","W12152680N3952875","W12152750N3952825","W12152750N3952825-W12152680N3952875",102911105,"WYANDOTTE 1105",null,"2019-11-20T17:46:46",null,null,"Not assessed","https://viewer.us-3.sharpershape.services/viewer/assets/5ca5a2c6f6b46337c2a04be5/details","https://viewer.us-3.sharpershape.services/viewer/issues/5ecf9545a03e660001311ee0/details","high","W12152758N3952836 WYANDOTTE 1105","[Other, MontereyPine, DouglasFir]","Other"]
[564,"NORTHERN","NORTH VALLEY","Tier 2-3","102911105 Tier 2-3",102911105,"WYANDOTTE 1105",27.3,39.525889999999897,-121.537649999999,null,72.599999999999994,"W12153765N3952589",8.9,-28.1999999999999,"YES","W12153742N3952569","W12153767N3952612","W12153767N3952612-W12153742N3952569",102911105,"WYANDOTTE 1105",null,"2019-11-20T17:46:46",null,null,"Not assessed","https://viewer.us-3.sharpershape.services/viewer/assets/5e1b0881942b992c9e7b02ef/details","https://viewer.us-3.sharpershape.services/viewer/issues/5ecf8c9934b60c00015ec3a3/details","high","W12153765N3952589 WYANDOTTE 1105","[DouglasFir, GrayPine, Other]","DouglasFir"]
[565,"NORTHERN","NORTH VALLEY","Tier 2-3","102911105 Tier 2-3",102911105,"WYANDOTTE 1105",9.9,39.529620000000001,-121.524209999999,null,35.899999999999899,"W12152421N3952962",9.8000000000000007,7,"NO","W12152414N3952959","W12152508N3952949","W12152508N3952949-W12152414N3952959",102911105,"WYANDOTTE 1105",null,"2019-11-20T17:46:46",null,null,"Not assessed","https://viewer.us-3.sharpershape.services/viewer/assets/5ca5a2c6f6b4633d64a04cf9/details","https://viewer.us-3.sharpershape.services/viewer/issues/5ee2b4c3a03e66000146e464/details","high","W12152421N3952962 WYANDOTTE 1105","[Other, MontereyPine, DouglasFir]","Other"]
[566,"NORTHERN","NORTH VALLEY","Tier 2-3","102911105 Tier 2-3",102911105,"WYANDOTTE 1105",13.2,39.52872,-121.53211,null,28.6,"W12153211N3952872",7.7,2.2999999999999998,"NO","W12153206N3952881","W12153205N3952846","W12153205N3952846-W12153206N3952881",102911105,"WYANDOTTE 1105",null,"2019-11-20T17:46:46",null,null,"Not assessed","https://viewer.us-3.sharpershape.services/viewer/assets/5ca5a2c6f6b4635559a050c2/details","https://viewer.us-3.sharpershape.services/viewer/issues/5ecf8c96a03e6600013109a7/details","high","W12153211N3952872 WYANDOTTE 1105","[DouglasFir, Other, Eucalyptus/BlueGum]","DouglasFir"]
[567,"NORTHERN","NORTH VALLEY","Tier 2-3","102911105 Tier 2-3",102911105,"WYANDOTTE 1105",30.1,39.532979999999903,-121.540649999999,null,40.799999999999997,"W12154065N3953298",14.5,5.0999999999999996,"NO","W12154073N3953285","W12154087N3953327","W12154087N3953327-W12154073N3953285",102911105,"WYANDOTTE 1105",null,"2019-11-20T17:46:46",null,null,"Not assessed","https://viewer.us-3.sharpershape.services/viewer/assets/5ca5a2c6f6b463f395a04ceb/details","https://viewer.us-3.sharpershape.services/viewer/issues/5ecf8c97a03e660001310aac/details","high","W12154065N3953298 WYANDOTTE 1105","[DouglasFir, GrayPine, Eucalyptus/BlueGum]","DouglasFir"]
[568,"NORTHERN","NORTH VALLEY","Tier 2-3","102911105 Tier 2-3",102911105,"WYANDOTTE 1105",38.799999999999997,39.536200000000001,-121.5424,null,78.2,"W12154240N3953620",24,-39,"YES","W12154253N3953660","W12154256N3953592","W12154256N3953592-W12154253N3953660",102911105,"WYANDOTTE 1105",null,"2019-11-20T17:46:46",null,null,"Not assessed","https://viewer.us-3.sharpershape.services/viewer/assets/5ca5a2c6f6b4630e63a05050/details","https://viewer.us-3.sharpershape.services/viewer/issues/5ecf8c9834b60c00015ec253/details","high","W12154240N3953620 WYANDOTTE 1105","[DouglasFir, Other, CoastalLiveOak]","DouglasFir"]
[569,"NORTHERN","NORTH VALLEY","Tier 0-1","102911105 Tier 0-1",102911105,"WYANDOTTE 1105",44.899999999999899,39.52581,-121.5352,null,61.8,"W12153520N3952581",8.8000000000000007,-7.4,"YES","W12153537N3952537","W12153537N3952598","W12153537N3952598-W12153537N3952537",102911105,"WYANDOTTE 1105",null,"2019-11-20T17:46:46",null,null,"Not assessed","https://viewer.us-3.sharpershape.services/viewer/assets/5ca5a2c6f6b4634b85a04d18/details","https://viewer.us-3.sharpershape.services/viewer/issues/5ecf8c97a03e660001310b04/details","high","W12153520N3952581 WYANDOTTE 1105","[Eucalyptus/BlueGum, Other, DouglasFir]","Eucalyptus/BlueGum"]
[570,"NORTHERN","NORTH VALLEY","Tier 2-3","102911105 Tier 2-3",102911105,"WYANDOTTE 1105",20.100000000000001,39.541539999999898,-121.54213,null,34.799999999999997,"W12154213N3954154",10.5,-10.7,"YES","W12154206N3954186","W12154249N3954102","W12154249N3954102-W12154206N3954186",102911105,"WYANDOTTE 1105",null,"2019-11-20T17:46:46",null,null,"Not assessed","https://viewer.us-3.sharpershape.services/viewer/assets/5ca5a2c6f6b4631d52a04cea/details","https://viewer.us-3.sharpershape.services/viewer/issues/5ecf8c98a03e660001310bf2/details","high","W12154213N3954154 WYANDOTTE 1105","[DouglasFir, CoastalLiveOak, Eucalyptus/BlueGum]","DouglasFir"]
[571,"NORTHERN","NORTH VALLEY","Tier 2-3","102911105 Tier 2-3",102911105,"WYANDOTTE 1105",15.9,39.532489999999903,-121.53807999999999,null,30.1999999999999,"W12153808N3953249",12,7.7,"NO","W12153905N3953243","W12153810N3953244","W12153810N3953244-W12153905N3953243",102911105,"WYANDOTTE 1105",null,"2019-11-20T17:46:46",null,null,"Not assessed","https://viewer.us-3.sharpershape.services/viewer/assets/5ca5a2c6f6b46300cca04f1d/details","https://viewer.us-3.sharpershape.services/viewer/issues/5ecf8c93a03e6600013108a5/details","high","W12153808N3953249 WYANDOTTE 1105","[DouglasFir, MontereyPine, CoastalLiveOak]","DouglasFir"]
[572,"NORTHERN","NORTH VALLEY","Tier 2-3","102911105 Tier 2-3",102911105,"WYANDOTTE 1105",18.5,39.532069999999898,-121.52598,null,34,"W12152598N3953207",8.4,2.2999999999999998,"NO","W12152606N3953202","W12152605N3953235","W12152605N3953235-W12152606N3953202",102911105,"WYANDOTTE 1105",null,"2019-11-20T17:46:46",null,null,"Not assessed","https://viewer.us-3.sharpershape.services/viewer/assets/5ca5a2c6f6b4631991a04dcc/details","https://viewer.us-3.sharpershape.services/viewer/issues/5ecfe7bca03e660001334099/details","high","W12152598N3953207 WYANDOTTE 1105","[CoastalLiveOak, Other, DouglasFir]","CoastalLiveOak"]
[573,"NORTHERN","NORTH VALLEY","Tier 2-3","102911105 Tier 2-3",102911105,"WYANDOTTE 1105",38.5,39.530369999999898,-121.532759999999,null,72.299999999999898,"W12153276N3953037",6.3,-23.1,"YES","W12153323N3953048","W12153269N3953048","W12153269N3953048-W12153323N3953048",102911105,"WYANDOTTE 1105",null,"2019-11-20T17:46:46",null,null,"Not assessed","https://viewer.us-3.sharpershape.services/viewer/assets/5ca5a2c6f6b4636013a051bf/details","https://viewer.us-3.sharpershape.services/viewer/issues/5ecf8c9834b60c00015ec284/details","high","W12153276N3953037 WYANDOTTE 1105","[DouglasFir, GrayPine, LiveOak]","DouglasFir"]
[574,"NORTHERN","NORTH VALLEY","Tier 2-3","102911105 Tier 2-3",102911105,"WYANDOTTE 1105",19.5,39.530229999999897,-121.520679999999,null,37.6,"W12152068N3953023",6.1,2.2000000000000002,"NO","W12152091N3953014","W12152005N3953021","W12152005N3953021-W12152091N3953014",102911105,"WYANDOTTE 1105",null,"2019-11-20T17:46:46",null,null,"Not assessed","https://viewer.us-3.sharpershape.services/viewer/assets/5ca5a2c6f6b4637ff5a04e47/details","https://viewer.us-3.sharpershape.services/viewer/issues/5ecf8c9534b60c00015ec076/details","high","W12152068N3953023 WYANDOTTE 1105","[CoastalLiveOak, DouglasFir, Other]","CoastalLiveOak"]
[575,"NORTHERN","NORTH VALLEY","Tier 2-3","102911105 Tier 2-3",102911105,"WYANDOTTE 1105",38.299999999999997,39.524900000000002,-121.51474,null,31.9,"W12151474N3952490",8.6999999999999993,20.6999999999999,"NO","W12151459N3952471","W12151461N3952559","W12151461N3952559-W12151459N3952471",102911105,"WYANDOTTE 1105",null,"2019-11-20T17:46:46",null,null,"Not assessed","https://viewer.us-3.sharpershape.services/viewer/assets/5d8b1e506476d7eadd5dd3a0/details","https://viewer.us-3.sharpershape.services/viewer/issues/5ecf957ea03e66000131209a/details","high","W12151474N3952490 WYANDOTTE 1105"]
[576,"NORTHERN","NORTH VALLEY","Tier 0-1","102911105 Tier 0-1",102911105,"WYANDOTTE 1105",0.3,39.524629999999902,-121.521549999999,null,24.4,"W12152155N3952463",7.3,8.4,"NO","W12152121N3952468","W12152223N3952454","W12152223N3952454-W12152121N3952468",102911105,"WYANDOTTE 1105",null,"2019-11-20T17:46:46",null,null,"Not assessed","https://viewer.us-3.sharpershape.services/viewer/assets/5ca5a2c6f6b4634c98a0504c/details","https://viewer.us-3.sharpershape.services/viewer/issues/5ecf8c9634b60c00015ec14a/details","high","W12152155N3952463 WYANDOTTE 1105","[DouglasFir, MontereyPine, Other]","DouglasFir"]
[577,"NORTHERN","NORTH VALLEY","Tier 0-1","102911105 Tier 0-1",102911105,"WYANDOTTE 1105",17.399999999999999,39.524619999999899,-121.535319999999,null,54,"W12153532N3952462",8,-7.8,"YES","W12153530N3952456","W12153581N3952442","W12153581N3952442-W12153530N3952456",102911105,"WYANDOTTE 1105",null,"2019-11-20T17:46:46",null,null,"Not assessed","https://viewer.us-3.sharpershape.services/viewer/assets/5ca5a2c6f6b463115ca04a27/details","https://viewer.us-3.sharpershape.services/viewer/issues/5ecf8c98a03e660001310bac/details","high","W12153532N3952462 WYANDOTTE 1105","[GrayPine, DouglasFir, MontereyPine]","GrayPine"]
[578,"NORTHERN","NORTH VALLEY","Tier 2-3","102911105 Tier 2-3",102911105,"WYANDOTTE 1105",28.6999999999999,39.528210000000001,-121.535179999999,null,41.7,"W12153518N3952821",12,3.4,"NO","W12153496N3952831","W12153534N3952830","W12153534N3952830-W12153496N3952831",102911105,"WYANDOTTE 1105",null,"2019-11-20T17:46:46",null,null,"Not assessed","https://viewer.us-3.sharpershape.services/viewer/assets/5ca5a2c6f6b463c5aea04a4a/details","https://viewer.us-3.sharpershape.services/viewer/issues/5ecf8c96a03e660001310a1d/details","high","W12153518N3952821 WYANDOTTE 1105","[GrayPine, DouglasFir, Other]","GrayPine"]
[579,"NORTHERN","NORTH VALLEY","Tier 2-3","102911105 Tier 2-3",102911105,"WYANDOTTE 1105",52.2,39.529829999999897,-121.52351,null,77,"W12152351N3952983",37.399999999999899,-9,"YES","W12152284N3952992","W12152351N3952966","W12152351N3952966-W12152284N3952992",102911105,"WYANDOTTE 1105",null,"2019-11-20T17:46:46",null,null,"Not assessed","https://viewer.us-3.sharpershape.services/viewer/assets/5ca5a2c6f6b4635ce1a0510b/details","https://viewer.us-3.sharpershape.services/viewer/issues/5ee2b4c134b60c0001746b70/details","high","W12152351N3952983 WYANDOTTE 1105","[GrayPine, CoastalLiveOak, Eucalyptus/BlueGum]","GrayPine"]
[580,"NORTHERN","NORTH VALLEY","Tier 2-3","102911105 Tier 2-3",102911105,"WYANDOTTE 1105",38.200000000000003,39.53152,-121.517579999999,null,95.4,"W12151758N3953152",17.600000000000001,-41.5,"YES","W12151822N3953157","W12151765N3953162","W12151765N3953162-W12151822N3953157",102911105,"WYANDOTTE 1105",null,"2019-11-20T17:46:46",null,null,"Not assessed","https://viewer.us-3.sharpershape.services/viewer/assets/5ca5a2c6f6b463f67aa051de/details","https://viewer.us-3.sharpershape.services/viewer/issues/5ecf8c9734b60c00015ec1a0/details","high","W12151758N3953152 WYANDOTTE 1105","[GrayPine, CoastalLiveOak, Other]","GrayPine"]
[581,"NORTHERN","NORTH VALLEY","Tier 2-3","102911105 Tier 2-3",102911105,"WYANDOTTE 1105",67.799999999999898,39.52854,-121.52674,null,64.099999999999895,"W12152674N3952854",51,6.5,"NO","W12152680N3952875","W12152750N3952825","W12152750N3952825-W12152680N3952875",102911105,"WYANDOTTE 1105",null,"2019-11-20T17:46:46",null,null,"Not assessed","https://viewer.us-3.sharpershape.services/viewer/assets/5ca5a2c6f6b46337c2a04be5/details","https://viewer.us-3.sharpershape.services/viewer/issues/5ecf8c9634b60c00015ec0f4/details","high","W12152674N3952854 WYANDOTTE 1105","[Eucalyptus/BlueGum, DouglasFir, CoastalLiveOak]","Eucalyptus/BlueGum"]
[582,"NORTHERN","NORTH VALLEY","Tier 2-3","102911105 Tier 2-3",102911105,"WYANDOTTE 1105",54.3,39.531089999999899,-121.54071,null,73.400000000000006,"W12154071N3953109",44.5,-9.4,"YES","W12154084N3953131","W12154060N3953123","W12154060N3953123-W12154084N3953131",102911105,"WYANDOTTE 1105",null,"2019-11-20T17:46:46",null,null,"Not assessed","https://viewer.us-3.sharpershape.services/viewer/assets/5ca5a2c6f6b463023fa051ec/details","https://viewer.us-3.sharpershape.services/viewer/issues/5ecf8c9834b60c00015ec268/details","high","W12154071N3953109 WYANDOTTE 1105","[GrayPine, Other, MontereyPine]","GrayPine"]
[583,"NORTHERN","NORTH VALLEY","Tier 2-3","102911105 Tier 2-3",102911105,"WYANDOTTE 1105",8.6999999999999993,39.521969999999897,-121.538529999999,null,17.6999999999999,"W12153853N3952197",6.4,5.6,"NO","W12153812N3952205","W12153891N3952195","W12153891N3952195-W12153812N3952205",102911105,"WYANDOTTE 1105",null,"2019-11-20T17:46:46",null,null,"Not assessed","https://viewer.us-3.sharpershape.services/viewer/assets/5ca5a2c6f6b463d5b0a04bae/details","https://viewer.us-3.sharpershape.services/viewer/issues/5ecf8c98a03e660001310b1d/details","high","W12153853N3952197 WYANDOTTE 1105","[GrayPine, DouglasFir, LiveOak]","GrayPine"]
[584,"NORTHERN","NORTH VALLEY","Tier 0-1","102911105 Tier 0-1",102911105,"WYANDOTTE 1105",13.5,39.540819999999897,-121.54259999999999,null,38,"W12154260N3954082",12,2.6,"NO","W12154249N3954102","W12154258N3954066","W12154258N3954066-W12154249N3954102",102911105,"WYANDOTTE 1105",null,"2019-11-20T17:46:46",null,null,"Not assessed","https://viewer.us-3.sharpershape.services/viewer/assets/5ca5a2c6f6b4638a8aa050a6/details","https://viewer.us-3.sharpershape.services/viewer/issues/5ecf8c96a03e660001310979/details","high","W12154260N3954082 WYANDOTTE 1105"]
[585,"NORTHERN","NORTH VALLEY","Tier 2-3","102911105 Tier 2-3",102911105,"WYANDOTTE 1105",3,39.529589999999899,-121.52427,null,28.6,"W12152427N3952959",10.1,9.6999999999999993,"NO","W12152414N3952959","W12152508N3952949","W12152508N3952949-W12152414N3952959",102911105,"WYANDOTTE 1105",null,"2019-11-20T17:46:46",null,null,"Not assessed","https://viewer.us-3.sharpershape.services/viewer/assets/5ca5a2c6f6b4633d64a04cf9/details","https://viewer.us-3.sharpershape.services/viewer/issues/5ee2b4c3a03e66000146e463/details","high","W12152427N3952959 WYANDOTTE 1105","[GrayPine, Other, ValleyOak]","GrayPine"]
[586,"NORTHERN","NORTH VALLEY","Tier 2-3","102911105 Tier 2-3",102911105,"WYANDOTTE 1105",13.1,39.530099999999997,-121.520039999999,null,37.799999999999997,"W12152004N3953010",6.4,3.5,"NO","W12151936N3952926","W12152005N3953021","W12152005N3953021-W12151936N3952926",102911105,"WYANDOTTE 1105",null,"2019-11-20T17:46:46",null,null,"Not assessed","https://viewer.us-3.sharpershape.services/viewer/assets/5ca5a2c6f6b463d94da04bdf/details","https://viewer.us-3.sharpershape.services/viewer/issues/5ecf8c9834b60c00015ec2b5/details","high","W12152004N3953010 WYANDOTTE 1105","[CoastalLiveOak, MontereyPine, DouglasFir]","CoastalLiveOak"]
[587,"NORTHERN","NORTH VALLEY","Tier 2-3","102911105 Tier 2-3",102911105,"WYANDOTTE 1105",9.1999999999999993,39.5306,-121.53834000000001,null,30.1,"W12153834N3953060",8.1,3.4,"NO","W12153771N3953063","W12153843N3953063","W12153843N3953063-W12153771N3953063",102911105,"WYANDOTTE 1105",null,"2019-11-20T17:46:46",null,null,"Not assessed","https://viewer.us-3.sharpershape.services/viewer/assets/5ca5a2c6f6b4638d7aa04e91/details","https://viewer.us-3.sharpershape.services/viewer/issues/5ecf8c96a03e6600013109a0/details","high","W12153834N3953060 WYANDOTTE 1105","[LiveOak, DouglasFir, CoastalLiveOak]","LiveOak"]
[588,"NORTHERN","NORTH VALLEY","Tier 2-3","102911105 Tier 2-3",102911105,"WYANDOTTE 1105",21.5,39.663329999999902,-121.50333000000001,null,42.2,"W12150333N3966333",12,9.4,"NO","W12150267N3966441","W12150368N3966300","W12150368N3966300-W12150267N3966441",102911105,"WYANDOTTE 1105",null,"2019-11-20T17:46:46",null,null,"Not assessed","https://viewer.us-3.sharpershape.services/viewer/assets/5ca5a2c6f6b4631995a04ed5/details","https://viewer.us-3.sharpershape.services/viewer/issues/5ecf8c9934b60c00015ec314/details","high","W12150333N3966333 WYANDOTTE 1105"]
[589,"NORTHERN","NORTH VALLEY","Tier 2-3","102911105 Tier 2-3",102911105,"WYANDOTTE 1105",13.9,39.532359999999898,-121.53489,null,44.2,"W12153489N3953236",4.9000000000000004,-18.5,"YES","W12153557N3953230","W12153419N3953235","W12153419N3953235-W12153557N3953230",102911105,"WYANDOTTE 1105",null,"2019-11-20T17:46:46",null,null,"Not assessed","https://viewer.us-3.sharpershape.services/viewer/assets/5ca5a2c6f6b463191ca04d93/details","https://viewer.us-3.sharpershape.services/viewer/issues/5ee2b430a03e66000146e429/details","high","W12153489N3953236 WYANDOTTE 1105","[DouglasFir, CoastalLiveOak, TanOak]","DouglasFir"]
[590,"NORTHERN","NORTH VALLEY","Tier 2-3","102911105 Tier 2-3",102911105,"WYANDOTTE 1105",4.7,39.532710000000002,-121.540779999999,null,23.9,"W12154078N3953271",8.6,7.5,"NO","W12154073N3953285","W12154086N3953214","W12154086N3953214-W12154073N3953285",102911105,"WYANDOTTE 1105",null,"2019-11-20T17:46:46",null,null,"Not assessed","https://viewer.us-3.sharpershape.services/viewer/assets/5ca5a2c6f6b4635017a04ad1/details","https://viewer.us-3.sharpershape.services/viewer/issues/5ecf8c96a03e6600013109b2/details","high","W12154078N3953271 WYANDOTTE 1105","[GrayPine, MontereyPine, DouglasFir]","GrayPine"]
[591,"NORTHERN","NORTH VALLEY","Tier 2-3","102911105 Tier 2-3",102911105,"WYANDOTTE 1105",43.8,39.5414099999999,-121.542109999999,null,50.399999999999899,"W12154211N3954141",23.1,-6.3,"YES","W12154206N3954186","W12154249N3954102","W12154249N3954102-W12154206N3954186",102911105,"WYANDOTTE 1105",null,"2019-11-20T17:46:46",null,null,"Not assessed","https://viewer.us-3.sharpershape.services/viewer/assets/5ca5a2c6f6b4631d52a04cea/details","https://viewer.us-3.sharpershape.services/viewer/issues/5ecf8c98a03e660001310bee/details","high","W12154211N3954141 WYANDOTTE 1105","[CoastalLiveOak, DouglasFir, Eucalyptus/BlueGum]","CoastalLiveOak"]
[592,"NORTHERN","NORTH VALLEY","Tier 0-1","102911105 Tier 0-1",102911105,"WYANDOTTE 1105",44.2,39.525689999999898,-121.53309,null,71.400000000000006,"W12153309N3952569",26.3,-17.3,"YES","W12153345N3952585","W12153312N3952549","W12153312N3952549-W12153345N3952585",102911105,"WYANDOTTE 1105",null,"2019-11-20T17:46:46",null,null,"Not assessed","https://viewer.us-3.sharpershape.services/viewer/assets/5ca5a2c6f6b4639894a04b2d/details","https://viewer.us-3.sharpershape.services/viewer/issues/5ecf8c94a03e6600013108ed/details","high","W12153309N3952569 WYANDOTTE 1105","[GrayPine, Other, Eucalyptus/BlueGum]","GrayPine"]
[593,"NORTHERN","NORTH VALLEY","Tier 2-3","102911105 Tier 2-3",102911105,"WYANDOTTE 1105",33.1,39.52946,-121.51935,null,26.4,"W12151935N3952946",10.8,22.8,"NO","W12151936N3952926","W12152005N3953021","W12152005N3953021-W12151936N3952926",102911105,"WYANDOTTE 1105",null,"2019-11-20T17:46:46",null,null,"Not assessed","https://viewer.us-3.sharpershape.services/viewer/assets/5ca5a2c6f6b463d94da04bdf/details","https://viewer.us-3.sharpershape.services/viewer/issues/5ecf8f2434b60c00015ecb80/details","high","W12151935N3952946 WYANDOTTE 1105","[Other, GrayPine, Eucalyptus/BlueGum]","Other"]
[594,"NORTHERN","NORTH VALLEY","Tier 2-3","102911105 Tier 2-3",102911105,"WYANDOTTE 1105",44.7,39.532689999999903,-121.53189,null,41.3,"W12153189N3953269",7.2,19.1999999999999,"NO","W12153205N3953285","W12153205N3953245","W12153205N3953245-W12153205N3953285",102911105,"WYANDOTTE 1105",null,"2019-11-20T17:46:46",null,null,"Not assessed","https://viewer.us-3.sharpershape.services/viewer/assets/5ca5a2c6f6b46321caa04c4b/details","https://viewer.us-3.sharpershape.services/viewer/issues/5ecf8ee9a03e6600013112c0/details","high","W12153189N3953269 WYANDOTTE 1105","[Other, GrayPine, MontereyPine]","Other"]
[595,"NORTHERN","NORTH VALLEY","Tier 2-3","102911105 Tier 2-3",102911105,"WYANDOTTE 1105",24.1999999999999,39.530389999999898,-121.533529999999,null,24.6,"W12153353N3953039",8.3000000000000007,20.3,"NO","W12153355N3953046","W12153323N3953048","W12153323N3953048-W12153355N3953046",102911105,"WYANDOTTE 1105",null,"2019-11-20T17:46:46",null,null,"Not assessed","https://viewer.us-3.sharpershape.services/viewer/assets/5ca5a2c6f6b463e131a04ef3/details","https://viewer.us-3.sharpershape.services/viewer/issues/5ecf952534b60c00015ed686/details","high","W12153353N3953039 WYANDOTTE 1105","[LiveOak, DouglasFir, Eucalyptus/BlueGum]","LiveOak"]
[596,"NORTHERN","NORTH VALLEY","Tier 2-3","102911105 Tier 2-3",102911105,"WYANDOTTE 1105",34.200000000000003,39.529739999999897,-121.522989999999,null,27,"W12152299N3952974",7,19,"NO","W12152284N3952992","W12152351N3952966","W12152351N3952966-W12152284N3952992",102911105,"WYANDOTTE 1105",null,"2019-11-20T17:46:46",null,null,"Not assessed","https://viewer.us-3.sharpershape.services/viewer/assets/5ca5a2c6f6b4635ce1a0510b/details","https://viewer.us-3.sharpershape.services/viewer/issues/5ee2b959a03e66000146e496/details","high","W12152299N3952974 WYANDOTTE 1105","[TanOak, GrayPine, LiveOak]","TanOak"]
[597,"NORTHERN","NORTH VALLEY","Tier 2-3","102911105 Tier 2-3",102911105,"WYANDOTTE 1105",12.2,39.5296799999999,-121.530159999999,null,44.1,"W12153016N3952968",5.6,-11.1,"YES","W12152988N3952972","W12153068N3952972","W12153068N3952972-W12152988N3952972",102911105,"WYANDOTTE 1105",null,"2019-11-20T17:46:46",null,null,"Not assessed","https://viewer.us-3.sharpershape.services/viewer/assets/5d89b6cc55dd6b81633f2eff/details","https://viewer.us-3.sharpershape.services/viewer/issues/5ecf8c9934b60c00015ec33e/details","high","W12153016N3952968 WYANDOTTE 1105","[DouglasFir, LiveOak, CoastalLiveOak]","DouglasFir"]
[598,"NORTHERN","NORTH VALLEY","Tier 2-3","102911105 Tier 2-3",102911105,"WYANDOTTE 1105",30.6999999999999,39.530999999999899,-121.536659999999,null,54.2,"W12153666N3953100",7,-4.4000000000000004,"YES","W12153654N3953103","W12153655N3953063","W12153655N3953063-W12153654N3953103",102911105,"WYANDOTTE 1105",null,"2019-11-20T17:46:46",null,null,"Not assessed","https://viewer.us-3.sharpershape.services/viewer/assets/5ca5a2c6f6b4639202a04d3a/details","https://viewer.us-3.sharpershape.services/viewer/issues/5ecf8c96a03e660001310a2a/details","high","W12153666N3953100 WYANDOTTE 1105","[CoastalLiveOak, ValleyOak, DouglasFir]","CoastalLiveOak"]
[599,"NORTHERN","NORTH VALLEY","Tier 2-3","102911105 Tier 2-3",102911105,"WYANDOTTE 1105",29.8,39.525909999999897,-121.53315000000001,null,45.8,"W12153315N3952591",15.4,-1.2,"YES","W12153295N3952615","W12153345N3952585","W12153345N3952585-W12153295N3952615",102911105,"WYANDOTTE 1105",null,"2019-11-20T17:46:46",null,null,"Not assessed","https://viewer.us-3.sharpershape.services/viewer/assets/5ca5a2c6f6b4637e6fa049ea/details","https://viewer.us-3.sharpershape.services/viewer/issues/5ecf8c90a03e66000131080b/details","high","W12153315N3952591 WYANDOTTE 1105","[GrayPine, MontereyPine, Eucalyptus/BlueGum]","GrayPine"]
[600,"NORTHERN","NORTH VALLEY","Tier 2-3","102911105 Tier 2-3",102911105,"WYANDOTTE 1105",26.1,39.527169999999899,-121.535249999999,null,65.400000000000006,"W12153525N3952717",8.3000000000000007,-29.3,"YES","W12153535N3952774","W12153536N3952706","W12153536N3952706-W12153535N3952774",102911105,"WYANDOTTE 1105",null,"2019-11-20T17:46:46","OH",null,"Not assessed","https://viewer.us-3.sharpershape.services/viewer/assets/5ca5a2c6f6b463ada9a04fb0/details","https://viewer.us-3.sharpershape.services/viewer/issues/5ecf8c97a03e660001310a82/details","high","W12153525N3952717 WYANDOTTE 1105","[DouglasFir, Eucalyptus/BlueGum, GrayPine]","DouglasFir"]
[601,"NORTHERN","NORTH VALLEY","Tier 2-3","102911105 Tier 2-3",102911105,"WYANDOTTE 1105",36.399999999999899,39.528860000000002,-121.53049,null,45.5,"W12153049N3952886",19.8,2.2999999999999998,"NO","W12153053N3952876","W12153054N3952815","W12153054N3952815-W12153053N3952876",102911105,"WYANDOTTE 1105",null,"2019-11-20T17:46:46",null,null,"Not assessed","https://viewer.us-3.sharpershape.services/viewer/assets/5ca5a2c6f6b463a3b1a04e34/details","https://viewer.us-3.sharpershape.services/viewer/issues/5ecf8c9034b60c00015ebfd3/details","high","W12153049N3952886 WYANDOTTE 1105","[DouglasFir, Other, GrayPine]","DouglasFir"]
[602,"NORTHERN","NORTH VALLEY","Tier 2-3","102911105 Tier 2-3",102911105,"WYANDOTTE 1105",17,39.526469999999897,-121.53896,null,38.799999999999997,"W12153896N3952647",11.4,1.8,"NO","W12153848N3952653","W12153928N3952652","W12153928N3952652-W12153848N3952653",102911105,"WYANDOTTE 1105",null,"2019-11-20T17:46:46",null,null,"Not assessed","https://viewer.us-3.sharpershape.services/viewer/assets/5ca5a2c6f6b463083da04d94/details","https://viewer.us-3.sharpershape.services/viewer/issues/5ecf8c98a03e660001310bc4/details","high","W12153896N3952647 WYANDOTTE 1105","[GrayPine, Other, Eucalyptus/BlueGum]","GrayPine"]
[603,"NORTHERN","NORTH VALLEY","Tier 2-3","102911105 Tier 2-3",102911105,"WYANDOTTE 1105",19.3,39.5304199999999,-121.519689999999,null,44.5,"W12151969N3953042",10.1,-10.199999999999999,"YES","W12151923N3953089","W12152005N3953021","W12152005N3953021-W12151923N3953089",102911105,"WYANDOTTE 1105",null,"2019-11-20T17:46:46",null,null,"Not assessed","https://viewer.us-3.sharpershape.services/viewer/assets/5ca5a2c6f6b46307baa0515f/details","https://viewer.us-3.sharpershape.services/viewer/issues/5ecf8c93a03e6600013108c3/details","high","W12151969N3953042 WYANDOTTE 1105","[Other, GrayPine, MontereyPine]","Other"]
[604,"NORTHERN","NORTH VALLEY","Tier 2-3","102911105 Tier 2-3",102911105,"WYANDOTTE 1105",0.5,39.53284,-121.53691000000001,null,23.4,"W12153691N3953284",9.1,8.5,"NO","W12153713N3953284","W12153655N3953283","W12153655N3953283-W12153713N3953284",102911105,"WYANDOTTE 1105",null,"2019-11-20T17:46:46",null,null,"Not assessed","https://viewer.us-3.sharpershape.services/viewer/assets/5ca5a2c6f6b46315baa04b02/details","https://viewer.us-3.sharpershape.services/viewer/issues/5ecf8c98a03e660001310bd3/details","high","W12153691N3953284 WYANDOTTE 1105","[DouglasFir, TanOak, LiveOak]","DouglasFir"]
[605,"NORTHERN","NORTH VALLEY","Tier 0-1","102911105 Tier 0-1",102911105,"WYANDOTTE 1105",10.3,39.5253599999999,-121.53306000000001,null,28,"W12153306N3952536",12,9.3000000000000007,"NO","W12153312N3952549","W12153279N3952515","W12153279N3952515-W12153312N3952549",102911105,"WYANDOTTE 1105",null,"2019-11-20T17:46:46",null,null,"Not assessed","https://viewer.us-3.sharpershape.services/viewer/assets/5ca5a2c6f6b463ab92a051ae/details","https://viewer.us-3.sharpershape.services/viewer/issues/5ecf8c9534b60c00015ec0bd/details","high","W12153306N3952536 WYANDOTTE 1105","[DouglasFir, LiveOak, GrayPine]","DouglasFir"]
[606,"NORTHERN","NORTH VALLEY","Tier 0-1","102911105 Tier 0-1",102911105,"WYANDOTTE 1105",33.700000000000003,39.524949999999897,-121.536429999999,null,42.8,"W12153643N3952495",12.9,-0.1,"YES","W12153636N3952510","W12153682N3952487","W12153682N3952487-W12153636N3952510",102911105,"WYANDOTTE 1105",null,"2019-11-20T17:46:46",null,null,"Not assessed","https://viewer.us-3.sharpershape.services/viewer/assets/5ca5a2c6f6b463f969a04978/details","https://viewer.us-3.sharpershape.services/viewer/issues/5ecf8c9934b60c00015ec2ed/details","high","W12153643N3952495 WYANDOTTE 1105","[Other, DouglasFir, GrayPine]","Other"]
[607,"NORTHERN","NORTH VALLEY","Tier 2-3","102911105 Tier 2-3",102911105,"WYANDOTTE 1105",41.6,39.531549999999903,-121.540679999999,null,41.7,"W12154068N3953155",23.5,1.7,"NO","W12154086N3953214","W12154084N3953131","W12154084N3953131-W12154086N3953214",102911105,"WYANDOTTE 1105",null,"2019-11-20T17:46:46",null,null,"Not assessed","https://viewer.us-3.sharpershape.services/viewer/assets/5ca5a2c6f6b4630944a04ef1/details","https://viewer.us-3.sharpershape.services/viewer/issues/5ecf8c98a03e660001310b6a/details","high","W12154068N3953155 WYANDOTTE 1105","[Other, LiveOak, DouglasFir]","Other"]
[608,"NORTHERN","NORTH VALLEY","Tier 2-3","102911105 Tier 2-3",102911105,"WYANDOTTE 1105",32.200000000000003,39.518969999999896,-121.54034,null,41.6,"W12154034N3951897",18.600000000000001,7.5,"NO","W12154022N3951889","W12154021N3951938","W12154021N3951938-W12154022N3951889",102911105,"WYANDOTTE 1105",null,"2019-11-20T17:46:46",null,null,"Not assessed","https://viewer.us-3.sharpershape.services/viewer/assets/5ca5a2c6f6b463460ba04f21/details","https://viewer.us-3.sharpershape.services/viewer/issues/5ecf8c9434b60c00015ec065/details","high","W12154034N3951897 WYANDOTTE 1105","[Other, DouglasFir, CoastalLiveOak]","Other"]
[609,"NORTHERN","NORTH VALLEY","Tier 0-1","102911105 Tier 0-1",102911105,"WYANDOTTE 1105",0.2,39.523049999999898,-121.537639999999,null,30.1,"W12153764N3952305",12,7.1,"NO","W12153761N3952311","W12153775N3952283","W12153775N3952283-W12153761N3952311",102911105,"WYANDOTTE 1105",null,"2019-11-20T17:46:46",null,null,"Not assessed","https://viewer.us-3.sharpershape.services/viewer/assets/5ca5a2c6f6b463b271a05203/details","https://viewer.us-3.sharpershape.services/viewer/issues/5ecf8c91a03e66000131082f/details","high","W12153764N3952305 WYANDOTTE 1105","[GrayPine, DouglasFir, Other]","GrayPine"]
[610,"NORTHERN","NORTH VALLEY","Tier 2-3","102911105 Tier 2-3",102911105,"WYANDOTTE 1105",3.3,39.532419999999902,-121.53913,null,17.899999999999999,"W12153913N3953242",11.4,14.7,"NO","W12153905N3953243","W12153963N3953242","W12153963N3953242-W12153905N3953243",102911105,"WYANDOTTE 1105",null,"2019-11-20T17:46:46",null,null,"Not assessed","https://viewer.us-3.sharpershape.services/viewer/assets/5ca5a2c6f6b4637e06a05104/details","https://viewer.us-3.sharpershape.services/viewer/issues/5ecf954ea03e660001311f32/details","high","W12153913N3953242 WYANDOTTE 1105","[Other, DouglasFir, Eucalyptus/BlueGum]","Other"]
[611,"NORTHERN","NORTH VALLEY","Tier 2-3","102911105 Tier 2-3",102911105,"WYANDOTTE 1105",24.5,39.529319999999899,-121.531959999999,null,40.1,"W12153196N3952932",12,4.0999999999999996,"NO","W12153206N3952881","W12153206N3952972","W12153206N3952972-W12153206N3952881",102911105,"WYANDOTTE 1105",null,"2019-11-20T17:46:46",null,null,"Not assessed","https://viewer.us-3.sharpershape.services/viewer/assets/5ca5a2c6f6b463a605a04c77/details","https://viewer.us-3.sharpershape.services/viewer/issues/5ecf8c9834b60c00015ec2a0/details","high","W12153196N3952932 WYANDOTTE 1105","[CoastalLiveOak, DouglasFir, Eucalyptus/BlueGum]","CoastalLiveOak"]
[612,"NORTHERN","NORTH VALLEY","Tier 2-3","102911105 Tier 2-3",102911105,"WYANDOTTE 1105",67.2,39.530940000000001,-121.532979999999,null,65.400000000000006,"W12153298N3953094",50.3,8.3000000000000007,"NO","W12153323N3953048","W12153322N3953104","W12153322N3953104-W12153323N3953048",102911105,"WYANDOTTE 1105",null,"2019-11-20T17:46:46",null,null,"Not assessed","https://viewer.us-3.sharpershape.services/viewer/assets/5ca5a2c6f6b463a1c6a051b8/details","https://viewer.us-3.sharpershape.services/viewer/issues/5ecf8c9334b60c00015ec037/details","high","W12153298N3953094 WYANDOTTE 1105","[GrayPine, Other, DouglasFir]","GrayPine"]
[613,"NORTHERN","NORTH VALLEY","Tier 2-3","102911105 Tier 2-3",102911105,"WYANDOTTE 1105",8.9,39.531410000000001,-121.5365,null,34.399999999999899,"W12153650N3953141",5,-1.2,"YES","W12153654N3953103","W12153654N3953154","W12153654N3953154-W12153654N3953103",102911105,"WYANDOTTE 1105",null,"2019-11-20T17:46:46",null,null,"Not assessed","https://viewer.us-3.sharpershape.services/viewer/assets/5ca5a2c6f6b463060ca04c49/details","https://viewer.us-3.sharpershape.services/viewer/issues/5ecf8c98a03e660001310b07/details","high","W12153650N3953141 WYANDOTTE 1105","[DouglasFir, MontereyPine, CoastalLiveOak]","DouglasFir"]
[614,"NORTHERN","NORTH VALLEY","Tier 2-3","102911105 Tier 2-3",102911105,"WYANDOTTE 1105",44,39.529499999999899,-121.51972000000001,null,61.1,"W12151972N3952950",9.5,-1.7,"YES","W12151936N3952926","W12152005N3953021","W12152005N3953021-W12151936N3952926",102911105,"WYANDOTTE 1105",null,"2019-11-20T17:46:46",null,null,"Not assessed","https://viewer.us-3.sharpershape.services/viewer/assets/5ca5a2c6f6b463d94da04bdf/details","https://viewer.us-3.sharpershape.services/viewer/issues/5ecf8c9834b60c00015ec2b0/details","high","W12151972N3952950 WYANDOTTE 1105","[GrayPine, DouglasFir, CoastalLiveOak]","GrayPine"]
[615,"NORTHERN","NORTH VALLEY","Tier 2-3","102911105 Tier 2-3",102911105,"WYANDOTTE 1105",18.399999999999999,39.53501,-121.54218,null,31.5,"W12154218N3953501",7.1,-0.6,"YES","W12154214N3953455","W12154230N3953520","W12154230N3953520-W12154214N3953455",102911105,"WYANDOTTE 1105",null,"2019-11-20T17:46:46",null,null,"Not assessed","https://viewer.us-3.sharpershape.services/viewer/assets/5ca5a2c6f6b4638e61a05162/details","https://viewer.us-3.sharpershape.services/viewer/issues/5ecf8c9534b60c00015ec0a8/details","high","W12154218N3953501 WYANDOTTE 1105","[Other, LiveOak, DouglasFir]","Other"]
[616,"NORTHERN","NORTH VALLEY","Tier 2-3","102911105 Tier 2-3",102911105,"WYANDOTTE 1105",43.399999999999899,39.532200000000003,-121.53471,null,79,"W12153471N3953220",29.3,-26.5,"YES","W12153557N3953230","W12153419N3953235","W12153419N3953235-W12153557N3953230",102911105,"WYANDOTTE 1105",null,"2019-11-20T17:46:46",null,null,"Not assessed","https://viewer.us-3.sharpershape.services/viewer/assets/5ca5a2c6f6b463191ca04d93/details","https://viewer.us-3.sharpershape.services/viewer/issues/5ee2b430a03e66000146e431/details","high","W12153471N3953220 WYANDOTTE 1105","[GrayPine, DouglasFir, Other]","GrayPine"]
[617,"NORTHERN","NORTH VALLEY","Tier 0-1","102911105 Tier 0-1",102911105,"WYANDOTTE 1105",39.5,39.525239999999897,-121.535409999999,null,71.099999999999994,"W12153541N3952524",22.4,-20.6,"YES","W12153537N3952537","W12153590N3952523","W12153590N3952523-W12153537N3952537",102911105,"WYANDOTTE 1105",null,"2019-11-20T17:46:46",null,null,"Not assessed","https://viewer.us-3.sharpershape.services/viewer/assets/5ca5a2c6f6b4631c28a0517f/details","https://viewer.us-3.sharpershape.services/viewer/issues/5ecf8c90a03e6600013107f9/details","high","W12153541N3952524 WYANDOTTE 1105","[CoastalLiveOak, Other, MontereyPine]","CoastalLiveOak"]
[618,"NORTHERN","NORTH VALLEY","Tier 2-3","102911105 Tier 2-3",102911105,"WYANDOTTE 1105",37,39.534399999999998,-121.54178,null,56.7,"W12154178N3953440",23.6999999999999,-11.9,"YES","W12154214N3953455","W12154179N3953424","W12154179N3953424-W12154214N3953455",102911105,"WYANDOTTE 1105",null,"2019-11-20T17:46:46",null,null,"Not assessed","https://viewer.us-3.sharpershape.services/viewer/assets/5ca5a2c6f6b4634756a04ae5/details","https://viewer.us-3.sharpershape.services/viewer/issues/5ecf8c9534b60c00015ec095/details","high","W12154178N3953440 WYANDOTTE 1105","[GrayPine, DouglasFir, Eucalyptus/BlueGum]","GrayPine"]
[619,"NORTHERN","NORTH VALLEY","Tier 2-3","102911105 Tier 2-3",102911105,"WYANDOTTE 1105",0.3,39.523779999999903,-121.53753,null,32.700000000000003,"W12153753N3952378",4.5,4.8,"NO","W12153761N3952311","W12153751N3952386","W12153751N3952386-W12153761N3952311",102911105,"WYANDOTTE 1105",null,"2019-11-20T17:46:46",null,null,"Not assessed","https://viewer.us-3.sharpershape.services/viewer/assets/5ca5a2c6f6b46364c0a0520a/details","https://viewer.us-3.sharpershape.services/viewer/issues/5ecf954b34b60c00015ed764/details","high","W12153753N3952378 WYANDOTTE 1105","[GrayPine, DouglasFir, TanOak]","GrayPine"]
[620,"NORTHERN","NORTH VALLEY","Tier 2-3","102911105 Tier 2-3",102911105,"WYANDOTTE 1105",27.4,39.532179999999897,-121.5343,null,81.799999999999898,"W12153430N3953218",15.3,-38.1,"YES","W12153419N3953172","W12153419N3953235","W12153419N3953235-W12153419N3953172",102911105,"WYANDOTTE 1105",null,"2019-11-20T17:46:46",null,null,"Not assessed","https://viewer.us-3.sharpershape.services/viewer/assets/5ca5a2c6f6b463ef61a04c9e/details","https://viewer.us-3.sharpershape.services/viewer/issues/5ee2b42e34b60c0001746b58/details","high","W12153430N3953218 WYANDOTTE 1105","[Other, GrayPine, DouglasFir]","Other"]
[621,"NORTHERN","NORTH VALLEY","Tier 2-3","102911105 Tier 2-3",102911105,"WYANDOTTE 1105",1,39.5306199999999,-121.538359999999,null,27.6999999999999,"W12153836N3953062",6.5,7.4,"NO","W12153771N3953063","W12153843N3953063","W12153843N3953063-W12153771N3953063",102911105,"WYANDOTTE 1105",null,"2019-11-20T17:46:46",null,null,"Not assessed","https://viewer.us-3.sharpershape.services/viewer/assets/5ca5a2c6f6b4638d7aa04e91/details","https://viewer.us-3.sharpershape.services/viewer/issues/5ecf8ee434b60c00015eca2c/details","high","W12153836N3953062 WYANDOTTE 1105","[GrayPine, TanOak, Other]","GrayPine"]
[622,"NORTHERN","NORTH VALLEY","Tier 2-3","102911105 Tier 2-3",102911105,"WYANDOTTE 1105",30.3,39.670380000000002,-121.49697,null,52,"W12149697N3967038",9.5,-3.6,"YES","W12149700N3966999","W12149727N3967099","W12149727N3967099-W12149700N3966999",0,"WYANDOTTE 1105",null,"2019-11-20T17:46:46",null,null,"Not assessed","https://viewer.us-3.sharpershape.services/viewer/assets/5ca5a2c6f6b4636b1ca05155/details","https://viewer.us-3.sharpershape.services/viewer/issues/5ecf8c9834b60c00015ec27b/details","high","W12149697N3967038 WYANDOTTE 1105","[MontereyPine, GrayPine, CoastalLiveOak]","MontereyPine"]
[623,"NORTHERN","NORTH VALLEY","Tier 2-3","102911105 Tier 2-3",102911105,"WYANDOTTE 1105",18.600000000000001,39.532319999999899,-121.53198999999999,null,41,"W12153199N3953232",4.7,-10.5,"YES","W12153205N3953245","W12153206N3953192","W12153206N3953192-W12153205N3953245",102911105,"WYANDOTTE 1105",null,"2019-11-20T17:46:46",null,null,"Not assessed","https://viewer.us-3.sharpershape.services/viewer/assets/5ca5a2c6f6b463299fa04cf2/details","https://viewer.us-3.sharpershape.services/viewer/issues/5ecf8c9934b60c00015ec378/details","high","W12153199N3953232 WYANDOTTE 1105","[GrayPine, Other, DouglasFir]","GrayPine"]
[624,"NORTHERN","NORTH VALLEY","Tier 2-3","102911105 Tier 2-3",102911105,"WYANDOTTE 1105",20.9,39.526260000000001,-121.53261000000001,null,25.3,"W12153261N3952626",8.1999999999999904,9,"NO","W12153224N3952655","W12153295N3952615","W12153295N3952615-W12153224N3952655",102911105,"WYANDOTTE 1105",null,"2019-11-20T17:46:46",null,null,"Not assessed","https://viewer.us-3.sharpershape.services/viewer/assets/5ca5a2c6f6b4635390a04a71/details","https://viewer.us-3.sharpershape.services/viewer/issues/5ecf8c96a03e6600013109ca/details","high","W12153261N3952626 WYANDOTTE 1105","[MontereyPine, TanOak, Eucalyptus/BlueGum]","MontereyPine"]
[625,"NORTHERN","NORTH VALLEY","Tier 2-3","102911105 Tier 2-3",102911105,"WYANDOTTE 1105",20,39.527769999999897,-121.53045,null,33.700000000000003,"W12153045N3952777",8.5,7.7,"NO","W12153054N3952815","W12153052N3952749","W12153052N3952749-W12153054N3952815",102911105,"WYANDOTTE 1105",null,"2019-11-20T17:46:46",null,null,"Not assessed","https://viewer.us-3.sharpershape.services/viewer/assets/5ca5a2c6f6b4636011a051da/details","https://viewer.us-3.sharpershape.services/viewer/issues/5ecf8c9734b60c00015ec194/details","high","W12153045N3952777 WYANDOTTE 1105","[DouglasFir, GrayPine, Other]","DouglasFir"]
[626,"NORTHERN","NORTH VALLEY","Tier 2-3","102911105 Tier 2-3",102911105,"WYANDOTTE 1105",68.299999999999898,39.530279999999898,-121.53242,null,71.299999999999898,"W12153242N3953028",49.7,0,"YES","W12153206N3953048","W12153269N3953048","W12153269N3953048-W12153206N3953048",102911105,"WYANDOTTE 1105",null,"2019-11-20T17:46:46",null,null,"Not assessed","https://viewer.us-3.sharpershape.services/viewer/assets/5ca5a2c6f6b46331cba04b4a/details","https://viewer.us-3.sharpershape.services/viewer/issues/5ecf8c92a03e660001310860/details","high","W12153242N3953028 WYANDOTTE 1105","[GrayPine, DouglasFir, Eucalyptus/BlueGum]","GrayPine"]
[627,"NORTHERN","NORTH VALLEY","Tier 2-3","102911105 Tier 2-3",102911105,"WYANDOTTE 1105",7.5,39.529829999999897,-121.52297,null,31.1999999999999,"W12152297N3952983",7.7,3.6,"NO","W12152284N3952992","W12152351N3952966","W12152351N3952966-W12152284N3952992",102911105,"WYANDOTTE 1105",null,"2019-11-20T17:46:46",null,null,"Not assessed","https://viewer.us-3.sharpershape.services/viewer/assets/5ca5a2c6f6b4635ce1a0510b/details","https://viewer.us-3.sharpershape.services/viewer/issues/5ee2b4c134b60c0001746b6d/details","high","W12152297N3952983 WYANDOTTE 1105","[GrayPine, ValleyOak, Other]","GrayPine"]
[628,"NORTHERN","NORTH VALLEY","Tier 2-3","102911105 Tier 2-3",102911105,"WYANDOTTE 1105",54.7,39.530319999999897,-121.532589999999,null,75.2,"W12153259N3953032",43.399999999999899,-14.9,"YES","W12153206N3953048","W12153269N3953048","W12153269N3953048-W12153206N3953048",102911105,"WYANDOTTE 1105",null,"2019-11-20T17:46:46",null,null,"Not assessed","https://viewer.us-3.sharpershape.services/viewer/assets/5ca5a2c6f6b46331cba04b4a/details","https://viewer.us-3.sharpershape.services/viewer/issues/5ecf8c92a03e660001310855/details","high","W12153259N3953032 WYANDOTTE 1105","[Eucalyptus/BlueGum, DouglasFir, CoastalLiveOak]","Eucalyptus/BlueGum"]
[629,"NORTHERN","NORTH VALLEY","Tier 2-3","102911105 Tier 2-3",102911105,"WYANDOTTE 1105",44.8,39.530349999999899,-121.53297000000001,null,71.400000000000006,"W12153297N3953035",33.700000000000003,-16.600000000000001,"YES","W12153323N3953048","W12153269N3953048","W12153269N3953048-W12153323N3953048",102911105,"WYANDOTTE 1105",null,"2019-11-20T17:46:46",null,null,"Not assessed","https://viewer.us-3.sharpershape.services/viewer/assets/5ca5a2c6f6b4636013a051bf/details","https://viewer.us-3.sharpershape.services/viewer/issues/5ecf8c9834b60c00015ec28a/details","high","W12153297N3953035 WYANDOTTE 1105","[GrayPine, DouglasFir, Other]","GrayPine"]
[630,"NORTHERN","NORTH VALLEY","Tier 2-3","102911105 Tier 2-3",102911105,"WYANDOTTE 1105",6,39.532629999999898,-121.53207999999999,null,26.6,"W12153208N3953263",4.5,5.8,"NO","W12153205N3953285","W12153205N3953245","W12153205N3953245-W12153205N3953285",102911105,"WYANDOTTE 1105",null,"2019-11-20T17:46:46",null,null,"Not assessed","https://viewer.us-3.sharpershape.services/viewer/assets/5ca5a2c6f6b46321caa04c4b/details","https://viewer.us-3.sharpershape.services/viewer/issues/5ecf8c9934b60c00015ec353/details","high","W12153208N3953263 WYANDOTTE 1105","[DouglasFir, GrayPine, Other]","DouglasFir"]
[631,"NORTHERN","NORTH VALLEY","Tier 2-3","102911105 Tier 2-3",102911105,"WYANDOTTE 1105",37.1,39.531219999999898,-121.54093,null,66.099999999999895,"W12154093N3953122",28.4,-16.6999999999999,"YES","W12154086N3953214","W12154084N3953131","W12154084N3953131-W12154086N3953214",102911105,"WYANDOTTE 1105",null,"2019-11-20T17:46:46",null,null,"Not assessed","https://viewer.us-3.sharpershape.services/viewer/assets/5ca5a2c6f6b4630944a04ef1/details","https://viewer.us-3.sharpershape.services/viewer/issues/5ecf8c98a03e660001310b4d/details","high","W12154093N3953122 WYANDOTTE 1105","[GrayPine, Other, DouglasFir]","GrayPine"]
[632,"NORTHERN","NORTH VALLEY","Tier 0-1","102911105 Tier 0-1",102911105,"WYANDOTTE 1105",13.6,39.522469999999899,-121.513849999999,null,40.299999999999997,"W12151385N3952247",7.9,2.2999999999999998,"NO","W12151335N3952254","W12151389N3952251","W12151389N3952251-W12151335N3952254",102911105,"WYANDOTTE 1105",null,"2019-11-20T17:46:46",null,null,"Not assessed","https://viewer.us-3.sharpershape.services/viewer/assets/5d8b1edb55dd6b072e3f3024/details","https://viewer.us-3.sharpershape.services/viewer/issues/5ecf8c99a03e660001310c5a/details","high","W12151385N3952247 WYANDOTTE 1105","[DouglasFir, GrayPine, Other]","DouglasFir"]
[633,"NORTHERN","NORTH VALLEY","Tier 2-3","102911105 Tier 2-3",102911105,"WYANDOTTE 1105",17.8,39.527929999999898,-121.535269999999,null,33.799999999999898,"W12153527N3952793",5.3,1.7,"NO","W12153535N3952774","W12153534N3952830","W12153534N3952830-W12153535N3952774",102911105,"WYANDOTTE 1105",null,"2019-11-20T17:46:46",null,null,"Not assessed","https://viewer.us-3.sharpershape.services/viewer/assets/5ca5a2c6f6b463c1eea04ac0/details","https://viewer.us-3.sharpershape.services/viewer/issues/5ecf8c96a03e660001310988/details","high","W12153527N3952793 WYANDOTTE 1105","[LiveOak, DouglasFir, Other]","LiveOak"]
[634,"NORTHERN","NORTH VALLEY","Tier 2-3","102911105 Tier 2-3",102911105,"WYANDOTTE 1105",64.2,39.527639999999899,-121.535589999999,null,65.7,"W12153559N3952764",52.6,4.9000000000000004,"NO","W12153535N3952774","W12153536N3952706","W12153536N3952706-W12153535N3952774",102911105,"WYANDOTTE 1105",null,"2019-11-20T17:46:46",null,null,"Not assessed","https://viewer.us-3.sharpershape.services/viewer/assets/5ca5a2c6f6b463ada9a04fb0/details","https://viewer.us-3.sharpershape.services/viewer/issues/5ecf8c97a03e660001310a7a/details","high","W12153559N3952764 WYANDOTTE 1105","[GrayPine, DouglasFir, Other]","GrayPine"]
[635,"NORTHERN","NORTH VALLEY","Tier 2-3","102911105 Tier 2-3",102911105,"WYANDOTTE 1105",10.9,39.530159999999903,-121.520229999999,null,82.2,"W12152023N3953016",10.9,-45.5,"YES","W12152091N3953014","W12152005N3953021","W12152005N3953021-W12152091N3953014",102911105,"WYANDOTTE 1105",null,"2019-11-20T17:46:46","OH",null,"Not assessed","https://viewer.us-3.sharpershape.services/viewer/assets/5ca5a2c6f6b4637ff5a04e47/details","https://viewer.us-3.sharpershape.services/viewer/issues/5ecf8c9534b60c00015ec072/details","high","W12152023N3953016 WYANDOTTE 1105","[GrayPine, Other, DouglasFir]","GrayPine"]
[636,"NORTHERN","NORTH VALLEY","Tier 2-3","102911105 Tier 2-3",102911105,"WYANDOTTE 1105",36.299999999999997,39.529400000000003,-121.524829999999,null,46.2,"W12152483N3952940",23.1999999999999,-3.9,"YES","W12152414N3952959","W12152508N3952949","W12152508N3952949-W12152414N3952959",102911105,"WYANDOTTE 1105",null,"2019-11-20T17:46:46",null,null,"Not assessed","https://viewer.us-3.sharpershape.services/viewer/assets/5ca5a2c6f6b4633d64a04cf9/details","https://viewer.us-3.sharpershape.services/viewer/issues/5ee2b4c3a03e66000146e45c/details","high","W12152483N3952940 WYANDOTTE 1105","[CoastalLiveOak, DouglasFir, Other]","CoastalLiveOak"]
[637,"NORTHERN","NORTH VALLEY","Tier 2-3","102911105 Tier 2-3",102911105,"WYANDOTTE 1105",20.5,39.524380000000001,-121.53734,null,37.799999999999997,"W12153734N3952438",6,4.0999999999999996,"NO","W12153716N3952455","W12153751N3952386","W12153751N3952386-W12153716N3952455",102911105,"WYANDOTTE 1105",null,"2019-11-20T17:46:46",null,null,"Not assessed","https://viewer.us-3.sharpershape.services/viewer/assets/5ca5a2c6f6b46351f2a04ede/details","https://viewer.us-3.sharpershape.services/viewer/issues/5ecf8c9634b60c00015ec169/details","high","W12153734N3952438 WYANDOTTE 1105","[CoastalLiveOak, DouglasFir, Other]","CoastalLiveOak"]
[638,"NORTHERN","NORTH VALLEY","Tier 2-3","102911105 Tier 2-3",102911105,"WYANDOTTE 1105",78.5,39.536110000000001,-121.542259999999,null,87.5,"W12154226N3953611",57.3,-8.9,"YES","W12154253N3953660","W12154256N3953592","W12154256N3953592-W12154253N3953660",102911105,"WYANDOTTE 1105",null,"2019-11-20T17:46:46",null,null,"Not assessed","https://viewer.us-3.sharpershape.services/viewer/assets/5ca5a2c6f6b4630e63a05050/details","https://viewer.us-3.sharpershape.services/viewer/issues/5ecf8c9834b60c00015ec24d/details","high","W12154226N3953611 WYANDOTTE 1105","[GrayPine, DouglasFir, CoastalLiveOak]","GrayPine"]
[639,"NORTHERN","NORTH VALLEY","Tier 2-3","102911105 Tier 2-3",102911105,"WYANDOTTE 1105",20,39.670649999999902,-121.49709,null,31.1,"W12149709N3967065",12,7.4,"NO","W12149700N3966999","W12149727N3967099","W12149727N3967099-W12149700N3966999",0,"WYANDOTTE 1105",null,"2019-11-20T17:46:46",null,null,"Not assessed","https://viewer.us-3.sharpershape.services/viewer/assets/5ca5a2c6f6b4636b1ca05155/details","https://viewer.us-3.sharpershape.services/viewer/issues/5ecf8c9834b60c00015ec27e/details","high","W12149709N3967065 WYANDOTTE 1105","[Other, CoastalLiveOak, MontereyPine]","Other"]
[640,"NORTHERN","NORTH VALLEY","Tier 2-3","102911105 Tier 2-3",102911105,"WYANDOTTE 1105",17.5,39.529609999999899,-121.5209,null,43,"W12152090N3952961",12,0.1,"NO","W12152091N3952965","W12152091N3953014","W12152091N3953014-W12152091N3952965",102911105,"WYANDOTTE 1105",null,"2019-11-20T17:46:46",null,null,"Not assessed","https://viewer.us-3.sharpershape.services/viewer/assets/5ca5a2c6f6b46337e8a04a3f/details","https://viewer.us-3.sharpershape.services/viewer/issues/5ecf8c9734b60c00015ec188/details","high","W12152090N3952961 WYANDOTTE 1105","[GrayPine, TanOak, ValleyOak]","GrayPine"]
[641,"NORTHERN","NORTH VALLEY","Tier 2-3","102911105 Tier 2-3",102911105,"WYANDOTTE 1105",25.6999999999999,39.529809999999898,-121.53188,null,26.6999999999999,"W12153188N3952981",12,9.6,"NO","W12153130N3952973","W12153206N3952972","W12153206N3952972-W12153130N3952973",102911105,"WYANDOTTE 1105",null,"2019-11-20T17:46:46",null,null,"Not assessed","https://viewer.us-3.sharpershape.services/viewer/assets/5ca5a2c6f6b4637225a0510d/details","https://viewer.us-3.sharpershape.services/viewer/issues/5ecf8c9634b60c00015ec138/details","high","W12153188N3952981 WYANDOTTE 1105","[LiveOak, TanOak, ValleyOak]","LiveOak"]
[642,"NORTHERN","NORTH VALLEY","Tier 0-1","102911105 Tier 0-1",102911105,"WYANDOTTE 1105",9.3000000000000007,39.523710000000001,-121.515469999999,null,35.399999999999899,"W12151547N3952371",5.2,3.3,"NO","W12151549N3952385","W12151562N3952310","W12151562N3952310-W12151549N3952385",102911105,"WYANDOTTE 1105",null,"2019-11-20T17:46:46",null,null,"Not assessed","https://viewer.us-3.sharpershape.services/viewer/assets/5ca5a2c6f6b4631737a04c04/details","https://viewer.us-3.sharpershape.services/viewer/issues/5ecf8c9534b60c00015ec089/details","high","W12151547N3952371 WYANDOTTE 1105","[Other, DouglasFir, CoastalLiveOak]","Other"]
[643,"NORTHERN","NORTH VALLEY","Tier 0-1","102911105 Tier 0-1",102911105,"WYANDOTTE 1105",4,39.524659999999898,-121.52145,null,24.1999999999999,"W12152145N3952466",9.5,13.5,"NO","W12152121N3952468","W12152223N3952454","W12152223N3952454-W12152121N3952468",102911105,"WYANDOTTE 1105",null,"2019-11-20T17:46:46",null,null,"Not assessed","https://viewer.us-3.sharpershape.services/viewer/assets/5ca5a2c6f6b4634c98a0504c/details","https://viewer.us-3.sharpershape.services/viewer/issues/5ecf8ef2a03e66000131130a/details","high","W12152145N3952466 WYANDOTTE 1105","[GrayPine, ValleyOak, DouglasFir]","GrayPine"]
[644,"NORTHERN","NORTH VALLEY","Tier 2-3","102911105 Tier 2-3",102911105,"WYANDOTTE 1105",44.6,39.531389999999902,-121.525869999999,null,33.200000000000003,"W12152587N3953139",4.5,16.5,"NO","W12152603N3953064","W12152604N3953139","W12152604N3953139-W12152603N3953064",102911105,"WYANDOTTE 1105",null,"2019-11-20T17:46:46",null,null,"Not assessed","https://viewer.us-3.sharpershape.services/viewer/assets/5ca5a2c6f6b463f925a04ce0/details","https://viewer.us-3.sharpershape.services/viewer/issues/5ecf954f34b60c00015ed788/details","high","W12152587N3953139 WYANDOTTE 1105","[MontereyPine, DouglasFir, GrayPine]","MontereyPine"]
[645,"NORTHERN","NORTH VALLEY","Tier 2-3","102911105 Tier 2-3",102911105,"WYANDOTTE 1105",8.6999999999999993,39.530519999999903,-121.531779999999,null,21.3,"W12153178N3953052",10.8,19.600000000000001,"NO","W12153206N3953048","W12153157N3953048","W12153157N3953048-W12153206N3953048",102911105,"WYANDOTTE 1105",null,"2019-11-20T17:46:46",null,null,"Not assessed","https://viewer.us-3.sharpershape.services/viewer/assets/5ca5a2c6f6b4633db9a04a98/details","https://viewer.us-3.sharpershape.services/viewer/issues/5ecf8edc34b60c00015eca26/details","high","W12153178N3953052 WYANDOTTE 1105","[CoastalLiveOak, DouglasFir, Other]","CoastalLiveOak"]
[646,"NORTHERN","NORTH VALLEY","Tier 2-3","102911105 Tier 2-3",102911105,"WYANDOTTE 1105",34.5,39.533119999999897,-121.540959999999,null,83.2,"W12154096N3953312",21.9,-24.5,"YES","W12154073N3953285","W12154087N3953327","W12154087N3953327-W12154073N3953285",102911105,"WYANDOTTE 1105",null,"2019-11-20T17:46:46",null,null,"Not assessed","https://viewer.us-3.sharpershape.services/viewer/assets/5ca5a2c6f6b463f395a04ceb/details","https://viewer.us-3.sharpershape.services/viewer/issues/5ecf8c97a03e660001310ab7/details","high","W12154096N3953312 WYANDOTTE 1105","[GrayPine, DouglasFir, Other]","GrayPine"]
[647,"NORTHERN","NORTH VALLEY","Tier 2-3","102911105 Tier 2-3",102911105,"WYANDOTTE 1105",24.6,39.527180000000001,-121.52903000000001,null,52.3,"W12152903N3952718",7.7,-12.3,"YES","W12152907N3952726","W12152971N3952716","W12152971N3952716-W12152907N3952726",102911105,"WYANDOTTE 1105",null,"2019-11-20T17:46:46",null,null,"Not assessed","https://viewer.us-3.sharpershape.services/viewer/assets/5ca5a2c6f6b4635805a04cab/details","https://viewer.us-3.sharpershape.services/viewer/issues/5ecf8c9734b60c00015ec1ef/details","high","W12152903N3952718 WYANDOTTE 1105","[GrayPine, Other, ValleyOak]","GrayPine"]
[648,"NORTHERN","NORTH VALLEY","Tier 2-3","102911105 Tier 2-3",102911105,"WYANDOTTE 1105",6.5,39.531489999999899,-121.52607,null,28.9,"W12152607N3953149",4,4.9000000000000004,"NO","W12152604N3953139","W12152606N3953202","W12152606N3953202-W12152604N3953139",102911105,"WYANDOTTE 1105",null,"2019-11-20T17:46:46",null,null,"Not assessed","https://viewer.us-3.sharpershape.services/viewer/assets/5ca5a2c6f6b463cbbca04b3b/details","https://viewer.us-3.sharpershape.services/viewer/issues/5ecf8c98a03e660001310b85/details","high","W12152607N3953149 WYANDOTTE 1105","[CoastalLiveOak, Other, ValleyOak]","CoastalLiveOak"]
[649,"NORTHERN","NORTH VALLEY","Tier 2-3","102911105 Tier 2-3",102911105,"WYANDOTTE 1105",12,39.532469999999897,-121.53886,null,40,"W12153886N3953247",6.7,-7.4,"YES","W12153905N3953243","W12153810N3953244","W12153810N3953244-W12153905N3953243",102911105,"WYANDOTTE 1105",null,"2019-11-20T17:46:46",null,null,"Not assessed","https://viewer.us-3.sharpershape.services/viewer/assets/5ca5a2c6f6b46300cca04f1d/details","https://viewer.us-3.sharpershape.services/viewer/issues/5ecf8c93a03e6600013108ad/details","high","W12153886N3953247 WYANDOTTE 1105","[TanOak, DouglasFir, LiveOak]","TanOak"]
[650,"NORTHERN","NORTH VALLEY","Tier 2-3","102911105 Tier 2-3",102911105,"WYANDOTTE 1105",28.9,39.527339999999903,-121.53018,null,43.2,"W12153018N3952734",7.5,7.8,"NO","W12152971N3952716","W12153054N3952731","W12153054N3952731-W12152971N3952716",102911105,"WYANDOTTE 1105",null,"2019-11-20T17:46:46",null,null,"Not assessed","https://viewer.us-3.sharpershape.services/viewer/assets/5ca5a2c6f6b4637c8aa04fdb/details","https://viewer.us-3.sharpershape.services/viewer/issues/5ecf8c94a03e6600013108e0/details","high","W12153018N3952734 WYANDOTTE 1105","[Other, GrayPine, ValleyOak]","Other"]
[651,"NORTHERN","NORTH VALLEY","Tier 2-3","102911105 Tier 2-3",102911105,"WYANDOTTE 1105",57.7,39.526959999999903,-121.53557000000001,null,68.900000000000006,"W12153557N3952696",48.8,-3.2,"YES","W12153535N3952637","W12153536N3952706","W12153536N3952706-W12153535N3952637",102911105,"WYANDOTTE 1105",null,"2019-11-20T17:46:46",null,null,"Not assessed","https://viewer.us-3.sharpershape.services/viewer/assets/5e7a18565dcbeb387a17baf6/details","https://viewer.us-3.sharpershape.services/viewer/issues/5ecf8c9934b60c00015ec38d/details","high","W12153557N3952696 WYANDOTTE 1105","[GrayPine, Other, MontereyPine]","GrayPine"]
[652,"NORTHERN","NORTH VALLEY","Tier 0-1","102911105 Tier 0-1",102911105,"WYANDOTTE 1105",2.9,39.525390000000002,-121.535229999999,null,24.9,"W12153523N3952539",12,8.1999999999999904,"NO","W12153537N3952537","W12153462N3952554","W12153462N3952554-W12153537N3952537",102911105,"WYANDOTTE 1105",null,"2019-11-20T17:46:46",null,null,"Not assessed","https://viewer.us-3.sharpershape.services/viewer/assets/5ca5a2c6f6b463381fa049b8/details","https://viewer.us-3.sharpershape.services/viewer/issues/5ecf8c96a03e6600013109f0/details","high","W12153523N3952539 WYANDOTTE 1105","[DouglasFir, Other, Eucalyptus/BlueGum]","DouglasFir"]
[653,"NORTHERN","NORTH VALLEY","Tier 2-3","102911105 Tier 2-3",102911105,"WYANDOTTE 1105",49.1,39.530270000000002,-121.519729999999,null,54.6,"W12151973N3953027",27.4,2.5,"NO","W12151923N3953089","W12152005N3953021","W12152005N3953021-W12151923N3953089",102911105,"WYANDOTTE 1105",null,"2019-11-20T17:46:46",null,null,"Not assessed","https://viewer.us-3.sharpershape.services/viewer/assets/5ca5a2c6f6b46307baa0515f/details","https://viewer.us-3.sharpershape.services/viewer/issues/5ecf8c93a03e6600013108d1/details","high","W12151973N3953027 WYANDOTTE 1105","[Other, DouglasFir, GrayPine]","Other"]
[654,"NORTHERN","NORTH VALLEY","Tier 0-1","102911105 Tier 0-1",102911105,"WYANDOTTE 1105",46.1,39.525569999999902,-121.532979999999,null,62,"W12153298N3952557",27.9,-4.5999999999999996,"YES","W12153345N3952585","W12153312N3952549","W12153312N3952549-W12153345N3952585",102911105,"WYANDOTTE 1105",null,"2019-11-20T17:46:46",null,null,"Not assessed","https://viewer.us-3.sharpershape.services/viewer/assets/5ca5a2c6f6b4639894a04b2d/details","https://viewer.us-3.sharpershape.services/viewer/issues/5ecf8c94a03e6600013108e7/details","high","W12153298N3952557 WYANDOTTE 1105","[Other, GrayPine, CoastalLiveOak]","Other"]
[655,"NORTHERN","NORTH VALLEY","Tier 2-3","102911105 Tier 2-3",102911105,"WYANDOTTE 1105",39.299999999999997,39.531779999999898,-121.532209999999,null,65,"W12153221N3953178",27.3,-12.9,"YES","W12153206N3953153","W12153206N3953192","W12153206N3953192-W12153206N3953153",102911105,"WYANDOTTE 1105",null,"2019-11-20T17:46:46",null,null,"Not assessed","https://viewer.us-3.sharpershape.services/viewer/assets/5ca5a2c6f6b46375f6a04bc0/details","https://viewer.us-3.sharpershape.services/viewer/issues/5ecf8c9834b60c00015ec225/details","high","W12153221N3953178 WYANDOTTE 1105","[GrayPine, Other, MontereyPine]","GrayPine"]
[656,"NORTHERN","NORTH VALLEY","Tier 2-3","102911105 Tier 2-3",102911105,"WYANDOTTE 1105",9.8000000000000007,39.527789999999897,-121.528009999999,null,34.299999999999997,"W12152801N3952779",12,9.6999999999999993,"NO","W12152750N3952825","W12152800N3952774","W12152800N3952774-W12152750N3952825",102911105,"WYANDOTTE 1105",null,"2019-11-20T17:46:46",null,null,"Not assessed","https://viewer.us-3.sharpershape.services/viewer/assets/5ca5a2c6f6b4634ff7a05112/details","https://viewer.us-3.sharpershape.services/viewer/issues/5ecf8c9434b60c00015ec047/details","high","W12152801N3952779 WYANDOTTE 1105","[CoastalLiveOak, DouglasFir, Other]","CoastalLiveOak"]
[657,"NORTHERN","NORTH VALLEY","Tier 0-1","102911105 Tier 0-1",102911105,"WYANDOTTE 1105",4.7,39.523040000000002,-121.512429999999,null,82.7,"W12151243N3952304",3.4,-57.5,"YES","W12151282N3952292","W12151196N3952324","W12151196N3952324-W12151282N3952292",102911105,"WYANDOTTE 1105",null,"2019-11-20T17:46:46","OH",null,"Not assessed","https://viewer.us-3.sharpershape.services/viewer/assets/5ca5a2c6f6b463e9a0a04bb9/details","https://viewer.us-3.sharpershape.services/viewer/issues/5ecf8c98a03e660001310b9f/details","high","W12151243N3952304 WYANDOTTE 1105","[DouglasFir, LiveOak, Other]","DouglasFir"]
[658,"NORTHERN","NORTH VALLEY","Tier 2-3","102911105 Tier 2-3",102911105,"WYANDOTTE 1105",34.1,39.53004,-121.52078,null,78.2,"W12152078N3953004",15.9,-32.399999999999899,"YES","W12152091N3952965","W12152091N3953014","W12152091N3953014-W12152091N3952965",102911105,"WYANDOTTE 1105",null,"2019-11-20T17:46:46",null,null,"Not assessed","https://viewer.us-3.sharpershape.services/viewer/assets/5ca5a2c6f6b46337e8a04a3f/details","https://viewer.us-3.sharpershape.services/viewer/issues/5ecf8c9734b60c00015ec182/details","high","W12152078N3953004 WYANDOTTE 1105","[GrayPine, Other, MontereyPine]","GrayPine"]
[659,"NORTHERN","NORTH VALLEY","Tier 2-3","102911105 Tier 2-3",102911105,"WYANDOTTE 1105",17.3,39.532789999999899,-121.531859999999,null,44,"W12153186N3953279",8.3000000000000007,-12.6,"YES","W12153205N3953285","W12153118N3953282","W12153118N3953282-W12153205N3953285",102911105,"WYANDOTTE 1105",null,"2019-11-20T17:46:46",null,null,"Not assessed","https://viewer.us-3.sharpershape.services/viewer/assets/5ca5a2c6f6b463490aa04d2f/details","https://viewer.us-3.sharpershape.services/viewer/issues/5ecf8c9534b60c00015ec0d1/details","high","W12153186N3953279 WYANDOTTE 1105","[GrayPine, Other, DouglasFir]","GrayPine"]
[660,"NORTHERN","NORTH VALLEY","Tier 2-3","102911105 Tier 2-3",102911105,"WYANDOTTE 1105",23.1,39.530560000000001,-121.536469999999,null,43.399999999999899,"W12153647N3953056",8.3000000000000007,-5.8,"YES","W12153538N3953063","W12153655N3953063","W12153655N3953063-W12153538N3953063",102911105,"WYANDOTTE 1105",null,"2019-11-20T17:46:46",null,null,"Not assessed","https://viewer.us-3.sharpershape.services/viewer/assets/5ca5a2c6f6b4638037a04ab3/details","https://viewer.us-3.sharpershape.services/viewer/issues/5ecf8c95a03e66000131092a/details","high","W12153647N3953056 WYANDOTTE 1105","[GrayPine, DouglasFir, CoastalLiveOak]","GrayPine"]
[661,"NORTHERN","NORTH VALLEY","Tier 2-3","102911105 Tier 2-3",102911105,"WYANDOTTE 1105",21.6999999999999,39.532229999999899,-121.535719999999,null,32,"W12153572N3953223",8.4,6.1,"NO","W12153557N3953230","W12153644N3953230","W12153644N3953230-W12153557N3953230",102911105,"WYANDOTTE 1105",null,"2019-11-20T17:46:46",null,null,"Not assessed","https://viewer.us-3.sharpershape.services/viewer/assets/5ca5a2c6f6b4630717a04d92/details","https://viewer.us-3.sharpershape.services/viewer/issues/5ecf8c97a03e660001310ad2/details","high","W12153572N3953223 WYANDOTTE 1105","[DouglasFir, ValleyOak, GrayPine]","DouglasFir"]
[662,"NORTHERN","NORTH VALLEY","Tier 2-3","102911105 Tier 2-3",102911105,"WYANDOTTE 1105",20.8,39.527229999999903,-121.535269999999,null,77.400000000000006,"W12153527N3952723",5.3,-45.2,"YES","W12153535N3952774","W12153536N3952706","W12153536N3952706-W12153535N3952774",102911105,"WYANDOTTE 1105",null,"2019-11-20T17:46:46","OH",null,"Not assessed","https://viewer.us-3.sharpershape.services/viewer/assets/5ca5a2c6f6b463ada9a04fb0/details","https://viewer.us-3.sharpershape.services/viewer/issues/5ecf8c97a03e660001310a84/details","high","W12153527N3952723 WYANDOTTE 1105","[TanOak, DouglasFir, GrayPine]","TanOak"]
[663,"NORTHERN","NORTH VALLEY","Tier 2-3","102911105 Tier 2-3",102911105,"WYANDOTTE 1105",59.1,39.529979999999902,-121.520139999999,null,77.599999999999994,"W12152014N3952998",46.899999999999899,-5.7,"YES","W12151936N3952926","W12152005N3953021","W12152005N3953021-W12151936N3952926",102911105,"WYANDOTTE 1105",null,"2019-11-20T17:46:46",null,null,"Not assessed","https://viewer.us-3.sharpershape.services/viewer/assets/5ca5a2c6f6b463d94da04bdf/details","https://viewer.us-3.sharpershape.services/viewer/issues/5ecf8c9834b60c00015ec2bd/details","high","W12152014N3952998 WYANDOTTE 1105","[Other, DouglasFir, GrayPine]","Other"]
[664,"NORTHERN","NORTH VALLEY","Tier 2-3","102911105 Tier 2-3",102911105,"WYANDOTTE 1105",58.899999999999899,39.532269999999897,-121.53855,null,69.7,"W12153855N3953227",44.8,-9.8000000000000007,"YES","W12153905N3953243","W12153810N3953244","W12153810N3953244-W12153905N3953243",102911105,"WYANDOTTE 1105",null,"2019-11-20T17:46:46",null,null,"Not assessed","https://viewer.us-3.sharpershape.services/viewer/assets/5ca5a2c6f6b46300cca04f1d/details","https://viewer.us-3.sharpershape.services/viewer/issues/5ecf8c93a03e6600013108b4/details","high","W12153855N3953227 WYANDOTTE 1105","[Other, GrayPine, DouglasFir]","Other"]
[665,"NORTHERN","NORTH VALLEY","Tier 2-3","102911105 Tier 2-3",102911105,"WYANDOTTE 1105",15.3,39.524949999999897,-121.537819999999,null,34,"W12153782N3952495",5.6,-1.7,"YES","W12153745N3952470","W12153809N3952504","W12153809N3952504-W12153745N3952470",102911105,"WYANDOTTE 1105",null,"2019-11-20T17:46:46",null,null,"Not assessed","https://viewer.us-3.sharpershape.services/viewer/assets/5ca5a2c6f6b4638d21a051a2/details","https://viewer.us-3.sharpershape.services/viewer/issues/5ecf8c95a03e660001310934/details","high","W12153782N3952495 WYANDOTTE 1105","[GrayPine, DouglasFir, Other]","GrayPine"]
[666,"NORTHERN","NORTH VALLEY","Tier 2-3","102911105 Tier 2-3",102911105,"WYANDOTTE 1105",75.7,39.525010000000002,-121.538359999999,null,74.900000000000006,"W12153836N3952501",68.5,10,"NO","W12153745N3952470","W12153809N3952504","W12153809N3952504-W12153745N3952470",102911105,"WYANDOTTE 1105",null,"2019-11-20T17:46:46",null,null,"Not assessed","https://viewer.us-3.sharpershape.services/viewer/assets/5ca5a2c6f6b4638d21a051a2/details","https://viewer.us-3.sharpershape.services/viewer/issues/5ecf8c95a03e660001310935/details","high","W12153836N3952501 WYANDOTTE 1105","[GrayPine, MontereyPine, Eucalyptus/BlueGum]","GrayPine"]
[667,"NORTHERN","NORTH VALLEY","Tier 2-3","102911105 Tier 2-3",102911105,"WYANDOTTE 1105",16.6999999999999,39.527639999999899,-121.53542,null,31,"W12153542N3952764",11.5,4.5,"NO","W12153535N3952774","W12153536N3952706","W12153536N3952706-W12153535N3952774",102911105,"WYANDOTTE 1105",null,"2019-11-20T17:46:46",null,null,"Not assessed","https://viewer.us-3.sharpershape.services/viewer/assets/5ca5a2c6f6b463ada9a04fb0/details","https://viewer.us-3.sharpershape.services/viewer/issues/5ecf8c97a03e660001310a76/details","high","W12153542N3952764 WYANDOTTE 1105","[DouglasFir, GrayPine, ValleyOak]","DouglasFir"]
[668,"NORTHERN","NORTH VALLEY","Tier 2-3","102911105 Tier 2-3",102911105,"WYANDOTTE 1105",72.099999999999994,39.67512,-121.495249999999,null,156.4,"W12149525N3967512",59.2,4.4000000000000004,"NO","W12149590N3967413","W12149366N3967635","W12149366N3967635-W12149590N3967413",102911105,"WYANDOTTE 1105",null,"2019-11-20T17:46:46",null,null,"Not assessed","https://viewer.us-3.sharpershape.services/viewer/assets/5ca5a2c6f6b46310cea04dc9/details","https://viewer.us-3.sharpershape.services/viewer/issues/5ecf8c92a03e66000131084d/details","high","W12149525N3967512 WYANDOTTE 1105","[ValleyOak, GrayPine, DouglasFir]","ValleyOak"]
[669,"NORTHERN","NORTH VALLEY","Tier 2-3","102911105 Tier 2-3",102911105,"WYANDOTTE 1105",38.899999999999899,39.529879999999899,-121.523269999999,null,30.8,"W12152327N3952988",11.8,23.8,"NO","W12152284N3952992","W12152351N3952966","W12152351N3952966-W12152284N3952992",102911105,"WYANDOTTE 1105",null,"2019-11-20T17:46:46",null,null,"Not assessed","https://viewer.us-3.sharpershape.services/viewer/assets/5ca5a2c6f6b4635ce1a0510b/details","https://viewer.us-3.sharpershape.services/viewer/issues/5ee2b959a03e66000146e4a4/details","high","W12152327N3952988 WYANDOTTE 1105","[DouglasFir, CoastalLiveOak, MontereyPine]","DouglasFir"]
[670,"NORTHERN","NORTH VALLEY","Tier 2-3","102911105 Tier 2-3",102911105,"WYANDOTTE 1105",9,39.528849999999899,-121.535309999999,null,29.1999999999999,"W12153531N3952885",5.7,3.6,"NO","W12153422N3952882","W12153537N3952882","W12153537N3952882-W12153422N3952882",102911105,"WYANDOTTE 1105",null,"2019-11-20T17:46:46",null,null,"Not assessed","https://viewer.us-3.sharpershape.services/viewer/assets/5ca5a2c6f6b4638913a05099/details","https://viewer.us-3.sharpershape.services/viewer/issues/5ecf8c95a03e660001310965/details","high","W12153531N3952885 WYANDOTTE 1105","[CoastalLiveOak, DouglasFir, Other]","CoastalLiveOak"]
[671,"NORTHERN","NORTH VALLEY","Tier 0-1","102911105 Tier 0-1",102911105,"WYANDOTTE 1105",16.899999999999899,39.523139999999898,-121.512069999999,null,61.1,"W12151207N3952314",6.8,-29.6,"YES","W12151282N3952292","W12151196N3952324","W12151196N3952324-W12151282N3952292",102911105,"WYANDOTTE 1105",null,"2019-11-20T17:46:46","OH",null,"Not assessed","https://viewer.us-3.sharpershape.services/viewer/assets/5ca5a2c6f6b463e9a0a04bb9/details","https://viewer.us-3.sharpershape.services/viewer/issues/5ecf8c98a03e660001310b98/details","high","W12151207N3952314 WYANDOTTE 1105","[DouglasFir, Other, LiveOak]","DouglasFir"]
[672,"NORTHERN","NORTH VALLEY","Tier 0-1","102911105 Tier 0-1",102911105,"WYANDOTTE 1105",39.299999999999997,39.5250699999999,-121.536029999999,null,43,"W12153603N3952507",19.5,5.7,"NO","W12153590N3952523","W12153636N3952510","W12153636N3952510-W12153590N3952523",102911105,"WYANDOTTE 1105",null,"2019-11-20T17:46:46",null,null,"Not assessed","https://viewer.us-3.sharpershape.services/viewer/assets/5ca5a2c6f6b4636365a050d5/details","https://viewer.us-3.sharpershape.services/viewer/issues/5ecf8c9534b60c00015ec0a1/details","high","W12153603N3952507 WYANDOTTE 1105","[DouglasFir, Eucalyptus/BlueGum, CoastalLiveOak]","DouglasFir"]
[673,"NORTHERN","NORTH VALLEY","Tier 2-3","102911105 Tier 2-3",102911105,"WYANDOTTE 1105",69.799999999999898,39.529509999999902,-121.519829999999,null,73.599999999999994,"W12151983N3952951",55.2,8.6999999999999993,"NO","W12151936N3952926","W12152005N3953021","W12152005N3953021-W12151936N3952926",102911105,"WYANDOTTE 1105",null,"2019-11-20T17:46:46",null,null,"Not assessed","https://viewer.us-3.sharpershape.services/viewer/assets/5ca5a2c6f6b463d94da04bdf/details","https://viewer.us-3.sharpershape.services/viewer/issues/5ecf8c9834b60c00015ec2c5/details","high","W12151983N3952951 WYANDOTTE 1105","[GrayPine, Other, CoastalLiveOak]","GrayPine"]
[674,"NORTHERN","NORTH VALLEY","Tier 2-3","102911105 Tier 2-3",102911105,"WYANDOTTE 1105",13.8,39.670429999999897,-121.49705,null,24.4,"W12149705N3967043",12,8.1,"NO","W12149700N3966999","W12149727N3967099","W12149727N3967099-W12149700N3966999",0,"WYANDOTTE 1105",null,"2019-11-20T17:46:46",null,null,"Not assessed","https://viewer.us-3.sharpershape.services/viewer/assets/5ca5a2c6f6b4636b1ca05155/details","https://viewer.us-3.sharpershape.services/viewer/issues/5ecf8c9834b60c00015ec27f/details","high","W12149705N3967043 WYANDOTTE 1105","[MontereyPine, CoastalLiveOak, GrayPine]","MontereyPine"]
[675,"NORTHERN","NORTH VALLEY","Tier 2-3","102911105 Tier 2-3",102911105,"WYANDOTTE 1105",31.8,39.531859999999902,-121.534319999999,null,38,"W12153432N3953186",22,9.8000000000000007,"NO","W12153419N3953172","W12153419N3953235","W12153419N3953235-W12153419N3953172",102911105,"WYANDOTTE 1105",null,"2019-11-20T17:46:46",null,null,"Not assessed","https://viewer.us-3.sharpershape.services/viewer/assets/5ca5a2c6f6b463ef61a04c9e/details","https://viewer.us-3.sharpershape.services/viewer/issues/5ee2b42e34b60c0001746b5b/details","high","W12153432N3953186 WYANDOTTE 1105","[Eucalyptus/BlueGum, DouglasFir, BlackOak]","Eucalyptus/BlueGum"]
[676,"NORTHERN","NORTH VALLEY","Tier 2-3","102911105 Tier 2-3",102911105,"WYANDOTTE 1105",29,39.531610000000001,-121.532229999999,null,64.2,"W12153223N3953161",8.4,-23.8,"YES","W12153206N3953153","W12153261N3953152","W12153261N3953152-W12153206N3953153",102911105,"WYANDOTTE 1105",null,"2019-11-20T17:46:46",null,null,"Not assessed","https://viewer.us-3.sharpershape.services/viewer/assets/5ca5a2c6f6b4636454a04d9a/details","https://viewer.us-3.sharpershape.services/viewer/issues/5ecf8c97a03e660001310a67/details","high","W12153223N3953161 WYANDOTTE 1105","[GrayPine, ValleyOak, MontereyPine]","GrayPine"]
[677,"NORTHERN","NORTH VALLEY","Tier 2-3","102911105 Tier 2-3",102911105,"WYANDOTTE 1105",5.3,39.5312699999999,-121.5391,null,43.3,"W12153910N3953127",4.8,-11.3,"YES","W12153907N3953151","W12153907N3953103","W12153907N3953103-W12153907N3953151",102911105,"WYANDOTTE 1105",null,"2019-11-20T17:46:46",null,null,"Not assessed","https://viewer.us-3.sharpershape.services/viewer/assets/5ca5a2c6f6b46346bca04e9d/details","https://viewer.us-3.sharpershape.services/viewer/issues/5ecf8c94a03e6600013108fe/details","high","W12153910N3953127 WYANDOTTE 1105","[DouglasFir, TanOak, Other]","DouglasFir"]
[678,"NORTHERN","NORTH VALLEY","Tier 2-3","102911105 Tier 2-3",102911105,"WYANDOTTE 1105",21.8,39.525880000000001,-121.5147,null,32.899999999999899,"W12151470N3952588",7.1,5.8,"NO","W12151463N3952642","W12151461N3952559","W12151461N3952559-W12151463N3952642",102911105,"WYANDOTTE 1105",null,"2019-11-20T17:46:46",null,null,"Not assessed","https://viewer.us-3.sharpershape.services/viewer/assets/5d8b1e4455dd6b5e853f3023/details","https://viewer.us-3.sharpershape.services/viewer/issues/5ecf8c99a03e660001310c35/details","high","W12151470N3952588 WYANDOTTE 1105","[DouglasFir, GrayPine, CoastalLiveOak]","DouglasFir"]
[679,"NORTHERN","NORTH VALLEY","Tier 2-3","102911105 Tier 2-3",102911105,"WYANDOTTE 1105",16.899999999999899,39.528929999999903,-121.53530000000001,null,38.6,"W12153530N3952893",9.6999999999999993,0.1,"NO","W12153537N3952882","W12153538N3952985","W12153538N3952985-W12153537N3952882",102911105,"WYANDOTTE 1105",null,"2019-11-20T17:46:46",null,null,"Not assessed","https://viewer.us-3.sharpershape.services/viewer/assets/5ca5a2c6f6b463441aa04ac2/details","https://viewer.us-3.sharpershape.services/viewer/issues/5ecf8c95a03e660001310906/details","high","W12153530N3952893 WYANDOTTE 1105","[CoastalLiveOak, Other, GrayPine]","CoastalLiveOak"]
[680,"NORTHERN","NORTH VALLEY","Tier 2-3","102911105 Tier 2-3",102911105,"WYANDOTTE 1105",0.3,39.522039999999897,-121.538309999999,null,25.3,"W12153831N3952204",3.6,3.9,"NO","W12153812N3952205","W12153891N3952195","W12153891N3952195-W12153812N3952205",102911105,"WYANDOTTE 1105",null,"2019-11-20T17:46:46",null,null,"Not assessed","https://viewer.us-3.sharpershape.services/viewer/assets/5ca5a2c6f6b463d5b0a04bae/details","https://viewer.us-3.sharpershape.services/viewer/issues/5ecf9557a03e660001311f92/details","high","W12153831N3952204 WYANDOTTE 1105","[DouglasFir, CoastalLiveOak, MontereyPine]","DouglasFir"]
[681,"NORTHERN","NORTH VALLEY","Tier 0-1","102911105 Tier 0-1",102911105,"WYANDOTTE 1105",20.399999999999999,39.525149999999897,-121.535939999999,null,43.5,"W12153594N3952515",7.8,-1.9,"YES","W12153590N3952523","W12153636N3952510","W12153636N3952510-W12153590N3952523",102911105,"WYANDOTTE 1105",null,"2019-11-20T17:46:46",null,null,"Not assessed","https://viewer.us-3.sharpershape.services/viewer/assets/5ca5a2c6f6b4636365a050d5/details","https://viewer.us-3.sharpershape.services/viewer/issues/5ecf8c9534b60c00015ec0a2/details","high","W12153594N3952515 WYANDOTTE 1105","[TanOak, GrayPine, Other]","TanOak"]
[682,"NORTHERN","NORTH VALLEY","Tier 2-3","102911105 Tier 2-3",102911105,"WYANDOTTE 1105",46.399999999999899,39.529039999999902,-121.53188,null,57.8,"W12153188N3952904",25.3,1.3,"NO","W12153206N3952881","W12153206N3952972","W12153206N3952972-W12153206N3952881",102911105,"WYANDOTTE 1105",null,"2019-11-20T17:46:46",null,null,"Not assessed","https://viewer.us-3.sharpershape.services/viewer/assets/5ca5a2c6f6b463a605a04c77/details","https://viewer.us-3.sharpershape.services/viewer/issues/5ecf8c9834b60c00015ec29b/details","high","W12153188N3952904 WYANDOTTE 1105","[DouglasFir, GrayPine, Eucalyptus/BlueGum]","DouglasFir"]
[683,"NORTHERN","NORTH VALLEY","Tier 2-3","102911105 Tier 2-3",102911105,"WYANDOTTE 1105",26.4,39.532069999999898,-121.540959999999,null,57.1,"W12154096N3953207",14.4,-11,"YES","W12154086N3953214","W12154084N3953131","W12154084N3953131-W12154086N3953214",102911105,"WYANDOTTE 1105",null,"2019-11-20T17:46:46",null,null,"Not assessed","https://viewer.us-3.sharpershape.services/viewer/assets/5ca5a2c6f6b4630944a04ef1/details","https://viewer.us-3.sharpershape.services/viewer/issues/5ecf8c98a03e660001310b5e/details","high","W12154096N3953207 WYANDOTTE 1105","[GrayPine, MontereyPine, DouglasFir]","GrayPine"]
[684,"NORTHERN","NORTH VALLEY","Tier 2-3","102911105 Tier 2-3",102911105,"WYANDOTTE 1105",21.4,39.5289199999999,-121.5192,null,65.2,"W12151920N3952892",8.9,-17.600000000000001,"YES","W12151911N3952893","W12151936N3952926","W12151936N3952926-W12151911N3952893",102911105,"WYANDOTTE 1105",null,"2019-11-20T17:46:46",null,null,"Not assessed","https://viewer.us-3.sharpershape.services/viewer/assets/5ca5a2c6f6b4635897a04d80/details","https://viewer.us-3.sharpershape.services/viewer/issues/5ecf8c95a03e66000131090e/details","high","W12151920N3952892 WYANDOTTE 1105","[GrayPine, DouglasFir, Other]","GrayPine"]
[685,"NORTHERN","NORTH VALLEY","Tier 2-3","102911105 Tier 2-3",102911105,"WYANDOTTE 1105",14.3,39.5276,-121.51433,null,34.6,"W12151433N3952760",7.9,0.8,"NO","W12151437N3952744","W12151441N3952799","W12151441N3952799-W12151437N3952744",102911105,"WYANDOTTE 1105",null,"2019-11-20T17:46:46",null,null,"Not assessed","https://viewer.us-3.sharpershape.services/viewer/assets/5ca5a2c6f6b463015da04b5c/details","https://viewer.us-3.sharpershape.services/viewer/issues/5ecf8c98a03e660001310b2d/details","high","W12151433N3952760 WYANDOTTE 1105","[CoastalLiveOak, Eucalyptus/BlueGum, DouglasFir]","CoastalLiveOak"]
[686,"NORTHERN","NORTH VALLEY","Tier 2-3","102911105 Tier 2-3",102911105,"WYANDOTTE 1105",5.4,39.672699999999899,-121.49719,null,21.3,"W12149719N3967270",12,5.5,"NO","W12149658N3967347","W12149755N3967217","W12149755N3967217-W12149658N3967347",0,"WYANDOTTE 1105",null,"2019-11-20T17:46:46",null,null,"Not assessed","https://viewer.us-3.sharpershape.services/viewer/assets/5ca5a2c6f6b463d89ea04e5a/details","https://viewer.us-3.sharpershape.services/viewer/issues/5ecf8c9834b60c00015ec2d9/details","high","W12149719N3967270 WYANDOTTE 1105","[MontereyPine, CoastalLiveOak, Eucalyptus/BlueGum]","MontereyPine"]
[687,"NORTHERN","NORTH VALLEY","Tier 2-3","102911105 Tier 2-3",102911105,"WYANDOTTE 1105",3.4,39.529739999999897,-121.531019999999,null,21.4,"W12153102N3952974",12,7,"NO","W12153068N3952972","W12153130N3952973","W12153130N3952973-W12153068N3952972",102911105,"WYANDOTTE 1105",null,"2019-11-20T17:46:46",null,null,"Not assessed","https://viewer.us-3.sharpershape.services/viewer/assets/5ca5a2c6f6b46312f8a05163/details","https://viewer.us-3.sharpershape.services/viewer/issues/5ecf8c99a03e660001310c1d/details","high","W12153102N3952974 WYANDOTTE 1105","[Eucalyptus/BlueGum, Other, CoastalLiveOak]","Eucalyptus/BlueGum"]
[688,"NORTHERN","NORTH VALLEY","Tier 2-3","102911105 Tier 2-3",102911105,"WYANDOTTE 1105",8.1,39.532309999999903,-121.526009999999,null,27.1,"W12152601N3953231",7.4,7.1,"NO","W12152606N3953202","W12152605N3953235","W12152605N3953235-W12152606N3953202",102911105,"WYANDOTTE 1105",null,"2019-11-20T17:46:46",null,null,"Not assessed","https://viewer.us-3.sharpershape.services/viewer/assets/5ca5a2c6f6b4631991a04dcc/details","https://viewer.us-3.sharpershape.services/viewer/issues/5ecfe7bca03e66000133409a/details","high","W12152601N3953231 WYANDOTTE 1105","[TanOak, GrayPine, LiveOak]","TanOak"]
[689,"NORTHERN","NORTH VALLEY","Tier 2-3","102911105 Tier 2-3",102911105,"WYANDOTTE 1105",0.4,39.532429999999898,-121.538659999999,null,60.7,"W12153866N3953243",3.8,-35,"YES","W12153905N3953243","W12153810N3953244","W12153810N3953244-W12153905N3953243",102911105,"WYANDOTTE 1105",null,"2019-11-20T17:46:46","OH",null,"Not assessed","https://viewer.us-3.sharpershape.services/viewer/assets/5ca5a2c6f6b46300cca04f1d/details","https://viewer.us-3.sharpershape.services/viewer/issues/5ecf8c93a03e6600013108a1/details","high","W12153866N3953243 WYANDOTTE 1105","[Other, DouglasFir, MontereyPine]","Other"]
[690,"NORTHERN","NORTH VALLEY","Tier 2-3","102911105 Tier 2-3",102911105,"WYANDOTTE 1105",13.7,39.529339999999898,-121.52563000000001,null,44.7,"W12152563N3952934",6.4,-3.6,"YES","W12152508N3952949","W12152596N3952916","W12152596N3952916-W12152508N3952949",102911105,"WYANDOTTE 1105",null,"2019-11-20T17:46:46",null,null,"Not assessed","https://viewer.us-3.sharpershape.services/viewer/assets/5ca5a2c6f6b4634e80a04ae4/details","https://viewer.us-3.sharpershape.services/viewer/issues/5ecf8c9734b60c00015ec1d9/details","high","W12152563N3952934 WYANDOTTE 1105","[GrayPine, DouglasFir, TanOak]","GrayPine"]
[691,"NORTHERN","NORTH VALLEY","Tier 2-3","102911105 Tier 2-3",102911105,"WYANDOTTE 1105",19.100000000000001,39.531009999999903,-121.536469999999,null,74.599999999999994,"W12153647N3953101",4.5999999999999996,-35.299999999999997,"YES","W12153654N3953103","W12153655N3953063","W12153655N3953063-W12153654N3953103",102911105,"WYANDOTTE 1105",null,"2019-11-20T17:46:46",null,null,"Not assessed","https://viewer.us-3.sharpershape.services/viewer/assets/5ca5a2c6f6b4639202a04d3a/details","https://viewer.us-3.sharpershape.services/viewer/issues/5ecf8c96a03e660001310a24/details","high","W12153647N3953101 WYANDOTTE 1105","[Eucalyptus/BlueGum, DouglasFir, CoastalLiveOak]","Eucalyptus/BlueGum"]
[692,"NORTHERN","NORTH VALLEY","Tier 2-3","102911105 Tier 2-3",102911105,"WYANDOTTE 1105",32.700000000000003,39.528189999999903,-121.51442,null,37.899999999999899,"W12151442N3952819",22.4,9.4,"NO","W12151441N3952799","W12151401N3952860","W12151401N3952860-W12151441N3952799",102911105,"WYANDOTTE 1105",null,"2019-11-20T17:46:46",null,null,"Not assessed","https://viewer.us-3.sharpershape.services/viewer/assets/5ca5a2c6f6b463bdf4a04f50/details","https://viewer.us-3.sharpershape.services/viewer/issues/5ecf8c9534b60c00015ec0e4/details","high","W12151442N3952819 WYANDOTTE 1105","[Other, DouglasFir, GrayPine]","Other"]
[693,"NORTHERN","NORTH VALLEY","Tier 2-3","102911105 Tier 2-3",102911105,"WYANDOTTE 1105",1.4,39.522030000000001,-121.5384,null,13.1,"W12153840N3952203",8.6999999999999993,10.1,"NO","W12153812N3952205","W12153891N3952195","W12153891N3952195-W12153812N3952205",102911105,"WYANDOTTE 1105",null,"2019-11-20T17:46:46",null,null,"Not assessed","https://viewer.us-3.sharpershape.services/viewer/assets/5ca5a2c6f6b463d5b0a04bae/details","https://viewer.us-3.sharpershape.services/viewer/issues/5ecf9557a03e660001311fa0/details","high","W12153840N3952203 WYANDOTTE 1105"]
[694,"NORTHERN","NORTH VALLEY","Tier 2-3","102911105 Tier 2-3",102911105,"WYANDOTTE 1105",47.399999999999899,39.539499999999997,-121.542439999999,null,69.7,"W12154244N3953950",32,-22.1999999999999,"YES","W12154261N3953987","W12154263N3953924","W12154263N3953924-W12154261N3953987",102911105,"WYANDOTTE 1105",null,"2019-11-20T17:46:46",null,null,"Not assessed","https://viewer.us-3.sharpershape.services/viewer/assets/5ca5a2c6f6b4637988a04a3e/details","https://viewer.us-3.sharpershape.services/viewer/issues/5ecf8c93a03e660001310876/details","high","W12154244N3953950 WYANDOTTE 1105","[DouglasFir, Other, GrayPine]","DouglasFir"]
[695,"NORTHERN","NORTH VALLEY","Tier 2-3","102911105 Tier 2-3",102911105,"WYANDOTTE 1105",36.1,39.528669999999899,-121.52673,null,38.200000000000003,"W12152673N3952867",16.8,6.7,"NO","W12152680N3952875","W12152750N3952825","W12152750N3952825-W12152680N3952875",102911105,"WYANDOTTE 1105",null,"2019-11-20T17:46:46",null,null,"Not assessed","https://viewer.us-3.sharpershape.services/viewer/assets/5ca5a2c6f6b46337c2a04be5/details","https://viewer.us-3.sharpershape.services/viewer/issues/5ecf8c9634b60c00015ec0e8/details","high","W12152673N3952867 WYANDOTTE 1105","[GrayPine, MontereyPine, Eucalyptus/BlueGum]","GrayPine"]
[696,"NORTHERN","NORTH VALLEY","Tier 2-3","102911105 Tier 2-3",102911105,"WYANDOTTE 1105",37,39.531210000000002,-121.51876,null,54.6,"W12151876N3953121",5.6,-3.1,"YES","W12151868N3953111","W12151822N3953157","W12151822N3953157-W12151868N3953111",102911105,"WYANDOTTE 1105",null,"2019-11-20T17:46:46",null,null,"Not assessed","https://viewer.us-3.sharpershape.services/viewer/assets/5ca5a2c6f6b4630821a04f40/details","https://viewer.us-3.sharpershape.services/viewer/issues/5ecf8c9334b60c00015ec019/details","high","W12151876N3953121 WYANDOTTE 1105","[Other, DouglasFir, TanOak]","Other"]
[697,"NORTHERN","NORTH VALLEY","Tier 2-3","102911105 Tier 2-3",102911105,"WYANDOTTE 1105",0.1,39.529719999999898,-121.53219,null,25.6,"W12153219N3952972",6.4,6.5,"NO","W12153206N3952972","W12153284N3952973","W12153284N3952973-W12153206N3952972",102911105,"WYANDOTTE 1105",null,"2019-11-20T17:46:46",null,null,"Not assessed","https://viewer.us-3.sharpershape.services/viewer/assets/5ca5a2c6f6b4630785a04d19/details","https://viewer.us-3.sharpershape.services/viewer/issues/5ecf955ea03e660001311fca/details","high","W12153219N3952972 WYANDOTTE 1105"]
[698,"NORTHERN","NORTH VALLEY","Tier 2-3","102911105 Tier 2-3",102911105,"WYANDOTTE 1105",14.5,39.531489999999899,-121.53175,null,31.1999999999999,"W12153175N3953149",5.5,-2.2000000000000002,"YES","W12153206N3953153","W12153147N3953155","W12153147N3953155-W12153206N3953153",102911105,"WYANDOTTE 1105",null,"2019-11-20T17:46:46",null,null,"Not assessed","https://viewer.us-3.sharpershape.services/viewer/assets/5ca5a2c6f6b4635ba4a04c32/details","https://viewer.us-3.sharpershape.services/viewer/issues/5ecf8c96a03e660001310993/details","high","W12153175N3953149 WYANDOTTE 1105","[GrayPine, ValleyOak, DouglasFir]","GrayPine"]
[699,"NORTHERN","NORTH VALLEY","Tier 2-3","102911105 Tier 2-3",102911105,"WYANDOTTE 1105",0.5,39.532849999999897,-121.536869999999,null,31.8,"W12153687N3953285",4.3,4.8,"NO","W12153713N3953284","W12153655N3953283","W12153655N3953283-W12153713N3953284",102911105,"WYANDOTTE 1105",null,"2019-11-20T17:46:46",null,null,"Not assessed","https://viewer.us-3.sharpershape.services/viewer/assets/5ca5a2c6f6b46315baa04b02/details","https://viewer.us-3.sharpershape.services/viewer/issues/5ecf956a34b60c00015ed85e/details","high","W12153687N3953285 WYANDOTTE 1105","[CoastalLiveOak, DouglasFir, Other]","CoastalLiveOak"]
[700,"NORTHERN","NORTH VALLEY","Tier 2-3","102911105 Tier 2-3",102911105,"WYANDOTTE 1105",6,39.531379999999899,-121.532029999999,null,46.6,"W12153203N3953138",3.8,-19.1999999999999,"YES","W12153206N3953153","W12153207N3953097","W12153207N3953097-W12153206N3953153",102911105,"WYANDOTTE 1105",null,"2019-11-20T17:46:46","OH",null,"Not assessed","https://viewer.us-3.sharpershape.services/viewer/assets/5ca5a2c6f6b463f9cfa04c7e/details","https://viewer.us-3.sharpershape.services/viewer/issues/5ecf8c98a03e660001310b38/details","high","W12153203N3953138 WYANDOTTE 1105","[GrayPine, DouglasFir, MontereyPine]","GrayPine"]
[701,"NORTHERN","NORTH VALLEY","Tier 0-1","102911105 Tier 0-1",102911105,"WYANDOTTE 1105",18.3,39.525749999999903,-121.535439999999,null,41.5,"W12153544N3952575",6.1,-3.4,"YES","W12153537N3952537","W12153537N3952598","W12153537N3952598-W12153537N3952537",102911105,"WYANDOTTE 1105",null,"2019-11-20T17:46:46",null,null,"Not assessed","https://viewer.us-3.sharpershape.services/viewer/assets/5ca5a2c6f6b4634b85a04d18/details","https://viewer.us-3.sharpershape.services/viewer/issues/5ecf8c97a03e660001310aff/details","high","W12153544N3952575 WYANDOTTE 1105","[Other, CoastalLiveOak, DouglasFir]","Other"]
[702,"NORTHERN","NORTH VALLEY","Tier 2-3","102911105 Tier 2-3",102911105,"WYANDOTTE 1105",5.7,39.5322999999999,-121.539079999999,null,26.6999999999999,"W12153908N3953230",5.3,5.2,"NO","W12153905N3953243","W12153907N3953193","W12153907N3953193-W12153905N3953243",102911105,"WYANDOTTE 1105",null,"2019-11-20T17:46:46",null,null,"Not assessed","https://viewer.us-3.sharpershape.services/viewer/assets/5ca5a2c6f6b46326f9a04de3/details","https://viewer.us-3.sharpershape.services/viewer/issues/5ecf8c9934b60c00015ec362/details","high","W12153908N3953230 WYANDOTTE 1105","[DouglasFir, GrayPine, LiveOak]","DouglasFir"]
[703,"NORTHERN","NORTH VALLEY","Tier 0-1","102911105 Tier 0-1",102911105,"WYANDOTTE 1105",73.799999999999898,39.525079999999903,-121.53564,null,67.799999999999898,"W12153564N3952508",57.2,8.4,"NO","W12153537N3952537","W12153590N3952523","W12153590N3952523-W12153537N3952537",102911105,"WYANDOTTE 1105",null,"2019-11-20T17:46:46",null,null,"Not assessed","https://viewer.us-3.sharpershape.services/viewer/assets/5ca5a2c6f6b4631c28a0517f/details","https://viewer.us-3.sharpershape.services/viewer/issues/5ecf8c90a03e6600013107fe/details","high","W12153564N3952508 WYANDOTTE 1105","[Other, CoastalLiveOak, DouglasFir]","Other"]
[704,"NORTHERN","NORTH VALLEY","Tier 2-3","102911105 Tier 2-3",102911105,"WYANDOTTE 1105",26.1,39.532400000000003,-121.53479,null,32.700000000000003,"W12153479N3953240",15.9,0,"NO","W12153557N3953230","W12153419N3953235","W12153419N3953235-W12153557N3953230",102911105,"WYANDOTTE 1105",null,"2019-11-20T17:46:46",null,null,"Not assessed","https://viewer.us-3.sharpershape.services/viewer/assets/5ca5a2c6f6b463191ca04d93/details","https://viewer.us-3.sharpershape.services/viewer/issues/5ee2b430a03e66000146e438/details","high","W12153479N3953240 WYANDOTTE 1105","[DouglasFir, LiveOak, CoastalLiveOak]","DouglasFir"]
[705,"NORTHERN","NORTH VALLEY","Tier 2-3","102911105 Tier 2-3",102911105,"WYANDOTTE 1105",25,39.5325899999999,-121.5343,null,35,"W12153430N3953259",8,3.6,"NO","W12153419N3953235","W12153421N3953300","W12153421N3953300-W12153419N3953235",102911105,"WYANDOTTE 1105",null,"2019-11-20T17:46:46",null,null,"Not assessed","https://viewer.us-3.sharpershape.services/viewer/assets/5ca5a2c6f6b4635c05a05132/details","https://viewer.us-3.sharpershape.services/viewer/issues/5ee2b42f34b60c0001746b5e/details","high","W12153430N3953259 WYANDOTTE 1105","[LiveOak, MontereyPine, GrayPine]","LiveOak"]
[706,"NORTHERN","NORTH VALLEY","Tier 2-3","102911105 Tier 2-3",102911105,"WYANDOTTE 1105",55.5,39.529309999999903,-121.519149999999,null,58.3,"W12151915N3952931",34.399999999999899,5.6,"NO","W12151911N3952893","W12151936N3952926","W12151936N3952926-W12151911N3952893",102911105,"WYANDOTTE 1105",null,"2019-11-20T17:46:46",null,null,"Not assessed","https://viewer.us-3.sharpershape.services/viewer/assets/5ca5a2c6f6b4635897a04d80/details","https://viewer.us-3.sharpershape.services/viewer/issues/5ecf8c95a03e66000131090c/details","high","W12151915N3952931 WYANDOTTE 1105","[GrayPine, DouglasFir, TanOak]","GrayPine"]
[707,"NORTHERN","NORTH VALLEY","Tier 2-3","102911105 Tier 2-3",102911105,"WYANDOTTE 1105",28.8,39.532889999999902,-121.538479999999,null,57.8,"W12153848N3953289",12.7,-10.199999999999999,"YES","W12153906N3953282","W12153848N3953281","W12153848N3953281-W12153906N3953282",102911105,"WYANDOTTE 1105",null,"2019-11-20T17:46:46",null,null,"Not assessed","https://viewer.us-3.sharpershape.services/viewer/assets/5ca5a2c6f6b46324baa04ba9/details","https://viewer.us-3.sharpershape.services/viewer/issues/5ecf8c9934b60c00015ec328/details","high","W12153848N3953289 WYANDOTTE 1105","[DouglasFir, GrayPine, TanOak]","DouglasFir"]
[708,"NORTHERN","NORTH VALLEY","Tier 2-3","102911105 Tier 2-3",102911105,"WYANDOTTE 1105",35.899999999999899,39.53002,-121.519759999999,null,43.6,"W12151976N3953002",10.199999999999999,5.3,"NO","W12151936N3952926","W12152005N3953021","W12152005N3953021-W12151936N3952926",102911105,"WYANDOTTE 1105",null,"2019-11-20T17:46:46",null,null,"Not assessed","https://viewer.us-3.sharpershape.services/viewer/assets/5ca5a2c6f6b463d94da04bdf/details","https://viewer.us-3.sharpershape.services/viewer/issues/5ecf8c9834b60c00015ec2ac/details","high","W12151976N3953002 WYANDOTTE 1105","[DouglasFir, Eucalyptus/BlueGum, CoastalLiveOak]","DouglasFir"]
[709,"NORTHERN","NORTH VALLEY","Tier 0-1","102911105 Tier 0-1",102911105,"WYANDOTTE 1105",33.899999999999899,39.523689999999903,-121.511259999999,null,36.200000000000003,"W12151126N3952369",8.1,20.100000000000001,"NO","W12151196N3952324","W12151119N3952361","W12151119N3952361-W12151196N3952324",102911105,"WYANDOTTE 1105",null,"2019-11-20T17:46:46",null,null,"Not assessed","https://viewer.us-3.sharpershape.services/viewer/assets/5ca5a2c6f6b4638f7da04e40/details","https://viewer.us-3.sharpershape.services/viewer/issues/5ecf9574a03e660001312062/details","high","W12151126N3952369 WYANDOTTE 1105","[DouglasFir, LiveOak, Other]","DouglasFir"]
[710,"NORTHERN","NORTH VALLEY","Tier 2-3","102911105 Tier 2-3",102911105,"WYANDOTTE 1105",35.399999999999899,39.528379999999899,-121.514009999999,null,39.299999999999997,"W12151401N3952838",18.8,6,"NO","W12151441N3952799","W12151401N3952860","W12151401N3952860-W12151441N3952799",102911105,"WYANDOTTE 1105",null,"2019-11-20T17:46:46",null,null,"Not assessed","https://viewer.us-3.sharpershape.services/viewer/assets/5ca5a2c6f6b463bdf4a04f50/details","https://viewer.us-3.sharpershape.services/viewer/issues/5ecf8c9534b60c00015ec0e3/details","high","W12151401N3952838 WYANDOTTE 1105"]
[711,"NORTHERN","NORTH VALLEY","Tier 2-3","102911105 Tier 2-3",102911105,"WYANDOTTE 1105",24.4,39.528700000000001,-121.520489999999,null,85.1,"W12152049N3952870",8.4,-39.700000000000003,"YES","W12152014N3952914","W12152053N3952877","W12152053N3952877-W12152014N3952914",102911105,"WYANDOTTE 1105",null,"2019-11-20T17:46:46","OH",null,"Not assessed","https://viewer.us-3.sharpershape.services/viewer/assets/5ca5a2c6f6b463d0f3a04a55/details","https://viewer.us-3.sharpershape.services/viewer/issues/5ecf8c9734b60c00015ec204/details","high","W12152049N3952870 WYANDOTTE 1105","[GrayPine, CoastalLiveOak, Other]","GrayPine"]
[712,"NORTHERN","NORTH VALLEY","Tier 2-3","102911105 Tier 2-3",102911105,"WYANDOTTE 1105",47.7,39.5298599999999,-121.531409999999,null,52.3,"W12153141N3952986",31.1,6.1,"NO","W12153130N3952973","W12153206N3952972","W12153206N3952972-W12153130N3952973",102911105,"WYANDOTTE 1105",null,"2019-11-20T17:46:46",null,null,"Not assessed","https://viewer.us-3.sharpershape.services/viewer/assets/5ca5a2c6f6b4637225a0510d/details","https://viewer.us-3.sharpershape.services/viewer/issues/5ecf8c9634b60c00015ec136/details","high","W12153141N3952986 WYANDOTTE 1105","[Other, GrayPine, DouglasFir]","Other"]
[713,"NORTHERN","NORTH VALLEY","Tier 2-3","102911105 Tier 2-3",102911105,"WYANDOTTE 1105",14.2,39.52543,-121.537329999999,null,29.6999999999999,"W12153733N3952543",12,3.3,"NO","W12153742N3952569","W12153709N3952512","W12153709N3952512-W12153742N3952569",102911105,"WYANDOTTE 1105",null,"2019-11-20T17:46:46",null,null,"Not assessed","https://viewer.us-3.sharpershape.services/viewer/assets/5ca5a2c6f6b4633f70a04d23/details","https://viewer.us-3.sharpershape.services/viewer/issues/5ecf8c9234b60c00015ebff6/details","high","W12153733N3952543 WYANDOTTE 1105","[GrayPine, Eucalyptus/BlueGum, DouglasFir]","GrayPine"]
[714,"NORTHERN","NORTH VALLEY","Tier 2-3","102911105 Tier 2-3",102911105,"WYANDOTTE 1105",67.2,39.5287399999999,-121.520769999999,null,64.900000000000006,"W12152077N3952874",61.6,8.6,"NO","W12152014N3952914","W12152053N3952877","W12152053N3952877-W12152014N3952914",102911105,"WYANDOTTE 1105",null,"2019-11-20T17:46:46",null,null,"Not assessed","https://viewer.us-3.sharpershape.services/viewer/assets/5ca5a2c6f6b463d0f3a04a55/details","https://viewer.us-3.sharpershape.services/viewer/issues/5ecf8c9734b60c00015ec205/details","high","W12152077N3952874 WYANDOTTE 1105","[GrayPine, Other, MontereyPine]","GrayPine"]
[715,"NORTHERN","NORTH VALLEY","Tier 2-3","102911105 Tier 2-3",102911105,"WYANDOTTE 1105",44.6,39.527119999999897,-121.529089999999,null,69.5,"W12152909N3952712",25.1999999999999,-17,"YES","W12152907N3952726","W12152971N3952716","W12152971N3952716-W12152907N3952726",102911105,"WYANDOTTE 1105",null,"2019-11-20T17:46:46",null,null,"Not assessed","https://viewer.us-3.sharpershape.services/viewer/assets/5ca5a2c6f6b4635805a04cab/details","https://viewer.us-3.sharpershape.services/viewer/issues/5ecf8c9734b60c00015ec1ec/details","high","W12152909N3952712 WYANDOTTE 1105","[GrayPine, Other, MontereyPine]","GrayPine"]
[716,"NORTHERN","NORTH VALLEY","Tier 2-3","102911105 Tier 2-3",102911105,"WYANDOTTE 1105",12,39.52722,-121.535409999999,null,25.6,"W12153541N3952722",5.8,4.3,"NO","W12153535N3952774","W12153536N3952706","W12153536N3952706-W12153535N3952774",102911105,"WYANDOTTE 1105",null,"2019-11-20T17:46:46",null,null,"Not assessed","https://viewer.us-3.sharpershape.services/viewer/assets/5ca5a2c6f6b463ada9a04fb0/details","https://viewer.us-3.sharpershape.services/viewer/issues/5ecf8c97a03e660001310a7f/details","high","W12153541N3952722 WYANDOTTE 1105","[Eucalyptus/BlueGum, Other, GrayPine]","Eucalyptus/BlueGum"]
[717,"NORTHERN","NORTH VALLEY","Tier 2-3","102911105 Tier 2-3",102911105,"WYANDOTTE 1105",15.5,39.525819999999896,-121.5213,null,22.4,"W12152130N3952582",10.4,7.2,"NO","W12152123N3952539","W12152124N3952614","W12152124N3952614-W12152123N3952539",102911105,"WYANDOTTE 1105",null,"2019-11-20T17:46:46",null,null,"Not assessed","https://viewer.us-3.sharpershape.services/viewer/assets/5ca5a2c6f6b46335f7a04ffc/details","https://viewer.us-3.sharpershape.services/viewer/issues/5ecf8c95a03e660001310912/details","high","W12152130N3952582 WYANDOTTE 1105","[GrayPine, LiveOak, TanOak]","GrayPine"]
[718,"NORTHERN","NORTH VALLEY","Tier 2-3","102911105 Tier 2-3",102911105,"WYANDOTTE 1105",49.6,39.528700000000001,-121.520679999999,null,98.9,"W12152068N3952870",38.6,-39.899999999999899,"YES","W12152014N3952914","W12152053N3952877","W12152053N3952877-W12152014N3952914",102911105,"WYANDOTTE 1105",null,"2019-11-20T17:46:46",null,null,"Not assessed","https://viewer.us-3.sharpershape.services/viewer/assets/5ca5a2c6f6b463d0f3a04a55/details","https://viewer.us-3.sharpershape.services/viewer/issues/5ecf8c9734b60c00015ec20e/details","high","W12152068N3952870 WYANDOTTE 1105","[GrayPine, DouglasFir, Other]","GrayPine"]
[719,"NORTHERN","NORTH VALLEY","Tier 2-3","102911105 Tier 2-3",102911105,"WYANDOTTE 1105",25.9,39.530719999999903,-121.53897000000001,null,45.2,"W12153897N3953072",9,-8.5,"YES","W12153907N3953103","W12153908N3953063","W12153908N3953063-W12153907N3953103",102911105,"WYANDOTTE 1105",null,"2019-11-20T17:46:46",null,null,"Not assessed","https://viewer.us-3.sharpershape.services/viewer/assets/5ca5a2c6f6b463538ea050f7/details","https://viewer.us-3.sharpershape.services/viewer/issues/5ecf8c9734b60c00015ec1d3/details","high","W12153897N3953072 WYANDOTTE 1105","[GrayPine, DouglasFir, Eucalyptus/BlueGum]","GrayPine"]
[720,"NORTHERN","NORTH VALLEY","Tier 2-3","102911105 Tier 2-3",102911105,"WYANDOTTE 1105",20.8,39.530290000000001,-121.53215,null,32.200000000000003,"W12153215N3953029",6.6,6.7,"NO","W12153206N3953048","W12153206N3953018","W12153206N3953018-W12153206N3953048",102911105,"WYANDOTTE 1105",null,"2019-11-20T17:46:46",null,null,"Not assessed","https://viewer.us-3.sharpershape.services/viewer/assets/5ca5a2c6f6b463534ca04e23/details","https://viewer.us-3.sharpershape.services/viewer/issues/5ecf8c94a03e6600013108db/details","high","W12153215N3953029 WYANDOTTE 1105","[Eucalyptus/BlueGum, DouglasFir, GrayPine]","Eucalyptus/BlueGum"]
[721,"NORTHERN","NORTH VALLEY","Tier 2-3","102911105 Tier 2-3",102911105,"WYANDOTTE 1105",18.100000000000001,39.531599999999997,-121.536609999999,null,45.8,"W12153661N3953160",5.3,-8.6999999999999993,"YES","W12153692N3953153","W12153654N3953154","W12153654N3953154-W12153692N3953153",102911105,"WYANDOTTE 1105",null,"2019-11-20T17:46:46","OH",null,"Not assessed","https://viewer.us-3.sharpershape.services/viewer/assets/5ca5a2c6f6b4632f74a05091/details","https://viewer.us-3.sharpershape.services/viewer/issues/5ecf8c94a03e6600013108f8/details","high","W12153661N3953160 WYANDOTTE 1105","[CoastalLiveOak, Eucalyptus/BlueGum, DouglasFir]","CoastalLiveOak"]
[722,"NORTHERN","NORTH VALLEY","Tier 2-3","102911105 Tier 2-3",102911105,"WYANDOTTE 1105",13.6,39.532879999999899,-121.53673000000001,null,51.899999999999899,"W12153673N3953288",7.6,-17.1999999999999,"YES","W12153713N3953284","W12153655N3953283","W12153655N3953283-W12153713N3953284",102911105,"WYANDOTTE 1105",null,"2019-11-20T17:46:46","OH",null,"Not assessed","https://viewer.us-3.sharpershape.services/viewer/assets/5ca5a2c6f6b46315baa04b02/details","https://viewer.us-3.sharpershape.services/viewer/issues/5ecf8c98a03e660001310bd2/details","high","W12153673N3953288 WYANDOTTE 1105","[DouglasFir, CoastalLiveOak, Other]","DouglasFir"]
[723,"NORTHERN","NORTH VALLEY","Tier 2-3","102911105 Tier 2-3",102911105,"WYANDOTTE 1105",10.9,39.53004,-121.53211,null,36.299999999999997,"W12153211N3953004",5.7,-3.2,"YES","W12153206N3953018","W12153206N3952972","W12153206N3952972-W12153206N3953018",102911105,"WYANDOTTE 1105",null,"2019-11-20T17:46:46",null,null,"Not assessed","https://viewer.us-3.sharpershape.services/viewer/assets/5ca5a2c6f6b4636702a04ca2/details","https://viewer.us-3.sharpershape.services/viewer/issues/5ecf8c9734b60c00015ec1f8/details","high","W12153211N3953004 WYANDOTTE 1105","[CoastalLiveOak, GrayPine, Other]","CoastalLiveOak"]
[724,"NORTHERN","NORTH VALLEY","Tier 2-3","102911105 Tier 2-3",102911105,"WYANDOTTE 1105",19.100000000000001,39.527180000000001,-121.529179999999,null,43.5,"W12152918N3952718",8.4,-6.2,"YES","W12152907N3952726","W12152971N3952716","W12152971N3952716-W12152907N3952726",102911105,"WYANDOTTE 1105",null,"2019-11-20T17:46:46",null,null,"Not assessed","https://viewer.us-3.sharpershape.services/viewer/assets/5ca5a2c6f6b4635805a04cab/details","https://viewer.us-3.sharpershape.services/viewer/issues/5ecf8c9734b60c00015ec1e3/details","high","W12152918N3952718 WYANDOTTE 1105","[DouglasFir, GrayPine, Other]","DouglasFir"]
[725,"NORTHERN","NORTH VALLEY","Tier 2-3","102911105 Tier 2-3",102911105,"WYANDOTTE 1105",14.5,39.672649999999898,-121.49727,null,26.8,"W12149727N3967265",11.9,4.8,"NO","W12149658N3967347","W12149755N3967217","W12149755N3967217-W12149658N3967347",0,"WYANDOTTE 1105",null,"2019-11-20T17:46:46",null,null,"Not assessed","https://viewer.us-3.sharpershape.services/viewer/assets/5ca5a2c6f6b463d89ea04e5a/details","https://viewer.us-3.sharpershape.services/viewer/issues/5ecf8c9834b60c00015ec2dc/details","high","W12149727N3967265 WYANDOTTE 1105"]
[726,"NORTHERN","NORTH VALLEY","Tier 0-1","102911105 Tier 0-1",102911105,"WYANDOTTE 1105",14.3,39.523579999999903,-121.511369999999,null,40.200000000000003,"W12151137N3952358",4.0999999999999996,-5.4,"YES","W12151196N3952324","W12151119N3952361","W12151119N3952361-W12151196N3952324",102911105,"WYANDOTTE 1105",null,"2019-11-20T17:46:46",null,null,"Not assessed","https://viewer.us-3.sharpershape.services/viewer/assets/5ca5a2c6f6b4638f7da04e40/details","https://viewer.us-3.sharpershape.services/viewer/issues/5ecf8c9634b60c00015ec11c/details","high","W12151137N3952358 WYANDOTTE 1105","[LiveOak, ValleyOak, GrayPine]","LiveOak"]
[727,"NORTHERN","NORTH VALLEY","Tier 2-3","102911105 Tier 2-3",102911105,"WYANDOTTE 1105",13.9,39.5281799999999,-121.5354,null,25.9,"W12153540N3952818",8,9.6999999999999993,"NO","W12153535N3952774","W12153534N3952830","W12153534N3952830-W12153535N3952774",102911105,"WYANDOTTE 1105",null,"2019-11-20T17:46:46",null,null,"Not assessed","https://viewer.us-3.sharpershape.services/viewer/assets/5ca5a2c6f6b463c1eea04ac0/details","https://viewer.us-3.sharpershape.services/viewer/issues/5ecf8c96a03e660001310984/details","high","W12153540N3952818 WYANDOTTE 1105","[CoastalLiveOak, Eucalyptus/BlueGum, DouglasFir]","CoastalLiveOak"]
[728,"NORTHERN","NORTH VALLEY","Tier 0-1","102911105 Tier 0-1",102911105,"WYANDOTTE 1105",4.7,39.523869999999903,-121.515879999999,null,36.299999999999997,"W12151588N3952387",5.9,1.8,"NO","W12151594N3952384","W12151549N3952385","W12151549N3952385-W12151594N3952384",102911105,"WYANDOTTE 1105",null,"2019-11-20T17:46:46",null,null,"Not assessed","https://viewer.us-3.sharpershape.services/viewer/assets/5ca5a2c6f6b46350b6a05139/details","https://viewer.us-3.sharpershape.services/viewer/issues/5ecf8c96a03e660001310a2c/details","high","W12151588N3952387 WYANDOTTE 1105","[DouglasFir, GrayPine, Other]","DouglasFir"]
[729,"NORTHERN","NORTH VALLEY","Tier 2-3","102911105 Tier 2-3",102911105,"WYANDOTTE 1105",36.1,39.528120000000001,-121.53216999999999,null,28,"W12153217N3952812",8.4,20.399999999999999,"NO","W12153205N3952846","W12153203N3952790","W12153203N3952790-W12153205N3952846",102911105,"WYANDOTTE 1105",null,"2019-11-20T17:46:46",null,null,"Not assessed","https://viewer.us-3.sharpershape.services/viewer/assets/5ca5a2c6f6b463f261a051d0/details","https://viewer.us-3.sharpershape.services/viewer/issues/5ecf8f21a03e660001311390/details","high","W12153217N3952812 WYANDOTTE 1105","[ValleyOak, Other, DouglasFir]","ValleyOak"]
[730,"NORTHERN","NORTH VALLEY","Tier 2-3","102911105 Tier 2-3",102911105,"WYANDOTTE 1105",16.6999999999999,39.531680000000001,-121.53660000000001,null,47,"W12153660N3953168",6.5,-10.5,"YES","W12153654N3953154","W12153655N3953211","W12153655N3953211-W12153654N3953154",102911105,"WYANDOTTE 1105",null,"2019-11-20T17:46:46",null,null,"Not assessed","https://viewer.us-3.sharpershape.services/viewer/assets/5ca5a2c6f6b463875ba04bda/details","https://viewer.us-3.sharpershape.services/viewer/issues/5ecf8c9534b60c00015ec08d/details","high","W12153660N3953168 WYANDOTTE 1105","[CoastalLiveOak, Other, ValleyOak]","CoastalLiveOak"]
[731,"NORTHERN","NORTH VALLEY","Tier 2-3","102911105 Tier 2-3",102911105,"WYANDOTTE 1105",0,39.53002,-121.522329999999,null,21.3,"W12152233N3953002",7.5,7.5,"NO","W12152284N3952992","W12152184N3953012","W12152184N3953012-W12152284N3952992",102911105,"WYANDOTTE 1105",null,"2019-11-20T17:46:46",null,null,"Not assessed","https://viewer.us-3.sharpershape.services/viewer/assets/5ca5a2c6f6b4639636a0497c/details","https://viewer.us-3.sharpershape.services/viewer/issues/5ee2b979a03e66000146e4c2/details","high","W12152233N3953002 WYANDOTTE 1105","[DouglasFir, Other, MontereyPine]","DouglasFir"]
[732,"NORTHERN","NORTH VALLEY","Tier 2-3","102911105 Tier 2-3",102911105,"WYANDOTTE 1105",17.6999999999999,39.535550000000001,-121.54246000000001,null,39.200000000000003,"W12154246N3953555",6.8,2.7,"NO","W12154242N3953570","W12154230N3953520","W12154230N3953520-W12154242N3953570",102911105,"WYANDOTTE 1105",null,"2019-11-20T17:46:46",null,null,"Not assessed","https://viewer.us-3.sharpershape.services/viewer/assets/5ca5a2c6f6b463392ea051c1/details","https://viewer.us-3.sharpershape.services/viewer/issues/5ecf8c9734b60c00015ec1ca/details","high","W12154246N3953555 WYANDOTTE 1105","[TanOak, CoastalLiveOak, Other]","TanOak"]
[733,"NORTHERN","NORTH VALLEY","Tier 2-3","102911105 Tier 2-3",102911105,"WYANDOTTE 1105",22.3,39.528889999999897,-121.535169999999,null,32.6,"W12153517N3952889",7.2,4.7,"NO","W12153422N3952882","W12153537N3952882","W12153537N3952882-W12153422N3952882",102911105,"WYANDOTTE 1105",null,"2019-11-20T17:46:46",null,null,"Not assessed","https://viewer.us-3.sharpershape.services/viewer/assets/5ca5a2c6f6b4638913a05099/details","https://viewer.us-3.sharpershape.services/viewer/issues/5ecf8c95a03e660001310960/details","high","W12153517N3952889 WYANDOTTE 1105","[GrayPine, DouglasFir, Other]","GrayPine"]
[734,"NORTHERN","NORTH VALLEY","Tier 0-1","102911105 Tier 0-1",102911105,"WYANDOTTE 1105",16.100000000000001,39.524479999999897,-121.522549999999,null,48.2,"W12152255N3952448",8.8000000000000007,-18.6999999999999,"YES","W12152293N3952453","W12152223N3952454","W12152223N3952454-W12152293N3952453",102911105,"WYANDOTTE 1105",null,"2019-11-20T17:46:46","OH",null,"Not assessed","https://viewer.us-3.sharpershape.services/viewer/assets/5ca5a2c6f6b4634c38a04c9a/details","https://viewer.us-3.sharpershape.services/viewer/issues/5ecf8c9634b60c00015ec0ff/details","high","W12152255N3952448 WYANDOTTE 1105","[DouglasFir, Other, GrayPine]","DouglasFir"]
[735,"NORTHERN","NORTH VALLEY","Tier 2-3","102911105 Tier 2-3",102911105,"WYANDOTTE 1105",31.1,39.529409999999899,-121.524929999999,null,42.399999999999899,"W12152493N3952941",14.7,-1.2,"YES","W12152414N3952959","W12152508N3952949","W12152508N3952949-W12152414N3952959",102911105,"WYANDOTTE 1105",null,"2019-11-20T17:46:46",null,null,"Not assessed","https://viewer.us-3.sharpershape.services/viewer/assets/5ca5a2c6f6b4633d64a04cf9/details","https://viewer.us-3.sharpershape.services/viewer/issues/5ee2b4c3a03e66000146e459/details","high","W12152493N3952941 WYANDOTTE 1105","[Eucalyptus/BlueGum, MontereyPine, TanOak]","Eucalyptus/BlueGum"]
[736,"NORTHERN","NORTH VALLEY","Tier 0-1","102911105 Tier 0-1",102911105,"WYANDOTTE 1105",23.3,39.525239999999897,-121.532759999999,null,23,"W12153276N3952524",10.5,22.5,"NO","W12153312N3952549","W12153279N3952515","W12153279N3952515-W12153312N3952549",102911105,"WYANDOTTE 1105",null,"2019-11-20T17:46:46",null,null,"Not assessed","https://viewer.us-3.sharpershape.services/viewer/assets/5ca5a2c6f6b463ab92a051ae/details","https://viewer.us-3.sharpershape.services/viewer/issues/5ecf8edca03e66000131122e/details","high","W12153276N3952524 WYANDOTTE 1105","[DouglasFir, LiveOak, Other]","DouglasFir"]
[737,"NORTHERN","NORTH VALLEY","Tier 0-1","102911105 Tier 0-1",102911105,"WYANDOTTE 1105",30.1,39.524589999999897,-121.521169999999,null,43.399999999999899,"W12152117N3952459",16.100000000000001,1.1000000000000001,"NO","W12152121N3952468","W12152123N3952539","W12152123N3952539-W12152121N3952468",102911105,"WYANDOTTE 1105",null,"2019-11-20T17:46:46",null,null,"Not assessed","https://viewer.us-3.sharpershape.services/viewer/assets/5ca5a2c6f6b463550ba0502f/details","https://viewer.us-3.sharpershape.services/viewer/issues/5ecf8c9534b60c00015ec0c3/details","high","W12152117N3952459 WYANDOTTE 1105","[ValleyOak, GrayPine, DouglasFir]","ValleyOak"]
[738,"NORTHERN","NORTH VALLEY","Tier 2-3","102911105 Tier 2-3",102911105,"WYANDOTTE 1105",7.6,39.529919999999898,-121.52598999999999,null,19.8,"W12152599N3952992",12,7.9,"NO","W12152603N3952974","W12152603N3953064","W12152603N3953064-W12152603N3952974",102911105,"WYANDOTTE 1105",null,"2019-11-20T17:46:46",null,null,"Not assessed","https://viewer.us-3.sharpershape.services/viewer/assets/5ca5a2c6f6b463cd78a04dbd/details","https://viewer.us-3.sharpershape.services/viewer/issues/5ecf8c98a03e660001310be2/details","high","W12152599N3952992 WYANDOTTE 1105","[GrayPine, DouglasFir, MontereyPine]","GrayPine"]
[739,"NORTHERN","NORTH VALLEY","Tier 2-3","102911105 Tier 2-3",102911105,"WYANDOTTE 1105",12.8,39.524119999999897,-121.53744,null,36.299999999999997,"W12153744N3952412",5.0999999999999996,0.1,"NO","W12153716N3952455","W12153751N3952386","W12153751N3952386-W12153716N3952455",102911105,"WYANDOTTE 1105",null,"2019-11-20T17:46:46",null,null,"Not assessed","https://viewer.us-3.sharpershape.services/viewer/assets/5ca5a2c6f6b46351f2a04ede/details","https://viewer.us-3.sharpershape.services/viewer/issues/5ecf8c9634b60c00015ec168/details","high","W12153744N3952412 WYANDOTTE 1105","[CoastalLiveOak, DouglasFir, Other]","CoastalLiveOak"]
[740,"NORTHERN","NORTH VALLEY","Tier 2-3","102911105 Tier 2-3",102911105,"WYANDOTTE 1105",9.6999999999999993,39.531579999999899,-121.526089999999,null,27.1999999999999,"W12152609N3953158",7.9,7,"NO","W12152604N3953139","W12152606N3953202","W12152606N3953202-W12152604N3953139",102911105,"WYANDOTTE 1105",null,"2019-11-20T17:46:46",null,null,"Not assessed","https://viewer.us-3.sharpershape.services/viewer/assets/5ca5a2c6f6b463cbbca04b3b/details","https://viewer.us-3.sharpershape.services/viewer/issues/5ecf8c98a03e660001310b87/details","high","W12152609N3953158 WYANDOTTE 1105","[Other, CoastalLiveOak, MontereyPine]","Other"]
[741,"NORTHERN","NORTH VALLEY","Tier 2-3","102911105 Tier 2-3",102911105,"WYANDOTTE 1105",50.7,39.672669999999897,-121.497399999999,null,61.399999999999899,"W12149740N3967267",40.5,7.4,"NO","W12149658N3967347","W12149755N3967217","W12149755N3967217-W12149658N3967347",0,"WYANDOTTE 1105",null,"2019-11-20T17:46:46",null,null,"Not assessed","https://viewer.us-3.sharpershape.services/viewer/assets/5ca5a2c6f6b463d89ea04e5a/details","https://viewer.us-3.sharpershape.services/viewer/issues/5ecf8c9834b60c00015ec2d7/details","high","W12149740N3967267 WYANDOTTE 1105","[MontereyPine, CoastalLiveOak, Other]","MontereyPine"]
[742,"NORTHERN","NORTH VALLEY","Tier 2-3","102911105 Tier 2-3",102911105,"WYANDOTTE 1105",42.5,39.526400000000002,-121.539259999999,null,59.399999999999899,"W12153926N3952640",27.6,-3,"YES","W12153848N3952653","W12153928N3952652","W12153928N3952652-W12153848N3952653",102911105,"WYANDOTTE 1105",null,"2019-11-20T17:46:46",null,null,"Not assessed","https://viewer.us-3.sharpershape.services/viewer/assets/5ca5a2c6f6b463083da04d94/details","https://viewer.us-3.sharpershape.services/viewer/issues/5ecf8c98a03e660001310bc1/details","high","W12153926N3952640 WYANDOTTE 1105","[GrayPine, Eucalyptus/BlueGum, PonderosaPine]","GrayPine"]
[743,"NORTHERN","NORTH VALLEY","Tier 2-3","102911105 Tier 2-3",102911105,"WYANDOTTE 1105",7.8,39.528279999999903,-121.51425999999999,null,29.8,"W12151426N3952828",6.4,0,"YES","W12151441N3952799","W12151401N3952860","W12151401N3952860-W12151441N3952799",102911105,"WYANDOTTE 1105",null,"2019-11-20T17:46:46",null,null,"Not assessed","https://viewer.us-3.sharpershape.services/viewer/assets/5ca5a2c6f6b463bdf4a04f50/details","https://viewer.us-3.sharpershape.services/viewer/issues/5ecf8c9534b60c00015ec0dd/details","high","W12151426N3952828 WYANDOTTE 1105","[Other, ValleyOak, DouglasFir]","Other"]
[744,"NORTHERN","NORTH VALLEY","Tier 2-3","102911105 Tier 2-3",102911105,"WYANDOTTE 1105",38.5,39.532699999999899,-121.538679999999,null,61.6,"W12153868N3953270",23.1999999999999,-16.1999999999999,"YES","W12153906N3953282","W12153848N3953281","W12153848N3953281-W12153906N3953282",102911105,"WYANDOTTE 1105",null,"2019-11-20T17:46:46",null,null,"Not assessed","https://viewer.us-3.sharpershape.services/viewer/assets/5ca5a2c6f6b46324baa04ba9/details","https://viewer.us-3.sharpershape.services/viewer/issues/5ecf8c9934b60c00015ec32c/details","high","W12153868N3953270 WYANDOTTE 1105","[Other, DouglasFir, CoastalLiveOak]","Other"]
[745,"NORTHERN","NORTH VALLEY","Tier 0-1","102911105 Tier 0-1",102911105,"WYANDOTTE 1105",20.399999999999999,39.523400000000002,-121.51178,null,40.700000000000003,"W12151178N3952340",4.7,-0.1,"YES","W12151196N3952324","W12151119N3952361","W12151119N3952361-W12151196N3952324",102911105,"WYANDOTTE 1105",null,"2019-11-20T17:46:46",null,null,"Not assessed","https://viewer.us-3.sharpershape.services/viewer/assets/5ca5a2c6f6b4638f7da04e40/details","https://viewer.us-3.sharpershape.services/viewer/issues/5ecf8c9634b60c00015ec11b/details","high","W12151178N3952340 WYANDOTTE 1105","[CoastalLiveOak, DouglasFir, MontereyPine]","CoastalLiveOak"]
[746,"NORTHERN","NORTH VALLEY","Tier 0-1","102911105 Tier 0-1",102911105,"WYANDOTTE 1105",26.9,39.522929999999903,-121.512529999999,null,24.9,"W12151253N3952293",8.6,20.6,"NO","W12151282N3952292","W12151196N3952324","W12151196N3952324-W12151282N3952292",102911105,"WYANDOTTE 1105",null,"2019-11-20T17:46:46",null,null,"Not assessed","https://viewer.us-3.sharpershape.services/viewer/assets/5ca5a2c6f6b463e9a0a04bb9/details","https://viewer.us-3.sharpershape.services/viewer/issues/5ecf8eee34b60c00015eca86/details","high","W12151253N3952293 WYANDOTTE 1105","[DouglasFir, Other, CoastalLiveOak]","DouglasFir"]
[747,"NORTHERN","NORTH VALLEY","Tier 2-3","102911105 Tier 2-3",102911105,"WYANDOTTE 1105",15.7,39.53783,-121.542429999999,null,13.4,"W12154243N3953783",12,9.6,"NO","W12154252N3953857","W12154250N3953758","W12154250N3953758-W12154252N3953857",102911105,"WYANDOTTE 1105",null,"2019-11-20T17:46:46",null,null,"Not assessed","https://viewer.us-3.sharpershape.services/viewer/assets/5ca5a2c6f6b463b67da04e4c/details","https://viewer.us-3.sharpershape.services/viewer/issues/5ecf8c97a03e660001310a45/details","high","W12154243N3953783 WYANDOTTE 1105"]
[748,"NORTHERN","NORTH VALLEY","Tier 2-3","102911105 Tier 2-3",102911105,"WYANDOTTE 1105",20,39.530549999999899,-121.53189999999999,null,36.1,"W12153190N3953055",6.4,1.6,"NO","W12153206N3953048","W12153157N3953048","W12153157N3953048-W12153206N3953048",102911105,"WYANDOTTE 1105",null,"2019-11-20T17:46:46",null,null,"Not assessed","https://viewer.us-3.sharpershape.services/viewer/assets/5ca5a2c6f6b4633db9a04a98/details","https://viewer.us-3.sharpershape.services/viewer/issues/5ecf8c9634b60c00015ec139/details","high","W12153190N3953055 WYANDOTTE 1105","[CoastalLiveOak, DouglasFir, Other]","CoastalLiveOak"]
[749,"NORTHERN","NORTH VALLEY","Tier 2-3","102911105 Tier 2-3",102911105,"WYANDOTTE 1105",17.3,39.530049999999903,-121.52248,null,33,"W12152248N3953005",8.5,4.2,"NO","W12152284N3952992","W12152184N3953012","W12152184N3953012-W12152284N3952992",102911105,"WYANDOTTE 1105",null,"2019-11-20T17:46:46",null,null,"Not assessed","https://viewer.us-3.sharpershape.services/viewer/assets/5ca5a2c6f6b4639636a0497c/details","https://viewer.us-3.sharpershape.services/viewer/issues/5ee2b4c2a03e66000146e44d/details","high","W12152248N3953005 WYANDOTTE 1105","[MontereyPine, GrayPine, Other]","MontereyPine"]
[750,"NORTHERN","NORTH VALLEY","Tier 2-3","102911105 Tier 2-3",102911105,"WYANDOTTE 1105",79.799999999999898,39.537880000000001,-121.542209999999,null,74,"W12154221N3953788",58,8.3000000000000007,"NO","W12154252N3953857","W12154250N3953758","W12154250N3953758-W12154252N3953857",102911105,"WYANDOTTE 1105",null,"2019-11-20T17:46:46",null,null,"Not assessed","https://viewer.us-3.sharpershape.services/viewer/assets/5ca5a2c6f6b463b67da04e4c/details","https://viewer.us-3.sharpershape.services/viewer/issues/5ecf8c97a03e660001310a4e/details","high","W12154221N3953788 WYANDOTTE 1105","[GrayPine, DouglasFir, Eucalyptus/BlueGum]","GrayPine"]
[751,"NORTHERN","NORTH VALLEY","Tier 2-3","102911105 Tier 2-3",102911105,"WYANDOTTE 1105",18.899999999999999,39.527859999999897,-121.53542,null,31.9,"W12153542N3952786",11.1,3.7,"NO","W12153535N3952774","W12153534N3952830","W12153534N3952830-W12153535N3952774",102911105,"WYANDOTTE 1105",null,"2019-11-20T17:46:46",null,null,"Not assessed","https://viewer.us-3.sharpershape.services/viewer/assets/5ca5a2c6f6b463c1eea04ac0/details","https://viewer.us-3.sharpershape.services/viewer/issues/5ecf8c96a03e660001310987/details","high","W12153542N3952786 WYANDOTTE 1105","[DouglasFir, Other, CoastalLiveOak]","DouglasFir"]
[752,"NORTHERN","NORTH VALLEY","Tier 2-3","102911105 Tier 2-3",102911105,"WYANDOTTE 1105",19.899999999999999,39.532150000000001,-121.53663,null,31.5,"W12153663N3953215",8.6,9,"NO","W12153655N3953211","W12153655N3953245","W12153655N3953245-W12153655N3953211",102911105,"WYANDOTTE 1105",null,"2019-11-20T17:46:46",null,null,"Not assessed","https://viewer.us-3.sharpershape.services/viewer/assets/5e1b0dc19b151b3f7bee8158/details","https://viewer.us-3.sharpershape.services/viewer/issues/5ecf8c9a34b60c00015ec3b8/details","high","W12153663N3953215 WYANDOTTE 1105","[TanOak, DouglasFir, Other]","TanOak"]
[753,"NORTHERN","NORTH VALLEY","Tier 2-3","102911105 Tier 2-3",102911105,"WYANDOTTE 1105",12.2,39.528770000000002,-121.534989999999,null,19.100000000000001,"W12153499N3952877",11.1,9,"NO","W12153422N3952882","W12153537N3952882","W12153537N3952882-W12153422N3952882",102911105,"WYANDOTTE 1105",null,"2019-11-20T17:46:46",null,null,"Not assessed","https://viewer.us-3.sharpershape.services/viewer/assets/5ca5a2c6f6b4638913a05099/details","https://viewer.us-3.sharpershape.services/viewer/issues/5ecf8c95a03e660001310966/details","high","W12153499N3952877 WYANDOTTE 1105","[Eucalyptus/BlueGum, Other, CoastalLiveOak]","Eucalyptus/BlueGum"]
[754,"NORTHERN","NORTH VALLEY","Tier 2-3","102911105 Tier 2-3",102911105,"WYANDOTTE 1105",33.700000000000003,39.5334,-121.54083,null,81.2,"W12154083N3953340",18.1999999999999,-24.1999999999999,"YES","W12154087N3953327","W12154149N3953393","W12154149N3953393-W12154087N3953327",102911105,"WYANDOTTE 1105",null,"2019-11-20T17:46:46",null,null,"Not assessed","https://viewer.us-3.sharpershape.services/viewer/assets/5ca5a2c6f6b4635000a04d2e/details","https://viewer.us-3.sharpershape.services/viewer/issues/5ecf8c9234b60c00015ec00c/details","high","W12154083N3953340 WYANDOTTE 1105","[GrayPine, DouglasFir, TanOak]","GrayPine"]
[755,"NORTHERN","NORTH VALLEY","Tier 2-3","102911105 Tier 2-3",102911105,"WYANDOTTE 1105",16.3,39.527949999999898,-121.53242,null,44.8,"W12153242N3952795",5.7,-17,"YES","W12153270N3952789","W12153203N3952790","W12153203N3952790-W12153270N3952789",102911105,"WYANDOTTE 1105",null,"2019-11-20T17:46:46","OH",null,"Not assessed","https://viewer.us-3.sharpershape.services/viewer/assets/5ca5a2c6f6b4631fcca0508c/details","https://viewer.us-3.sharpershape.services/viewer/issues/5ecf8c9934b60c00015ec2e2/details","high","W12153242N3952795 WYANDOTTE 1105","[GrayPine, ValleyOak, DouglasFir]","GrayPine"]
[756,"NORTHERN","NORTH VALLEY","Tier 2-3","102911105 Tier 2-3",102911105,"WYANDOTTE 1105",74.2,39.531239999999897,-121.53179,null,82.6,"W12153179N3953124",59,-6.1,"YES","W12153206N3953153","W12153207N3953097","W12153207N3953097-W12153206N3953153",102911105,"WYANDOTTE 1105",null,"2019-11-20T17:46:46",null,null,"Not assessed","https://viewer.us-3.sharpershape.services/viewer/assets/5ca5a2c6f6b463f9cfa04c7e/details","https://viewer.us-3.sharpershape.services/viewer/issues/5ecf8c98a03e660001310b3b/details","high","W12153179N3953124 WYANDOTTE 1105","[GrayPine, Other, DouglasFir]","GrayPine"]
[757,"NORTHERN","NORTH VALLEY","Tier 2-3","102911105 Tier 2-3",102911105,"WYANDOTTE 1105",0.1,39.672889999999903,-121.497029999999,null,33.899999999999899,"W12149703N3967289",5.2,5.3,"NO","W12149658N3967347","W12149755N3967217","W12149755N3967217-W12149658N3967347",0,"WYANDOTTE 1105",null,"2019-11-20T17:46:46",null,null,"Not assessed","https://viewer.us-3.sharpershape.services/viewer/assets/5ca5a2c6f6b463d89ea04e5a/details","https://viewer.us-3.sharpershape.services/viewer/issues/5ecf8ef2a03e6600013112dc/details","high","W12149703N3967289 WYANDOTTE 1105","[DouglasFir, Eucalyptus/BlueGum, CoastalLiveOak]","DouglasFir"]
[758,"NORTHERN","NORTH VALLEY","Tier 0-1","102911105 Tier 0-1",102911105,"WYANDOTTE 1105",20.5,39.522599999999997,-121.537769999999,null,33.899999999999899,"W12153777N3952260",10.4,22.4,"NO","W12153791N3952249","W12153775N3952283","W12153775N3952283-W12153791N3952249",102911105,"WYANDOTTE 1105",null,"2019-11-20T17:46:46",null,null,"Not assessed","https://viewer.us-3.sharpershape.services/viewer/assets/5ca5a2c6f6b463313aa04cb9/details","https://viewer.us-3.sharpershape.services/viewer/issues/5ecf954fa03e660001311f3a/details","high","W12153777N3952260 WYANDOTTE 1105","[CoastalLiveOak, MontereyPine, Other]","CoastalLiveOak"]
[759,"NORTHERN","NORTH VALLEY","Tier 2-3","102911105 Tier 2-3",102911105,"WYANDOTTE 1105",51.899999999999899,39.660109999999897,-121.504629999999,null,117.799999999999,"W12150463N3966011",35.200000000000003,2.5,"NO","W12150545N3965863","W12150368N3966300","W12150368N3966300-W12150545N3965863",102911105,"WYANDOTTE 1105",null,"2019-11-20T17:46:46",null,null,"Not assessed","https://viewer.us-3.sharpershape.services/viewer/assets/5ca5a2c6f6b463c54aa04b33/details","https://viewer.us-3.sharpershape.services/viewer/issues/5ecf8c9a34b60c00015ec3a9/details","high","W12150463N3966011 WYANDOTTE 1105","[GrayPine, DouglasFir, ValleyOak]","GrayPine"]
[760,"NORTHERN","NORTH VALLEY","Tier 2-3","102911105 Tier 2-3",102911105,"WYANDOTTE 1105",58.2,39.532400000000003,-121.530959999999,null,63.7,"W12153096N3953240",36.700000000000003,3.7,"NO","W12153205N3953245","W12153117N3953239","W12153117N3953239-W12153205N3953245",102911105,"WYANDOTTE 1105",null,"2019-11-20T17:46:46",null,null,"Not assessed","https://viewer.us-3.sharpershape.services/viewer/assets/5ca5a2c6f6b4636b14a051ca/details","https://viewer.us-3.sharpershape.services/viewer/issues/5ecf8c9734b60c00015ec17a/details","high","W12153096N3953240 WYANDOTTE 1105","[DouglasFir, GrayPine, CoastalLiveOak]","DouglasFir"]
[761,"NORTHERN","NORTH VALLEY","Tier 2-3","102911105 Tier 2-3",102911105,"WYANDOTTE 1105",20.6999999999999,39.529069999999898,-121.519309999999,null,95.6,"W12151931N3952907",7,-48.3,"YES","W12151911N3952893","W12151936N3952926","W12151936N3952926-W12151911N3952893",102911105,"WYANDOTTE 1105",null,"2019-11-20T17:46:46","OH",null,"Not assessed","https://viewer.us-3.sharpershape.services/viewer/assets/5ca5a2c6f6b4635897a04d80/details","https://viewer.us-3.sharpershape.services/viewer/issues/5ecf8c95a03e66000131090d/details","high","W12151931N3952907 WYANDOTTE 1105","[GrayPine, DouglasFir, CoastalLiveOak]","GrayPine"]
[762,"NORTHERN","NORTH VALLEY","Tier 2-3","102911105 Tier 2-3",102911105,"WYANDOTTE 1105",26.6999999999999,39.530229999999897,-121.520989999999,null,72.099999999999994,"W12152099N3953023",5.8,-27.4,"YES","W12152184N3953012","W12152091N3953014","W12152091N3953014-W12152184N3953012",102911105,"WYANDOTTE 1105",null,"2019-11-20T17:46:46","OH",null,"Not assessed","https://viewer.us-3.sharpershape.services/viewer/assets/5ca5a2c6f6b463611da04cf7/details","https://viewer.us-3.sharpershape.services/viewer/issues/5ecf8c97a03e660001310a8b/details","high","W12152099N3953023 WYANDOTTE 1105","[GrayPine, DouglasFir, Other]","GrayPine"]
[763,"NORTHERN","NORTH VALLEY","Tier 2-3","102911105 Tier 2-3",102911105,"WYANDOTTE 1105",26.1999999999999,39.531230000000001,-121.536439999999,null,28.9,"W12153644N3953123",4.8,16.8,"NO","W12153654N3953103","W12153654N3953154","W12153654N3953154-W12153654N3953103",102911105,"WYANDOTTE 1105",null,"2019-11-20T17:46:46",null,null,"Not assessed","https://viewer.us-3.sharpershape.services/viewer/assets/5ca5a2c6f6b463060ca04c49/details","https://viewer.us-3.sharpershape.services/viewer/issues/5ecf8ef634b60c00015ecaa8/details","high","W12153644N3953123 WYANDOTTE 1105","[DouglasFir, LiveOak, Other]","DouglasFir"]
[764,"NORTHERN","NORTH VALLEY","Tier 2-3","102911105 Tier 2-3",102911105,"WYANDOTTE 1105",81.900000000000006,39.529669999999903,-121.529589999999,null,91.5,"W12152959N3952967",61.1,3.5,"NO","W12152988N3952972","W12153068N3952972","W12153068N3952972-W12152988N3952972",102911105,"WYANDOTTE 1105",null,"2019-11-20T17:46:46",null,null,"Not assessed","https://viewer.us-3.sharpershape.services/viewer/assets/5d89b6cc55dd6b81633f2eff/details","https://viewer.us-3.sharpershape.services/viewer/issues/5ecf8c9934b60c00015ec342/details","high","W12152959N3952967 WYANDOTTE 1105","[DouglasFir, GrayPine, CoastalLiveOak]","DouglasFir"]
[765,"NORTHERN","NORTH VALLEY","Tier 2-3","102911105 Tier 2-3",102911105,"WYANDOTTE 1105",47,39.536099999999998,-121.54237000000001,null,71.2,"W12154237N3953610",32.299999999999898,-23.3,"YES","W12154253N3953660","W12154256N3953592","W12154256N3953592-W12154253N3953660",102911105,"WYANDOTTE 1105",null,"2019-11-20T17:46:46",null,null,"Not assessed","https://viewer.us-3.sharpershape.services/viewer/assets/5ca5a2c6f6b4630e63a05050/details","https://viewer.us-3.sharpershape.services/viewer/issues/5ecf8c9834b60c00015ec246/details","high","W12154237N3953610 WYANDOTTE 1105","[CoastalLiveOak, DouglasFir, Eucalyptus/BlueGum]","CoastalLiveOak"]
[766,"NORTHERN","NORTH VALLEY","Tier 2-3","102911105 Tier 2-3",102911105,"WYANDOTTE 1105",33.200000000000003,39.65728,-121.50569,null,29.4,"W12150569N3965728",16.3,6.8,"NO","W12150561N3965801","W12150604N3965661","W12150604N3965661-W12150561N3965801",102911105,"WYANDOTTE 1105",null,"2019-11-20T17:46:46",null,null,"Not assessed","https://viewer.us-3.sharpershape.services/viewer/assets/5d88be906476d7a8685dd21a/details","https://viewer.us-3.sharpershape.services/viewer/issues/5ecf8c9a34b60c00015ec3c0/details","high","W12150569N3965728 WYANDOTTE 1105"]
[767,"NORTHERN","NORTH VALLEY","Tier 2-3","102911105 Tier 2-3",102911105,"WYANDOTTE 1105",22.3,39.532509999999903,-121.538359999999,null,75.2,"W12153836N3953251",9,-38.399999999999899,"YES","W12153905N3953243","W12153810N3953244","W12153810N3953244-W12153905N3953243",102911105,"WYANDOTTE 1105",null,"2019-11-20T17:46:46","OH",null,"Not assessed","https://viewer.us-3.sharpershape.services/viewer/assets/5ca5a2c6f6b46300cca04f1d/details","https://viewer.us-3.sharpershape.services/viewer/issues/5ecf8c93a03e66000131089f/details","high","W12153836N3953251 WYANDOTTE 1105","[GrayPine, DouglasFir, CoastalLiveOak]","GrayPine"]
[768,"NORTHERN","NORTH VALLEY","Tier 2-3","102911105 Tier 2-3",102911105,"WYANDOTTE 1105",20.5,39.527830000000002,-121.532409999999,null,79.099999999999994,"W12153241N3952783",6,-39.899999999999899,"YES","W12153270N3952789","W12153203N3952790","W12153203N3952790-W12153270N3952789",102911105,"WYANDOTTE 1105",null,"2019-11-20T17:46:46","OH",null,"Not assessed","https://viewer.us-3.sharpershape.services/viewer/assets/5ca5a2c6f6b4631fcca0508c/details","https://viewer.us-3.sharpershape.services/viewer/issues/5ecf8c9934b60c00015ec2e1/details","high","W12153241N3952783 WYANDOTTE 1105","[Eucalyptus/BlueGum, Other, CoastalLiveOak]","Eucalyptus/BlueGum"]
[769,"NORTHERN","NORTH VALLEY","Tier 2-3","102911105 Tier 2-3",102911105,"WYANDOTTE 1105",17.399999999999999,39.53201,-121.534269999999,null,44.3,"W12153427N3953201",7.2,-8.5,"YES","W12153419N3953172","W12153419N3953235","W12153419N3953235-W12153419N3953172",102911105,"WYANDOTTE 1105",null,"2019-11-20T17:46:46",null,null,"Not assessed","https://viewer.us-3.sharpershape.services/viewer/assets/5ca5a2c6f6b463ef61a04c9e/details","https://viewer.us-3.sharpershape.services/viewer/issues/5ee2b42e34b60c0001746b55/details","high","W12153427N3953201 WYANDOTTE 1105","[DouglasFir, Other, TanOak]","DouglasFir"]
[770,"NORTHERN","NORTH VALLEY","Tier 2-3","102911105 Tier 2-3",102911105,"WYANDOTTE 1105",18.100000000000001,39.529019999999903,-121.520359999999,null,44.6,"W12152036N3952902",10.9,-3.7,"YES","W12152014N3952914","W12152053N3952877","W12152053N3952877-W12152014N3952914",102911105,"WYANDOTTE 1105",null,"2019-11-20T17:46:46",null,null,"Not assessed","https://viewer.us-3.sharpershape.services/viewer/assets/5ca5a2c6f6b463d0f3a04a55/details","https://viewer.us-3.sharpershape.services/viewer/issues/5ecf8c9734b60c00015ec200/details","high","W12152036N3952902 WYANDOTTE 1105","[GrayPine, DouglasFir, Other]","GrayPine"]
[771,"NORTHERN","NORTH VALLEY","Tier 2-3","102911105 Tier 2-3",102911105,"WYANDOTTE 1105",5.4,39.532039999999903,-121.532039999999,null,23.3,"W12153204N3953204",6.9,6.7,"NO","W12153205N3953245","W12153206N3953192","W12153206N3953192-W12153205N3953245",102911105,"WYANDOTTE 1105",null,"2019-11-20T17:46:46",null,null,"Not assessed","https://viewer.us-3.sharpershape.services/viewer/assets/5ca5a2c6f6b463299fa04cf2/details","https://viewer.us-3.sharpershape.services/viewer/issues/5ecf8c9934b60c00015ec379/details","high","W12153204N3953204 WYANDOTTE 1105","[CoastalLiveOak, MontereyPine, DouglasFir]","CoastalLiveOak"]
[772,"NORTHERN","NORTH VALLEY","Tier 2-3","102911105 Tier 2-3",102911105,"WYANDOTTE 1105",10.1,39.538289999999897,-121.54246000000001,null,10.6,"W12154246N3953829",10.5,9.1999999999999993,"NO","W12154252N3953857","W12154250N3953758","W12154250N3953758-W12154252N3953857",102911105,"WYANDOTTE 1105",null,"2019-11-20T17:46:46",null,null,"Not assessed","https://viewer.us-3.sharpershape.services/viewer/assets/5ca5a2c6f6b463b67da04e4c/details","https://viewer.us-3.sharpershape.services/viewer/issues/5ecf8c97a03e660001310a56/details","high","W12154246N3953829 WYANDOTTE 1105","[CoastalLiveOak, Other, Eucalyptus/BlueGum]","CoastalLiveOak"]
[773,"NORTHERN","NORTH VALLEY","Tier 2-3","102911105 Tier 2-3",102911105,"WYANDOTTE 1105",33.899999999999899,39.532139999999899,-121.538929999999,null,65.400000000000006,"W12153893N3953214",18.600000000000001,-23.4,"YES","W12153905N3953243","W12153907N3953193","W12153907N3953193-W12153905N3953243",102911105,"WYANDOTTE 1105",null,"2019-11-20T17:46:46",null,null,"Not assessed","https://viewer.us-3.sharpershape.services/viewer/assets/5ca5a2c6f6b46326f9a04de3/details","https://viewer.us-3.sharpershape.services/viewer/issues/5ecf8c9934b60c00015ec360/details","high","W12153893N3953214 WYANDOTTE 1105","[GrayPine, Other, LiveOak]","GrayPine"]
[774,"NORTHERN","NORTH VALLEY","Tier 2-3","102911105 Tier 2-3",102911105,"WYANDOTTE 1105",1.8,39.530609999999903,-121.53596,null,17.100000000000001,"W12153596N3953061",6.1,5.7,"NO","W12153538N3953063","W12153655N3953063","W12153655N3953063-W12153538N3953063",102911105,"WYANDOTTE 1105",null,"2019-11-20T17:46:46",null,null,"Not assessed","https://viewer.us-3.sharpershape.services/viewer/assets/5ca5a2c6f6b4638037a04ab3/details","https://viewer.us-3.sharpershape.services/viewer/issues/5ecf8c95a03e66000131091b/details","high","W12153596N3953061 WYANDOTTE 1105","[CoastalLiveOak, Other, DouglasFir]","CoastalLiveOak"]
[775,"NORTHERN","NORTH VALLEY","Tier 0-1","102911105 Tier 0-1",102911105,"WYANDOTTE 1105",70.099999999999994,39.524769999999897,-121.522059999999,null,81.299999999999898,"W12152206N3952477",61.1,1,"NO","W12152121N3952468","W12152223N3952454","W12152223N3952454-W12152121N3952468",102911105,"WYANDOTTE 1105",null,"2019-11-20T17:46:46",null,null,"Not assessed","https://viewer.us-3.sharpershape.services/viewer/assets/5ca5a2c6f6b4634c98a0504c/details","https://viewer.us-3.sharpershape.services/viewer/issues/5ecf8c9634b60c00015ec143/details","high","W12152206N3952477 WYANDOTTE 1105","[Eucalyptus/BlueGum, MontereyPine, DouglasFir]","Eucalyptus/BlueGum"]
[776,"NORTHERN","NORTH VALLEY","Tier 0-1","102911105 Tier 0-1",102911105,"WYANDOTTE 1105",57.899999999999899,39.525109999999898,-121.53569,null,77.5,"W12153569N3952511",43,-14.5,"YES","W12153537N3952537","W12153590N3952523","W12153590N3952523-W12153537N3952537",102911105,"WYANDOTTE 1105",null,"2019-11-20T17:46:46",null,null,"Not assessed","https://viewer.us-3.sharpershape.services/viewer/assets/5ca5a2c6f6b4631c28a0517f/details","https://viewer.us-3.sharpershape.services/viewer/issues/5ecf8c90a03e660001310804/details","high","W12153569N3952511 WYANDOTTE 1105","[Other, CoastalLiveOak, DouglasFir]","Other"]
[777,"NORTHERN","NORTH VALLEY","Tier 2-3","102911105 Tier 2-3",102911105,"WYANDOTTE 1105",50.1,39.53145,-121.5179,null,55,"W12151790N3953145",32,2,"NO","W12151822N3953157","W12151765N3953162","W12151765N3953162-W12151822N3953157",102911105,"WYANDOTTE 1105",null,"2019-11-20T17:46:46",null,null,"Not assessed","https://viewer.us-3.sharpershape.services/viewer/assets/5ca5a2c6f6b463f67aa051de/details","https://viewer.us-3.sharpershape.services/viewer/issues/5ecf8c9734b60c00015ec198/details","high","W12151790N3953145 WYANDOTTE 1105","[CoastalLiveOak, Other, DouglasFir]","CoastalLiveOak"]
[778,"NORTHERN","NORTH VALLEY","Tier 2-3","102911105 Tier 2-3",102911105,"WYANDOTTE 1105",34.399999999999899,39.532719999999898,-121.538919999999,null,64.2,"W12153892N3953272",9.3000000000000007,-21.9,"YES","W12153906N3953282","W12153848N3953281","W12153848N3953281-W12153906N3953282",102911105,"WYANDOTTE 1105",null,"2019-11-20T17:46:46",null,null,"Not assessed","https://viewer.us-3.sharpershape.services/viewer/assets/5ca5a2c6f6b46324baa04ba9/details","https://viewer.us-3.sharpershape.services/viewer/issues/5ecf8c9934b60c00015ec327/details","high","W12153892N3953272 WYANDOTTE 1105","[GrayPine, DouglasFir, ValleyOak]","GrayPine"]
[779,"NORTHERN","NORTH VALLEY","Tier 2-3","102911105 Tier 2-3",102911105,"WYANDOTTE 1105",19.6999999999999,39.528970000000001,-121.52651,null,53.8,"W12152651N3952897",9.6999999999999993,-11.9,"YES","W12152596N3952916","W12152680N3952875","W12152680N3952875-W12152596N3952916",102911105,"WYANDOTTE 1105",null,"2019-11-20T17:46:46",null,null,"Not assessed","https://viewer.us-3.sharpershape.services/viewer/assets/5ca5a2c6f6b463c0bba05089/details","https://viewer.us-3.sharpershape.services/viewer/issues/5ecf8c96a03e660001310a14/details","high","W12152651N3952897 WYANDOTTE 1105","[GrayPine, Other, DouglasFir]","GrayPine"]
[780,"NORTHERN","NORTH VALLEY","Tier 2-3","102911105 Tier 2-3",102911105,"WYANDOTTE 1105",33.5,39.5260099999999,-121.53297000000001,null,55.899999999999899,"W12153297N3952601",17.5,-10.4,"YES","W12153295N3952615","W12153345N3952585","W12153345N3952585-W12153295N3952615",102911105,"WYANDOTTE 1105",null,"2019-11-20T17:46:46",null,null,"Not assessed","https://viewer.us-3.sharpershape.services/viewer/assets/5ca5a2c6f6b4637e6fa049ea/details","https://viewer.us-3.sharpershape.services/viewer/issues/5ecf8c90a03e660001310807/details","high","W12153297N3952601 WYANDOTTE 1105","[Eucalyptus/BlueGum, MontereyPine, GrayPine]","Eucalyptus/BlueGum"]
[781,"NORTHERN","NORTH VALLEY","Tier 2-3","102911105 Tier 2-3",102911105,"WYANDOTTE 1105",49.5,39.534929999999903,-121.54204,null,62.8,"W12154204N3953493",29.8,-9.8000000000000007,"YES","W12154214N3953455","W12154230N3953520","W12154230N3953520-W12154214N3953455",102911105,"WYANDOTTE 1105",null,"2019-11-20T17:46:46",null,null,"Not assessed","https://viewer.us-3.sharpershape.services/viewer/assets/5ca5a2c6f6b4638e61a05162/details","https://viewer.us-3.sharpershape.services/viewer/issues/5ecf8c9534b60c00015ec0af/details","high","W12154204N3953493 WYANDOTTE 1105","[DouglasFir, LiveOak, Other]","DouglasFir"]
[782,"NORTHERN","NORTH VALLEY","Tier 2-3","102911105 Tier 2-3",102911105,"WYANDOTTE 1105",25.5,39.5306,-121.53216999999999,null,61.399999999999899,"W12153217N3953060",6,-19.5,"YES","W12153206N3953048","W12153207N3953097","W12153207N3953097-W12153206N3953048",102911105,"WYANDOTTE 1105",null,"2019-11-20T17:46:46",null,null,"Not assessed","https://viewer.us-3.sharpershape.services/viewer/assets/5ca5a2c6f6b46317dca04964/details","https://viewer.us-3.sharpershape.services/viewer/issues/5ecf8c95a03e66000131093e/details","high","W12153217N3953060 WYANDOTTE 1105","[DouglasFir, GrayPine, Other]","DouglasFir"]
[783,"NORTHERN","NORTH VALLEY","Tier 2-3","102911105 Tier 2-3",102911105,"WYANDOTTE 1105",15.1,39.527079999999899,-121.53529,null,38,"W12153529N3952708",5.6,-7.2,"YES","W12153535N3952774","W12153536N3952706","W12153536N3952706-W12153535N3952774",102911105,"WYANDOTTE 1105",null,"2019-11-20T17:46:46",null,null,"Not assessed","https://viewer.us-3.sharpershape.services/viewer/assets/5ca5a2c6f6b463ada9a04fb0/details","https://viewer.us-3.sharpershape.services/viewer/issues/5ecf8c97a03e660001310a7d/details","high","W12153529N3952708 WYANDOTTE 1105","[DouglasFir, TanOak, LiveOak]","DouglasFir"]
[784,"NORTHERN","NORTH VALLEY","Tier 2-3","102911105 Tier 2-3",102911105,"WYANDOTTE 1105",26.8,39.52731,-121.531229999999,null,43.899999999999899,"W12153123N3952731",7.8,-1.4,"YES","W12153054N3952731","W12153116N3952725","W12153116N3952725-W12153054N3952731",102911105,"WYANDOTTE 1105",null,"2019-11-20T17:46:46",null,null,"Not assessed","https://viewer.us-3.sharpershape.services/viewer/assets/5ca5a2c6f6b4632e29a04bb0/details","https://viewer.us-3.sharpershape.services/viewer/issues/5ecf8c99a03e660001310c55/details","high","W12153123N3952731 WYANDOTTE 1105","[Other, GrayPine, TanOak]","Other"]
[785,"NORTHERN","NORTH VALLEY","Tier 2-3","102911105 Tier 2-3",102911105,"WYANDOTTE 1105",41.6,39.535959999999903,-121.5424,null,59.2,"W12154240N3953596",25.4,-15.8,"YES","W12154253N3953660","W12154256N3953592","W12154256N3953592-W12154253N3953660",102911105,"WYANDOTTE 1105",null,"2019-11-20T17:46:46",null,null,"Not assessed","https://viewer.us-3.sharpershape.services/viewer/assets/5ca5a2c6f6b4630e63a05050/details","https://viewer.us-3.sharpershape.services/viewer/issues/5ecf8c9834b60c00015ec248/details","high","W12154240N3953596 WYANDOTTE 1105","[GrayPine, DouglasFir, Eucalyptus/BlueGum]","GrayPine"]
[786,"NORTHERN","NORTH VALLEY","Tier 2-3","102911105 Tier 2-3",102911105,"WYANDOTTE 1105",20,39.527429999999903,-121.535439999999,null,61.6,"W12153544N3952743",7.5,-27.9,"YES","W12153535N3952774","W12153536N3952706","W12153536N3952706-W12153535N3952774",102911105,"WYANDOTTE 1105",null,"2019-11-20T17:46:46","OH",null,"Not assessed","https://viewer.us-3.sharpershape.services/viewer/assets/5ca5a2c6f6b463ada9a04fb0/details","https://viewer.us-3.sharpershape.services/viewer/issues/5ecf8c97a03e660001310a83/details","high","W12153544N3952743 WYANDOTTE 1105","[GrayPine, Other, DouglasFir]","GrayPine"]
[787,"NORTHERN","NORTH VALLEY","Tier 2-3","102911105 Tier 2-3",102911105,"WYANDOTTE 1105",42.899999999999899,39.531129999999898,-121.518439999999,null,60.3,"W12151844N3953113",11.7,-10.7,"YES","W12151868N3953111","W12151822N3953157","W12151822N3953157-W12151868N3953111",102911105,"WYANDOTTE 1105",null,"2019-11-20T17:46:46",null,null,"Not assessed","https://viewer.us-3.sharpershape.services/viewer/assets/5ca5a2c6f6b4630821a04f40/details","https://viewer.us-3.sharpershape.services/viewer/issues/5ecf8c9334b60c00015ec01f/details","high","W12151844N3953113 WYANDOTTE 1105","[Other, DouglasFir, GrayPine]","Other"]
[788,"NORTHERN","NORTH VALLEY","Tier 2-3","102911105 Tier 2-3",102911105,"WYANDOTTE 1105",9.5,39.532400000000003,-121.53922,null,24.6,"W12153922N3953240",5.6,5.6,"NO","W12153905N3953243","W12153963N3953242","W12153963N3953242-W12153905N3953243",102911105,"WYANDOTTE 1105",null,"2019-11-20T17:46:46",null,null,"Not assessed","https://viewer.us-3.sharpershape.services/viewer/assets/5ca5a2c6f6b4637e06a05104/details","https://viewer.us-3.sharpershape.services/viewer/issues/5ecf8c9634b60c00015ec15b/details","high","W12153922N3953240 WYANDOTTE 1105","[DouglasFir, LiveOak, TanOak]","DouglasFir"]
[789,"NORTHERN","NORTH VALLEY","Tier 2-3","102911105 Tier 2-3",102911105,"WYANDOTTE 1105",20.5,39.528300000000002,-121.52731,null,44.1,"W12152731N3952830",5.4,-7,"YES","W12152680N3952875","W12152750N3952825","W12152750N3952825-W12152680N3952875",102911105,"WYANDOTTE 1105",null,"2019-11-20T17:46:46",null,null,"Not assessed","https://viewer.us-3.sharpershape.services/viewer/assets/5ca5a2c6f6b46337c2a04be5/details","https://viewer.us-3.sharpershape.services/viewer/issues/5ecf8c9634b60c00015ec0ee/details","high","W12152731N3952830 WYANDOTTE 1105","[TanOak, MontereyPine, GrayPine]","TanOak"]
[790,"NORTHERN","NORTH VALLEY","Tier 2-3","102911105 Tier 2-3",102911105,"WYANDOTTE 1105",22.9,39.532359999999898,-121.53601,null,32.399999999999899,"W12153601N3953236",7.7,-0.1,"YES","W12153557N3953230","W12153644N3953230","W12153644N3953230-W12153557N3953230",102911105,"WYANDOTTE 1105",null,"2019-11-20T17:46:46",null,null,"Not assessed","https://viewer.us-3.sharpershape.services/viewer/assets/5ca5a2c6f6b4630717a04d92/details","https://viewer.us-3.sharpershape.services/viewer/issues/5ecf8c97a03e660001310ad8/details","high","W12153601N3953236 WYANDOTTE 1105","[Other, Eucalyptus/BlueGum, CoastalLiveOak]","Other"]
[791,"NORTHERN","NORTH VALLEY","Tier 2-3","102911105 Tier 2-3",102911105,"WYANDOTTE 1105",12.4,39.538519999999899,-121.54246000000001,null,98.5,"W12154246N3953852",12,-76.7,"YES","W12154252N3953857","W12154250N3953758","W12154250N3953758-W12154252N3953857",102911105,"WYANDOTTE 1105",null,"2019-11-20T17:46:46","OH",null,"Not assessed","https://viewer.us-3.sharpershape.services/viewer/assets/5ca5a2c6f6b463b67da04e4c/details","https://viewer.us-3.sharpershape.services/viewer/issues/5ecf8c97a03e660001310a51/details","high","W12154246N3953852 WYANDOTTE 1105","[Other, LiveOak, Eucalyptus/BlueGum]","Other"]
[792,"NORTHERN","NORTH VALLEY","Tier 2-3","102911105 Tier 2-3",102911105,"WYANDOTTE 1105",12.4,39.5321199999999,-121.5408,null,29.1,"W12154080N3953212",10,5.7,"NO","W12154086N3953214","W12154084N3953131","W12154084N3953131-W12154086N3953214",102911105,"WYANDOTTE 1105",null,"2019-11-20T17:46:46",null,null,"Not assessed","https://viewer.us-3.sharpershape.services/viewer/assets/5ca5a2c6f6b4630944a04ef1/details","https://viewer.us-3.sharpershape.services/viewer/issues/5ecf8c98a03e660001310b58/details","high","W12154080N3953212 WYANDOTTE 1105","[DouglasFir, GrayPine, Eucalyptus/BlueGum]","DouglasFir"]
[793,"NORTHERN","NORTH VALLEY","Tier 0-1","102911105 Tier 0-1",102911105,"WYANDOTTE 1105",20.8,39.525300000000001,-121.53538,null,71.099999999999994,"W12153538N3952530",12,-29.5,"YES","W12153537N3952537","W12153590N3952523","W12153590N3952523-W12153537N3952537",102911105,"WYANDOTTE 1105",null,"2019-11-20T17:46:46",null,null,"Not assessed","https://viewer.us-3.sharpershape.services/viewer/assets/5ca5a2c6f6b4631c28a0517f/details","https://viewer.us-3.sharpershape.services/viewer/issues/5ecf8c90a03e6600013107fc/details","high","W12153538N3952530 WYANDOTTE 1105","[GrayPine, Eucalyptus/BlueGum, MontereyPine]","GrayPine"]
[794,"NORTHERN","NORTH VALLEY","Tier 2-3","102911105 Tier 2-3",102911105,"WYANDOTTE 1105",10.199999999999999,39.528459999999903,-121.527279999999,null,25.8,"W12152728N3952846",10.6,20.9,"NO","W12152680N3952875","W12152750N3952825","W12152750N3952825-W12152680N3952875",102911105,"WYANDOTTE 1105",null,"2019-11-20T17:46:46",null,null,"Not assessed","https://viewer.us-3.sharpershape.services/viewer/assets/5ca5a2c6f6b46337c2a04be5/details","https://viewer.us-3.sharpershape.services/viewer/issues/5ecf9545a03e660001311ee6/details","high","W12152728N3952846 WYANDOTTE 1105","[GrayPine, Other, DouglasFir]","GrayPine"]
[795,"NORTHERN","NORTH VALLEY","Tier 2-3","102911105 Tier 2-3",102911105,"WYANDOTTE 1105",37,39.530049999999903,-121.52070000000001,null,55.399999999999899,"W12152070N3953005",7.7,-6.8,"YES","W12152091N3953014","W12152005N3953021","W12152005N3953021-W12152091N3953014",102911105,"WYANDOTTE 1105",null,"2019-11-20T17:46:46",null,null,"Not assessed","https://viewer.us-3.sharpershape.services/viewer/assets/5ca5a2c6f6b4637ff5a04e47/details","https://viewer.us-3.sharpershape.services/viewer/issues/5ecf8c9534b60c00015ec074/details","high","W12152070N3953005 WYANDOTTE 1105","[GrayPine, Other, DouglasFir]","GrayPine"]
[796,"NORTHERN","NORTH VALLEY","Tier 2-3","102911105 Tier 2-3",102911105,"WYANDOTTE 1105",22.4,39.524859999999897,-121.51451,null,37.399999999999899,"W12151451N3952486",5.9,-0.5,"YES","W12151459N3952471","W12151461N3952559","W12151461N3952559-W12151459N3952471",102911105,"WYANDOTTE 1105",null,"2019-11-20T17:46:46",null,null,"Not assessed","https://viewer.us-3.sharpershape.services/viewer/assets/5d8b1e506476d7eadd5dd3a0/details","https://viewer.us-3.sharpershape.services/viewer/issues/5ecf8c9934b60c00015ec367/details","high","W12151451N3952486 WYANDOTTE 1105","[GrayPine, DouglasFir, LiveOak]","GrayPine"]
[797,"NORTHERN","NORTH VALLEY","Tier 2-3","102911105 Tier 2-3",102911105,"WYANDOTTE 1105",51.3,39.529170000000001,-121.531189999999,null,70.2,"W12153119N3952917",33.399999999999899,-11.6,"YES","W12153130N3952973","W12153133N3952927","W12153133N3952927-W12153130N3952973",102911105,"WYANDOTTE 1105",null,"2019-11-20T17:46:46",null,null,"Not assessed","https://viewer.us-3.sharpershape.services/viewer/assets/5ca5a2c6f6b463b19aa050cd/details","https://viewer.us-3.sharpershape.services/viewer/issues/5ecf8c97a03e660001310adf/details","high","W12153119N3952917 WYANDOTTE 1105","[Other, CoastalLiveOak, GrayPine]","Other"]
[798,"NORTHERN","NORTH VALLEY","Tier 2-3","102911105 Tier 2-3",102911105,"WYANDOTTE 1105",28.3,39.526139999999899,-121.521349999999,null,27.8,"W12152135N3952614",7.2,19.1999999999999,"NO","W12152123N3952539","W12152124N3952614","W12152124N3952614-W12152123N3952539",102911105,"WYANDOTTE 1105",null,"2019-11-20T17:46:46",null,null,"Not assessed","https://viewer.us-3.sharpershape.services/viewer/assets/5ca5a2c6f6b46335f7a04ffc/details","https://viewer.us-3.sharpershape.services/viewer/issues/5ecf8ed034b60c00015ec9a2/details","high","W12152135N3952614 WYANDOTTE 1105","[CoastalLiveOak, DouglasFir, MontereyPine]","CoastalLiveOak"]
[799,"NORTHERN","NORTH VALLEY","Tier 2-3","102911105 Tier 2-3",102911105,"WYANDOTTE 1105",16.100000000000001,39.52807,-121.52759,null,22.3,"W12152759N3952807",12,9.8000000000000007,"NO","W12152750N3952825","W12152800N3952774","W12152800N3952774-W12152750N3952825",102911105,"WYANDOTTE 1105",null,"2019-11-20T17:46:46",null,null,"Not assessed","https://viewer.us-3.sharpershape.services/viewer/assets/5ca5a2c6f6b4634ff7a05112/details","https://viewer.us-3.sharpershape.services/viewer/issues/5ecf8c9434b60c00015ec04a/details","high","W12152759N3952807 WYANDOTTE 1105","[GrayPine, TanOak, Other]","GrayPine"]
[800,"NORTHERN","NORTH VALLEY","Tier 2-3","102911105 Tier 2-3",102911105,"WYANDOTTE 1105",0.5,39.529640000000001,-121.52602,null,21.9,"W12152602N3952964",7.3,7.8,"NO","W12152596N3952916","W12152603N3952974","W12152603N3952974-W12152596N3952916",102911105,"WYANDOTTE 1105",null,"2019-11-20T17:46:46",null,null,"Not assessed","https://viewer.us-3.sharpershape.services/viewer/assets/5ca5a2c6f6b463c9e0a0514e/details","https://viewer.us-3.sharpershape.services/viewer/issues/5ecf8ec2a03e660001311158/details","high","W12152602N3952964 WYANDOTTE 1105","[MontereyPine, CoastalLiveOak, LiveOak]","MontereyPine"]
[801,"NORTHERN","NORTH VALLEY","Tier 0-1","102911105 Tier 0-1",102911105,"WYANDOTTE 1105",11.8,39.523269999999897,-121.511789999999,null,73.299999999999898,"W12151179N3952327",4.8,-40.799999999999997,"YES","W12151196N3952324","W12151119N3952361","W12151119N3952361-W12151196N3952324",102911105,"WYANDOTTE 1105",null,"2019-11-20T17:46:46","OH",null,"Not assessed","https://viewer.us-3.sharpershape.services/viewer/assets/5ca5a2c6f6b4638f7da04e40/details","https://viewer.us-3.sharpershape.services/viewer/issues/5ecf8c9634b60c00015ec123/details","high","W12151179N3952327 WYANDOTTE 1105","[GrayPine, DouglasFir, Other]","GrayPine"]
[802,"NORTHERN","NORTH VALLEY","Tier 2-3","102911105 Tier 2-3",102911105,"WYANDOTTE 1105",11.6,39.537379999999899,-121.54245,null,53.6,"W12154245N3953738",8.3000000000000007,-29.1999999999999,"YES","W12154253N3953660","W12154250N3953758","W12154250N3953758-W12154253N3953660",102911105,"WYANDOTTE 1105",null,"2019-11-20T17:46:46","OH",null,"Not assessed","https://viewer.us-3.sharpershape.services/viewer/assets/5ca5a2c6f6b4637989a05102/details","https://viewer.us-3.sharpershape.services/viewer/issues/5ecf8c9734b60c00015ec1b4/details","high","W12154245N3953738 WYANDOTTE 1105","[DouglasFir, GrayPine, TanOak]","DouglasFir"]
[803,"NORTHERN","NORTH VALLEY","Tier 2-3","102911105 Tier 2-3",102911105,"WYANDOTTE 1105",36.299999999999997,39.52881,-121.526439999999,null,43.399999999999899,"W12152644N3952881",15.3,-2,"YES","W12152596N3952916","W12152680N3952875","W12152680N3952875-W12152596N3952916",102911105,"WYANDOTTE 1105",null,"2019-11-20T17:46:46",null,null,"Not assessed","https://viewer.us-3.sharpershape.services/viewer/assets/5ca5a2c6f6b463c0bba05089/details","https://viewer.us-3.sharpershape.services/viewer/issues/5ecf8c96a03e660001310a10/details","high","W12152644N3952881 WYANDOTTE 1105","[Other, CoastalLiveOak, ValleyOak]","Other"]
[804,"NORTHERN","NORTH VALLEY","Tier 2-3","102911105 Tier 2-3",102911105,"WYANDOTTE 1105",19.600000000000001,39.531059999999897,-121.51899,null,37.399999999999899,"W12151899N3953106",9.4,0.9,"NO","W12151868N3953111","W12151923N3953089","W12151923N3953089-W12151868N3953111",102911105,"WYANDOTTE 1105",null,"2019-11-20T17:46:46",null,null,"Not assessed","https://viewer.us-3.sharpershape.services/viewer/assets/5ca5a2c6f6b4636ea8a04d47/details","https://viewer.us-3.sharpershape.services/viewer/issues/5ecf8c97a03e660001310a9a/details","high","W12151899N3953106 WYANDOTTE 1105","[CoastalLiveOak, Other, MontereyPine]","CoastalLiveOak"]
[805,"NORTHERN","NORTH VALLEY","Tier 2-3","102911105 Tier 2-3",102911105,"WYANDOTTE 1105",9,39.525019999999898,-121.53703,null,26.8,"W12153703N3952502",6.5,6.7,"NO","W12153682N3952487","W12153709N3952512","W12153709N3952512-W12153682N3952487",102911105,"WYANDOTTE 1105",null,"2019-11-20T17:46:46",null,null,"Not assessed","https://viewer.us-3.sharpershape.services/viewer/assets/5ca5a2c6f6b4635859a04d71/details","https://viewer.us-3.sharpershape.services/viewer/issues/5ecf8c93a03e660001310870/details","high","W12153703N3952502 WYANDOTTE 1105","[DouglasFir, Eucalyptus/BlueGum, Other]","DouglasFir"]
[806,"NORTHERN","NORTH VALLEY","Tier 2-3","102911105 Tier 2-3",102911105,"WYANDOTTE 1105",32.5,39.529820000000001,-121.53333000000001,null,31.6999999999999,"W12153333N3952982",9.6999999999999993,21.6999999999999,"NO","W12153340N3952972","W12153284N3952973","W12153284N3952973-W12153340N3952972",102911105,"WYANDOTTE 1105",null,"2019-11-20T17:46:46",null,null,"Not assessed","https://viewer.us-3.sharpershape.services/viewer/assets/5ca5a2c6f6b4637dc0a04d35/details","https://viewer.us-3.sharpershape.services/viewer/issues/5ecf8eca34b60c00015ec962/details","high","W12153333N3952982 WYANDOTTE 1105","[GrayPine, DouglasFir, ValleyOak]","GrayPine"]
[807,"NORTHERN","NORTH VALLEY","Tier 2-3","102911105 Tier 2-3",102911105,"WYANDOTTE 1105",35.6,39.52711,-121.52930000000001,null,101.5,"W12152930N3952711",27.9,-55.899999999999899,"YES","W12152907N3952726","W12152971N3952716","W12152971N3952716-W12152907N3952726",102911105,"WYANDOTTE 1105",null,"2019-11-20T17:46:46",null,null,"Not assessed","https://viewer.us-3.sharpershape.services/viewer/assets/5ca5a2c6f6b4635805a04cab/details","https://viewer.us-3.sharpershape.services/viewer/issues/5ecf8c9734b60c00015ec1e7/details","high","W12152930N3952711 WYANDOTTE 1105","[GrayPine, Eucalyptus/BlueGum, DouglasFir]","GrayPine"]
[808,"NORTHERN","NORTH VALLEY","Tier 2-3","102911105 Tier 2-3",102911105,"WYANDOTTE 1105",12.1,39.52713,-121.5296,null,37.399999999999899,"W12152960N3952713",7.3,-3.7,"YES","W12152907N3952726","W12152971N3952716","W12152971N3952716-W12152907N3952726",102911105,"WYANDOTTE 1105",null,"2019-11-20T17:46:46",null,null,"Not assessed","https://viewer.us-3.sharpershape.services/viewer/assets/5ca5a2c6f6b4635805a04cab/details","https://viewer.us-3.sharpershape.services/viewer/issues/5ecf8c9734b60c00015ec1e4/details","high","W12152960N3952713 WYANDOTTE 1105","[DouglasFir, CoastalLiveOak, Other]","DouglasFir"]
[809,"NORTHERN","NORTH VALLEY","Tier 2-3","102911105 Tier 2-3",102911105,"WYANDOTTE 1105",9.9,39.52731,-121.530349999999,null,37.200000000000003,"W12153035N3952731",4.3,5,"NO","W12152971N3952716","W12153054N3952731","W12153054N3952731-W12152971N3952716",102911105,"WYANDOTTE 1105",null,"2019-11-20T17:46:46",null,null,"Not assessed","https://viewer.us-3.sharpershape.services/viewer/assets/5ca5a2c6f6b4637c8aa04fdb/details","https://viewer.us-3.sharpershape.services/viewer/issues/5ecf8c94a03e6600013108dd/details","high","W12153035N3952731 WYANDOTTE 1105","[DouglasFir, Other, GrayPine]","DouglasFir"]
[810,"NORTHERN","NORTH VALLEY","Tier 2-3","102911105 Tier 2-3",102911105,"WYANDOTTE 1105",0.3,39.5313599999999,-121.53906000000001,null,31.6999999999999,"W12153906N3953136",4.4000000000000004,4.7,"NO","W12153907N3953151","W12153907N3953103","W12153907N3953103-W12153907N3953151",102911105,"WYANDOTTE 1105",null,"2019-11-20T17:46:46",null,null,"Not assessed","https://viewer.us-3.sharpershape.services/viewer/assets/5ca5a2c6f6b46346bca04e9d/details","https://viewer.us-3.sharpershape.services/viewer/issues/5ecf8eb7a03e66000131110c/details","high","W12153906N3953136 WYANDOTTE 1105","[DouglasFir, Other, TanOak]","DouglasFir"]
[811,"NORTHERN","NORTH VALLEY","Tier 2-3","102911105 Tier 2-3",102911105,"WYANDOTTE 1105",23.1999999999999,39.527339999999903,-121.529069999999,null,46.2,"W12152907N3952734",5.6,-1,"YES","W12152800N3952774","W12152907N3952726","W12152907N3952726-W12152800N3952774",102911105,"WYANDOTTE 1105",null,"2019-11-20T17:46:46",null,null,"Not assessed","https://viewer.us-3.sharpershape.services/viewer/assets/5ca5a2c6f6b4634630a04e8d/details","https://viewer.us-3.sharpershape.services/viewer/issues/5ecf8c97a03e660001310af7/details","high","W12152907N3952734 WYANDOTTE 1105","[Other, GrayPine, DouglasFir]","Other"]
[812,"NORTHERN","NORTH VALLEY","Tier 2-3","102911105 Tier 2-3",102911105,"WYANDOTTE 1105",14,39.529979999999902,-121.535309999999,null,25.8,"W12153531N3952998",8,5.5,"NO","W12153538N3953063","W12153538N3952985","W12153538N3952985-W12153538N3953063",102911105,"WYANDOTTE 1105",null,"2019-11-20T17:46:46",null,null,"Not assessed","https://viewer.us-3.sharpershape.services/viewer/assets/5ca5a2c6f6b4636d60a0516d/details","https://viewer.us-3.sharpershape.services/viewer/issues/5ecf8c97a03e660001310a32/details","high","W12153531N3952998 WYANDOTTE 1105"]
[813,"NORTHERN","NORTH VALLEY","Tier 0-1","102911105 Tier 0-1",102911105,"WYANDOTTE 1105",11.1,39.525590000000001,-121.534009999999,null,39.399999999999899,"W12153401N3952559",6.9,-2.4,"YES","W12153390N3952564","W12153462N3952554","W12153462N3952554-W12153390N3952564",102911105,"WYANDOTTE 1105",null,"2019-11-20T17:46:46",null,null,"Not assessed","https://viewer.us-3.sharpershape.services/viewer/assets/5ca5a2c6f6b463cfd6a04cce/details","https://viewer.us-3.sharpershape.services/viewer/issues/5ecf8c9834b60c00015ec276/details","high","W12153401N3952559 WYANDOTTE 1105","[GrayPine, DouglasFir, Eucalyptus/BlueGum]","GrayPine"]
[814,"NORTHERN","NORTH VALLEY","Tier 2-3","102911105 Tier 2-3",102911105,"WYANDOTTE 1105",29.3,39.531279999999903,-121.532179999999,null,47.399999999999899,"W12153218N3953128",5.6,-6.3,"YES","W12153206N3953153","W12153207N3953097","W12153207N3953097-W12153206N3953153",102911105,"WYANDOTTE 1105",null,"2019-11-20T17:46:46",null,null,"Not assessed","https://viewer.us-3.sharpershape.services/viewer/assets/5ca5a2c6f6b463f9cfa04c7e/details","https://viewer.us-3.sharpershape.services/viewer/issues/5ecf8c98a03e660001310b3f/details","high","W12153218N3953128 WYANDOTTE 1105","[DouglasFir, GrayPine, MontereyPine]","DouglasFir"]
[815,"NORTHERN","NORTH VALLEY","Tier 0-1","102911105 Tier 0-1",102911105,"WYANDOTTE 1105",5.9,39.525669999999899,-121.533249999999,null,30.5,"W12153325N3952567",5.9,7.2,"NO","W12153345N3952585","W12153312N3952549","W12153312N3952549-W12153345N3952585",102911105,"WYANDOTTE 1105",null,"2019-11-20T17:46:46",null,null,"Not assessed","https://viewer.us-3.sharpershape.services/viewer/assets/5ca5a2c6f6b4639894a04b2d/details","https://viewer.us-3.sharpershape.services/viewer/issues/5ecf8c94a03e6600013108ef/details","high","W12153325N3952567 WYANDOTTE 1105","[DouglasFir, LiveOak, CoastalLiveOak]","DouglasFir"]
[816,"NORTHERN","NORTH VALLEY","Tier 2-3","102911105 Tier 2-3",102911105,"WYANDOTTE 1105",23,39.5276,-121.535249999999,null,32.1,"W12153525N3952760",12,5.2,"NO","W12153535N3952774","W12153536N3952706","W12153536N3952706-W12153535N3952774",102911105,"WYANDOTTE 1105",null,"2019-11-20T17:46:46",null,null,"Not assessed","https://viewer.us-3.sharpershape.services/viewer/assets/5ca5a2c6f6b463ada9a04fb0/details","https://viewer.us-3.sharpershape.services/viewer/issues/5ecf8c97a03e660001310a72/details","high","W12153525N3952760 WYANDOTTE 1105","[Other, Eucalyptus/BlueGum, DouglasFir]","Other"]
[817,"NORTHERN","NORTH VALLEY","Tier 2-3","102911105 Tier 2-3",102911105,"WYANDOTTE 1105",39.200000000000003,39.531100000000002,-121.519019999999,null,53.399999999999899,"W12151902N3953110",5.5,-1,"YES","W12151868N3953111","W12151923N3953089","W12151923N3953089-W12151868N3953111",102911105,"WYANDOTTE 1105",null,"2019-11-20T17:46:46",null,null,"Not assessed","https://viewer.us-3.sharpershape.services/viewer/assets/5ca5a2c6f6b4636ea8a04d47/details","https://viewer.us-3.sharpershape.services/viewer/issues/5ecf8c97a03e660001310a98/details","high","W12151902N3953110 WYANDOTTE 1105","[MontereyPine, Other, CoastalLiveOak]","MontereyPine"]
[818,"NORTHERN","NORTH VALLEY","Tier 2-3","102911105 Tier 2-3",102911105,"WYANDOTTE 1105",3.2,39.535289999999897,-121.542329999999,null,23.6999999999999,"W12154233N3953529",5.4,6.7,"NO","W12154242N3953570","W12154230N3953520","W12154230N3953520-W12154242N3953570",102911105,"WYANDOTTE 1105",null,"2019-11-20T17:46:46",null,null,"Not assessed","https://viewer.us-3.sharpershape.services/viewer/assets/5ca5a2c6f6b463392ea051c1/details","https://viewer.us-3.sharpershape.services/viewer/issues/5ecf8c9734b60c00015ec1c1/details","high","W12154233N3953529 WYANDOTTE 1105","[DouglasFir, CoastalLiveOak, TanOak]","DouglasFir"]
[819,"NORTHERN","NORTH VALLEY","Tier 2-3","102911105 Tier 2-3",102911105,"WYANDOTTE 1105",20.1999999999999,39.53152,-121.518029999999,null,38.899999999999899,"W12151803N3953152",10.199999999999999,0.5,"NO","W12151822N3953157","W12151765N3953162","W12151765N3953162-W12151822N3953157",102911105,"WYANDOTTE 1105",null,"2019-11-20T17:46:46",null,null,"Not assessed","https://viewer.us-3.sharpershape.services/viewer/assets/5ca5a2c6f6b463f67aa051de/details","https://viewer.us-3.sharpershape.services/viewer/issues/5ecf8c9734b60c00015ec1a8/details","high","W12151803N3953152 WYANDOTTE 1105","[Other, CoastalLiveOak, Eucalyptus/BlueGum]","Other"]
[820,"NORTHERN","NORTH VALLEY","Tier 2-3","102911105 Tier 2-3",102911105,"WYANDOTTE 1105",24,39.54083,-121.542439999999,null,17.899999999999999,"W12154244N3954083",14.8,7.9,"NO","W12154249N3954102","W12154258N3954066","W12154258N3954066-W12154249N3954102",102911105,"WYANDOTTE 1105",null,"2019-11-20T17:46:46",null,null,"Not assessed","https://viewer.us-3.sharpershape.services/viewer/assets/5ca5a2c6f6b4638a8aa050a6/details","https://viewer.us-3.sharpershape.services/viewer/issues/5ecf8c96a03e66000131097b/details","high","W12154244N3954083 WYANDOTTE 1105","[CoastalLiveOak, DouglasFir, Other]","CoastalLiveOak"]
[821,"NORTHERN","NORTH VALLEY","Tier 0-1","102911105 Tier 0-1",102911105,"WYANDOTTE 1105",34.299999999999997,39.523489999999903,-121.5117,null,39.799999999999997,"W12151170N3952349",6.8,18.8,"NO","W12151196N3952324","W12151119N3952361","W12151119N3952361-W12151196N3952324",102911105,"WYANDOTTE 1105",null,"2019-11-20T17:46:46",null,null,"Not assessed","https://viewer.us-3.sharpershape.services/viewer/assets/5ca5a2c6f6b4638f7da04e40/details","https://viewer.us-3.sharpershape.services/viewer/issues/5ecf9574a03e66000131205c/details","high","W12151170N3952349 WYANDOTTE 1105","[CoastalLiveOak, DouglasFir, Eucalyptus/BlueGum]","CoastalLiveOak"]
[822,"NORTHERN","NORTH VALLEY","Tier 2-3","102911105 Tier 2-3",102911105,"WYANDOTTE 1105",43.6,39.539859999999898,-121.542439999999,null,63.399999999999899,"W12154244N3953986",21.3,-19.600000000000001,"YES","W12154261N3953987","W12154263N3953924","W12154263N3953924-W12154261N3953987",102911105,"WYANDOTTE 1105",null,"2019-11-20T17:46:46",null,null,"Not assessed","https://viewer.us-3.sharpershape.services/viewer/assets/5ca5a2c6f6b4637988a04a3e/details","https://viewer.us-3.sharpershape.services/viewer/issues/5ecf8c93a03e660001310877/details","high","W12154244N3953986 WYANDOTTE 1105","[DouglasFir, Eucalyptus/BlueGum, GrayPine]","DouglasFir"]
[823,"NORTHERN","NORTH VALLEY","Tier 0-1","102911105 Tier 0-1",102911105,"WYANDOTTE 1105",20,39.524009999999898,-121.514839999999,null,44.5,"W12151484N3952401",11.6,-12.9,"YES","W12151549N3952385","W12151473N3952396","W12151473N3952396-W12151549N3952385",102911105,"WYANDOTTE 1105",null,"2019-11-20T17:46:46",null,null,"Not assessed","https://viewer.us-3.sharpershape.services/viewer/assets/5ca5a2c6f6b46317dfa04ac8/details","https://viewer.us-3.sharpershape.services/viewer/issues/5ecf8c90a03e6600013107f3/details","high","W12151484N3952401 WYANDOTTE 1105","[GrayPine, Other, Eucalyptus/BlueGum]","GrayPine"]
[824,"NORTHERN","NORTH VALLEY","Tier 2-3","102911105 Tier 2-3",102911105,"WYANDOTTE 1105",25.6,39.6639699999999,-121.502859999999,null,63.3,"W12150286N3966397",12,9.4,"NO","W12150267N3966441","W12150368N3966300","W12150368N3966300-W12150267N3966441",102911105,"WYANDOTTE 1105",null,"2019-11-20T17:46:46",null,null,"Not assessed","https://viewer.us-3.sharpershape.services/viewer/assets/5ca5a2c6f6b4631995a04ed5/details","https://viewer.us-3.sharpershape.services/viewer/issues/5ecf8c9934b60c00015ec30f/details","high","W12150286N3966397 WYANDOTTE 1105"]
[825,"NORTHERN","NORTH VALLEY","Tier 0-1","102911105 Tier 0-1",102911105,"WYANDOTTE 1105",38.700000000000003,39.523539999999898,-121.511619999999,null,41.399999999999899,"W12151162N3952354",7.4,19.399999999999999,"NO","W12151196N3952324","W12151119N3952361","W12151119N3952361-W12151196N3952324",102911105,"WYANDOTTE 1105",null,"2019-11-20T17:46:46",null,null,"Not assessed","https://viewer.us-3.sharpershape.services/viewer/assets/5ca5a2c6f6b4638f7da04e40/details","https://viewer.us-3.sharpershape.services/viewer/issues/5ecf9574a03e66000131205e/details","high","W12151162N3952354 WYANDOTTE 1105","[DouglasFir, LiveOak, ValleyOak]","DouglasFir"]
[826,"NORTHERN","NORTH VALLEY","Tier 2-3","102911105 Tier 2-3",102911105,"WYANDOTTE 1105",37.200000000000003,39.539069999999903,-121.54246000000001,null,38.1,"W12154246N3953907",26.8,-0.9,"YES","W12154252N3953857","W12154263N3953924","W12154263N3953924-W12154252N3953857",102911105,"WYANDOTTE 1105",null,"2019-11-20T17:46:46",null,null,"Not assessed","https://viewer.us-3.sharpershape.services/viewer/assets/5ca5a2c6f6b463b563a04ed9/details","https://viewer.us-3.sharpershape.services/viewer/issues/5ecf8c9334b60c00015ec032/details","high","W12154246N3953907 WYANDOTTE 1105","[DouglasFir, LiveOak, Other]","DouglasFir"]
[827,"NORTHERN","NORTH VALLEY","Tier 2-3","102911105 Tier 2-3",102911105,"WYANDOTTE 1105",9.6999999999999993,39.5289,-121.535409999999,null,38.799999999999997,"W12153541N3952890",6.3,1.8,"NO","W12153537N3952882","W12153538N3952985","W12153538N3952985-W12153537N3952882",102911105,"WYANDOTTE 1105",null,"2019-11-20T17:46:46",null,null,"Not assessed","https://viewer.us-3.sharpershape.services/viewer/assets/5ca5a2c6f6b463441aa04ac2/details","https://viewer.us-3.sharpershape.services/viewer/issues/5ecf8c95a03e660001310903/details","high","W12153541N3952890 WYANDOTTE 1105","[DouglasFir, LiveOak, Other]","DouglasFir"]
[828,"NORTHERN","NORTH VALLEY","Tier 2-3","102911105 Tier 2-3",102911105,"WYANDOTTE 1105",25.5,39.531949999999902,-121.53897000000001,null,38.799999999999997,"W12153897N3953195",8.8000000000000007,-0.3,"YES","W12153905N3953243","W12153907N3953193","W12153907N3953193-W12153905N3953243",102911105,"WYANDOTTE 1105",null,"2019-11-20T17:46:46",null,null,"Not assessed","https://viewer.us-3.sharpershape.services/viewer/assets/5ca5a2c6f6b46326f9a04de3/details","https://viewer.us-3.sharpershape.services/viewer/issues/5ecf8c9934b60c00015ec364/details","high","W12153897N3953195 WYANDOTTE 1105","[CoastalLiveOak, Other, Eucalyptus/BlueGum]","CoastalLiveOak"]
[829,"NORTHERN","NORTH VALLEY","Tier 0-1","102911105 Tier 0-1",102911105,"WYANDOTTE 1105",19.899999999999999,39.523519999999898,-121.511529999999,null,39.299999999999997,"W12151153N3952352",4.2,-1.3,"YES","W12151196N3952324","W12151119N3952361","W12151119N3952361-W12151196N3952324",102911105,"WYANDOTTE 1105",null,"2019-11-20T17:46:46",null,null,"Not assessed","https://viewer.us-3.sharpershape.services/viewer/assets/5ca5a2c6f6b4638f7da04e40/details","https://viewer.us-3.sharpershape.services/viewer/issues/5ecf8c9634b60c00015ec10d/details","high","W12151153N3952352 WYANDOTTE 1105","[GrayPine, DouglasFir, LiveOak]","GrayPine"]
[830,"NORTHERN","NORTH VALLEY","Tier 2-3","102911105 Tier 2-3",102911105,"WYANDOTTE 1105",13.6,39.532719999999898,-121.52598999999999,null,47.1,"W12152599N3953272",6.5,-14.7,"YES","W12152605N3953285","W12152605N3953235","W12152605N3953235-W12152605N3953285",102911105,"WYANDOTTE 1105",null,"2019-11-20T17:46:46","OH",null,"Not assessed","https://viewer.us-3.sharpershape.services/viewer/assets/5e1c22f1942b994ca37b032f/details","https://viewer.us-3.sharpershape.services/viewer/issues/5ecfe7bc34b60c000160de4c/details","high","W12152599N3953272 WYANDOTTE 1105","[Other, DouglasFir, ValleyOak]","Other"]
[831,"NORTHERN","NORTH VALLEY","Tier 2-3","102911105 Tier 2-3",102911105,"WYANDOTTE 1105",12.3,39.531500000000001,-121.531509999999,null,48,"W12153151N3953150",7.1,-17.100000000000001,"YES","W12153206N3953153","W12153147N3953155","W12153147N3953155-W12153206N3953153",102911105,"WYANDOTTE 1105",null,"2019-11-20T17:46:46","OH",null,"Not assessed","https://viewer.us-3.sharpershape.services/viewer/assets/5ca5a2c6f6b4635ba4a04c32/details","https://viewer.us-3.sharpershape.services/viewer/issues/5ecf8c96a03e66000131099e/details","high","W12153151N3953150 WYANDOTTE 1105","[GrayPine, DouglasFir, ValleyOak]","GrayPine"]
[832,"NORTHERN","NORTH VALLEY","Tier 0-1","102911105 Tier 0-1",102911105,"WYANDOTTE 1105",31.1999999999999,39.5230099999999,-121.5123,null,37.700000000000003,"W12151230N3952301",8.6,0.7,"NO","W12151282N3952292","W12151196N3952324","W12151196N3952324-W12151282N3952292",102911105,"WYANDOTTE 1105",null,"2019-11-20T17:46:46",null,null,"Not assessed","https://viewer.us-3.sharpershape.services/viewer/assets/5ca5a2c6f6b463e9a0a04bb9/details","https://viewer.us-3.sharpershape.services/viewer/issues/5ecf8c98a03e660001310ba6/details","high","W12151230N3952301 WYANDOTTE 1105","[DouglasFir, GrayPine, Other]","DouglasFir"]
[833,"NORTHERN","NORTH VALLEY","Tier 0-1","102911105 Tier 0-1",102911105,"WYANDOTTE 1105",0.1,39.523579999999903,-121.511269999999,null,31.3,"W12151127N3952358",4,4.0999999999999996,"NO","W12151196N3952324","W12151119N3952361","W12151119N3952361-W12151196N3952324",102911105,"WYANDOTTE 1105",null,"2019-11-20T17:46:46",null,null,"Not assessed","https://viewer.us-3.sharpershape.services/viewer/assets/5ca5a2c6f6b4638f7da04e40/details","https://viewer.us-3.sharpershape.services/viewer/issues/5ecf9574a03e660001312042/details","high","W12151127N3952358 WYANDOTTE 1105","[DouglasFir, ValleyOak, GrayPine]","DouglasFir"]
[834,"NORTHERN","NORTH VALLEY","Tier 2-3","102911105 Tier 2-3",102911105,"WYANDOTTE 1105",13.2,39.529049999999899,-121.52629,null,35.399999999999899,"W12152629N3952905",5.0999999999999996,1.6,"NO","W12152596N3952916","W12152680N3952875","W12152680N3952875-W12152596N3952916",102911105,"WYANDOTTE 1105",null,"2019-11-20T17:46:46",null,null,"Not assessed","https://viewer.us-3.sharpershape.services/viewer/assets/5ca5a2c6f6b463c0bba05089/details","https://viewer.us-3.sharpershape.services/viewer/issues/5ecf8c96a03e660001310a11/details","high","W12152629N3952905 WYANDOTTE 1105","[TanOak, GrayPine, Other]","TanOak"]
[835,"NORTHERN","NORTH VALLEY","Tier 2-3","102911105 Tier 2-3",102911105,"WYANDOTTE 1105",20.6999999999999,39.533229999999897,-121.54094000000001,null,76.299999999999898,"W12154094N3953323",5.0999999999999996,-32.799999999999898,"YES","W12154073N3953285","W12154087N3953327","W12154087N3953327-W12154073N3953285",102911105,"WYANDOTTE 1105",null,"2019-11-20T17:46:46","OH",null,"Not assessed","https://viewer.us-3.sharpershape.services/viewer/assets/5ca5a2c6f6b463f395a04ceb/details","https://viewer.us-3.sharpershape.services/viewer/issues/5ecf8c97a03e660001310aaf/details","high","W12154094N3953323 WYANDOTTE 1105","[Other, DouglasFir, GrayPine]","Other"]
[836,"NORTHERN","NORTH VALLEY","Tier 2-3","102911105 Tier 2-3",102911105,"WYANDOTTE 1105",16.8,39.672600000000003,-121.497309999999,null,24,"W12149731N3967260",12,8.8000000000000007,"NO","W12149658N3967347","W12149755N3967217","W12149755N3967217-W12149658N3967347",0,"WYANDOTTE 1105",null,"2019-11-20T17:46:46",null,null,"Not assessed","https://viewer.us-3.sharpershape.services/viewer/assets/5ca5a2c6f6b463d89ea04e5a/details","https://viewer.us-3.sharpershape.services/viewer/issues/5ecf8c9834b60c00015ec2d1/details","high","W12149731N3967260 WYANDOTTE 1105","[MontereyPine, CoastalLiveOak, Other]","MontereyPine"]
[837,"NORTHERN","NORTH VALLEY","Tier 2-3","102911105 Tier 2-3",102911105,"WYANDOTTE 1105",0.8,39.526739999999897,-121.535359999999,null,25.6999999999999,"W12153536N3952674",10.5,11.3,"NO","W12153535N3952637","W12153536N3952706","W12153536N3952706-W12153535N3952637",102911105,"WYANDOTTE 1105",null,"2019-11-20T17:46:46",null,null,"Not assessed","https://viewer.us-3.sharpershape.services/viewer/assets/5e7a18565dcbeb387a17baf6/details","https://viewer.us-3.sharpershape.services/viewer/issues/5ecf8eea34b60c00015eca6a/details","high","W12153536N3952674 WYANDOTTE 1105","[CoastalLiveOak, DouglasFir, LiveOak]","CoastalLiveOak"]
[838,"NORTHERN","NORTH VALLEY","Tier 2-3","102911105 Tier 2-3",102911105,"WYANDOTTE 1105",29.3,39.531329999999897,-121.54062,null,51,"W12154062N3953133",6.1,-6.3,"YES","W12154084N3953131","W12154060N3953123","W12154060N3953123-W12154084N3953131",102911105,"WYANDOTTE 1105",null,"2019-11-20T17:46:46",null,null,"Not assessed","https://viewer.us-3.sharpershape.services/viewer/assets/5ca5a2c6f6b463023fa051ec/details","https://viewer.us-3.sharpershape.services/viewer/issues/5ecf8c9834b60c00015ec26d/details","high","W12154062N3953133 WYANDOTTE 1105","[DouglasFir, LiveOak, CoastalLiveOak]","DouglasFir"]
[839,"NORTHERN","NORTH VALLEY","Tier 2-3","102911105 Tier 2-3",102911105,"WYANDOTTE 1105",10.3,39.531590000000001,-121.53649,null,51.6,"W12153649N3953159",5.2,-18.100000000000001,"YES","W12153654N3953154","W12153655N3953211","W12153655N3953211-W12153654N3953154",102911105,"WYANDOTTE 1105",null,"2019-11-20T17:46:46","OH",null,"Not assessed","https://viewer.us-3.sharpershape.services/viewer/assets/5ca5a2c6f6b463875ba04bda/details","https://viewer.us-3.sharpershape.services/viewer/issues/5ecf8c9534b60c00015ec092/details","high","W12153649N3953159 WYANDOTTE 1105","[CoastalLiveOak, DouglasFir, Eucalyptus/BlueGum]","CoastalLiveOak"]
[840,"NORTHERN","NORTH VALLEY","Tier 2-3","102911105 Tier 2-3",102911105,"WYANDOTTE 1105",35.1,39.529620000000001,-121.53010999999999,null,77.099999999999994,"W12153011N3952962",5.4,-26.8,"YES","W12152988N3952972","W12153068N3952972","W12153068N3952972-W12152988N3952972",102911105,"WYANDOTTE 1105",null,"2019-11-20T17:46:46",null,null,"Not assessed","https://viewer.us-3.sharpershape.services/viewer/assets/5d89b6cc55dd6b81633f2eff/details","https://viewer.us-3.sharpershape.services/viewer/issues/5ecf8c9934b60c00015ec336/details","high","W12153011N3952962 WYANDOTTE 1105","[DouglasFir, GrayPine, CoastalLiveOak]","DouglasFir"]
[841,"NORTHERN","NORTH VALLEY","Tier 2-3","102911105 Tier 2-3",102911105,"WYANDOTTE 1105",47.8,39.528669999999899,-121.520409999999,null,93.1,"W12152041N3952867",29.4,-30.6,"YES","W12152014N3952914","W12152053N3952877","W12152053N3952877-W12152014N3952914",102911105,"WYANDOTTE 1105",null,"2019-11-20T17:46:46",null,null,"Not assessed","https://viewer.us-3.sharpershape.services/viewer/assets/5ca5a2c6f6b463d0f3a04a55/details","https://viewer.us-3.sharpershape.services/viewer/issues/5ecf8c9734b60c00015ec209/details","high","W12152041N3952867 WYANDOTTE 1105","[CoastalLiveOak, DouglasFir, MontereyPine]","CoastalLiveOak"]
[842,"NORTHERN","NORTH VALLEY","Tier 2-3","102911105 Tier 2-3",102911105,"WYANDOTTE 1105",1.1000000000000001,39.541329999999903,-121.54231,null,15.4,"W12154231N3954133",6.6,7.7,"NO","W12154206N3954186","W12154249N3954102","W12154249N3954102-W12154206N3954186",102911105,"WYANDOTTE 1105",null,"2019-11-20T17:46:46",null,null,"Not assessed","https://viewer.us-3.sharpershape.services/viewer/assets/5ca5a2c6f6b4631d52a04cea/details","https://viewer.us-3.sharpershape.services/viewer/issues/5ecf954134b60c00015ed6ee/details","high","W12154231N3954133 WYANDOTTE 1105","[DouglasFir, LiveOak, CoastalLiveOak]","DouglasFir"]
[843,"NORTHERN","NORTH VALLEY","Tier 2-3","102911105 Tier 2-3",102911105,"WYANDOTTE 1105",30,39.531599999999997,-121.539659999999,null,42.899999999999899,"W12153966N3953160",9.9,7.6,"NO","W12153907N3953151","W12153966N3953151","W12153966N3953151-W12153907N3953151",102911105,"WYANDOTTE 1105",null,"2019-11-20T17:46:46",null,null,"Not assessed","https://viewer.us-3.sharpershape.services/viewer/assets/5ca5a2c6f6b463a79da04e35/details","https://viewer.us-3.sharpershape.services/viewer/issues/5ecf8c9234b60c00015ebff0/details","high","W12153966N3953160 WYANDOTTE 1105","[LiveOak, DouglasFir, Other]","LiveOak"]
[844,"NORTHERN","NORTH VALLEY","Tier 2-3","102911105 Tier 2-3",102911105,"WYANDOTTE 1105",51.2,39.529919999999898,-121.532259999999,null,69.900000000000006,"W12153226N3952992",47.899999999999899,-9,"YES","W12153206N3953018","W12153206N3952972","W12153206N3952972-W12153206N3953018",102911105,"WYANDOTTE 1105",null,"2019-11-20T17:46:46",null,null,"Not assessed","https://viewer.us-3.sharpershape.services/viewer/assets/5ca5a2c6f6b4636702a04ca2/details","https://viewer.us-3.sharpershape.services/viewer/issues/5ecf8c9734b60c00015ec1f4/details","high","W12153226N3952992 WYANDOTTE 1105","[GrayPine, Other, ValleyOak]","GrayPine"]
[845,"NORTHERN","NORTH VALLEY","Tier 2-3","102911105 Tier 2-3",102911105,"WYANDOTTE 1105",49.5,39.53781,-121.54231,null,68.2,"W12154231N3953781",28.6999999999999,-18.399999999999999,"YES","W12154252N3953857","W12154250N3953758","W12154250N3953758-W12154252N3953857",102911105,"WYANDOTTE 1105",null,"2019-11-20T17:46:46",null,null,"Not assessed","https://viewer.us-3.sharpershape.services/viewer/assets/5ca5a2c6f6b463b67da04e4c/details","https://viewer.us-3.sharpershape.services/viewer/issues/5ecf8c97a03e660001310a3c/details","high","W12154231N3953781 WYANDOTTE 1105","[GrayPine, Eucalyptus/BlueGum, DouglasFir]","GrayPine"]
[846,"NORTHERN","NORTH VALLEY","Tier 2-3","102911105 Tier 2-3",102911105,"WYANDOTTE 1105",8.4,39.532109999999903,-121.539029999999,null,30.1999999999999,"W12153903N3953211",5.3,1.2,"NO","W12153905N3953243","W12153907N3953193","W12153907N3953193-W12153905N3953243",102911105,"WYANDOTTE 1105",null,"2019-11-20T17:46:46",null,null,"Not assessed","https://viewer.us-3.sharpershape.services/viewer/assets/5ca5a2c6f6b46326f9a04de3/details","https://viewer.us-3.sharpershape.services/viewer/issues/5ecf8c9934b60c00015ec363/details","high","W12153903N3953211 WYANDOTTE 1105","[DouglasFir, Other, CoastalLiveOak]","DouglasFir"]
[847,"NORTHERN","NORTH VALLEY","Tier 2-3","102911105 Tier 2-3",102911105,"WYANDOTTE 1105",67.299999999999898,39.538489999999904,-121.54227,null,70.299999999999898,"W12154227N3953849",45.6,-1.8,"YES","W12154252N3953857","W12154250N3953758","W12154250N3953758-W12154252N3953857",102911105,"WYANDOTTE 1105",null,"2019-11-20T17:46:46",null,null,"Not assessed","https://viewer.us-3.sharpershape.services/viewer/assets/5ca5a2c6f6b463b67da04e4c/details","https://viewer.us-3.sharpershape.services/viewer/issues/5ecf8c97a03e660001310a3e/details","high","W12154227N3953849 WYANDOTTE 1105","[DouglasFir, Eucalyptus/BlueGum, GrayPine]","DouglasFir"]
[848,"NORTHERN","NORTH VALLEY","Tier 2-3","102911105 Tier 2-3",102911105,"WYANDOTTE 1105",59.1,39.529339999999898,-121.52486,null,61.8,"W12152486N3952934",41.8,-0.3,"YES","W12152414N3952959","W12152508N3952949","W12152508N3952949-W12152414N3952959",102911105,"WYANDOTTE 1105",null,"2019-11-20T17:46:46",null,null,"Not assessed","https://viewer.us-3.sharpershape.services/viewer/assets/5ca5a2c6f6b4633d64a04cf9/details","https://viewer.us-3.sharpershape.services/viewer/issues/5ee2b4c3a03e66000146e45e/details","high","W12152486N3952934 WYANDOTTE 1105","[DouglasFir, Eucalyptus/BlueGum, CoastalLiveOak]","DouglasFir"]
[849,"NORTHERN","NORTH VALLEY","Tier 2-3","102911105 Tier 2-3",102911105,"WYANDOTTE 1105",39.6,39.532409999999899,-121.52589999999999,null,23.3,"W12152590N3953241",6.3,18.3,"NO","W12152605N3953285","W12152605N3953235","W12152605N3953235-W12152605N3953285",102911105,"WYANDOTTE 1105",null,"2019-11-20T17:46:46",null,null,"Not assessed","https://viewer.us-3.sharpershape.services/viewer/assets/5e1c22f1942b994ca37b032f/details","https://viewer.us-3.sharpershape.services/viewer/issues/5ecfe7c234b60c000160de58/details","high","W12152590N3953241 WYANDOTTE 1105","[TanOak, MontereyPine, ValleyOak]","TanOak"]
[850,"NORTHERN","NORTH VALLEY","Tier 2-3","102911105 Tier 2-3",102911105,"WYANDOTTE 1105",12.7,39.529649999999897,-121.51971,null,35.1,"W12151971N3952965",5.4,1.2,"NO","W12151936N3952926","W12152005N3953021","W12152005N3953021-W12151936N3952926",102911105,"WYANDOTTE 1105",null,"2019-11-20T17:46:46",null,null,"Not assessed","https://viewer.us-3.sharpershape.services/viewer/assets/5ca5a2c6f6b463d94da04bdf/details","https://viewer.us-3.sharpershape.services/viewer/issues/5ecf8c9834b60c00015ec2c8/details","high","W12151971N3952965 WYANDOTTE 1105","[GrayPine, DouglasFir, Other]","GrayPine"]
[851,"NORTHERN","NORTH VALLEY","Tier 2-3","102911105 Tier 2-3",102911105,"WYANDOTTE 1105",19.8,39.531120000000001,-121.51855999999999,null,59.6,"W12151856N3953112",5.0999999999999996,-24.1,"YES","W12151868N3953111","W12151822N3953157","W12151822N3953157-W12151868N3953111",102911105,"WYANDOTTE 1105",null,"2019-11-20T17:46:46",null,null,"Not assessed","https://viewer.us-3.sharpershape.services/viewer/assets/5ca5a2c6f6b4630821a04f40/details","https://viewer.us-3.sharpershape.services/viewer/issues/5ecf8c9334b60c00015ec024/details","high","W12151856N3953112 WYANDOTTE 1105","[Other, DouglasFir, GrayPine]","Other"]
[852,"NORTHERN","NORTH VALLEY","Tier 2-3","102911105 Tier 2-3",102911105,"WYANDOTTE 1105",33.700000000000003,39.531709999999897,-121.525919999999,null,24.9,"W12152592N3953171",9.8000000000000007,21.8,"NO","W12152604N3953139","W12152606N3953202","W12152606N3953202-W12152604N3953139",102911105,"WYANDOTTE 1105",null,"2019-11-20T17:46:46",null,null,"Not assessed","https://viewer.us-3.sharpershape.services/viewer/assets/5ca5a2c6f6b463cbbca04b3b/details","https://viewer.us-3.sharpershape.services/viewer/issues/5ecf8ebaa03e660001311156/details","high","W12152592N3953171 WYANDOTTE 1105","[GrayPine, MontereyPine, ValleyOak]","GrayPine"]
[853,"NORTHERN","NORTH VALLEY","Tier 2-3","102911105 Tier 2-3",102911105,"WYANDOTTE 1105",52.399999999999899,39.53266,-121.53864,null,74.900000000000006,"W12153864N3953266",41.1,-17.899999999999999,"YES","W12153906N3953282","W12153848N3953281","W12153848N3953281-W12153906N3953282",102911105,"WYANDOTTE 1105",null,"2019-11-20T17:46:46",null,null,"Not assessed","https://viewer.us-3.sharpershape.services/viewer/assets/5ca5a2c6f6b46324baa04ba9/details","https://viewer.us-3.sharpershape.services/viewer/issues/5ecf8c9934b60c00015ec32b/details","high","W12153864N3953266 WYANDOTTE 1105","[GrayPine, DouglasFir, Eucalyptus/BlueGum]","GrayPine"]
[854,"NORTHERN","NORTH VALLEY","Tier 2-3","102911105 Tier 2-3",102911105,"WYANDOTTE 1105",24.5,39.531619999999897,-121.531689999999,null,38.899999999999899,"W12153169N3953162",5.6,-3.4,"YES","W12153206N3953153","W12153147N3953155","W12153147N3953155-W12153206N3953153",102911105,"WYANDOTTE 1105",null,"2019-11-20T17:46:46","OH",null,"Not assessed","https://viewer.us-3.sharpershape.services/viewer/assets/5ca5a2c6f6b4635ba4a04c32/details","https://viewer.us-3.sharpershape.services/viewer/issues/5ecf8c96a03e66000131099b/details","high","W12153169N3953162 WYANDOTTE 1105","[DouglasFir, CoastalLiveOak, Eucalyptus/BlueGum]","DouglasFir"]
[855,"NORTHERN","NORTH VALLEY","Tier 2-3","102911105 Tier 2-3",102911105,"WYANDOTTE 1105",22.6999999999999,39.541239999999902,-121.54227,null,27.1,"W12154227N3954124",7.9,-3.9,"YES","W12154206N3954186","W12154249N3954102","W12154249N3954102-W12154206N3954186",102911105,"WYANDOTTE 1105",null,"2019-11-20T17:46:46",null,null,"Not assessed","https://viewer.us-3.sharpershape.services/viewer/assets/5ca5a2c6f6b4631d52a04cea/details","https://viewer.us-3.sharpershape.services/viewer/issues/5ecf8c98a03e660001310be9/details","high","W12154227N3954124 WYANDOTTE 1105","[DouglasFir, CoastalLiveOak, Eucalyptus/BlueGum]","DouglasFir"]
[856,"NORTHERN","NORTH VALLEY","Tier 0-1","102911105 Tier 0-1",102911105,"WYANDOTTE 1105",25,39.524079999999898,-121.51478,null,28.6,"W12151478N3952408",11.7,9.6999999999999993,"NO","W12151473N3952396","W12151456N3952437","W12151456N3952437-W12151473N3952396",102911105,"WYANDOTTE 1105",null,"2019-11-20T17:46:46",null,null,"Not assessed","https://viewer.us-3.sharpershape.services/viewer/assets/5ca5a2c6f6b4637591a050b5/details","https://viewer.us-3.sharpershape.services/viewer/issues/5ecf8c96a03e660001310980/details","high","W12151478N3952408 WYANDOTTE 1105","[GrayPine, Other, CoastalLiveOak]","GrayPine"]
[857,"NORTHERN","NORTH VALLEY","Tier 2-3","102911105 Tier 2-3",102911105,"WYANDOTTE 1105",55.8,39.53266,-121.53842,null,80.5,"W12153842N3953266",36.700000000000003,-20.9,"YES","W12153906N3953282","W12153848N3953281","W12153848N3953281-W12153906N3953282",102911105,"WYANDOTTE 1105",null,"2019-11-20T17:46:46",null,null,"Not assessed","https://viewer.us-3.sharpershape.services/viewer/assets/5ca5a2c6f6b46324baa04ba9/details","https://viewer.us-3.sharpershape.services/viewer/issues/5ecf8c9934b60c00015ec332/details","high","W12153842N3953266 WYANDOTTE 1105","[GrayPine, Eucalyptus/BlueGum, DouglasFir]","GrayPine"]
[858,"NORTHERN","NORTH VALLEY","Tier 2-3","102911105 Tier 2-3",102911105,"WYANDOTTE 1105",30.6,39.52816,-121.53192,null,24.6999999999999,"W12153192N3952816",6.8,18.8,"NO","W12153205N3952846","W12153203N3952790","W12153203N3952790-W12153205N3952846",102911105,"WYANDOTTE 1105",null,"2019-11-20T17:46:46",null,null,"Not assessed","https://viewer.us-3.sharpershape.services/viewer/assets/5ca5a2c6f6b463f261a051d0/details","https://viewer.us-3.sharpershape.services/viewer/issues/5ecf8f21a03e66000131138e/details","high","W12153192N3952816 WYANDOTTE 1105","[DouglasFir, LiveOak, GrayPine]","DouglasFir"]
[859,"NORTHERN","NORTH VALLEY","Tier 0-1","102911105 Tier 0-1",102911105,"WYANDOTTE 1105",13.3,39.522939999999899,-121.53775,null,31.1,"W12153775N3952294",7.6,5.6,"NO","W12153761N3952311","W12153775N3952283","W12153775N3952283-W12153761N3952311",102911105,"WYANDOTTE 1105",null,"2019-11-20T17:46:46",null,null,"Not assessed","https://viewer.us-3.sharpershape.services/viewer/assets/5ca5a2c6f6b463b271a05203/details","https://viewer.us-3.sharpershape.services/viewer/issues/5ecf8c91a03e660001310833/details","high","W12153775N3952294 WYANDOTTE 1105","[DouglasFir, Other, CoastalLiveOak]","DouglasFir"]
[860,"NORTHERN","NORTH VALLEY","Tier 2-3","102911105 Tier 2-3",102911105,"WYANDOTTE 1105",37.700000000000003,39.531500000000001,-121.5401,null,31.1,"W12154010N3953150",8.9,20.9,"NO","W12154021N3953134","W12153966N3953151","W12153966N3953151-W12154021N3953134",102911105,"WYANDOTTE 1105",null,"2019-11-20T17:46:46",null,null,"Not assessed","https://viewer.us-3.sharpershape.services/viewer/assets/5ca5a2c6f6b4638850a050f0/details","https://viewer.us-3.sharpershape.services/viewer/issues/5ecf9538a03e660001311e72/details","high","W12154010N3953150 WYANDOTTE 1105","[DouglasFir, Other, LiveOak]","DouglasFir"]
[861,"NORTHERN","NORTH VALLEY","Tier 2-3","102911105 Tier 2-3",102911105,"WYANDOTTE 1105",45.5,39.529109999999903,-121.51945000000001,null,54.899999999999899,"W12151945N3952911",32,-3.3,"YES","W12151936N3952926","W12152014N3952914","W12152014N3952914-W12151936N3952926",102911105,"WYANDOTTE 1105",null,"2019-11-20T17:46:46",null,null,"Not assessed","https://viewer.us-3.sharpershape.services/viewer/assets/5ca5a2c6f6b4634b73a04f6f/details","https://viewer.us-3.sharpershape.services/viewer/issues/5ecf8c96a03e6600013109f8/details","high","W12151945N3952911 WYANDOTTE 1105","[GrayPine, Other, CoastalLiveOak]","GrayPine"]
[862,"NORTHERN","NORTH VALLEY","Tier 2-3","102911105 Tier 2-3",102911105,"WYANDOTTE 1105",37.899999999999899,39.524069999999902,-121.5372,null,34.6,"W12153720N3952407",7,19,"NO","W12153751N3952386","W12153708N3952399","W12153708N3952399-W12153751N3952386",102911105,"WYANDOTTE 1105",null,"2019-11-20T17:46:46",null,null,"Not assessed","https://viewer.us-3.sharpershape.services/viewer/assets/5ca5a2c6f6b46361e1a04b3c/details","https://viewer.us-3.sharpershape.services/viewer/issues/5ecf8f10a03e66000131136c/details","high","W12153720N3952407 WYANDOTTE 1105","[Other, Eucalyptus/BlueGum, DouglasFir]","Other"]
[863,"NORTHERN","NORTH VALLEY","Tier 2-3","102911105 Tier 2-3",102911105,"WYANDOTTE 1105",17.3,39.52787,-121.52778000000001,null,29,"W12152778N3952787",8,2,"NO","W12152750N3952825","W12152800N3952774","W12152800N3952774-W12152750N3952825",102911105,"WYANDOTTE 1105",null,"2019-11-20T17:46:46",null,null,"Not assessed","https://viewer.us-3.sharpershape.services/viewer/assets/5ca5a2c6f6b4634ff7a05112/details","https://viewer.us-3.sharpershape.services/viewer/issues/5ecf8c9434b60c00015ec042/details","high","W12152778N3952787 WYANDOTTE 1105","[GrayPine, TanOak, ValleyOak]","GrayPine"]
[864,"NORTHERN","NORTH VALLEY","Tier 2-3","102911105 Tier 2-3",102911105,"WYANDOTTE 1105",13.8,39.526019999999903,-121.53306000000001,null,33.399999999999899,"W12153306N3952602",8,4.0999999999999996,"NO","W12153295N3952615","W12153345N3952585","W12153345N3952585-W12153295N3952615",102911105,"WYANDOTTE 1105",null,"2019-11-20T17:46:46",null,null,"Not assessed","https://viewer.us-3.sharpershape.services/viewer/assets/5ca5a2c6f6b4637e6fa049ea/details","https://viewer.us-3.sharpershape.services/viewer/issues/5ecf8c90a03e66000131080f/details","high","W12153306N3952602 WYANDOTTE 1105","[DouglasFir, Eucalyptus/BlueGum, CoastalLiveOak]","DouglasFir"]
[865,"NORTHERN","NORTH VALLEY","Tier 0-1","102911105 Tier 0-1",102911105,"WYANDOTTE 1105",24.5,39.523739999999897,-121.53744,null,35.799999999999997,"W12153744N3952374",5.0999999999999996,2.2999999999999998,"NO","W12153761N3952311","W12153751N3952386","W12153751N3952386-W12153761N3952311",102911105,"WYANDOTTE 1105",null,"2019-11-20T17:46:46",null,null,"Not assessed","https://viewer.us-3.sharpershape.services/viewer/assets/5ca5a2c6f6b46364c0a0520a/details","https://viewer.us-3.sharpershape.services/viewer/issues/5ecf8c96a03e660001310a0d/details","high","W12153744N3952374 WYANDOTTE 1105","[DouglasFir, TanOak, CoastalLiveOak]","DouglasFir"]
[866,"NORTHERN","NORTH VALLEY","Tier 2-3","102911105 Tier 2-3",102911105,"WYANDOTTE 1105",10.5,39.529699999999998,-121.51962,null,78.299999999999898,"W12151962N3952970",8.1,-46.8,"YES","W12151936N3952926","W12152005N3953021","W12152005N3953021-W12151936N3952926",102911105,"WYANDOTTE 1105",null,"2019-11-20T17:46:46","OH",null,"Not assessed","https://viewer.us-3.sharpershape.services/viewer/assets/5ca5a2c6f6b463d94da04bdf/details","https://viewer.us-3.sharpershape.services/viewer/issues/5ecf8c9834b60c00015ec2ba/details","high","W12151962N3952970 WYANDOTTE 1105","[GrayPine, MontereyPine, Other]","GrayPine"]
[867,"NORTHERN","NORTH VALLEY","Tier 2-3","102911105 Tier 2-3",102911105,"WYANDOTTE 1105",0.6,39.529719999999898,-121.531939999999,null,20.6,"W12153194N3952972",6.3,6.1,"NO","W12153130N3952973","W12153206N3952972","W12153206N3952972-W12153130N3952973",102911105,"WYANDOTTE 1105",null,"2019-11-20T17:46:46",null,null,"Not assessed","https://viewer.us-3.sharpershape.services/viewer/assets/5ca5a2c6f6b4637225a0510d/details","https://viewer.us-3.sharpershape.services/viewer/issues/5ecf8c9634b60c00015ec135/details","high","W12153194N3952972 WYANDOTTE 1105"]
[868,"NORTHERN","NORTH VALLEY","Tier 2-3","102911105 Tier 2-3",102911105,"WYANDOTTE 1105",53.899999999999899,39.533259999999899,-121.540649999999,null,59.7,"W12154065N3953326",38,3.3,"NO","W12154073N3953285","W12154087N3953327","W12154087N3953327-W12154073N3953285",102911105,"WYANDOTTE 1105",null,"2019-11-20T17:46:46",null,null,"Not assessed","https://viewer.us-3.sharpershape.services/viewer/assets/5ca5a2c6f6b463f395a04ceb/details","https://viewer.us-3.sharpershape.services/viewer/issues/5ecf8c97a03e660001310ab3/details","high","W12154065N3953326 WYANDOTTE 1105","[DouglasFir, LiveOak, Other]","DouglasFir"]
[869,"NORTHERN","NORTH VALLEY","Tier 0-1","102911105 Tier 0-1",102911105,"WYANDOTTE 1105",31.1999999999999,39.523510000000002,-121.511179999999,null,43.3,"W12151118N3952351",5.3,-0.8,"YES","W12151196N3952324","W12151119N3952361","W12151119N3952361-W12151196N3952324",102911105,"WYANDOTTE 1105",null,"2019-11-20T17:46:46",null,null,"Not assessed","https://viewer.us-3.sharpershape.services/viewer/assets/5ca5a2c6f6b4638f7da04e40/details","https://viewer.us-3.sharpershape.services/viewer/issues/5ecf8c9634b60c00015ec119/details","high","W12151118N3952351 WYANDOTTE 1105","[DouglasFir, CoastalLiveOak, Eucalyptus/BlueGum]","DouglasFir"]
[870,"NORTHERN","NORTH VALLEY","Tier 2-3","102911105 Tier 2-3",102911105,"WYANDOTTE 1105",22,39.530119999999897,-121.525939999999,null,29.3,"W12152594N3953012",12,1.8,"NO","W12152603N3952974","W12152603N3953064","W12152603N3953064-W12152603N3952974",102911105,"WYANDOTTE 1105",null,"2019-11-20T17:46:46",null,null,"Not assessed","https://viewer.us-3.sharpershape.services/viewer/assets/5ca5a2c6f6b463cd78a04dbd/details","https://viewer.us-3.sharpershape.services/viewer/issues/5ecf8c98a03e660001310bd8/details","high","W12152594N3953012 WYANDOTTE 1105","[GrayPine, ValleyOak, MontereyPine]","GrayPine"]
[871,"NORTHERN","NORTH VALLEY","Tier 0-1","102911105 Tier 0-1",102911105,"WYANDOTTE 1105",2,39.51885,-121.540239999999,null,30.3,"W12154024N3951885",10.6,12.6,"NO","W12154022N3951889","W12154022N3951835","W12154022N3951835-W12154022N3951889",102911105,"WYANDOTTE 1105",null,"2019-11-20T17:46:46",null,null,"Not assessed","https://viewer.us-3.sharpershape.services/viewer/assets/5ca5a2c6f6b4636fcba04c5d/details","https://viewer.us-3.sharpershape.services/viewer/issues/5ecf8e9334b60c00015ec825/details","high","W12154024N3951885 WYANDOTTE 1105","[Eucalyptus/BlueGum, CoastalLiveOak, DouglasFir]","Eucalyptus/BlueGum"]
[872,"NORTHERN","NORTH VALLEY","Tier 2-3","102911105 Tier 2-3",102911105,"WYANDOTTE 1105",13.7,39.5316499999999,-121.517789999999,null,47.7,"W12151779N3953165",4.9000000000000004,-6.2,"YES","W12151822N3953157","W12151765N3953162","W12151765N3953162-W12151822N3953157",102911105,"WYANDOTTE 1105",null,"2019-11-20T17:46:46","OH",null,"Not assessed","https://viewer.us-3.sharpershape.services/viewer/assets/5ca5a2c6f6b463f67aa051de/details","https://viewer.us-3.sharpershape.services/viewer/issues/5ecf8c9734b60c00015ec1a1/details","high","W12151779N3953165 WYANDOTTE 1105","[MontereyPine, DouglasFir, CoastalLiveOak]","MontereyPine"]
[873,"NORTHERN","NORTH VALLEY","Tier 2-3","102911105 Tier 2-3",102911105,"WYANDOTTE 1105",11.1,39.525289999999899,-121.537239999999,null,23.6999999999999,"W12153724N3952529",10.4,8.5,"NO","W12153742N3952569","W12153709N3952512","W12153709N3952512-W12153742N3952569",102911105,"WYANDOTTE 1105",null,"2019-11-20T17:46:46",null,null,"Not assessed","https://viewer.us-3.sharpershape.services/viewer/assets/5ca5a2c6f6b4633f70a04d23/details","https://viewer.us-3.sharpershape.services/viewer/issues/5ecf8c9234b60c00015ebff4/details","high","W12153724N3952529 WYANDOTTE 1105","[Other, DouglasFir, Eucalyptus/BlueGum]","Other"]
[874,"NORTHERN","NORTH VALLEY","Tier 2-3","102911105 Tier 2-3",102911105,"WYANDOTTE 1105",30.6,39.532509999999903,-121.53408,null,67.7,"W12153408N3953251",10.4,-24.1,"YES","W12153419N3953235","W12153421N3953300","W12153421N3953300-W12153419N3953235",102911105,"WYANDOTTE 1105",null,"2019-11-20T17:46:46",null,null,"Not assessed","https://viewer.us-3.sharpershape.services/viewer/assets/5ca5a2c6f6b4635c05a05132/details","https://viewer.us-3.sharpershape.services/viewer/issues/5ee2b42f34b60c0001746b69/details","high","W12153408N3953251 WYANDOTTE 1105","[GrayPine, DouglasFir, TanOak]","GrayPine"]
[875,"NORTHERN","NORTH VALLEY","Tier 2-3","102911105 Tier 2-3",102911105,"WYANDOTTE 1105",0.2,39.532440000000001,-121.531739999999,null,23.6999999999999,"W12153174N3953244",4.8,5,"NO","W12153205N3953245","W12153117N3953239","W12153117N3953239-W12153205N3953245",102911105,"WYANDOTTE 1105",null,"2019-11-20T17:46:46",null,null,"Not assessed","https://viewer.us-3.sharpershape.services/viewer/assets/5ca5a2c6f6b4636b14a051ca/details","https://viewer.us-3.sharpershape.services/viewer/issues/5ecf8f03a03e660001311334/details","high","W12153174N3953244 WYANDOTTE 1105","[MontereyPine, CoastalLiveOak, DouglasFir]","MontereyPine"]
[876,"NORTHERN","NORTH VALLEY","Tier 2-3","102911105 Tier 2-3",102911105,"WYANDOTTE 1105",5.9,39.522039999999897,-121.538389999999,null,13.5,"W12153839N3952204",12,8.5,"NO","W12153812N3952205","W12153891N3952195","W12153891N3952195-W12153812N3952205",102911105,"WYANDOTTE 1105",null,"2019-11-20T17:46:46",null,null,"Not assessed","https://viewer.us-3.sharpershape.services/viewer/assets/5ca5a2c6f6b463d5b0a04bae/details","https://viewer.us-3.sharpershape.services/viewer/issues/5ecf8c98a03e660001310b19/details","high","W12153839N3952204 WYANDOTTE 1105","[GrayPine, DouglasFir, Other]","GrayPine"]
[877,"NORTHERN","NORTH VALLEY","Tier 0-1","102911105 Tier 0-1",102911105,"WYANDOTTE 1105",12.4,39.523309999999903,-121.51192,null,33.1,"W12151192N3952331",8.3000000000000007,7.6,"NO","W12151196N3952324","W12151119N3952361","W12151119N3952361-W12151196N3952324",102911105,"WYANDOTTE 1105",null,"2019-11-20T17:46:46",null,null,"Not assessed","https://viewer.us-3.sharpershape.services/viewer/assets/5ca5a2c6f6b4638f7da04e40/details","https://viewer.us-3.sharpershape.services/viewer/issues/5ecf8c9634b60c00015ec114/details","high","W12151192N3952331 WYANDOTTE 1105","[DouglasFir, GrayPine, LiveOak]","DouglasFir"]
[878,"NORTHERN","NORTH VALLEY","Tier 2-3","102911105 Tier 2-3",102911105,"WYANDOTTE 1105",5.4,39.530099999999997,-121.521639999999,null,23.3,"W12152164N3953010",10.6,16,"NO","W12152184N3953012","W12152091N3953014","W12152091N3953014-W12152184N3953012",102911105,"WYANDOTTE 1105",null,"2019-11-20T17:46:46",null,null,"Not assessed","https://viewer.us-3.sharpershape.services/viewer/assets/5ca5a2c6f6b463611da04cf7/details","https://viewer.us-3.sharpershape.services/viewer/issues/5ecf8f3134b60c00015ecb9a/details","high","W12152164N3953010 WYANDOTTE 1105","[GrayPine, Other, MontereyPine]","GrayPine"]
[879,"NORTHERN","NORTH VALLEY","Tier 2-3","102911105 Tier 2-3",102911105,"WYANDOTTE 1105",17.1999999999999,39.535489999999903,-121.5423,null,27.5,"W12154230N3953549",9.6999999999999993,2.2999999999999998,"NO","W12154242N3953570","W12154230N3953520","W12154230N3953520-W12154242N3953570",102911105,"WYANDOTTE 1105",null,"2019-11-20T17:46:46",null,null,"Not assessed","https://viewer.us-3.sharpershape.services/viewer/assets/5ca5a2c6f6b463392ea051c1/details","https://viewer.us-3.sharpershape.services/viewer/issues/5ecf8c9734b60c00015ec1c8/details","high","W12154230N3953549 WYANDOTTE 1105","[Other, LiveOak, DouglasFir]","Other"]
[880,"NORTHERN","NORTH VALLEY","Tier 2-3","102911105 Tier 2-3",102911105,"WYANDOTTE 1105",16.399999999999899,39.531999999999996,-121.54079,null,25,"W12154079N3953200",12,8.4,"NO","W12154086N3953214","W12154084N3953131","W12154084N3953131-W12154086N3953214",102911105,"WYANDOTTE 1105",null,"2019-11-20T17:46:46",null,null,"Not assessed","https://viewer.us-3.sharpershape.services/viewer/assets/5ca5a2c6f6b4630944a04ef1/details","https://viewer.us-3.sharpershape.services/viewer/issues/5ecf8c98a03e660001310b59/details","high","W12154079N3953200 WYANDOTTE 1105","[Other, DouglasFir, GrayPine]","Other"]
[881,"NORTHERN","NORTH VALLEY","Tier 2-3","102911105 Tier 2-3",102911105,"WYANDOTTE 1105",51.2,39.5259,-121.53305,null,86.299999999999898,"W12153305N3952590",33.899999999999899,-28.5,"YES","W12153295N3952615","W12153345N3952585","W12153345N3952585-W12153295N3952615",102911105,"WYANDOTTE 1105",null,"2019-11-20T17:46:46",null,null,"Not assessed","https://viewer.us-3.sharpershape.services/viewer/assets/5ca5a2c6f6b4637e6fa049ea/details","https://viewer.us-3.sharpershape.services/viewer/issues/5ecf8c90a03e660001310810/details","high","W12153305N3952590 WYANDOTTE 1105","[GrayPine, DouglasFir, Eucalyptus/BlueGum]","GrayPine"]
[882,"NORTHERN","NORTH VALLEY","Tier 2-3","102911105 Tier 2-3",102911105,"WYANDOTTE 1105",66.299999999999898,39.530429999999903,-121.53906000000001,null,81.400000000000006,"W12153906N3953043",53.5,-2.9,"YES","W12153908N3953063","W12153843N3953063","W12153843N3953063-W12153908N3953063",102911105,"WYANDOTTE 1105",null,"2019-11-20T17:46:46",null,null,"Not assessed","https://viewer.us-3.sharpershape.services/viewer/assets/5ca5a2c6f6b46390f3a04fa9/details","https://viewer.us-3.sharpershape.services/viewer/issues/5ecf8c9134b60c00015ebfe9/details","high","W12153906N3953043 WYANDOTTE 1105","[LiveOak, Other, GrayPine]","LiveOak"]
[883,"NORTHERN","NORTH VALLEY","Tier 2-3","102911105 Tier 2-3",102911105,"WYANDOTTE 1105",25.6999999999999,39.530299999999997,-121.520089999999,null,58,"W12152009N3953030",19.1999999999999,-12.2,"YES","W12151923N3953089","W12152005N3953021","W12152005N3953021-W12151923N3953089",102911105,"WYANDOTTE 1105",null,"2019-11-20T17:46:46",null,null,"Not assessed","https://viewer.us-3.sharpershape.services/viewer/assets/5ca5a2c6f6b46307baa0515f/details","https://viewer.us-3.sharpershape.services/viewer/issues/5ecf8c93a03e6600013108b8/details","high","W12152009N3953030 WYANDOTTE 1105","[GrayPine, Other, ValleyOak]","GrayPine"]
[884,"NORTHERN","NORTH VALLEY","Tier 2-3","102911105 Tier 2-3",102911105,"WYANDOTTE 1105",26.5,39.535489999999903,-121.542479999999,null,37,"W12154248N3953549",10.3,9.6,"NO","W12154242N3953570","W12154230N3953520","W12154230N3953520-W12154242N3953570",102911105,"WYANDOTTE 1105",null,"2019-11-20T17:46:46",null,null,"Not assessed","https://viewer.us-3.sharpershape.services/viewer/assets/5ca5a2c6f6b463392ea051c1/details","https://viewer.us-3.sharpershape.services/viewer/issues/5ecf8c9734b60c00015ec1cb/details","high","W12154248N3953549 WYANDOTTE 1105","[DouglasFir, Eucalyptus/BlueGum, MontereyPine]","DouglasFir"]
[885,"NORTHERN","NORTH VALLEY","Tier 2-3","102911105 Tier 2-3",102911105,"WYANDOTTE 1105",20.399999999999999,39.5304199999999,-121.53270000000001,null,34,"W12153270N3953042",7.1,3.5,"NO","W12153323N3953048","W12153269N3953048","W12153269N3953048-W12153323N3953048",102911105,"WYANDOTTE 1105",null,"2019-11-20T17:46:46",null,null,"Not assessed","https://viewer.us-3.sharpershape.services/viewer/assets/5ca5a2c6f6b4636013a051bf/details","https://viewer.us-3.sharpershape.services/viewer/issues/5ecf8c9834b60c00015ec294/details","high","W12153270N3953042 WYANDOTTE 1105","[LiveOak, DouglasFir, MontereyPine]","LiveOak"]
[886,"NORTHERN","NORTH VALLEY","Tier 2-3","102911105 Tier 2-3",102911105,"WYANDOTTE 1105",17.6999999999999,39.530270000000002,-121.51989,null,32.799999999999898,"W12151989N3953027",12,8.6,"NO","W12151923N3953089","W12152005N3953021","W12152005N3953021-W12151923N3953089",102911105,"WYANDOTTE 1105",null,"2019-11-20T17:46:46",null,null,"Not assessed","https://viewer.us-3.sharpershape.services/viewer/assets/5ca5a2c6f6b46307baa0515f/details","https://viewer.us-3.sharpershape.services/viewer/issues/5ecf8c93a03e6600013108c6/details","high","W12151989N3953027 WYANDOTTE 1105","[ValleyOak, GrayPine, Other]","ValleyOak"]
[887,"NORTHERN","NORTH VALLEY","Tier 2-3","102911105 Tier 2-3",102911105,"WYANDOTTE 1105",43.899999999999899,39.671619999999898,-121.497579999999,null,48,"W12149758N3967162",30,5,"NO","W12149742N3967166","W12149727N3967099","W12149727N3967099-W12149742N3967166",0,"WYANDOTTE 1105",null,"2019-11-20T17:46:46",null,null,"Not assessed","https://viewer.us-3.sharpershape.services/viewer/assets/5ca5a2c6f6b4638f2da04f29/details","https://viewer.us-3.sharpershape.services/viewer/issues/5ecf8c93a03e66000131086d/details","high","W12149758N3967162 WYANDOTTE 1105","[DouglasFir, GrayPine, ValleyOak]","DouglasFir"]
[888,"NORTHERN","NORTH VALLEY","Tier 2-3","102911105 Tier 2-3",102911105,"WYANDOTTE 1105",13.3,39.527029999999897,-121.51429,null,36,"W12151429N3952703",5.8,1,"NO","W12151433N3952690","W12151437N3952744","W12151437N3952744-W12151433N3952690",102911105,"WYANDOTTE 1105",null,"2019-11-20T17:46:46",null,null,"Not assessed","https://viewer.us-3.sharpershape.services/viewer/assets/5ca5a2c6f6b46309eba051c7/details","https://viewer.us-3.sharpershape.services/viewer/issues/5ecf8c98a03e660001310b27/details","high","W12151429N3952703 WYANDOTTE 1105","[CoastalLiveOak, Other, DouglasFir]","CoastalLiveOak"]
[889,"NORTHERN","NORTH VALLEY","Tier 2-3","102911105 Tier 2-3",102911105,"WYANDOTTE 1105",15.2,39.530679999999897,-121.53726,null,34.799999999999997,"W12153726N3953068",6.9,-1.8,"YES","W12153771N3953063","W12153655N3953063","W12153655N3953063-W12153771N3953063",102911105,"WYANDOTTE 1105",null,"2019-11-20T17:46:46",null,null,"Not assessed","https://viewer.us-3.sharpershape.services/viewer/assets/5ca5a2c6f6b4639bcca05130/details","https://viewer.us-3.sharpershape.services/viewer/issues/5ecf8c91a03e66000131081e/details","high","W12153726N3953068 WYANDOTTE 1105","[DouglasFir, LiveOak, MontereyPine]","DouglasFir"]
[890,"NORTHERN","NORTH VALLEY","Tier 2-3","102911105 Tier 2-3",102911105,"WYANDOTTE 1105",1.3,39.52881,-121.53488,null,20.3,"W12153488N3952881",7.1,8.4,"NO","W12153422N3952882","W12153537N3952882","W12153537N3952882-W12153422N3952882",102911105,"WYANDOTTE 1105",null,"2019-11-20T17:46:46",null,null,"Not assessed","https://viewer.us-3.sharpershape.services/viewer/assets/5ca5a2c6f6b4638913a05099/details","https://viewer.us-3.sharpershape.services/viewer/issues/5ecf8f8d34b60c00015ecbe6/details","high","W12153488N3952881 WYANDOTTE 1105","[DouglasFir, ValleyOak, GrayPine]","DouglasFir"]
[891,"NORTHERN","NORTH VALLEY","Tier 2-3","102911105 Tier 2-3",102911105,"WYANDOTTE 1105",30.9,39.526440000000001,-121.53855,null,58.6,"W12153855N3952644",18.6999999999999,-9.6,"YES","W12153848N3952653","W12153928N3952652","W12153928N3952652-W12153848N3952653",102911105,"WYANDOTTE 1105",null,"2019-11-20T17:46:46",null,null,"Not assessed","https://viewer.us-3.sharpershape.services/viewer/assets/5ca5a2c6f6b463083da04d94/details","https://viewer.us-3.sharpershape.services/viewer/issues/5ecf8c98a03e660001310bc3/details","high","W12153855N3952644 WYANDOTTE 1105","[GrayPine, Other, Eucalyptus/BlueGum]","GrayPine"]
[892,"NORTHERN","NORTH VALLEY","Tier 2-3","102911105 Tier 2-3",102911105,"WYANDOTTE 1105",38.5,39.526629999999898,-121.53189,null,65.400000000000006,"W12153189N3952663",17.5,-16.899999999999899,"YES","W12153152N3952699","W12153224N3952655","W12153224N3952655-W12153152N3952699",102911105,"WYANDOTTE 1105",null,"2019-11-20T17:46:46",null,null,"Not assessed","https://viewer.us-3.sharpershape.services/viewer/assets/5ca5a2c6f6b46367dca04ab1/details","https://viewer.us-3.sharpershape.services/viewer/issues/5ecf8c9734b60c00015ec21c/details","high","W12153189N3952663 WYANDOTTE 1105","[Eucalyptus/BlueGum, GrayPine, Other]","Eucalyptus/BlueGum"]
[893,"NORTHERN","NORTH VALLEY","Tier 2-3","102911105 Tier 2-3",102911105,"WYANDOTTE 1105",15.6,39.530529999999899,-121.53269,null,79.5,"W12153269N3953053",8.5,-39.6,"YES","W12153206N3953048","W12153269N3953048","W12153269N3953048-W12153206N3953048",102911105,"WYANDOTTE 1105",null,"2019-11-20T17:46:46","OH",null,"Not assessed","https://viewer.us-3.sharpershape.services/viewer/assets/5ca5a2c6f6b46331cba04b4a/details","https://viewer.us-3.sharpershape.services/viewer/issues/5ecf8c92a03e660001310861/details","high","W12153269N3953053 WYANDOTTE 1105","[GrayPine, DouglasFir, CoastalLiveOak]","GrayPine"]
[894,"NORTHERN","NORTH VALLEY","Tier 2-3","102911105 Tier 2-3",102911105,"WYANDOTTE 1105",5.4,39.527629999999903,-121.528189999999,null,31.1999999999999,"W12152819N3952763",7,5.4,"NO","W12152800N3952774","W12152907N3952726","W12152907N3952726-W12152800N3952774",102911105,"WYANDOTTE 1105",null,"2019-11-20T17:46:46",null,null,"Not assessed","https://viewer.us-3.sharpershape.services/viewer/assets/5ca5a2c6f6b4634630a04e8d/details","https://viewer.us-3.sharpershape.services/viewer/issues/5ecf8c97a03e660001310af5/details","high","W12152819N3952763 WYANDOTTE 1105","[CoastalLiveOak, DouglasFir, Eucalyptus/BlueGum]","CoastalLiveOak"]
[895,"NORTHERN","NORTH VALLEY","Tier 2-3","102911105 Tier 2-3",102911105,"WYANDOTTE 1105",12.1,39.526509999999902,-121.535409999999,null,40.200000000000003,"W12153541N3952651",6.7,-5,"YES","W12153535N3952637","W12153536N3952706","W12153536N3952706-W12153535N3952637",102911105,"WYANDOTTE 1105",null,"2019-11-20T17:46:46",null,null,"Not assessed","https://viewer.us-3.sharpershape.services/viewer/assets/5e7a18565dcbeb387a17baf6/details","https://viewer.us-3.sharpershape.services/viewer/issues/5ecf8c9934b60c00015ec39a/details","high","W12153541N3952651 WYANDOTTE 1105","[DouglasFir, LiveOak, ValleyOak]","DouglasFir"]
[896,"NORTHERN","NORTH VALLEY","Tier 2-3","102911105 Tier 2-3",102911105,"WYANDOTTE 1105",28.6,39.5399999999999,-121.54249,null,66.400000000000006,"W12154249N3954000",13.3,-36.399999999999899,"YES","W12154258N3954066","W12154261N3953987","W12154261N3953987-W12154258N3954066",102911105,"WYANDOTTE 1105",null,"2019-11-20T17:46:46",null,null,"Not assessed","https://viewer.us-3.sharpershape.services/viewer/assets/5ca5a2c6f6b463dd95a04ecd/details","https://viewer.us-3.sharpershape.services/viewer/issues/5ecf8c97a03e660001310ac3/details","high","W12154249N3954000 WYANDOTTE 1105","[DouglasFir, GrayPine, Eucalyptus/BlueGum]","DouglasFir"]
[897,"NORTHERN","NORTH VALLEY","Tier 2-3","102911105 Tier 2-3",102911105,"WYANDOTTE 1105",35.200000000000003,39.530529999999899,-121.536529999999,null,62.7,"W12153653N3953053",15.9,-17.399999999999999,"YES","W12153654N3953103","W12153655N3953063","W12153655N3953063-W12153654N3953103",102911105,"WYANDOTTE 1105",null,"2019-11-20T17:46:46",null,null,"Not assessed","https://viewer.us-3.sharpershape.services/viewer/assets/5ca5a2c6f6b4639202a04d3a/details","https://viewer.us-3.sharpershape.services/viewer/issues/5ecf8c96a03e660001310a29/details","high","W12153653N3953053 WYANDOTTE 1105","[LiveOak, DouglasFir, GrayPine]","LiveOak"]
[898,"NORTHERN","NORTH VALLEY","Tier 2-3","102911105 Tier 2-3",102911105,"WYANDOTTE 1105",0.1,39.52722,-121.52928,null,30.8,"W12152928N3952722",5.0999999999999996,5.2,"NO","W12152907N3952726","W12152971N3952716","W12152971N3952716-W12152907N3952726",102911105,"WYANDOTTE 1105",null,"2019-11-20T17:46:46",null,null,"Not assessed","https://viewer.us-3.sharpershape.services/viewer/assets/5ca5a2c6f6b4635805a04cab/details","https://viewer.us-3.sharpershape.services/viewer/issues/5ecf8ed734b60c00015ec9d6/details","high","W12152928N3952722 WYANDOTTE 1105","[Other, DouglasFir, CoastalLiveOak]","Other"]
[899,"NORTHERN","NORTH VALLEY","Tier 2-3","102911105 Tier 2-3",102911105,"WYANDOTTE 1105",16.899999999999899,39.532539999999898,-121.534269999999,null,36.399999999999899,"W12153427N3953254",9.5,-0.2,"YES","W12153419N3953235","W12153421N3953300","W12153421N3953300-W12153419N3953235",102911105,"WYANDOTTE 1105",null,"2019-11-20T17:46:46",null,null,"Not assessed","https://viewer.us-3.sharpershape.services/viewer/assets/5ca5a2c6f6b4635c05a05132/details","https://viewer.us-3.sharpershape.services/viewer/issues/5ee2b42f34b60c0001746b61/details","high","W12153427N3953254 WYANDOTTE 1105","[LiveOak, MontereyPine, Other]","LiveOak"]
[900,"NORTHERN","NORTH VALLEY","Tier 2-3","102911105 Tier 2-3",102911105,"WYANDOTTE 1105",35,39.526240000000001,-121.52109,null,48.1,"W12152109N3952624",7.3,1.5,"NO","W12152064N3952615","W12152124N3952614","W12152124N3952614-W12152064N3952615",102911105,"WYANDOTTE 1105",null,"2019-11-20T17:46:46",null,null,"Not assessed","https://viewer.us-3.sharpershape.services/viewer/assets/5ca5a2c6f6b463c7cfa0501b/details","https://viewer.us-3.sharpershape.services/viewer/issues/5ecf8c9634b60c00015ec12d/details","high","W12152109N3952624 WYANDOTTE 1105","[GrayPine, Other, ValleyOak]","GrayPine"]
[901,"NORTHERN","NORTH VALLEY","Tier 2-3","102911105 Tier 2-3",102911105,"WYANDOTTE 1105",19,39.532379999999897,-121.534819999999,null,31.1,"W12153482N3953238",12,-3.1,"YES","W12153557N3953230","W12153419N3953235","W12153419N3953235-W12153557N3953230",102911105,"WYANDOTTE 1105",null,"2019-11-20T17:46:46",null,null,"Not assessed","https://viewer.us-3.sharpershape.services/viewer/assets/5ca5a2c6f6b463191ca04d93/details","https://viewer.us-3.sharpershape.services/viewer/issues/5ee2b430a03e66000146e42e/details","high","W12153482N3953238 WYANDOTTE 1105","[DouglasFir, LiveOak, TanOak]","DouglasFir"]
[902,"NORTHERN","NORTH VALLEY","Tier 2-3","102911105 Tier 2-3",102911105,"WYANDOTTE 1105",59,39.528390000000002,-121.526989999999,null,81.299999999999898,"W12152699N3952839",41.7,-19.3,"YES","W12152680N3952875","W12152750N3952825","W12152750N3952825-W12152680N3952875",102911105,"WYANDOTTE 1105",null,"2019-11-20T17:46:46",null,null,"Not assessed","https://viewer.us-3.sharpershape.services/viewer/assets/5ca5a2c6f6b46337c2a04be5/details","https://viewer.us-3.sharpershape.services/viewer/issues/5ecf8c9634b60c00015ec0ef/details","high","W12152699N3952839 WYANDOTTE 1105","[Eucalyptus/BlueGum, BlackOak, Other]","Eucalyptus/BlueGum"]
[903,"NORTHERN","NORTH VALLEY","Tier 2-3","102911105 Tier 2-3",102911105,"WYANDOTTE 1105",54.399999999999899,39.52816,-121.52733000000001,null,53.2,"W12152733N3952816",33.299999999999898,5.5,"NO","W12152680N3952875","W12152750N3952825","W12152750N3952825-W12152680N3952875",102911105,"WYANDOTTE 1105",null,"2019-11-20T17:46:46",null,null,"Not assessed","https://viewer.us-3.sharpershape.services/viewer/assets/5ca5a2c6f6b46337c2a04be5/details","https://viewer.us-3.sharpershape.services/viewer/issues/5ecf8c9634b60c00015ec0f0/details","high","W12152733N3952816 WYANDOTTE 1105","[GrayPine, MontereyPine, LiveOak]","GrayPine"]
[904,"NORTHERN","NORTH VALLEY","Tier 2-3","102911105 Tier 2-3",102911105,"WYANDOTTE 1105",10.8,39.530349999999899,-121.519959999999,null,36.1,"W12151996N3953035",7,0.1,"NO","W12151923N3953089","W12152005N3953021","W12152005N3953021-W12151923N3953089",102911105,"WYANDOTTE 1105",null,"2019-11-20T17:46:46",null,null,"Not assessed","https://viewer.us-3.sharpershape.services/viewer/assets/5ca5a2c6f6b46307baa0515f/details","https://viewer.us-3.sharpershape.services/viewer/issues/5ecf8c93a03e6600013108b7/details","high","W12151996N3953035 WYANDOTTE 1105","[DouglasFir, CoastalLiveOak, MontereyPine]","DouglasFir"]
[905,"NORTHERN","NORTH VALLEY","Tier 0-1","102911105 Tier 0-1",102911105,"WYANDOTTE 1105",48.399999999999899,39.524439999999899,-121.521929999999,null,45.3,"W12152193N3952444",32.399999999999899,9.8000000000000007,"NO","W12152121N3952468","W12152223N3952454","W12152223N3952454-W12152121N3952468",102911105,"WYANDOTTE 1105",null,"2019-11-20T17:46:46",null,null,"Not assessed","https://viewer.us-3.sharpershape.services/viewer/assets/5ca5a2c6f6b4634c98a0504c/details","https://viewer.us-3.sharpershape.services/viewer/issues/5ecf8c9634b60c00015ec156/details","high","W12152193N3952444 WYANDOTTE 1105","[DouglasFir, CoastalLiveOak, Eucalyptus/BlueGum]","DouglasFir"]
[906,"NORTHERN","NORTH VALLEY","Tier 2-3","102911105 Tier 2-3",102911105,"WYANDOTTE 1105",14.7,39.532139999999899,-121.539119999999,null,30.1,"W12153912N3953214",6.5,4.3,"NO","W12153905N3953243","W12153907N3953193","W12153907N3953193-W12153905N3953243",102911105,"WYANDOTTE 1105",null,"2019-11-20T17:46:46",null,null,"Not assessed","https://viewer.us-3.sharpershape.services/viewer/assets/5ca5a2c6f6b46326f9a04de3/details","https://viewer.us-3.sharpershape.services/viewer/issues/5ecf8c9934b60c00015ec365/details","high","W12153912N3953214 WYANDOTTE 1105","[DouglasFir, Other, TanOak]","DouglasFir"]
[907,"NORTHERN","NORTH VALLEY","Tier 0-1","102911105 Tier 0-1",102911105,"WYANDOTTE 1105",43.7,39.5184199999999,-121.54039,null,25.8,"W12154039N3951842",9.5,21.5,"NO","W12154022N3951889","W12154022N3951835","W12154022N3951835-W12154022N3951889",102911105,"WYANDOTTE 1105",null,"2019-11-20T17:46:46",null,null,"Not assessed","https://viewer.us-3.sharpershape.services/viewer/assets/5ca5a2c6f6b4636fcba04c5d/details","https://viewer.us-3.sharpershape.services/viewer/issues/5ecf8e9334b60c00015ec821/details","high","W12154039N3951842 WYANDOTTE 1105","[GrayPine, ValleyOak, DouglasFir]","GrayPine"]
[908,"NORTHERN","NORTH VALLEY","Tier 2-3","102911105 Tier 2-3",102911105,"WYANDOTTE 1105",35.6,39.524929999999898,-121.51473,null,31,"W12151473N3952493",8.4,20.399999999999999,"NO","W12151459N3952471","W12151461N3952559","W12151461N3952559-W12151459N3952471",102911105,"WYANDOTTE 1105",null,"2019-11-20T17:46:46",null,null,"Not assessed","https://viewer.us-3.sharpershape.services/viewer/assets/5d8b1e506476d7eadd5dd3a0/details","https://viewer.us-3.sharpershape.services/viewer/issues/5ecf957ea03e660001312098/details","high","W12151473N3952493 WYANDOTTE 1105"]
[909,"NORTHERN","NORTH VALLEY","Tier 2-3","102911105 Tier 2-3",102911105,"WYANDOTTE 1105",13,39.5297699999999,-121.53054,null,33.700000000000003,"W12153054N3952977",8.4,2.8,"NO","W12152988N3952972","W12153068N3952972","W12153068N3952972-W12152988N3952972",102911105,"WYANDOTTE 1105",null,"2019-11-20T17:46:46",null,null,"Not assessed","https://viewer.us-3.sharpershape.services/viewer/assets/5d89b6cc55dd6b81633f2eff/details","https://viewer.us-3.sharpershape.services/viewer/issues/5ecf8c9934b60c00015ec346/details","high","W12153054N3952977 WYANDOTTE 1105","[CoastalLiveOak, Eucalyptus/BlueGum, Other]","CoastalLiveOak"]
[910,"NORTHERN","NORTH VALLEY","Tier 2-3","102911105 Tier 2-3",102911105,"WYANDOTTE 1105",10,39.528399999999998,-121.514099999999,null,25.5,"W12151410N3952840",8.3000000000000007,5.4,"NO","W12151441N3952799","W12151401N3952860","W12151401N3952860-W12151441N3952799",102911105,"WYANDOTTE 1105",null,"2019-11-20T17:46:46",null,null,"Not assessed","https://viewer.us-3.sharpershape.services/viewer/assets/5ca5a2c6f6b463bdf4a04f50/details","https://viewer.us-3.sharpershape.services/viewer/issues/5ecf8c9534b60c00015ec0de/details","high","W12151410N3952840 WYANDOTTE 1105"]
[911,"NORTHERN","NORTH VALLEY","Tier 2-3","102911105 Tier 2-3",102911105,"WYANDOTTE 1105",59.2,39.538219999999903,-121.542289999999,null,88.1,"W12154229N3953822",49.1,-28.6,"YES","W12154252N3953857","W12154250N3953758","W12154250N3953758-W12154252N3953857",102911105,"WYANDOTTE 1105",null,"2019-11-20T17:46:46",null,null,"Not assessed","https://viewer.us-3.sharpershape.services/viewer/assets/5ca5a2c6f6b463b67da04e4c/details","https://viewer.us-3.sharpershape.services/viewer/issues/5ecf8c97a03e660001310a52/details","high","W12154229N3953822 WYANDOTTE 1105"]
[912,"NORTHERN","NORTH VALLEY","Tier 2-3","102911105 Tier 2-3",102911105,"WYANDOTTE 1105",23.3,39.52955,-121.52384000000001,null,38.399999999999899,"W12152384N3952955",8.5,1.9,"NO","W12152351N3952966","W12152414N3952959","W12152414N3952959-W12152351N3952966",102911105,"WYANDOTTE 1105",null,"2019-11-20T17:46:46",null,null,"Not assessed","https://viewer.us-3.sharpershape.services/viewer/assets/5ca5a2c6f6b463d8dea04db3/details","https://viewer.us-3.sharpershape.services/viewer/issues/5ee2b4c2a03e66000146e444/details","high","W12152384N3952955 WYANDOTTE 1105","[GrayPine, Other, MontereyPine]","GrayPine"]
[913,"NORTHERN","NORTH VALLEY","Tier 0-1","102911105 Tier 0-1",102911105,"WYANDOTTE 1105",12,39.522469999999899,-121.513939999999,null,29.9,"W12151394N3952247",9.1,21.1,"NO","W12151444N3952251","W12151389N3952251","W12151389N3952251-W12151444N3952251",102911105,"WYANDOTTE 1105",null,"2019-11-20T17:46:46",null,null,"Not assessed","https://viewer.us-3.sharpershape.services/viewer/assets/5d88b99a6476d7d75c5dd20a/details","https://viewer.us-3.sharpershape.services/viewer/issues/5ecf952ea03e660001311e2e/details","high","W12151394N3952247 WYANDOTTE 1105","[MontereyPine, CoastalLiveOak, Eucalyptus/BlueGum]","MontereyPine"]
[914,"NORTHERN","NORTH VALLEY","Tier 2-3","102911105 Tier 2-3",102911105,"WYANDOTTE 1105",38.899999999999899,39.527059999999899,-121.529609999999,null,27.9,"W12152961N3952706",8.8000000000000007,20.8,"NO","W12152971N3952716","W12153054N3952731","W12153054N3952731-W12152971N3952716",102911105,"WYANDOTTE 1105",null,"2019-11-20T17:46:46",null,null,"Not assessed","https://viewer.us-3.sharpershape.services/viewer/assets/5ca5a2c6f6b4637c8aa04fdb/details","https://viewer.us-3.sharpershape.services/viewer/issues/5ecf9583a03e6600013120b2/details","high","W12152961N3952706 WYANDOTTE 1105","[Other, GrayPine, DouglasFir]","Other"]
[915,"NORTHERN","NORTH VALLEY","Tier 2-3","102911105 Tier 2-3",102911105,"WYANDOTTE 1105",13.8,39.534320000000001,-121.541789999999,null,54.899999999999899,"W12154179N3953432",9,-23.6,"YES","W12154214N3953455","W12154179N3953424","W12154179N3953424-W12154214N3953455",102911105,"WYANDOTTE 1105",null,"2019-11-20T17:46:46","OH",null,"Not assessed","https://viewer.us-3.sharpershape.services/viewer/assets/5ca5a2c6f6b4634756a04ae5/details","https://viewer.us-3.sharpershape.services/viewer/issues/5ecf8c9534b60c00015ec09a/details","high","W12154179N3953432 WYANDOTTE 1105","[DouglasFir, GrayPine, Eucalyptus/BlueGum]","DouglasFir"]
[916,"NORTHERN","NORTH VALLEY","Tier 2-3","102911105 Tier 2-3",102911105,"WYANDOTTE 1105",29,39.527380000000001,-121.52901,null,46.3,"W12152901N3952738",14.5,3.8,"NO","W12152800N3952774","W12152907N3952726","W12152907N3952726-W12152800N3952774",102911105,"WYANDOTTE 1105",null,"2019-11-20T17:46:46",null,null,"Not assessed","https://viewer.us-3.sharpershape.services/viewer/assets/5ca5a2c6f6b4634630a04e8d/details","https://viewer.us-3.sharpershape.services/viewer/issues/5ecf8c97a03e660001310af2/details","high","W12152901N3952738 WYANDOTTE 1105","[Other, GrayPine, ValleyOak]","Other"]
[917,"NORTHERN","NORTH VALLEY","Tier 0-1","102911105 Tier 0-1",102911105,"WYANDOTTE 1105",35.700000000000003,39.523800000000001,-121.53735,null,35.399999999999899,"W12153735N3952380",21.4,6.7,"NO","W12153751N3952386","W12153708N3952399","W12153708N3952399-W12153751N3952386",102911105,"WYANDOTTE 1105",null,"2019-11-20T17:46:46",null,null,"Not assessed","https://viewer.us-3.sharpershape.services/viewer/assets/5ca5a2c6f6b46361e1a04b3c/details","https://viewer.us-3.sharpershape.services/viewer/issues/5ecf8c9634b60c00015ec0fc/details","high","W12153735N3952380 WYANDOTTE 1105","[DouglasFir, TanOak, ValleyOak]","DouglasFir"]
[918,"NORTHERN","NORTH VALLEY","Tier 0-1","102911105 Tier 0-1",102911105,"WYANDOTTE 1105",15.6,39.52319,-121.512239999999,null,37,"W12151224N3952319",5.5,-2.2999999999999998,"YES","W12151282N3952292","W12151196N3952324","W12151196N3952324-W12151282N3952292",102911105,"WYANDOTTE 1105",null,"2019-11-20T17:46:46","OH",null,"Not assessed","https://viewer.us-3.sharpershape.services/viewer/assets/5ca5a2c6f6b463e9a0a04bb9/details","https://viewer.us-3.sharpershape.services/viewer/issues/5ecf8c98a03e660001310b99/details","high","W12151224N3952319 WYANDOTTE 1105","[Other, CoastalLiveOak, DouglasFir]","Other"]
[919,"NORTHERN","NORTH VALLEY","Tier 2-3","102911105 Tier 2-3",102911105,"WYANDOTTE 1105",14.1,39.52702,-121.53530000000001,null,45.3,"W12153530N3952702",6.1,-14.4,"YES","W12153535N3952637","W12153536N3952706","W12153536N3952706-W12153535N3952637",102911105,"WYANDOTTE 1105",null,"2019-11-20T17:46:46",null,null,"Not assessed","https://viewer.us-3.sharpershape.services/viewer/assets/5e7a18565dcbeb387a17baf6/details","https://viewer.us-3.sharpershape.services/viewer/issues/5ecf8c9934b60c00015ec391/details","high","W12153530N3952702 WYANDOTTE 1105","[TanOak, DouglasFir, LiveOak]","TanOak"]
[920,"NORTHERN","NORTH VALLEY","Tier 2-3","102911105 Tier 2-3",102911105,"WYANDOTTE 1105",42.7,39.5288299999999,-121.52634999999999,null,44.1,"W12152635N3952883",23.9,2.2000000000000002,"NO","W12152596N3952916","W12152680N3952875","W12152680N3952875-W12152596N3952916",102911105,"WYANDOTTE 1105",null,"2019-11-20T17:46:46",null,null,"Not assessed","https://viewer.us-3.sharpershape.services/viewer/assets/5ca5a2c6f6b463c0bba05089/details","https://viewer.us-3.sharpershape.services/viewer/issues/5ecf8c96a03e660001310a1b/details","high","W12152635N3952883 WYANDOTTE 1105","[CoastalLiveOak, Eucalyptus/BlueGum, BlackOak]","CoastalLiveOak"]
[921,"NORTHERN","NORTH VALLEY","Tier 0-1","102911105 Tier 0-1",102911105,"WYANDOTTE 1105",47.899999999999899,39.523489999999903,-121.537739999999,null,73.900000000000006,"W12153774N3952349",35.299999999999997,-11.6,"YES","W12153761N3952311","W12153751N3952386","W12153751N3952386-W12153761N3952311",102911105,"WYANDOTTE 1105",null,"2019-11-20T17:46:46",null,null,"Not assessed","https://viewer.us-3.sharpershape.services/viewer/assets/5ca5a2c6f6b46364c0a0520a/details","https://viewer.us-3.sharpershape.services/viewer/issues/5ecf8c96a03e660001310a0a/details","high","W12153774N3952349 WYANDOTTE 1105","[GrayPine, DouglasFir, ValleyOak]","GrayPine"]
[922,"NORTHERN","NORTH VALLEY","Tier 2-3","102911105 Tier 2-3",102911105,"WYANDOTTE 1105",55.3,39.537399999999998,-121.542289999999,null,74,"W12154229N3953740",39.5,-16.600000000000001,"YES","W12154253N3953660","W12154250N3953758","W12154250N3953758-W12154253N3953660",102911105,"WYANDOTTE 1105",null,"2019-11-20T17:46:46",null,null,"Not assessed","https://viewer.us-3.sharpershape.services/viewer/assets/5ca5a2c6f6b4637989a05102/details","https://viewer.us-3.sharpershape.services/viewer/issues/5ecf8c9734b60c00015ec1b7/details","high","W12154229N3953740 WYANDOTTE 1105"]
[923,"NORTHERN","NORTH VALLEY","Tier 2-3","102911105 Tier 2-3",102911105,"WYANDOTTE 1105",37.700000000000003,39.531129999999898,-121.540689999999,null,65.299999999999898,"W12154069N3953113",22.3,-15.7,"YES","W12154084N3953131","W12154060N3953123","W12154060N3953123-W12154084N3953131",102911105,"WYANDOTTE 1105",null,"2019-11-20T17:46:46",null,null,"Not assessed","https://viewer.us-3.sharpershape.services/viewer/assets/5ca5a2c6f6b463023fa051ec/details","https://viewer.us-3.sharpershape.services/viewer/issues/5ecf8c9834b60c00015ec267/details","high","W12154069N3953113 WYANDOTTE 1105","[GrayPine, Other, MontereyPine]","GrayPine"]
[924,"NORTHERN","NORTH VALLEY","Tier 2-3","102911105 Tier 2-3",102911105,"WYANDOTTE 1105",34.799999999999997,39.52749,-121.528289999999,null,48.2,"W12152829N3952749",4.5999999999999996,-2.6,"YES","W12152800N3952774","W12152907N3952726","W12152907N3952726-W12152800N3952774",102911105,"WYANDOTTE 1105",null,"2019-11-20T17:46:46",null,null,"Not assessed","https://viewer.us-3.sharpershape.services/viewer/assets/5ca5a2c6f6b4634630a04e8d/details","https://viewer.us-3.sharpershape.services/viewer/issues/5ecf8c97a03e660001310aef/details","high","W12152829N3952749 WYANDOTTE 1105","[DouglasFir, CoastalLiveOak, Eucalyptus/BlueGum]","DouglasFir"]
[925,"NORTHERN","NORTH VALLEY","Tier 2-3","102911105 Tier 2-3",102911105,"WYANDOTTE 1105",16.899999999999899,39.52928,-121.53198999999999,null,39.399999999999899,"W12153199N3952928",9.9,1.7,"NO","W12153206N3952881","W12153206N3952972","W12153206N3952972-W12153206N3952881",102911105,"WYANDOTTE 1105",null,"2019-11-20T17:46:46",null,null,"Not assessed","https://viewer.us-3.sharpershape.services/viewer/assets/5ca5a2c6f6b463a605a04c77/details","https://viewer.us-3.sharpershape.services/viewer/issues/5ecf8c9834b60c00015ec2a3/details","high","W12153199N3952928 WYANDOTTE 1105","[CoastalLiveOak, DouglasFir, MontereyPine]","CoastalLiveOak"]
[926,"NORTHERN","NORTH VALLEY","Tier 2-3","102911105 Tier 2-3",102911105,"WYANDOTTE 1105",34.1,39.52619,-121.5145,null,39.399999999999899,"W12151450N3952619",13,2.8,"NO","W12151463N3952642","W12151461N3952559","W12151461N3952559-W12151463N3952642",102911105,"WYANDOTTE 1105",null,"2019-11-20T17:46:46",null,null,"Not assessed","https://viewer.us-3.sharpershape.services/viewer/assets/5d8b1e4455dd6b5e853f3023/details","https://viewer.us-3.sharpershape.services/viewer/issues/5ecf8c99a03e660001310c3a/details","high","W12151450N3952619 WYANDOTTE 1105","[GrayPine, DouglasFir, Other]","GrayPine"]
[927,"NORTHERN","NORTH VALLEY","Tier 2-3","102911105 Tier 2-3",102911105,"WYANDOTTE 1105",37,39.53219,-121.535989999999,null,22.1,"W12153599N3953219",8.9,20.9,"NO","W12153557N3953230","W12153644N3953230","W12153644N3953230-W12153557N3953230",102911105,"WYANDOTTE 1105",null,"2019-11-20T17:46:46",null,null,"Not assessed","https://viewer.us-3.sharpershape.services/viewer/assets/5ca5a2c6f6b4630717a04d92/details","https://viewer.us-3.sharpershape.services/viewer/issues/5ecf8f0434b60c00015ecaf8/details","high","W12153599N3953219 WYANDOTTE 1105","[DouglasFir, LiveOak, Other]","DouglasFir"]
[928,"NORTHERN","NORTH VALLEY","Tier 2-3","102911105 Tier 2-3",102911105,"WYANDOTTE 1105",0.2,39.526829999999897,-121.5318,null,26.3,"W12153180N3952683",8.8000000000000007,8.9,"NO","W12153152N3952699","W12153224N3952655","W12153224N3952655-W12153152N3952699",102911105,"WYANDOTTE 1105",null,"2019-11-20T17:46:46",null,null,"Not assessed","https://viewer.us-3.sharpershape.services/viewer/assets/5ca5a2c6f6b46367dca04ab1/details","https://viewer.us-3.sharpershape.services/viewer/issues/5ecf955934b60c00015ed7f0/details","high","W12153180N3952683 WYANDOTTE 1105","[GrayPine, DouglasFir, TanOak]","GrayPine"]
[929,"NORTHERN","NORTH VALLEY","Tier 0-1","102911105 Tier 0-1",102911105,"WYANDOTTE 1105",40.200000000000003,39.523200000000003,-121.512419999999,null,40.899999999999899,"W12151242N3952320",9.6999999999999993,21.6999999999999,"NO","W12151282N3952292","W12151196N3952324","W12151196N3952324-W12151282N3952292",102911105,"WYANDOTTE 1105",null,"2019-11-20T17:46:46",null,null,"Not assessed","https://viewer.us-3.sharpershape.services/viewer/assets/5ca5a2c6f6b463e9a0a04bb9/details","https://viewer.us-3.sharpershape.services/viewer/issues/5ecf8eee34b60c00015eca8a/details","high","W12151242N3952320 WYANDOTTE 1105","[LiveOak, DouglasFir, TanOak]","LiveOak"]
[930,"NORTHERN","NORTH VALLEY","Tier 2-3","102911105 Tier 2-3",102911105,"WYANDOTTE 1105",4.8,39.531590000000001,-121.532089999999,null,18.8,"W12153209N3953159",8.8000000000000007,13.6,"NO","W12153206N3953153","W12153261N3953152","W12153261N3953152-W12153206N3953153",102911105,"WYANDOTTE 1105",null,"2019-11-20T17:46:46",null,null,"Not assessed","https://viewer.us-3.sharpershape.services/viewer/assets/5ca5a2c6f6b4636454a04d9a/details","https://viewer.us-3.sharpershape.services/viewer/issues/5ecf8f01a03e660001311330/details","high","W12153209N3953159 WYANDOTTE 1105","[GrayPine, DouglasFir, LiveOak]","GrayPine"]
[931,"NORTHERN","NORTH VALLEY","Tier 2-3","102911105 Tier 2-3",102911105,"WYANDOTTE 1105",48.6,39.531669999999899,-121.532319999999,null,51,"W12153232N3953167",37.399999999999899,6.4,"NO","W12153206N3953153","W12153261N3953152","W12153261N3953152-W12153206N3953153",102911105,"WYANDOTTE 1105",null,"2019-11-20T17:46:46",null,null,"Not assessed","https://viewer.us-3.sharpershape.services/viewer/assets/5ca5a2c6f6b4636454a04d9a/details","https://viewer.us-3.sharpershape.services/viewer/issues/5ecf8c97a03e660001310a6c/details","high","W12153232N3953167 WYANDOTTE 1105","[GrayPine, Other, MontereyPine]","GrayPine"]
[932,"NORTHERN","NORTH VALLEY","Tier 2-3","102911105 Tier 2-3",102911105,"WYANDOTTE 1105",60.399999999999899,39.533470000000001,-121.540769999999,null,94.9,"W12154077N3953347",44.1,-12.4,"YES","W12154087N3953327","W12154149N3953393","W12154149N3953393-W12154087N3953327",102911105,"WYANDOTTE 1105",null,"2019-11-20T17:46:46",null,null,"Not assessed","https://viewer.us-3.sharpershape.services/viewer/assets/5ca5a2c6f6b4635000a04d2e/details","https://viewer.us-3.sharpershape.services/viewer/issues/5ecf8c9234b60c00015ec003/details","high","W12154077N3953347 WYANDOTTE 1105","[GrayPine, DouglasFir, CoastalLiveOak]","GrayPine"]
[933,"NORTHERN","NORTH VALLEY","Tier 2-3","102911105 Tier 2-3",102911105,"WYANDOTTE 1105",76.7,39.532109999999903,-121.53466,null,81.900000000000006,"W12153466N3953211",57.1,2.4,"NO","W12153557N3953230","W12153419N3953235","W12153419N3953235-W12153557N3953230",102911105,"WYANDOTTE 1105",null,"2019-11-20T17:46:46",null,null,"Not assessed","https://viewer.us-3.sharpershape.services/viewer/assets/5ca5a2c6f6b463191ca04d93/details","https://viewer.us-3.sharpershape.services/viewer/issues/5ee2b430a03e66000146e42f/details","high","W12153466N3953211 WYANDOTTE 1105","[GrayPine, DouglasFir, MontereyPine]","GrayPine"]
[934,"NORTHERN","NORTH VALLEY","Tier 2-3","102911105 Tier 2-3",102911105,"WYANDOTTE 1105",65.099999999999895,39.5390599999999,-121.54285,null,63.399999999999899,"W12154285N3953906",52.6,9.8000000000000007,"NO","W12154252N3953857","W12154263N3953924","W12154263N3953924-W12154252N3953857",102911105,"WYANDOTTE 1105",null,"2019-11-20T17:46:46",null,null,"Not assessed","https://viewer.us-3.sharpershape.services/viewer/assets/5ca5a2c6f6b463b563a04ed9/details","https://viewer.us-3.sharpershape.services/viewer/issues/5ecf8c9334b60c00015ec036/details","high","W12154285N3953906 WYANDOTTE 1105"]
[935,"NORTHERN","NORTH VALLEY","Tier 2-3","102911105 Tier 2-3",102911105,"WYANDOTTE 1105",53,39.526609999999899,-121.53828,null,65.299999999999898,"W12153828N3952661",38.5,-1.3,"YES","W12153848N3952653","W12153767N3952612","W12153767N3952612-W12153848N3952653",102911105,"WYANDOTTE 1105",null,"2019-11-20T17:46:46",null,null,"Not assessed","https://viewer.us-3.sharpershape.services/viewer/assets/5ca5a2c6f6b463399da04f5c/details","https://viewer.us-3.sharpershape.services/viewer/issues/5ecf8c9434b60c00015ec05f/details","high","W12153828N3952661 WYANDOTTE 1105","[GrayPine, DouglasFir, TanOak]","GrayPine"]
[936,"NORTHERN","NORTH VALLEY","Tier 2-3","102911105 Tier 2-3",102911105,"WYANDOTTE 1105",16.1999999999999,39.525390000000002,-121.537309999999,null,36,"W12153731N3952539",6.3,-2.1,"YES","W12153742N3952569","W12153709N3952512","W12153709N3952512-W12153742N3952569",102911105,"WYANDOTTE 1105",null,"2019-11-20T17:46:46",null,null,"Not assessed","https://viewer.us-3.sharpershape.services/viewer/assets/5ca5a2c6f6b4633f70a04d23/details","https://viewer.us-3.sharpershape.services/viewer/issues/5ecf8c9234b60c00015ebff5/details","high","W12153731N3952539 WYANDOTTE 1105","[DouglasFir, Other, GrayPine]","DouglasFir"]
[937,"NORTHERN","NORTH VALLEY","Tier 2-3","102911105 Tier 2-3",102911105,"WYANDOTTE 1105",7,39.5312699999999,-121.54057,null,17.899999999999999,"W12154057N3953127",11.7,18.6999999999999,"NO","W12154084N3953131","W12154060N3953123","W12154060N3953123-W12154084N3953131",102911105,"WYANDOTTE 1105",null,"2019-11-20T17:46:46",null,null,"Not assessed","https://viewer.us-3.sharpershape.services/viewer/assets/5ca5a2c6f6b463023fa051ec/details","https://viewer.us-3.sharpershape.services/viewer/issues/5ecf8ea7a03e6600013110cc/details","high","W12154057N3953127 WYANDOTTE 1105","[CoastalLiveOak, MontereyPine, DouglasFir]","CoastalLiveOak"]
[938,"NORTHERN","NORTH VALLEY","Tier 2-3","102911105 Tier 2-3",102911105,"WYANDOTTE 1105",92.7,39.5356799999999,-121.542069999999,null,92.2,"W12154207N3953568",73.099999999999994,0.5,"NO","W12154242N3953570","W12154230N3953520","W12154230N3953520-W12154242N3953570",102911105,"WYANDOTTE 1105",null,"2019-11-20T17:46:46",null,null,"Not assessed","https://viewer.us-3.sharpershape.services/viewer/assets/5ca5a2c6f6b463392ea051c1/details","https://viewer.us-3.sharpershape.services/viewer/issues/5ecf8c9734b60c00015ec1c6/details","high","W12154207N3953568 WYANDOTTE 1105"]
[939,"NORTHERN","NORTH VALLEY","Tier 2-3","102911105 Tier 2-3",102911105,"WYANDOTTE 1105",50.7,39.531729999999897,-121.51805,null,60.7,"W12151805N3953173",35.299999999999997,3,"NO","W12151822N3953157","W12151765N3953162","W12151765N3953162-W12151822N3953157",102911105,"WYANDOTTE 1105",null,"2019-11-20T17:46:46",null,null,"Not assessed","https://viewer.us-3.sharpershape.services/viewer/assets/5ca5a2c6f6b463f67aa051de/details","https://viewer.us-3.sharpershape.services/viewer/issues/5ecf8c9734b60c00015ec1a3/details","high","W12151805N3953173 WYANDOTTE 1105","[ValleyOak, GrayPine, Other]","ValleyOak"]
[940,"NORTHERN","NORTH VALLEY","Tier 2-3","102911105 Tier 2-3",102911105,"WYANDOTTE 1105",3.5,39.530929999999898,-121.519189999999,null,21.9,"W12151919N3953093",10.1,13.6,"NO","W12151923N3953089","W12151909N3953154","W12151909N3953154-W12151923N3953089",102911105,"WYANDOTTE 1105",null,"2019-11-20T17:46:46",null,null,"Not assessed","https://viewer.us-3.sharpershape.services/viewer/assets/5ca5a2c6f6b46317a8a0499a/details","https://viewer.us-3.sharpershape.services/viewer/issues/5ecf9534a03e660001311e56/details","high","W12151919N3953093 WYANDOTTE 1105","[CoastalLiveOak, DouglasFir, Eucalyptus/BlueGum]","CoastalLiveOak"]
[941,"NORTHERN","NORTH VALLEY","Tier 2-3","102911105 Tier 2-3",102911105,"WYANDOTTE 1105",29.6999999999999,39.532150000000001,-121.53216999999999,null,38.5,"W12153217N3953215",21.8,2.2000000000000002,"NO","W12153205N3953245","W12153206N3953192","W12153206N3953192-W12153205N3953245",102911105,"WYANDOTTE 1105",null,"2019-11-20T17:46:46",null,null,"Not assessed","https://viewer.us-3.sharpershape.services/viewer/assets/5ca5a2c6f6b463299fa04cf2/details","https://viewer.us-3.sharpershape.services/viewer/issues/5ecf8c9934b60c00015ec372/details","high","W12153217N3953215 WYANDOTTE 1105","[GrayPine, ValleyOak, MontereyPine]","GrayPine"]
[942,"NORTHERN","NORTH VALLEY","Tier 2-3","102911105 Tier 2-3",102911105,"WYANDOTTE 1105",42.8,39.524639999999899,-121.53686,null,39.200000000000003,"W12153686N3952464",24.3,9.8000000000000007,"NO","W12153682N3952487","W12153716N3952455","W12153716N3952455-W12153682N3952487",102911105,"WYANDOTTE 1105",null,"2019-11-20T17:46:46",null,null,"Not assessed","https://viewer.us-3.sharpershape.services/viewer/assets/5ca5a2c6f6b4630bb0a049ec/details","https://viewer.us-3.sharpershape.services/viewer/issues/5ecf8c9834b60c00015ec264/details","high","W12153686N3952464 WYANDOTTE 1105","[Other, DouglasFir, GrayPine]","Other"]
[943,"NORTHERN","NORTH VALLEY","Tier 2-3","102911105 Tier 2-3",102911105,"WYANDOTTE 1105",57.399999999999899,39.531949999999902,-121.540639999999,null,68.5,"W12154064N3953195",37.5,-8.1,"YES","W12154086N3953214","W12154084N3953131","W12154084N3953131-W12154086N3953214",102911105,"WYANDOTTE 1105",null,"2019-11-20T17:46:46",null,null,"Not assessed","https://viewer.us-3.sharpershape.services/viewer/assets/5ca5a2c6f6b4630944a04ef1/details","https://viewer.us-3.sharpershape.services/viewer/issues/5ecf8c98a03e660001310b69/details","high","W12154064N3953195 WYANDOTTE 1105","[DouglasFir, Eucalyptus/BlueGum, GrayPine]","DouglasFir"]
[944,"NORTHERN","NORTH VALLEY","Tier 2-3","102911105 Tier 2-3",102911105,"WYANDOTTE 1105",0.4,39.529719999999898,-121.53188,null,18.1999999999999,"W12153188N3952972",12,12.4,"NO","W12153130N3952973","W12153206N3952972","W12153206N3952972-W12153130N3952973",102911105,"WYANDOTTE 1105",null,"2019-11-20T17:46:46",null,null,"Not assessed","https://viewer.us-3.sharpershape.services/viewer/assets/5ca5a2c6f6b4637225a0510d/details","https://viewer.us-3.sharpershape.services/viewer/issues/5ecf953534b60c00015ed6aa/details","high","W12153188N3952972 WYANDOTTE 1105"]
[945,"NORTHERN","NORTH VALLEY","Tier 2-3","102911105 Tier 2-3",102911105,"WYANDOTTE 1105",20.399999999999999,39.532879999999899,-121.53931,null,40.399999999999899,"W12153931N3953288",12,-1.5,"YES","W12153906N3953282","W12153944N3953282","W12153944N3953282-W12153906N3953282",102911105,"WYANDOTTE 1105",null,"2019-11-20T17:46:46",null,null,"Not assessed","https://viewer.us-3.sharpershape.services/viewer/assets/5ca5a2c6f6b463739ea04cfc/details","https://viewer.us-3.sharpershape.services/viewer/issues/5ecf8c9534b60c00015ec07e/details","high","W12153931N3953288 WYANDOTTE 1105","[LiveOak, DouglasFir, CoastalLiveOak]","LiveOak"]
[946,"NORTHERN","NORTH VALLEY","Tier 2-3","102911105 Tier 2-3",102911105,"WYANDOTTE 1105",63.6,39.525759999999899,-121.514839999999,null,74,"W12151484N3952576",50.7,2.2000000000000002,"NO","W12151463N3952642","W12151461N3952559","W12151461N3952559-W12151463N3952642",102911105,"WYANDOTTE 1105",null,"2019-11-20T17:46:46",null,null,"Not assessed","https://viewer.us-3.sharpershape.services/viewer/assets/5d8b1e4455dd6b5e853f3023/details","https://viewer.us-3.sharpershape.services/viewer/issues/5ecf8c99a03e660001310c3b/details","high","W12151484N3952576 WYANDOTTE 1105","[GrayPine, Other, DouglasFir]","GrayPine"]
[947,"NORTHERN","NORTH VALLEY","Tier 2-3","102911105 Tier 2-3",102911105,"WYANDOTTE 1105",48.6,39.5397099999999,-121.542429999999,null,76.299999999999898,"W12154243N3953971",28.6999999999999,-27.6,"YES","W12154261N3953987","W12154263N3953924","W12154263N3953924-W12154261N3953987",102911105,"WYANDOTTE 1105",null,"2019-11-20T17:46:46",null,null,"Not assessed","https://viewer.us-3.sharpershape.services/viewer/assets/5ca5a2c6f6b4637988a04a3e/details","https://viewer.us-3.sharpershape.services/viewer/issues/5ecf8c93a03e660001310879/details","high","W12154243N3953971 WYANDOTTE 1105","[DouglasFir, GrayPine, MontereyPine]","DouglasFir"]
[948,"NORTHERN","NORTH VALLEY","Tier 2-3","102911105 Tier 2-3",102911105,"WYANDOTTE 1105",25.1999999999999,39.525819999999896,-121.5376,null,38.1,"W12153760N3952582",7.3,4.8,"NO","W12153742N3952569","W12153767N3952612","W12153767N3952612-W12153742N3952569",102911105,"WYANDOTTE 1105",null,"2019-11-20T17:46:46",null,null,"Not assessed","https://viewer.us-3.sharpershape.services/viewer/assets/5e1b0881942b992c9e7b02ef/details","https://viewer.us-3.sharpershape.services/viewer/issues/5ecf8c9934b60c00015ec3a6/details","high","W12153760N3952582 WYANDOTTE 1105","[CoastalLiveOak, LiveOak, DouglasFir]","CoastalLiveOak"]
[949,"NORTHERN","NORTH VALLEY","Tier 2-3","102911105 Tier 2-3",102911105,"WYANDOTTE 1105",45,39.53031,-121.5197,null,49.2,"W12151970N3953031",29.1,3.8,"NO","W12151923N3953089","W12152005N3953021","W12152005N3953021-W12151923N3953089",102911105,"WYANDOTTE 1105",null,"2019-11-20T17:46:46",null,null,"Not assessed","https://viewer.us-3.sharpershape.services/viewer/assets/5ca5a2c6f6b46307baa0515f/details","https://viewer.us-3.sharpershape.services/viewer/issues/5ecf8c93a03e6600013108d2/details","high","W12151970N3953031 WYANDOTTE 1105","[CoastalLiveOak, DouglasFir, Other]","CoastalLiveOak"]
[950,"NORTHERN","NORTH VALLEY","Tier 2-3","102911105 Tier 2-3",102911105,"WYANDOTTE 1105",18.399999999999999,39.524760000000001,-121.51452,null,28.6999999999999,"W12151452N3952476",7.4,9.9,"NO","W12151459N3952471","W12151461N3952559","W12151461N3952559-W12151459N3952471",102911105,"WYANDOTTE 1105",null,"2019-11-20T17:46:46",null,null,"Not assessed","https://viewer.us-3.sharpershape.services/viewer/assets/5d8b1e506476d7eadd5dd3a0/details","https://viewer.us-3.sharpershape.services/viewer/issues/5ecf8c9934b60c00015ec36a/details","high","W12151452N3952476 WYANDOTTE 1105","[CoastalLiveOak, Eucalyptus/BlueGum, Other]","CoastalLiveOak"]
[951,"NORTHERN","NORTH VALLEY","Tier 2-3","102911105 Tier 2-3",102911105,"WYANDOTTE 1105",13.2,39.524470000000001,-121.51451,null,30.6999999999999,"W12151451N3952447",12,8.1,"NO","W12151459N3952471","W12151456N3952437","W12151456N3952437-W12151459N3952471",102911105,"WYANDOTTE 1105",null,"2019-11-20T17:46:46",null,null,"Not assessed","https://viewer.us-3.sharpershape.services/viewer/assets/5ca5a2c6f6b46347dfa04b7e/details","https://viewer.us-3.sharpershape.services/viewer/issues/5ecf8c95a03e660001310955/details","high","W12151451N3952447 WYANDOTTE 1105","[LiveOak, GrayPine, BlackOak]","LiveOak"]
[952,"NORTHERN","NORTH VALLEY","Tier 2-3","102911105 Tier 2-3",102911105,"WYANDOTTE 1105",6.2,39.658479999999898,-121.505439999999,null,18.600000000000001,"W12150544N3965848",11,8.3000000000000007,"NO","W12150545N3965863","W12150561N3965801","W12150561N3965801-W12150545N3965863",102911105,"WYANDOTTE 1105",null,"2019-11-20T17:46:46",null,null,"Not assessed","https://viewer.us-3.sharpershape.services/viewer/assets/5da559b2c545ca4e5107fbeb/details","https://viewer.us-3.sharpershape.services/viewer/issues/5ecf8c9aa03e660001310c5e/details","high","W12150544N3965848 WYANDOTTE 1105"]
[953,"NORTHERN","NORTH VALLEY","Tier 2-3","102911105 Tier 2-3",102911105,"WYANDOTTE 1105",2.9,39.522309999999898,-121.53802,null,23.3,"W12153802N3952231",8.1999999999999904,8.8000000000000007,"NO","W12153791N3952249","W12153812N3952205","W12153812N3952205-W12153791N3952249",102911105,"WYANDOTTE 1105",null,"2019-11-20T17:46:46",null,null,"Not assessed","https://viewer.us-3.sharpershape.services/viewer/assets/5ca5a2c6f6b46356cda04a7c/details","https://viewer.us-3.sharpershape.services/viewer/issues/5ecf8c93a03e660001310898/details","high","W12153802N3952231 WYANDOTTE 1105","[Other, Eucalyptus/BlueGum, DouglasFir]","Other"]
[954,"NORTHERN","NORTH VALLEY","Tier 2-3","102911105 Tier 2-3",102911105,"WYANDOTTE 1105",11.1,39.5248899999999,-121.5369,null,25.8,"W12153690N3952489",8.9,5.9,"NO","W12153682N3952487","W12153709N3952512","W12153709N3952512-W12153682N3952487",102911105,"WYANDOTTE 1105",null,"2019-11-20T17:46:46",null,null,"Not assessed","https://viewer.us-3.sharpershape.services/viewer/assets/5ca5a2c6f6b4635859a04d71/details","https://viewer.us-3.sharpershape.services/viewer/issues/5ecf8c93a03e66000131086e/details","high","W12153690N3952489 WYANDOTTE 1105"]
[955,"NORTHERN","NORTH VALLEY","Tier 2-3","102911105 Tier 2-3",102911105,"WYANDOTTE 1105",35.399999999999899,39.524920000000002,-121.537049999999,null,27.3,"W12153705N3952492",11.4,23.4,"NO","W12153682N3952487","W12153709N3952512","W12153709N3952512-W12153682N3952487",102911105,"WYANDOTTE 1105",null,"2019-11-20T17:46:46",null,null,"Not assessed","https://viewer.us-3.sharpershape.services/viewer/assets/5ca5a2c6f6b4635859a04d71/details","https://viewer.us-3.sharpershape.services/viewer/issues/5ecf953ea03e660001311e90/details","high","W12153705N3952492 WYANDOTTE 1105","[DouglasFir, TanOak, Other]","DouglasFir"]
[956,"NORTHERN","NORTH VALLEY","Tier 2-3","102911105 Tier 2-3",102911105,"WYANDOTTE 1105",12.8,39.530879999999897,-121.519319999999,null,33.6,"W12151932N3953088",9.1999999999999993,2.2000000000000002,"NO","W12151923N3953089","W12152005N3953021","W12152005N3953021-W12151923N3953089",102911105,"WYANDOTTE 1105",null,"2019-11-20T17:46:46",null,null,"Not assessed","https://viewer.us-3.sharpershape.services/viewer/assets/5ca5a2c6f6b46307baa0515f/details","https://viewer.us-3.sharpershape.services/viewer/issues/5ecf8c93a03e6600013108bd/details","high","W12151932N3953088 WYANDOTTE 1105","[Other, GrayPine, LiveOak]","Other"]
[957,"NORTHERN","NORTH VALLEY","Tier 2-3","102911105 Tier 2-3",102911105,"WYANDOTTE 1105",22.5,39.536700000000003,-121.542439999999,null,97.5,"W12154244N3953670",12,-69.5,"YES","W12154253N3953660","W12154250N3953758","W12154250N3953758-W12154253N3953660",102911105,"WYANDOTTE 1105",null,"2019-11-20T17:46:46",null,null,"Not assessed","https://viewer.us-3.sharpershape.services/viewer/assets/5ca5a2c6f6b4637989a05102/details","https://viewer.us-3.sharpershape.services/viewer/issues/5ecf8c9734b60c00015ec1ac/details","high","W12154244N3953670 WYANDOTTE 1105","[MontereyPine, Other, GrayPine]","MontereyPine"]
[958,"NORTHERN","NORTH VALLEY","Tier 2-3","102911105 Tier 2-3",102911105,"WYANDOTTE 1105",10.9,39.52919,-121.51954000000001,null,24.1,"W12151954N3952919",7.2,4.4000000000000004,"NO","W12151936N3952926","W12152014N3952914","W12152014N3952914-W12151936N3952926",102911105,"WYANDOTTE 1105",null,"2019-11-20T17:46:46",null,null,"Not assessed","https://viewer.us-3.sharpershape.services/viewer/assets/5ca5a2c6f6b4634b73a04f6f/details","https://viewer.us-3.sharpershape.services/viewer/issues/5ecf8c96a03e660001310a06/details","high","W12151954N3952919 WYANDOTTE 1105","[TanOak, GrayPine, Other]","TanOak"]
[959,"NORTHERN","NORTH VALLEY","Tier 2-3","102911105 Tier 2-3",102911105,"WYANDOTTE 1105",30.6,39.52937,-121.525679999999,null,49.5,"W12152568N3952937",11.1,3.6,"NO","W12152508N3952949","W12152596N3952916","W12152596N3952916-W12152508N3952949",102911105,"WYANDOTTE 1105",null,"2019-11-20T17:46:46",null,null,"Not assessed","https://viewer.us-3.sharpershape.services/viewer/assets/5ca5a2c6f6b4634e80a04ae4/details","https://viewer.us-3.sharpershape.services/viewer/issues/5ecf8c9734b60c00015ec1d6/details","high","W12152568N3952937 WYANDOTTE 1105","[GrayPine, DouglasFir, TanOak]","GrayPine"]
[960,"NORTHERN","NORTH VALLEY","Tier 2-3","102911105 Tier 2-3",102911105,"WYANDOTTE 1105",0.6,39.522379999999899,-121.537959999999,null,35.5,"W12153796N3952238",5.9,6.5,"NO","W12153791N3952249","W12153812N3952205","W12153812N3952205-W12153791N3952249",102911105,"WYANDOTTE 1105",null,"2019-11-20T17:46:46",null,null,"Not assessed","https://viewer.us-3.sharpershape.services/viewer/assets/5ca5a2c6f6b46356cda04a7c/details","https://viewer.us-3.sharpershape.services/viewer/issues/5ecf9569a03e660001311fe2/details","high","W12153796N3952238 WYANDOTTE 1105","[GrayPine, DouglasFir, Other]","GrayPine"]
[961,"NORTHERN","NORTH VALLEY","Tier 0-1","102911105 Tier 0-1",102911105,"WYANDOTTE 1105",27.6999999999999,39.525230000000001,-121.53557000000001,null,38.6,"W12153557N3952523",12,4.4000000000000004,"NO","W12153537N3952537","W12153590N3952523","W12153590N3952523-W12153537N3952537",102911105,"WYANDOTTE 1105",null,"2019-11-20T17:46:46",null,null,"Not assessed","https://viewer.us-3.sharpershape.services/viewer/assets/5ca5a2c6f6b4631c28a0517f/details","https://viewer.us-3.sharpershape.services/viewer/issues/5ecf8c90a03e660001310803/details","high","W12153557N3952523 WYANDOTTE 1105","[Eucalyptus/BlueGum, MontereyPine, GrayPine]","Eucalyptus/BlueGum"]
[962,"NORTHERN","NORTH VALLEY","Tier 0-1","102911105 Tier 0-1",102911105,"WYANDOTTE 1105",43.8,39.524479999999897,-121.5217,null,70.400000000000006,"W12152170N3952448",24.5,-18.5,"YES","W12152121N3952468","W12152223N3952454","W12152223N3952454-W12152121N3952468",102911105,"WYANDOTTE 1105",null,"2019-11-20T17:46:46",null,null,"Not assessed","https://viewer.us-3.sharpershape.services/viewer/assets/5ca5a2c6f6b4634c98a0504c/details","https://viewer.us-3.sharpershape.services/viewer/issues/5ecf8c9634b60c00015ec142/details","high","W12152170N3952448 WYANDOTTE 1105","[GrayPine, CoastalLiveOak, MontereyPine]","GrayPine"]
[963,"NORTHERN","NORTH VALLEY","Tier 2-3","102911105 Tier 2-3",102911105,"WYANDOTTE 1105",28.6,39.528869999999898,-121.52634999999999,null,45.2,"W12152635N3952887",5.8,-9.8000000000000007,"YES","W12152596N3952916","W12152680N3952875","W12152680N3952875-W12152596N3952916",102911105,"WYANDOTTE 1105",null,"2019-11-20T17:46:46",null,null,"Not assessed","https://viewer.us-3.sharpershape.services/viewer/assets/5ca5a2c6f6b463c0bba05089/details","https://viewer.us-3.sharpershape.services/viewer/issues/5ecf8c96a03e660001310a17/details","high","W12152635N3952887 WYANDOTTE 1105","[CoastalLiveOak, Eucalyptus/BlueGum, Other]","CoastalLiveOak"]
[964,"NORTHERN","NORTH VALLEY","Tier 2-3","102911105 Tier 2-3",102911105,"WYANDOTTE 1105",41.5,39.52552,-121.521069999999,null,36.700000000000003,"W12152107N3952552",6.2,18.1999999999999,"NO","W12152123N3952539","W12152124N3952614","W12152124N3952614-W12152123N3952539",102911105,"WYANDOTTE 1105",null,"2019-11-20T17:46:46",null,null,"Not assessed","https://viewer.us-3.sharpershape.services/viewer/assets/5ca5a2c6f6b46335f7a04ffc/details","https://viewer.us-3.sharpershape.services/viewer/issues/5ecf8ed034b60c00015ec99c/details","high","W12152107N3952552 WYANDOTTE 1105","[GrayPine, Other, ValleyOak]","GrayPine"]
[965,"NORTHERN","NORTH VALLEY","Tier 0-1","102911105 Tier 0-1",102911105,"WYANDOTTE 1105",7.4,39.52272,-121.537759999999,null,79,"W12153776N3952272",10.6,-41.1,"YES","W12153791N3952249","W12153775N3952283","W12153775N3952283-W12153791N3952249",102911105,"WYANDOTTE 1105",null,"2019-11-20T17:46:46","OH",null,"Not assessed","https://viewer.us-3.sharpershape.services/viewer/assets/5ca5a2c6f6b463313aa04cb9/details","https://viewer.us-3.sharpershape.services/viewer/issues/5ecf8c99a03e660001310c28/details","high","W12153776N3952272 WYANDOTTE 1105","[GrayPine, DouglasFir, CoastalLiveOak]","GrayPine"]
[966,"NORTHERN","NORTH VALLEY","Tier 2-3","102911105 Tier 2-3",102911105,"WYANDOTTE 1105",10.8,39.541609999999899,-121.54213,null,53.3,"W12154213N3954161",8.1999999999999904,-15.6,"YES","W12154206N3954186","W12154249N3954102","W12154249N3954102-W12154206N3954186",102911105,"WYANDOTTE 1105",null,"2019-11-20T17:46:46",null,null,"Not assessed","https://viewer.us-3.sharpershape.services/viewer/assets/5ca5a2c6f6b4631d52a04cea/details","https://viewer.us-3.sharpershape.services/viewer/issues/5ecf8c98a03e660001310bf7/details","high","W12154213N3954161 WYANDOTTE 1105","[DouglasFir, CoastalLiveOak, MontereyPine]","DouglasFir"]
[967,"NORTHERN","NORTH VALLEY","Tier 2-3","102911105 Tier 2-3",102911105,"WYANDOTTE 1105",12.1,39.528860000000002,-121.535049999999,null,36.399999999999899,"W12153505N3952886",7.7,-5.2,"YES","W12153422N3952882","W12153537N3952882","W12153537N3952882-W12153422N3952882",102911105,"WYANDOTTE 1105",null,"2019-11-20T17:46:46",null,null,"Not assessed","https://viewer.us-3.sharpershape.services/viewer/assets/5ca5a2c6f6b4638913a05099/details","https://viewer.us-3.sharpershape.services/viewer/issues/5ecf8c95a03e660001310956/details","high","W12153505N3952886 WYANDOTTE 1105","[DouglasFir, GrayPine, Other]","DouglasFir"]
[968,"NORTHERN","NORTH VALLEY","Tier 2-3","102911105 Tier 2-3",102911105,"WYANDOTTE 1105",76.099999999999994,39.5215999999999,-121.538569999999,null,75.900000000000006,"W12153857N3952160",65.900000000000006,1.7,"NO","W12153812N3952205","W12153833N3952149","W12153833N3952149-W12153812N3952205",102911105,"WYANDOTTE 1105",null,"2019-11-20T17:46:46",null,null,"Not assessed","https://viewer.us-3.sharpershape.services/viewer/assets/5ca5a2c6f6b4634754a0511a/details","https://viewer.us-3.sharpershape.services/viewer/issues/5ecf8c98a03e660001310b06/details","high","W12153857N3952160 WYANDOTTE 1105","[MontereyPine, GrayPine, DouglasFir]","MontereyPine"]
[969,"NORTHERN","NORTH VALLEY","Tier 2-3","102911105 Tier 2-3",102911105,"WYANDOTTE 1105",25.6,39.538019999999896,-121.5424,null,95,"W12154240N3953802",10,-69.299999999999898,"YES","W12154252N3953857","W12154250N3953758","W12154250N3953758-W12154252N3953857",102911105,"WYANDOTTE 1105",null,"2019-11-20T17:46:46",null,null,"Not assessed","https://viewer.us-3.sharpershape.services/viewer/assets/5ca5a2c6f6b463b67da04e4c/details","https://viewer.us-3.sharpershape.services/viewer/issues/5ecf8c97a03e660001310a3f/details","high","W12154240N3953802 WYANDOTTE 1105","[LiveOak, GrayPine, Other]","LiveOak"]
[970,"NORTHERN","NORTH VALLEY","Tier 2-3","102911105 Tier 2-3",102911105,"WYANDOTTE 1105",28.6,39.52129,-121.538529999999,null,40.299999999999997,"W12153853N3952129",29.3,3,"NO","W12153833N3952149","W12153857N3952094","W12153857N3952094-W12153833N3952149",102911105,"WYANDOTTE 1105",null,"2019-11-20T17:46:46",null,null,"Not assessed","https://viewer.us-3.sharpershape.services/viewer/assets/5ca5a2c6f6b4636b44a04f9a/details","https://viewer.us-3.sharpershape.services/viewer/issues/5ecf8c96a03e6600013109a4/details","high","W12153853N3952129 WYANDOTTE 1105","[GrayPine, DouglasFir, Other]","GrayPine"]
[971,"NORTHERN","NORTH VALLEY","Tier 2-3","102911105 Tier 2-3",102911105,"WYANDOTTE 1105",4.4000000000000004,39.531659999999903,-121.52602,null,25.4,"W12152602N3953166",7,5.2,"NO","W12152604N3953139","W12152606N3953202","W12152606N3953202-W12152604N3953139",102911105,"WYANDOTTE 1105",null,"2019-11-20T17:46:46",null,null,"Not assessed","https://viewer.us-3.sharpershape.services/viewer/assets/5ca5a2c6f6b463cbbca04b3b/details","https://viewer.us-3.sharpershape.services/viewer/issues/5ecf8c98a03e660001310b80/details","high","W12152602N3953166 WYANDOTTE 1105","[GrayPine, ValleyOak, DouglasFir]","GrayPine"]
[972,"NORTHERN","NORTH VALLEY","Tier 2-3","102911105 Tier 2-3",102911105,"WYANDOTTE 1105",11.9,39.530740000000002,-121.5365,null,43.3,"W12153650N3953074",5.2,-13.1,"YES","W12153654N3953103","W12153655N3953063","W12153655N3953063-W12153654N3953103",102911105,"WYANDOTTE 1105",null,"2019-11-20T17:46:46",null,null,"Not assessed","https://viewer.us-3.sharpershape.services/viewer/assets/5ca5a2c6f6b4639202a04d3a/details","https://viewer.us-3.sharpershape.services/viewer/issues/5ecf8c96a03e660001310a28/details","high","W12153650N3953074 WYANDOTTE 1105","[Other, CoastalLiveOak, Eucalyptus/BlueGum]","Other"]
[973,"NORTHERN","NORTH VALLEY","Tier 2-3","102911105 Tier 2-3",102911105,"WYANDOTTE 1105",20.9,39.527159999999903,-121.53184,null,33,"W12153184N3952716",8.8000000000000007,1.7,"NO","W12153152N3952699","W12153200N3952739","W12153200N3952739-W12153152N3952699",102911105,"WYANDOTTE 1105",null,"2019-11-20T17:46:46",null,null,"Not assessed","https://viewer.us-3.sharpershape.services/viewer/assets/5ca5a2c6f6b46337eda04c68/details","https://viewer.us-3.sharpershape.services/viewer/issues/5ecf8c9034b60c00015ebfda/details","high","W12153184N3952716 WYANDOTTE 1105","[CoastalLiveOak, Eucalyptus/BlueGum, DouglasFir]","CoastalLiveOak"]
[974,"NORTHERN","NORTH VALLEY","Tier 2-3","102911105 Tier 2-3",102911105,"WYANDOTTE 1105",18.399999999999999,39.530200000000001,-121.521169999999,null,35.1,"W12152117N3953020",5.6,3.6,"NO","W12152184N3953012","W12152091N3953014","W12152091N3953014-W12152184N3953012",102911105,"WYANDOTTE 1105",null,"2019-11-20T17:46:46",null,null,"Not assessed","https://viewer.us-3.sharpershape.services/viewer/assets/5ca5a2c6f6b463611da04cf7/details","https://viewer.us-3.sharpershape.services/viewer/issues/5ecf8c97a03e660001310a8e/details","high","W12152117N3953020 WYANDOTTE 1105","[GrayPine, Other, MontereyPine]","GrayPine"]
[975,"NORTHERN","NORTH VALLEY","Tier 2-3","102911105 Tier 2-3",102911105,"WYANDOTTE 1105",35.700000000000003,39.532719999999898,-121.531319999999,null,42.6,"W12153132N3953272",25.6999999999999,0.4,"NO","W12153205N3953285","W12153118N3953282","W12153118N3953282-W12153205N3953285",102911105,"WYANDOTTE 1105",null,"2019-11-20T17:46:46",null,null,"Not assessed","https://viewer.us-3.sharpershape.services/viewer/assets/5ca5a2c6f6b463490aa04d2f/details","https://viewer.us-3.sharpershape.services/viewer/issues/5ecf8c9534b60c00015ec0cc/details","high","W12153132N3953272 WYANDOTTE 1105","[Other, LiveOak, DouglasFir]","Other"]
[976,"NORTHERN","NORTH VALLEY","Tier 2-3","102911105 Tier 2-3",102911105,"WYANDOTTE 1105",15.2,39.52908,-121.526,null,40.6,"W12152600N3952908",9.6,-4.7,"YES","W12152596N3952916","W12152680N3952875","W12152680N3952875-W12152596N3952916",102911105,"WYANDOTTE 1105",null,"2019-11-20T17:46:46",null,null,"Not assessed","https://viewer.us-3.sharpershape.services/viewer/assets/5ca5a2c6f6b463c0bba05089/details","https://viewer.us-3.sharpershape.services/viewer/issues/5ecf8c96a03e660001310a19/details","high","W12152600N3952908 WYANDOTTE 1105","[LiveOak, Other, Eucalyptus/BlueGum]","LiveOak"]
[977,"NORTHERN","NORTH VALLEY","Tier 2-3","102911105 Tier 2-3",102911105,"WYANDOTTE 1105",42.5,39.53107,-121.518509999999,null,50.7,"W12151851N3953107",24.9,-1.5,"YES","W12151868N3953111","W12151822N3953157","W12151822N3953157-W12151868N3953111",102911105,"WYANDOTTE 1105",null,"2019-11-20T17:46:46",null,null,"Not assessed","https://viewer.us-3.sharpershape.services/viewer/assets/5ca5a2c6f6b4630821a04f40/details","https://viewer.us-3.sharpershape.services/viewer/issues/5ecf8c9334b60c00015ec016/details","high","W12151851N3953107 WYANDOTTE 1105","[Other, DouglasFir, GrayPine]","Other"]
[978,"NORTHERN","NORTH VALLEY","Tier 2-3","102911105 Tier 2-3",102911105,"WYANDOTTE 1105",59.399999999999899,39.525709999999897,-121.51483,null,67.299999999999898,"W12151483N3952571",49.7,5.9,"NO","W12151463N3952642","W12151461N3952559","W12151461N3952559-W12151463N3952642",102911105,"WYANDOTTE 1105",null,"2019-11-20T17:46:46",null,null,"Not assessed","https://viewer.us-3.sharpershape.services/viewer/assets/5d8b1e4455dd6b5e853f3023/details","https://viewer.us-3.sharpershape.services/viewer/issues/5ecf8c99a03e660001310c36/details","high","W12151483N3952571 WYANDOTTE 1105","[GrayPine, Other, MontereyPine]","GrayPine"]
[979,"NORTHERN","NORTH VALLEY","Tier 2-3","102911105 Tier 2-3",102911105,"WYANDOTTE 1105",14.8,39.5261,-121.52096,null,31.5,"W12152096N3952610",7.7,3.9,"NO","W12152064N3952615","W12152124N3952614","W12152124N3952614-W12152064N3952615",102911105,"WYANDOTTE 1105",null,"2019-11-20T17:46:46",null,null,"Not assessed","https://viewer.us-3.sharpershape.services/viewer/assets/5ca5a2c6f6b463c7cfa0501b/details","https://viewer.us-3.sharpershape.services/viewer/issues/5ecf8c9634b60c00015ec12f/details","high","W12152096N3952610 WYANDOTTE 1105","[CoastalLiveOak, Eucalyptus/BlueGum, DouglasFir]","CoastalLiveOak"]
[980,"NORTHERN","NORTH VALLEY","Tier 2-3","102911105 Tier 2-3",102911105,"WYANDOTTE 1105",22.9,39.53584,-121.542609999999,null,67,"W12154261N3953584",17.3,-18.899999999999999,"YES","W12154256N3953592","W12154242N3953570","W12154242N3953570-W12154256N3953592",102911105,"WYANDOTTE 1105",null,"2019-11-20T17:46:46",null,null,"Not assessed","https://viewer.us-3.sharpershape.services/viewer/assets/5ca5a2c6f6b4638a06a050ea/details","https://viewer.us-3.sharpershape.services/viewer/issues/5ecf8c95a03e660001310970/details","high","W12154261N3953584 WYANDOTTE 1105","[GrayPine, DouglasFir, ValleyOak]","GrayPine"]
[981,"NORTHERN","NORTH VALLEY","Tier 2-3","102911105 Tier 2-3",102911105,"WYANDOTTE 1105",12.8,39.526260000000001,-121.514569999999,null,39.299999999999997,"W12151457N3952626",4.8,-8.3000000000000007,"YES","W12151463N3952642","W12151461N3952559","W12151461N3952559-W12151463N3952642",102911105,"WYANDOTTE 1105",null,"2019-11-20T17:46:46",null,null,"Not assessed","https://viewer.us-3.sharpershape.services/viewer/assets/5d8b1e4455dd6b5e853f3023/details","https://viewer.us-3.sharpershape.services/viewer/issues/5ecf8c99a03e660001310c39/details","high","W12151457N3952626 WYANDOTTE 1105","[Other, GrayPine, ValleyOak]","Other"]
[982,"NORTHERN","NORTH VALLEY","Tier 2-3","102911105 Tier 2-3",102911105,"WYANDOTTE 1105",15.8,39.527139999999903,-121.52951,null,37.5,"W12152951N3952714",7.7,-2.7,"YES","W12152907N3952726","W12152971N3952716","W12152971N3952716-W12152907N3952726",102911105,"WYANDOTTE 1105",null,"2019-11-20T17:46:46",null,null,"Not assessed","https://viewer.us-3.sharpershape.services/viewer/assets/5ca5a2c6f6b4635805a04cab/details","https://viewer.us-3.sharpershape.services/viewer/issues/5ecf8c9734b60c00015ec1ee/details","high","W12152951N3952714 WYANDOTTE 1105","[DouglasFir, Other, GrayPine]","DouglasFir"]
[983,"NORTHERN","NORTH VALLEY","Tier 2-3","102911105 Tier 2-3",102911105,"WYANDOTTE 1105",15.4,39.531039999999898,-121.518709999999,null,30.1,"W12151871N3953104",6.1,3.5,"NO","W12151868N3953111","W12151923N3953089","W12151923N3953089-W12151868N3953111",102911105,"WYANDOTTE 1105",null,"2019-11-20T17:46:46",null,null,"Not assessed","https://viewer.us-3.sharpershape.services/viewer/assets/5ca5a2c6f6b4636ea8a04d47/details","https://viewer.us-3.sharpershape.services/viewer/issues/5ecf8c97a03e660001310a9c/details","high","W12151871N3953104 WYANDOTTE 1105","[DouglasFir, Other, GrayPine]","DouglasFir"]
[984,"NORTHERN","NORTH VALLEY","Tier 2-3","102911105 Tier 2-3",102911105,"WYANDOTTE 1105",23.9,39.529649999999897,-121.530339999999,null,39.5,"W12153034N3952965",8,1.3,"NO","W12152988N3952972","W12153068N3952972","W12153068N3952972-W12152988N3952972",102911105,"WYANDOTTE 1105",null,"2019-11-20T17:46:46",null,null,"Not assessed","https://viewer.us-3.sharpershape.services/viewer/assets/5d89b6cc55dd6b81633f2eff/details","https://viewer.us-3.sharpershape.services/viewer/issues/5ecf8c9934b60c00015ec344/details","high","W12153034N3952965 WYANDOTTE 1105","[CoastalLiveOak, DouglasFir, MontereyPine]","CoastalLiveOak"]
[985,"NORTHERN","NORTH VALLEY","Tier 2-3","102911105 Tier 2-3",102911105,"WYANDOTTE 1105",43.2,39.539400000000001,-121.54246000000001,null,76.599999999999994,"W12154246N3953940",23.9,-33,"YES","W12154261N3953987","W12154263N3953924","W12154263N3953924-W12154261N3953987",102911105,"WYANDOTTE 1105",null,"2019-11-20T17:46:46",null,null,"Not assessed","https://viewer.us-3.sharpershape.services/viewer/assets/5ca5a2c6f6b4637988a04a3e/details","https://viewer.us-3.sharpershape.services/viewer/issues/5ecf8c93a03e66000131087d/details","high","W12154246N3953940 WYANDOTTE 1105","[DouglasFir, GrayPine, Other]","DouglasFir"]
[986,"NORTHERN","NORTH VALLEY","Tier 2-3","102911105 Tier 2-3",102911105,"WYANDOTTE 1105",4.0999999999999996,39.5281799999999,-121.535309999999,null,21.4,"W12153531N3952818",11.8,16,"NO","W12153535N3952774","W12153534N3952830","W12153534N3952830-W12153535N3952774",102911105,"WYANDOTTE 1105",null,"2019-11-20T17:46:46",null,null,"Not assessed","https://viewer.us-3.sharpershape.services/viewer/assets/5ca5a2c6f6b463c1eea04ac0/details","https://viewer.us-3.sharpershape.services/viewer/issues/5ecf954e34b60c00015ed786/details","high","W12153531N3952818 WYANDOTTE 1105","[Eucalyptus/BlueGum, DouglasFir, CoastalLiveOak]","Eucalyptus/BlueGum"]
[987,"NORTHERN","NORTH VALLEY","Tier 0-1","102911105 Tier 0-1",102911105,"WYANDOTTE 1105",12.4,39.523879999999899,-121.51506000000001,null,55.899999999999899,"W12151506N3952388",9.8000000000000007,-22.5,"YES","W12151549N3952385","W12151473N3952396","W12151473N3952396-W12151549N3952385",102911105,"WYANDOTTE 1105",null,"2019-11-20T17:46:46","OH",null,"Not assessed","https://viewer.us-3.sharpershape.services/viewer/assets/5ca5a2c6f6b46317dfa04ac8/details","https://viewer.us-3.sharpershape.services/viewer/issues/5ecf8c90a03e6600013107f5/details","high","W12151506N3952388 WYANDOTTE 1105","[Other, GrayPine, MontereyPine]","Other"]
[988,"NORTHERN","NORTH VALLEY","Tier 2-3","102911105 Tier 2-3",102911105,"WYANDOTTE 1105",9.6999999999999993,39.526890000000002,-121.5354,null,61.7,"W12153540N3952689",7.8,-31,"YES","W12153535N3952637","W12153536N3952706","W12153536N3952706-W12153535N3952637",102911105,"WYANDOTTE 1105",null,"2019-11-20T17:46:46","OH",null,"Not assessed","https://viewer.us-3.sharpershape.services/viewer/assets/5e7a18565dcbeb387a17baf6/details","https://viewer.us-3.sharpershape.services/viewer/issues/5ecf8c9934b60c00015ec38b/details","high","W12153540N3952689 WYANDOTTE 1105","[DouglasFir, TanOak, LiveOak]","DouglasFir"]
[989,"NORTHERN","NORTH VALLEY","Tier 2-3","102911105 Tier 2-3",102911105,"WYANDOTTE 1105",21.6,39.524940000000001,-121.51451,null,41,"W12151451N3952494",6,-6.5,"YES","W12151459N3952471","W12151461N3952559","W12151461N3952559-W12151459N3952471",102911105,"WYANDOTTE 1105",null,"2019-11-20T17:46:46",null,null,"Not assessed","https://viewer.us-3.sharpershape.services/viewer/assets/5d8b1e506476d7eadd5dd3a0/details","https://viewer.us-3.sharpershape.services/viewer/issues/5ecf8c9934b60c00015ec36c/details","high","W12151451N3952494 WYANDOTTE 1105","[DouglasFir, GrayPine, Other]","DouglasFir"]
[990,"NORTHERN","NORTH VALLEY","Tier 2-3","102911105 Tier 2-3",102911105,"WYANDOTTE 1105",3.5,39.530189999999898,-121.520139999999,null,27.8,"W12152014N3953019",12,9.6,"NO","W12152091N3953014","W12152005N3953021","W12152005N3953021-W12152091N3953014",102911105,"WYANDOTTE 1105",null,"2019-11-20T17:46:46",null,null,"Not assessed","https://viewer.us-3.sharpershape.services/viewer/assets/5ca5a2c6f6b4637ff5a04e47/details","https://viewer.us-3.sharpershape.services/viewer/issues/5ecf8c9534b60c00015ec075/details","high","W12152014N3953019 WYANDOTTE 1105","[Other, GrayPine, DouglasFir]","Other"]
[991,"NORTHERN","NORTH VALLEY","Tier 0-1","102911105 Tier 0-1",102911105,"WYANDOTTE 1105",18.6999999999999,39.523379999999896,-121.5155,null,38.799999999999997,"W12151550N3952338",7.5,8.6,"NO","W12151549N3952385","W12151562N3952310","W12151562N3952310-W12151549N3952385",102911105,"WYANDOTTE 1105",null,"2019-11-20T17:46:46",null,null,"Not assessed","https://viewer.us-3.sharpershape.services/viewer/assets/5ca5a2c6f6b4631737a04c04/details","https://viewer.us-3.sharpershape.services/viewer/issues/5ecf8c9534b60c00015ec088/details","high","W12151550N3952338 WYANDOTTE 1105","[DouglasFir, Other, CoastalLiveOak]","DouglasFir"]
[992,"NORTHERN","NORTH VALLEY","Tier 2-3","102911105 Tier 2-3",102911105,"WYANDOTTE 1105",53.2,39.52657,-121.538209999999,null,54,"W12153821N3952657",35.700000000000003,8.8000000000000007,"NO","W12153848N3952653","W12153767N3952612","W12153767N3952612-W12153848N3952653",102911105,"WYANDOTTE 1105",null,"2019-11-20T17:46:46",null,null,"Not assessed","https://viewer.us-3.sharpershape.services/viewer/assets/5ca5a2c6f6b463399da04f5c/details","https://viewer.us-3.sharpershape.services/viewer/issues/5ecf8c9434b60c00015ec061/details","high","W12153821N3952657 WYANDOTTE 1105","[GrayPine, DouglasFir, CoastalLiveOak]","GrayPine"]
[993,"NORTHERN","NORTH VALLEY","Tier 2-3","102911105 Tier 2-3",102911105,"WYANDOTTE 1105",1.9,39.655209999999897,-121.506439999999,null,28.5,"W12150644N3965521",5.7,3.7,"NO","W12150643N3965533","W12150660N3965474","W12150660N3965474-W12150643N3965533",102911105,"WYANDOTTE 1105",null,"2019-11-20T17:46:46",null,null,"Not assessed","https://viewer.us-3.sharpershape.services/viewer/assets/5d88be6055dd6b9f923f2ea6/details","https://viewer.us-3.sharpershape.services/viewer/issues/5ecf8c9934b60c00015ec383/details","high","W12150644N3965521 WYANDOTTE 1105","[CoastalLiveOak, Other, Eucalyptus/BlueGum]","CoastalLiveOak"]
[994,"NORTHERN","NORTH VALLEY","Tier 2-3","102911105 Tier 2-3",102911105,"WYANDOTTE 1105",23.3,39.537949999999903,-121.54241,null,24.6999999999999,"W12154241N3953795",12,-1.1000000000000001,"YES","W12154252N3953857","W12154250N3953758","W12154250N3953758-W12154252N3953857",102911105,"WYANDOTTE 1105",null,"2019-11-20T17:46:46",null,null,"Not assessed","https://viewer.us-3.sharpershape.services/viewer/assets/5ca5a2c6f6b463b67da04e4c/details","https://viewer.us-3.sharpershape.services/viewer/issues/5ecf8c97a03e660001310a3a/details","high","W12154241N3953795 WYANDOTTE 1105"]
[995,"NORTHERN","NORTH VALLEY","Tier 2-3","102911105 Tier 2-3",102911105,"WYANDOTTE 1105",64.599999999999895,39.533789999999897,-121.54106,null,81,"W12154106N3953379",47.8,-12.3,"YES","W12154087N3953327","W12154149N3953393","W12154149N3953393-W12154087N3953327",102911105,"WYANDOTTE 1105",null,"2019-11-20T17:46:46",null,null,"Not assessed","https://viewer.us-3.sharpershape.services/viewer/assets/5ca5a2c6f6b4635000a04d2e/details","https://viewer.us-3.sharpershape.services/viewer/issues/5ecf8c9234b60c00015ec012/details","high","W12154106N3953379 WYANDOTTE 1105","[GrayPine, DouglasFir, CoastalLiveOak]","GrayPine"]
[996,"NORTHERN","NORTH VALLEY","Tier 2-3","102911105 Tier 2-3",102911105,"WYANDOTTE 1105",36.700000000000003,39.529049999999899,-121.525919999999,null,38.6,"W12152592N3952905",18.1999999999999,5.0999999999999996,"NO","W12152596N3952916","W12152680N3952875","W12152680N3952875-W12152596N3952916",102911105,"WYANDOTTE 1105",null,"2019-11-20T17:46:46",null,null,"Not assessed","https://viewer.us-3.sharpershape.services/viewer/assets/5ca5a2c6f6b463c0bba05089/details","https://viewer.us-3.sharpershape.services/viewer/issues/5ecf8c96a03e660001310a18/details","high","W12152592N3952905 WYANDOTTE 1105","[DouglasFir, LiveOak, Other]","DouglasFir"]
[997,"NORTHERN","NORTH VALLEY","Tier 2-3","102911105 Tier 2-3",102911105,"WYANDOTTE 1105",18.600000000000001,39.530850000000001,-121.538989999999,null,51.3,"W12153899N3953085",5.2,-20.399999999999999,"YES","W12153907N3953103","W12153908N3953063","W12153908N3953063-W12153907N3953103",102911105,"WYANDOTTE 1105",null,"2019-11-20T17:46:46",null,null,"Not assessed","https://viewer.us-3.sharpershape.services/viewer/assets/5ca5a2c6f6b463538ea050f7/details","https://viewer.us-3.sharpershape.services/viewer/issues/5ecf8c9734b60c00015ec1d2/details","high","W12153899N3953085 WYANDOTTE 1105","[GrayPine, DouglasFir, LiveOak]","GrayPine"]
[998,"NORTHERN","NORTH VALLEY","Tier 2-3","102911105 Tier 2-3",102911105,"WYANDOTTE 1105",18.399999999999999,39.522030000000001,-121.538709999999,null,21.6,"W12153871N3952203",6,5.4,"NO","W12153812N3952205","W12153891N3952195","W12153891N3952195-W12153812N3952205",102911105,"WYANDOTTE 1105",null,"2019-11-20T17:46:46",null,null,"Not assessed","https://viewer.us-3.sharpershape.services/viewer/assets/5ca5a2c6f6b463d5b0a04bae/details","https://viewer.us-3.sharpershape.services/viewer/issues/5ecf8c98a03e660001310b14/details","high","W12153871N3952203 WYANDOTTE 1105","[Other, GrayPine, CoastalLiveOak]","Other"]
[999,"NORTHERN","NORTH VALLEY","Tier 2-3","102911105 Tier 2-3",102911105,"WYANDOTTE 1105",40.6,39.5411199999999,-121.54227,null,37.6,"W12154227N3954112",9.3000000000000007,3,"NO","W12154206N3954186","W12154249N3954102","W12154249N3954102-W12154206N3954186",102911105,"WYANDOTTE 1105",null,"2019-11-20T17:46:46",null,null,"Not assessed","https://viewer.us-3.sharpershape.services/viewer/assets/5ca5a2c6f6b4631d52a04cea/details","https://viewer.us-3.sharpershape.services/viewer/issues/5ecf8c98a03e660001310be8/details","high","W12154227N3954112 WYANDOTTE 1105","[CoastalLiveOak, GrayPine, ValleyOak]","CoastalLiveOak"]
[1000,"NORTHERN","NORTH VALLEY","Tier 2-3","102911105 Tier 2-3",102911105,"WYANDOTTE 1105",1.1000000000000001,39.53004,-121.52222999999999,null,24.3,"W12152223N3953004",5.4,6.5,"NO","W12152284N3952992","W12152184N3953012","W12152184N3953012-W12152284N3952992",102911105,"WYANDOTTE 1105",null,"2019-11-20T17:46:46",null,null,"Not assessed","https://viewer.us-3.sharpershape.services/viewer/assets/5ca5a2c6f6b4639636a0497c/details","https://viewer.us-3.sharpershape.services/viewer/issues/5ee2b979a03e66000146e4aa/details","high","W12152223N3953004 WYANDOTTE 1105","[GrayPine, Other, DouglasFir]","GrayPine"]
[1001,"NORTHERN","NORTH VALLEY","Tier 2-3","102911105 Tier 2-3",102911105,"WYANDOTTE 1105",29.4,39.532939999999897,-121.54088,null,85.9,"W12154088N3953294",18.899999999999999,-36.1,"YES","W12154073N3953285","W12154087N3953327","W12154087N3953327-W12154073N3953285",102911105,"WYANDOTTE 1105",null,"2019-11-20T17:46:46",null,null,"Not assessed","https://viewer.us-3.sharpershape.services/viewer/assets/5ca5a2c6f6b463f395a04ceb/details","https://viewer.us-3.sharpershape.services/viewer/issues/5ecf8c97a03e660001310ab6/details","high","W12154088N3953294 WYANDOTTE 1105","[GrayPine, DouglasFir, TanOak]","GrayPine"]
[1002,"NORTHERN","NORTH VALLEY","Tier 2-3","102911105 Tier 2-3",102911105,"WYANDOTTE 1105",1.3,39.540079999999897,-121.54258,null,15.4,"W12154258N3954008",9.3000000000000007,10.6,"NO","W12154258N3954066","W12154261N3953987","W12154261N3953987-W12154258N3954066",102911105,"WYANDOTTE 1105",null,"2019-11-20T17:46:46",null,null,"Not assessed","https://viewer.us-3.sharpershape.services/viewer/assets/5ca5a2c6f6b463dd95a04ecd/details","https://viewer.us-3.sharpershape.services/viewer/issues/5ecf8e8434b60c00015ec7cf/details","high","W12154258N3954008 WYANDOTTE 1105","[LiveOak, DouglasFir, TanOak]","LiveOak"]
[1003,"NORTHERN","NORTH VALLEY","Tier 2-3","102911105 Tier 2-3",102911105,"WYANDOTTE 1105",28.4,39.53275,-121.53153,null,44.5,"W12153153N3953275",7.2,-9.1999999999999993,"YES","W12153205N3953285","W12153118N3953282","W12153118N3953282-W12153205N3953285",102911105,"WYANDOTTE 1105",null,"2019-11-20T17:46:46",null,null,"Not assessed","https://viewer.us-3.sharpershape.services/viewer/assets/5ca5a2c6f6b463490aa04d2f/details","https://viewer.us-3.sharpershape.services/viewer/issues/5ecf8c9534b60c00015ec0d3/details","high","W12153153N3953275 WYANDOTTE 1105","[Other, LiveOak, DouglasFir]","Other"]
[1004,"NORTHERN","NORTH VALLEY","Tier 2-3","102911105 Tier 2-3",102911105,"WYANDOTTE 1105",13.3,39.528500000000001,-121.518649999999,null,36.6,"W12151865N3952850",7,-0.4,"YES","W12151873N3952887","W12151852N3952834","W12151852N3952834-W12151873N3952887",102911105,"WYANDOTTE 1105",null,"2019-11-20T17:46:46",null,null,"Not assessed","https://viewer.us-3.sharpershape.services/viewer/assets/5ca5a2c6f6b4631966a05106/details","https://viewer.us-3.sharpershape.services/viewer/issues/5ecf8c99a03e660001310c04/details","high","W12151865N3952850 WYANDOTTE 1105","[Other, CoastalLiveOak, DouglasFir]","Other"]
[1005,"NORTHERN","NORTH VALLEY","Tier 2-3","102911105 Tier 2-3",102911105,"WYANDOTTE 1105",11.8,39.658200000000001,-121.505489999999,null,25.4,"W12150549N3965820",12,8.8000000000000007,"NO","W12150545N3965863","W12150561N3965801","W12150561N3965801-W12150545N3965863",102911105,"WYANDOTTE 1105",null,"2019-11-20T17:46:46",null,null,"Not assessed","https://viewer.us-3.sharpershape.services/viewer/assets/5da559b2c545ca4e5107fbeb/details","https://viewer.us-3.sharpershape.services/viewer/issues/5ecf8c9aa03e660001310c60/details","high","W12150549N3965820 WYANDOTTE 1105","[TanOak, CoastalLiveOak, DouglasFir]","TanOak"]
[1006,"NORTHERN","NORTH VALLEY","Tier 0-1","102911105 Tier 0-1",102911105,"WYANDOTTE 1105",30.5,39.522819999999903,-121.51515000000001,null,37.799999999999997,"W12151515N3952282",12,9.5,"NO","W12151515N3952268","W12151562N3952310","W12151562N3952310-W12151515N3952268",102911105,"WYANDOTTE 1105",null,"2019-11-20T17:46:46",null,null,"Not assessed","https://viewer.us-3.sharpershape.services/viewer/assets/5d88b93a55dd6b15c73f2e90/details","https://viewer.us-3.sharpershape.services/viewer/issues/5ecf8c99a03e660001310c40/details","high","W12151515N3952282 WYANDOTTE 1105","[DouglasFir, GrayPine, Other]","DouglasFir"]
[1007,"NORTHERN","NORTH VALLEY","Tier 2-3","102911105 Tier 2-3",102911105,"WYANDOTTE 1105",24.9,39.528439999999897,-121.53546,null,29.8,"W12153546N3952844",17.6999999999999,9.8000000000000007,"NO","W12153534N3952830","W12153534N3952830","W12153534N3952830-W12153534N3952830",102911105,"WYANDOTTE 1105",null,"2019-11-20T17:46:46",null,null,"Not assessed","https://viewer.us-3.sharpershape.services/viewer/assets/5ca5a2c6f6b4631e4ba04b95/details","https://viewer.us-3.sharpershape.services/viewer/issues/5ecf8c96a03e6600013109d9/details","high","W12153546N3952844 WYANDOTTE 1105","[DouglasFir, TanOak, LiveOak]","DouglasFir"]
[1008,"NORTHERN","NORTH VALLEY","Tier 2-3","102911105 Tier 2-3",102911105,"WYANDOTTE 1105",44.899999999999899,39.532309999999903,-121.531039999999,null,48,"W12153104N3953231",32.1,9.4,"NO","W12153205N3953245","W12153117N3953239","W12153117N3953239-W12153205N3953245",102911105,"WYANDOTTE 1105",null,"2019-11-20T17:46:46",null,null,"Not assessed","https://viewer.us-3.sharpershape.services/viewer/assets/5ca5a2c6f6b4636b14a051ca/details","https://viewer.us-3.sharpershape.services/viewer/issues/5ecf8c9734b60c00015ec178/details","high","W12153104N3953231 WYANDOTTE 1105","[GrayPine, Other, DouglasFir]","GrayPine"]
[1009,"NORTHERN","NORTH VALLEY","Tier 2-3","102911105 Tier 2-3",102911105,"WYANDOTTE 1105",38.299999999999997,39.528590000000001,-121.51877,null,60.899999999999899,"W12151877N3952859",25.8,-13.5,"YES","W12151873N3952887","W12151852N3952834","W12151852N3952834-W12151873N3952887",102911105,"WYANDOTTE 1105",null,"2019-11-20T17:46:46",null,null,"Not assessed","https://viewer.us-3.sharpershape.services/viewer/assets/5ca5a2c6f6b4631966a05106/details","https://viewer.us-3.sharpershape.services/viewer/issues/5ecf8c99a03e660001310c01/details","high","W12151877N3952859 WYANDOTTE 1105","[Other, GrayPine, CoastalLiveOak]","Other"]
[1010,"NORTHERN","NORTH VALLEY","Tier 2-3","102911105 Tier 2-3",102911105,"WYANDOTTE 1105",10.8,39.529139999999899,-121.52611,null,31.8,"W12152611N3952914",10.5,6.8,"NO","W12152596N3952916","W12152680N3952875","W12152680N3952875-W12152596N3952916",102911105,"WYANDOTTE 1105",null,"2019-11-20T17:46:46",null,null,"Not assessed","https://viewer.us-3.sharpershape.services/viewer/assets/5ca5a2c6f6b463c0bba05089/details","https://viewer.us-3.sharpershape.services/viewer/issues/5ecf8c96a03e660001310a15/details","high","W12152611N3952914 WYANDOTTE 1105","[DouglasFir, CoastalLiveOak, MontereyPine]","DouglasFir"]
[1011,"NORTHERN","NORTH VALLEY","Tier 0-1","102911105 Tier 0-1",102911105,"WYANDOTTE 1105",21.1999999999999,39.525779999999898,-121.533279999999,null,53.1,"W12153328N3952578",6.1,-9.4,"YES","W12153345N3952585","W12153312N3952549","W12153312N3952549-W12153345N3952585",102911105,"WYANDOTTE 1105",null,"2019-11-20T17:46:46",null,null,"Not assessed","https://viewer.us-3.sharpershape.services/viewer/assets/5ca5a2c6f6b4639894a04b2d/details","https://viewer.us-3.sharpershape.services/viewer/issues/5ecf8c94a03e6600013108f3/details","high","W12153328N3952578 WYANDOTTE 1105","[MontereyPine, GrayPine, Other]","MontereyPine"]
[1012,"NORTHERN","NORTH VALLEY","Tier 0-1","102911105 Tier 0-1",102911105,"WYANDOTTE 1105",15.1,39.524049999999903,-121.537059999999,null,32.6,"W12153706N3952405",9.9,8.6,"NO","W12153639N3952420","W12153708N3952399","W12153708N3952399-W12153639N3952420",102911105,"WYANDOTTE 1105",null,"2019-11-20T17:46:46",null,null,"Not assessed","https://viewer.us-3.sharpershape.services/viewer/assets/5ca5a2c6f6b4632769a05060/details","https://viewer.us-3.sharpershape.services/viewer/issues/5ecf8c99a03e660001310c31/details","high","W12153706N3952405 WYANDOTTE 1105","[Other, CoastalLiveOak, DouglasFir]","Other"]
[1013,"NORTHERN","NORTH VALLEY","Tier 2-3","102911105 Tier 2-3",102911105,"WYANDOTTE 1105",16.100000000000001,39.531579999999899,-121.540909999999,null,30.6,"W12154091N3953158",16,4.5,"NO","W12154086N3953214","W12154084N3953131","W12154084N3953131-W12154086N3953214",102911105,"WYANDOTTE 1105",null,"2019-11-20T17:46:46",null,null,"Not assessed","https://viewer.us-3.sharpershape.services/viewer/assets/5ca5a2c6f6b4630944a04ef1/details","https://viewer.us-3.sharpershape.services/viewer/issues/5ecf8c98a03e660001310b5f/details","high","W12154091N3953158 WYANDOTTE 1105","[GrayPine, Other, DouglasFir]","GrayPine"]
[1014,"NORTHERN","NORTH VALLEY","Tier 2-3","102911105 Tier 2-3",102911105,"WYANDOTTE 1105",49.2,39.528030000000001,-121.53265,null,53.899999999999899,"W12153265N3952803",41.2,2.5,"NO","W12153270N3952789","W12153203N3952790","W12153203N3952790-W12153270N3952789",102911105,"WYANDOTTE 1105",null,"2019-11-20T17:46:46",null,null,"Not assessed","https://viewer.us-3.sharpershape.services/viewer/assets/5ca5a2c6f6b4631fcca0508c/details","https://viewer.us-3.sharpershape.services/viewer/issues/5ecf8c9934b60c00015ec2e3/details","high","W12153265N3952803 WYANDOTTE 1105","[GrayPine, CoastalLiveOak, Eucalyptus/BlueGum]","GrayPine"]
[1015,"NORTHERN","NORTH VALLEY","Tier 2-3","102911105 Tier 2-3",102911105,"WYANDOTTE 1105",31.8,39.532600000000002,-121.52593,null,26.1,"W12152593N3953260",9.8000000000000007,21.8,"NO","W12152605N3953285","W12152605N3953235","W12152605N3953235-W12152605N3953285",102911105,"WYANDOTTE 1105",null,"2019-11-20T17:46:46",null,null,"Not assessed","https://viewer.us-3.sharpershape.services/viewer/assets/5e1c22f1942b994ca37b032f/details","https://viewer.us-3.sharpershape.services/viewer/issues/5ecfe7c234b60c000160de64/details","high","W12152593N3953260 WYANDOTTE 1105","[MontereyPine, DouglasFir, Other]","MontereyPine"]
[1016,"NORTHERN","NORTH VALLEY","Tier 2-3","102911105 Tier 2-3",102911105,"WYANDOTTE 1105",44.399999999999899,39.530349999999899,-121.532349999999,null,28.6,"W12153235N3953035",6.9,18.899999999999999,"NO","W12153206N3953048","W12153269N3953048","W12153269N3953048-W12153206N3953048",102911105,"WYANDOTTE 1105",null,"2019-11-20T17:46:46",null,null,"Not assessed","https://viewer.us-3.sharpershape.services/viewer/assets/5ca5a2c6f6b46331cba04b4a/details","https://viewer.us-3.sharpershape.services/viewer/issues/5ecf8ec5a03e6600013111ac/details","high","W12153235N3953035 WYANDOTTE 1105","[Eucalyptus/BlueGum, CoastalLiveOak, DouglasFir]","Eucalyptus/BlueGum"]
[1017,"NORTHERN","NORTH VALLEY","Tier 2-3","102911105 Tier 2-3",102911105,"WYANDOTTE 1105",37.200000000000003,39.530589999999897,-121.53255,null,32.1,"W12153255N3953059",10.4,22.4,"NO","W12153206N3953048","W12153269N3953048","W12153269N3953048-W12153206N3953048",102911105,"WYANDOTTE 1105",null,"2019-11-20T17:46:46",null,null,"Not assessed","https://viewer.us-3.sharpershape.services/viewer/assets/5ca5a2c6f6b46331cba04b4a/details","https://viewer.us-3.sharpershape.services/viewer/issues/5ecf8ec5a03e6600013111bc/details","high","W12153255N3953059 WYANDOTTE 1105","[GrayPine, DouglasFir, MontereyPine]","GrayPine"]
[1018,"NORTHERN","NORTH VALLEY","Tier 2-3","102911105 Tier 2-3",102911105,"WYANDOTTE 1105",26.4,39.523849999999896,-121.53762,null,42.1,"W12153762N3952385",5.6,17.5,"NO","W12153761N3952311","W12153751N3952386","W12153751N3952386-W12153761N3952311",102911105,"WYANDOTTE 1105",null,"2019-11-20T17:46:46",null,null,"Not assessed","https://viewer.us-3.sharpershape.services/viewer/assets/5ca5a2c6f6b46364c0a0520a/details","https://viewer.us-3.sharpershape.services/viewer/issues/5ecf954b34b60c00015ed768/details","high","W12153762N3952385 WYANDOTTE 1105","[ValleyOak, GrayPine, TanOak]","ValleyOak"]
[1019,"NORTHERN","NORTH VALLEY","Tier 2-3","102911105 Tier 2-3",102911105,"WYANDOTTE 1105",11.5,39.53219,-121.526,null,25.3,"W12152600N3953219",12,9.5,"NO","W12152606N3953202","W12152605N3953235","W12152605N3953235-W12152606N3953202",102911105,"WYANDOTTE 1105",null,"2019-11-20T17:46:46",null,null,"Not assessed","https://viewer.us-3.sharpershape.services/viewer/assets/5ca5a2c6f6b4631991a04dcc/details","https://viewer.us-3.sharpershape.services/viewer/issues/5ecfe7bca03e660001334098/details","high","W12152600N3953219 WYANDOTTE 1105","[TanOak, ValleyOak, LiveOak]","TanOak"]
[1020,"NORTHERN","NORTH VALLEY","Tier 2-3","102911105 Tier 2-3",102911105,"WYANDOTTE 1105",32.899999999999899,39.532350000000001,-121.53833,null,62.7,"W12153833N3953235",6.9,-26.5,"YES","W12153905N3953243","W12153810N3953244","W12153810N3953244-W12153905N3953243",102911105,"WYANDOTTE 1105",null,"2019-11-20T17:46:46",null,null,"Not assessed","https://viewer.us-3.sharpershape.services/viewer/assets/5ca5a2c6f6b46300cca04f1d/details","https://viewer.us-3.sharpershape.services/viewer/issues/5ecf8c93a03e6600013108af/details","high","W12153833N3953235 WYANDOTTE 1105","[GrayPine, DouglasFir, CoastalLiveOak]","GrayPine"]
[1021,"NORTHERN","NORTH VALLEY","Tier 2-3","102911105 Tier 2-3",102911105,"WYANDOTTE 1105",60.7,39.526260000000001,-121.53237,null,72.7,"W12153237N3952626",49.2,-8.3000000000000007,"YES","W12153224N3952655","W12153295N3952615","W12153295N3952615-W12153224N3952655",102911105,"WYANDOTTE 1105",null,"2019-11-20T17:46:46",null,null,"Not assessed","https://viewer.us-3.sharpershape.services/viewer/assets/5ca5a2c6f6b4635390a04a71/details","https://viewer.us-3.sharpershape.services/viewer/issues/5ecf8c96a03e6600013109cc/details","high","W12153237N3952626 WYANDOTTE 1105","[GrayPine, MontereyPine, DouglasFir]","GrayPine"]
[1022,"NORTHERN","NORTH VALLEY","Tier 2-3","102911105 Tier 2-3",102911105,"WYANDOTTE 1105",1.5,39.529200000000003,-121.53206,null,29,"W12153206N3952920",7.4,7.5,"NO","W12153206N3952881","W12153206N3952972","W12153206N3952972-W12153206N3952881",102911105,"WYANDOTTE 1105",null,"2019-11-20T17:46:46",null,null,"Not assessed","https://viewer.us-3.sharpershape.services/viewer/assets/5ca5a2c6f6b463a605a04c77/details","https://viewer.us-3.sharpershape.services/viewer/issues/5ecf8c9834b60c00015ec299/details","high","W12153206N3952920 WYANDOTTE 1105","[CoastalLiveOak, DouglasFir, Eucalyptus/BlueGum]","CoastalLiveOak"]
[1023,"NORTHERN","NORTH VALLEY","Tier 2-3","102911105 Tier 2-3",102911105,"WYANDOTTE 1105",40.399999999999899,39.530850000000001,-121.51900000000001,null,82,"W12151900N3953085",7.4,-33.899999999999899,"YES","W12151868N3953111","W12151923N3953089","W12151923N3953089-W12151868N3953111",102911105,"WYANDOTTE 1105",null,"2019-11-20T17:46:46",null,null,"Not assessed","https://viewer.us-3.sharpershape.services/viewer/assets/5ca5a2c6f6b4636ea8a04d47/details","https://viewer.us-3.sharpershape.services/viewer/issues/5ecf8c97a03e660001310a9e/details","high","W12151900N3953085 WYANDOTTE 1105","[GrayPine, Other, DouglasFir]","GrayPine"]
[1024,"NORTHERN","NORTH VALLEY","Tier 2-3","102911105 Tier 2-3",102911105,"WYANDOTTE 1105",54.399999999999899,39.532910000000001,-121.540959999999,null,98.799999999999898,"W12154096N3953291",45,-19.399999999999999,"YES","W12154073N3953285","W12154087N3953327","W12154087N3953327-W12154073N3953285",102911105,"WYANDOTTE 1105",null,"2019-11-20T17:46:46",null,null,"Not assessed","https://viewer.us-3.sharpershape.services/viewer/assets/5ca5a2c6f6b463f395a04ceb/details","https://viewer.us-3.sharpershape.services/viewer/issues/5ecf8c97a03e660001310ab9/details","high","W12154096N3953291 WYANDOTTE 1105","[GrayPine, DouglasFir, CoastalLiveOak]","GrayPine"]
[1025,"NORTHERN","NORTH VALLEY","Tier 2-3","102911105 Tier 2-3",102911105,"WYANDOTTE 1105",20.100000000000001,39.53237,-121.53511,null,39.6,"W12153511N3953237",4.7,-8.9,"YES","W12153557N3953230","W12153419N3953235","W12153419N3953235-W12153557N3953230",102911105,"WYANDOTTE 1105",null,"2019-11-20T17:46:46",null,null,"Not assessed","https://viewer.us-3.sharpershape.services/viewer/assets/5ca5a2c6f6b463191ca04d93/details","https://viewer.us-3.sharpershape.services/viewer/issues/5ee2b430a03e66000146e430/details","high","W12153511N3953237 WYANDOTTE 1105","[DouglasFir, GrayPine, Other]","DouglasFir"]
[1026,"NORTHERN","NORTH VALLEY","Tier 2-3","102911105 Tier 2-3",102911105,"WYANDOTTE 1105",11.1,39.5274,-121.528639999999,null,42.8,"W12152864N3952740",4.0999999999999996,-5.9,"YES","W12152800N3952774","W12152907N3952726","W12152907N3952726-W12152800N3952774",102911105,"WYANDOTTE 1105",null,"2019-11-20T17:46:46",null,null,"Not assessed","https://viewer.us-3.sharpershape.services/viewer/assets/5ca5a2c6f6b4634630a04e8d/details","https://viewer.us-3.sharpershape.services/viewer/issues/5ecf8c97a03e660001310ae5/details","high","W12152864N3952740 WYANDOTTE 1105","[GrayPine, DouglasFir, Other]","GrayPine"]
[1027,"NORTHERN","NORTH VALLEY","Tier 2-3","102911105 Tier 2-3",102911105,"WYANDOTTE 1105",31.9,39.529139999999899,-121.51952,null,57.7,"W12151952N3952914",11.2,-16.899999999999899,"YES","W12151936N3952926","W12152014N3952914","W12152014N3952914-W12151936N3952926",102911105,"WYANDOTTE 1105",null,"2019-11-20T17:46:46",null,null,"Not assessed","https://viewer.us-3.sharpershape.services/viewer/assets/5ca5a2c6f6b4634b73a04f6f/details","https://viewer.us-3.sharpershape.services/viewer/issues/5ecf8c96a03e660001310a00/details","high","W12151952N3952914 WYANDOTTE 1105","[GrayPine, Other, DouglasFir]","GrayPine"]
[1028,"NORTHERN","NORTH VALLEY","Tier 2-3","102911105 Tier 2-3",102911105,"WYANDOTTE 1105",20.399999999999999,39.529789999999899,-121.530249999999,null,37.700000000000003,"W12153025N3952979",5.8,-1.5,"YES","W12152988N3952972","W12153068N3952972","W12153068N3952972-W12152988N3952972",102911105,"WYANDOTTE 1105",null,"2019-11-20T17:46:46",null,null,"Not assessed","https://viewer.us-3.sharpershape.services/viewer/assets/5d89b6cc55dd6b81633f2eff/details","https://viewer.us-3.sharpershape.services/viewer/issues/5ecf8c9934b60c00015ec341/details","high","W12153025N3952979 WYANDOTTE 1105","[Other, CoastalLiveOak, Eucalyptus/BlueGum]","Other"]
[1029,"NORTHERN","NORTH VALLEY","Tier 2-3","102911105 Tier 2-3",102911105,"WYANDOTTE 1105",20.6,39.527139999999903,-121.529409999999,null,47.8,"W12152941N3952714",6.9,-11,"YES","W12152907N3952726","W12152971N3952716","W12152971N3952716-W12152907N3952726",102911105,"WYANDOTTE 1105",null,"2019-11-20T17:46:46",null,null,"Not assessed","https://viewer.us-3.sharpershape.services/viewer/assets/5ca5a2c6f6b4635805a04cab/details","https://viewer.us-3.sharpershape.services/viewer/issues/5ecf8c9734b60c00015ec1f1/details","high","W12152941N3952714 WYANDOTTE 1105","[DouglasFir, Other, CoastalLiveOak]","DouglasFir"]
[1030,"NORTHERN","NORTH VALLEY","Tier 2-3","102911105 Tier 2-3",102911105,"WYANDOTTE 1105",33.6,39.529710000000001,-121.523949999999,null,44.5,"W12152395N3952971",10.6,22.6,"NO","W12152351N3952966","W12152414N3952959","W12152414N3952959-W12152351N3952966",102911105,"WYANDOTTE 1105",null,"2019-11-20T17:46:46",null,null,"Not assessed","https://viewer.us-3.sharpershape.services/viewer/assets/5ca5a2c6f6b463d8dea04db3/details","https://viewer.us-3.sharpershape.services/viewer/issues/5ee2b920a03e66000146e480/details","high","W12152395N3952971 WYANDOTTE 1105","[GrayPine, DouglasFir, Other]","GrayPine"]
[1031,"NORTHERN","NORTH VALLEY","Tier 2-3","102911105 Tier 2-3",102911105,"WYANDOTTE 1105",6.6,39.531379999999899,-121.5408,null,17.8,"W12154080N3953138",11.6,18.3,"NO","W12154086N3953214","W12154084N3953131","W12154084N3953131-W12154086N3953214",102911105,"WYANDOTTE 1105",null,"2019-11-20T17:46:46",null,null,"Not assessed","https://viewer.us-3.sharpershape.services/viewer/assets/5ca5a2c6f6b4630944a04ef1/details","https://viewer.us-3.sharpershape.services/viewer/issues/5ecf8eae34b60c00015ec8de/details","high","W12154080N3953138 WYANDOTTE 1105","[DouglasFir, LiveOak, TanOak]","DouglasFir"]
[1032,"NORTHERN","NORTH VALLEY","Tier 2-3","102911105 Tier 2-3",102911105,"WYANDOTTE 1105",12.6,39.52619,-121.532979999999,null,54.7,"W12153298N3952619",8.3000000000000007,-10.8,"YES","W12153224N3952655","W12153295N3952615","W12153295N3952615-W12153224N3952655",102911105,"WYANDOTTE 1105",null,"2019-11-20T17:46:46","OH",null,"Not assessed","https://viewer.us-3.sharpershape.services/viewer/assets/5ca5a2c6f6b4635390a04a71/details","https://viewer.us-3.sharpershape.services/viewer/issues/5ecf8c96a03e6600013109c9/details","high","W12153298N3952619 WYANDOTTE 1105","[GrayPine, DouglasFir, Eucalyptus/BlueGum]","GrayPine"]
[1033,"NORTHERN","NORTH VALLEY","Tier 0-1","102911105 Tier 0-1",102911105,"WYANDOTTE 1105",32.1,39.524589999999897,-121.52303000000001,null,45.899999999999899,"W12152303N3952459",25,6.3,"NO","W12152293N3952453","W12152223N3952454","W12152223N3952454-W12152293N3952453",102911105,"WYANDOTTE 1105",null,"2019-11-20T17:46:46",null,null,"Not assessed","https://viewer.us-3.sharpershape.services/viewer/assets/5ca5a2c6f6b4634c38a04c9a/details","https://viewer.us-3.sharpershape.services/viewer/issues/5ecf8c9634b60c00015ec105/details","high","W12152303N3952459 WYANDOTTE 1105","[DouglasFir, Other, CoastalLiveOak]","DouglasFir"]
[1034,"NORTHERN","NORTH VALLEY","Tier 2-3","102911105 Tier 2-3",102911105,"WYANDOTTE 1105",14.1,39.525929999999903,-121.533209999999,null,75,"W12153321N3952593",7.1,-36.299999999999997,"YES","W12153295N3952615","W12153345N3952585","W12153345N3952585-W12153295N3952615",102911105,"WYANDOTTE 1105",null,"2019-11-20T17:46:46",null,null,"Not assessed","https://viewer.us-3.sharpershape.services/viewer/assets/5ca5a2c6f6b4637e6fa049ea/details","https://viewer.us-3.sharpershape.services/viewer/issues/5ecf8c90a03e660001310811/details","high","W12153321N3952593 WYANDOTTE 1105","[GrayPine, Eucalyptus/BlueGum, ValleyOak]","GrayPine"]
[1035,"NORTHERN","NORTH VALLEY","Tier 2-3","102911105 Tier 2-3",102911105,"WYANDOTTE 1105",7.1,39.5321199999999,-121.532029999999,null,24.1999999999999,"W12153203N3953212",5.2,3.7,"NO","W12153205N3953245","W12153206N3953192","W12153206N3953192-W12153205N3953245",102911105,"WYANDOTTE 1105",null,"2019-11-20T17:46:46",null,null,"Not assessed","https://viewer.us-3.sharpershape.services/viewer/assets/5ca5a2c6f6b463299fa04cf2/details","https://viewer.us-3.sharpershape.services/viewer/issues/5ecf8c9934b60c00015ec375/details","high","W12153203N3953212 WYANDOTTE 1105","[CoastalLiveOak, DouglasFir, Eucalyptus/BlueGum]","CoastalLiveOak"]
[1036,"NORTHERN","NORTH VALLEY","Tier 2-3","102911105 Tier 2-3",102911105,"WYANDOTTE 1105",49.5,39.54025,-121.54241,null,42.899999999999899,"W12154241N3954025",28.1,6.9,"NO","W12154258N3954066","W12154261N3953987","W12154261N3953987-W12154258N3954066",102911105,"WYANDOTTE 1105",null,"2019-11-20T17:46:46",null,null,"Not assessed","https://viewer.us-3.sharpershape.services/viewer/assets/5ca5a2c6f6b463dd95a04ecd/details","https://viewer.us-3.sharpershape.services/viewer/issues/5ecf8c97a03e660001310acf/details","high","W12154241N3954025 WYANDOTTE 1105","[DouglasFir, Eucalyptus/BlueGum, CoastalLiveOak]","DouglasFir"]
[1037,"NORTHERN","NORTH VALLEY","Tier 2-3","102911105 Tier 2-3",102911105,"WYANDOTTE 1105",9.8000000000000007,39.541350000000001,-121.54237000000001,null,32.1,"W12154237N3954135",9.3000000000000007,4.8,"NO","W12154206N3954186","W12154249N3954102","W12154249N3954102-W12154206N3954186",102911105,"WYANDOTTE 1105",null,"2019-11-20T17:46:46",null,null,"Not assessed","https://viewer.us-3.sharpershape.services/viewer/assets/5ca5a2c6f6b4631d52a04cea/details","https://viewer.us-3.sharpershape.services/viewer/issues/5ecf8c98a03e660001310bed/details","high","W12154237N3954135 WYANDOTTE 1105","[DouglasFir, LiveOak, CoastalLiveOak]","DouglasFir"]
[1038,"NORTHERN","NORTH VALLEY","Tier 2-3","102911105 Tier 2-3",102911105,"WYANDOTTE 1105",24.5,39.539499999999997,-121.542519999999,null,70.099999999999994,"W12154252N3953950",9,-44.7,"YES","W12154261N3953987","W12154263N3953924","W12154263N3953924-W12154261N3953987",102911105,"WYANDOTTE 1105",null,"2019-11-20T17:46:46",null,null,"Not assessed","https://viewer.us-3.sharpershape.services/viewer/assets/5ca5a2c6f6b4637988a04a3e/details","https://viewer.us-3.sharpershape.services/viewer/issues/5ecf8c93a03e660001310873/details","high","W12154252N3953950 WYANDOTTE 1105","[Other, DouglasFir, GrayPine]","Other"]
[1039,"NORTHERN","NORTH VALLEY","Tier 0-1","102911105 Tier 0-1",102911105,"WYANDOTTE 1105",15,39.524650000000001,-121.521799999999,null,30.8,"W12152180N3952465",6.9,5.5,"NO","W12152121N3952468","W12152223N3952454","W12152223N3952454-W12152121N3952468",102911105,"WYANDOTTE 1105",null,"2019-11-20T17:46:46",null,null,"Not assessed","https://viewer.us-3.sharpershape.services/viewer/assets/5ca5a2c6f6b4634c98a0504c/details","https://viewer.us-3.sharpershape.services/viewer/issues/5ecf8c9634b60c00015ec153/details","high","W12152180N3952465 WYANDOTTE 1105","[GrayPine, Other, DouglasFir]","GrayPine"]
[1040,"NORTHERN","NORTH VALLEY","Tier 0-1","102911105 Tier 0-1",102911105,"WYANDOTTE 1105",40.5,39.523739999999897,-121.51536,null,32.700000000000003,"W12151536N3952374",11.5,23.5,"NO","W12151549N3952385","W12151562N3952310","W12151562N3952310-W12151549N3952385",102911105,"WYANDOTTE 1105",null,"2019-11-20T17:46:46",null,null,"Not assessed","https://viewer.us-3.sharpershape.services/viewer/assets/5ca5a2c6f6b4631737a04c04/details","https://viewer.us-3.sharpershape.services/viewer/issues/5ecf8ec6a03e6600013111d2/details","high","W12151536N3952374 WYANDOTTE 1105","[LiveOak, DouglasFir, TanOak]","LiveOak"]
[1041,"NORTHERN","NORTH VALLEY","Tier 2-3","102911105 Tier 2-3",102911105,"WYANDOTTE 1105",19.100000000000001,39.530560000000001,-121.539019999999,null,39.6,"W12153902N3953056",12,0.8,"NO","W12153908N3953063","W12153843N3953063","W12153843N3953063-W12153908N3953063",102911105,"WYANDOTTE 1105",null,"2019-11-20T17:46:46",null,null,"Not assessed","https://viewer.us-3.sharpershape.services/viewer/assets/5ca5a2c6f6b46390f3a04fa9/details","https://viewer.us-3.sharpershape.services/viewer/issues/5ecf8c9134b60c00015ebfe3/details","high","W12153902N3953056 WYANDOTTE 1105","[GrayPine, LiveOak, DouglasFir]","GrayPine"]
[1042,"NORTHERN","NORTH VALLEY","Tier 2-3","102911105 Tier 2-3",102911105,"WYANDOTTE 1105",5.3,39.529739999999897,-121.523359999999,null,24.3,"W12152336N3952974",12,9.3000000000000007,"NO","W12152284N3952992","W12152351N3952966","W12152351N3952966-W12152284N3952992",102911105,"WYANDOTTE 1105",null,"2019-11-20T17:46:46",null,null,"Not assessed","https://viewer.us-3.sharpershape.services/viewer/assets/5ca5a2c6f6b4635ce1a0510b/details","https://viewer.us-3.sharpershape.services/viewer/issues/5ee2b4c134b60c0001746b71/details","high","W12152336N3952974 WYANDOTTE 1105","[Other, CoastalLiveOak, DouglasFir]","Other"]
[1043,"NORTHERN","NORTH VALLEY","Tier 2-3","102911105 Tier 2-3",102911105,"WYANDOTTE 1105",12.7,39.5296799999999,-121.530479999999,null,33.700000000000003,"W12153048N3952968",7.2,2.7,"NO","W12152988N3952972","W12153068N3952972","W12153068N3952972-W12152988N3952972",102911105,"WYANDOTTE 1105",null,"2019-11-20T17:46:46",null,null,"Not assessed","https://viewer.us-3.sharpershape.services/viewer/assets/5d89b6cc55dd6b81633f2eff/details","https://viewer.us-3.sharpershape.services/viewer/issues/5ecf8c9934b60c00015ec334/details","high","W12153048N3952968 WYANDOTTE 1105","[CoastalLiveOak, Other, MontereyPine]","CoastalLiveOak"]
[1044,"NORTHERN","NORTH VALLEY","Tier 2-3","102911105 Tier 2-3",102911105,"WYANDOTTE 1105",9.9,39.528579999999899,-121.53542,null,27.3,"W12153542N3952858",7.8,3,"NO","W12153534N3952830","W12153534N3952830","W12153534N3952830-W12153534N3952830",102911105,"WYANDOTTE 1105",null,"2019-11-20T17:46:46",null,null,"Not assessed","https://viewer.us-3.sharpershape.services/viewer/assets/5ca5a2c6f6b4631e4ba04b95/details","https://viewer.us-3.sharpershape.services/viewer/issues/5ecf8c96a03e6600013109d7/details","high","W12153542N3952858 WYANDOTTE 1105","[DouglasFir, LiveOak, TanOak]","DouglasFir"]
[1045,"NORTHERN","NORTH VALLEY","Tier 2-3","102911105 Tier 2-3",102911105,"WYANDOTTE 1105",12.9,39.528309999999898,-121.52749,null,40.700000000000003,"W12152749N3952831",6.1,2.1,"NO","W12152680N3952875","W12152750N3952825","W12152750N3952825-W12152680N3952875",102911105,"WYANDOTTE 1105",null,"2019-11-20T17:46:46",null,null,"Not assessed","https://viewer.us-3.sharpershape.services/viewer/assets/5ca5a2c6f6b46337c2a04be5/details","https://viewer.us-3.sharpershape.services/viewer/issues/5ecf8c9634b60c00015ec0eb/details","high","W12152749N3952831 WYANDOTTE 1105","[Other, DouglasFir, GrayPine]","Other"]
[1046,"NORTHERN","NORTH VALLEY","Tier 2-3","102911105 Tier 2-3",102911105,"WYANDOTTE 1105",35.1,39.528469999999899,-121.52701,null,48.2,"W12152701N3952847",13.3,-2.6,"YES","W12152680N3952875","W12152750N3952825","W12152750N3952825-W12152680N3952875",102911105,"WYANDOTTE 1105",null,"2019-11-20T17:46:46",null,null,"Not assessed","https://viewer.us-3.sharpershape.services/viewer/assets/5ca5a2c6f6b46337c2a04be5/details","https://viewer.us-3.sharpershape.services/viewer/issues/5ecf8c9634b60c00015ec0e9/details","high","W12152701N3952847 WYANDOTTE 1105","[GrayPine, Other, MontereyPine]","GrayPine"]
[1047,"NORTHERN","NORTH VALLEY","Tier 2-3","102911105 Tier 2-3",102911105,"WYANDOTTE 1105",11.1,39.525549999999903,-121.53739,null,30.3,"W12153739N3952555",4.5,3.1,"NO","W12153742N3952569","W12153709N3952512","W12153709N3952512-W12153742N3952569",102911105,"WYANDOTTE 1105",null,"2019-11-20T17:46:46",null,null,"Not assessed","https://viewer.us-3.sharpershape.services/viewer/assets/5ca5a2c6f6b4633f70a04d23/details","https://viewer.us-3.sharpershape.services/viewer/issues/5ecf8c9234b60c00015ebff2/details","high","W12153739N3952555 WYANDOTTE 1105","[DouglasFir, Other, CoastalLiveOak]","DouglasFir"]
[1048,"NORTHERN","NORTH VALLEY","Tier 2-3","102911105 Tier 2-3",102911105,"WYANDOTTE 1105",19.399999999999999,39.530279999999898,-121.53530000000001,null,24.6999999999999,"W12153530N3953028",10.8,7.3,"NO","W12153538N3953063","W12153538N3952985","W12153538N3952985-W12153538N3953063",102911105,"WYANDOTTE 1105",null,"2019-11-20T17:46:46",null,null,"Not assessed","https://viewer.us-3.sharpershape.services/viewer/assets/5ca5a2c6f6b4636d60a0516d/details","https://viewer.us-3.sharpershape.services/viewer/issues/5ecf8c97a03e660001310a35/details","high","W12153530N3953028 WYANDOTTE 1105"]
[1049,"NORTHERN","NORTH VALLEY","Tier 2-3","102911105 Tier 2-3",102911105,"WYANDOTTE 1105",9.4,39.529789999999899,-121.523049999999,null,27.8,"W12152305N3952979",5.9,6.1,"NO","W12152284N3952992","W12152351N3952966","W12152351N3952966-W12152284N3952992",102911105,"WYANDOTTE 1105",null,"2019-11-20T17:46:46",null,null,"Not assessed","https://viewer.us-3.sharpershape.services/viewer/assets/5ca5a2c6f6b4635ce1a0510b/details","https://viewer.us-3.sharpershape.services/viewer/issues/5ee2b4c134b60c0001746b6c/details","high","W12152305N3952979 WYANDOTTE 1105","[Other, CoastalLiveOak, DouglasFir]","Other"]
[1050,"NORTHERN","NORTH VALLEY","Tier 0-1","102911105 Tier 0-1",102911105,"WYANDOTTE 1105",19.5,39.525869999999898,-121.533289999999,null,63.899999999999899,"W12153329N3952587",7.2,-22.8,"YES","W12153295N3952615","W12153345N3952585","W12153345N3952585-W12153295N3952615",102911105,"WYANDOTTE 1105",null,"2019-11-20T17:46:46","OH",null,"Not assessed","https://viewer.us-3.sharpershape.services/viewer/assets/5ca5a2c6f6b4637e6fa049ea/details","https://viewer.us-3.sharpershape.services/viewer/issues/5ecf8c90a03e66000131080c/details","high","W12153329N3952587 WYANDOTTE 1105","[GrayPine, Eucalyptus/BlueGum, DouglasFir]","GrayPine"]
[1051,"NORTHERN","NORTH VALLEY","Tier 2-3","102911105 Tier 2-3",102911105,"WYANDOTTE 1105",15.8,39.528500000000001,-121.53211,null,26.5,"W12153211N3952850",7.6,8.6999999999999993,"NO","W12153206N3952881","W12153205N3952846","W12153205N3952846-W12153206N3952881",102911105,"WYANDOTTE 1105",null,"2019-11-20T17:46:46",null,null,"Not assessed","https://viewer.us-3.sharpershape.services/viewer/assets/5ca5a2c6f6b4635559a050c2/details","https://viewer.us-3.sharpershape.services/viewer/issues/5ecf8c96a03e6600013109a8/details","high","W12153211N3952850 WYANDOTTE 1105","[DouglasFir, CoastalLiveOak, MontereyPine]","DouglasFir"]
[1052,"NORTHERN","NORTH VALLEY","Tier 2-3","102911105 Tier 2-3",102911105,"WYANDOTTE 1105",1.7,39.532429999999898,-121.538309999999,null,78.599999999999994,"W12153831N3953243",3.2,-54.7,"YES","W12153905N3953243","W12153810N3953244","W12153810N3953244-W12153905N3953243",102911105,"WYANDOTTE 1105",null,"2019-11-20T17:46:46","OH",null,"Not assessed","https://viewer.us-3.sharpershape.services/viewer/assets/5ca5a2c6f6b46300cca04f1d/details","https://viewer.us-3.sharpershape.services/viewer/issues/5ecf8c93a03e6600013108a2/details","high","W12153831N3953243 WYANDOTTE 1105","[GrayPine, DouglasFir, CoastalLiveOak]","GrayPine"]
[1053,"NORTHERN","NORTH VALLEY","Tier 2-3","102911105 Tier 2-3",102911105,"WYANDOTTE 1105",15.1,39.655940000000001,-121.50618,null,20.6999999999999,"W12150618N3965594",12,9.1,"NO","W12150604N3965661","W12150643N3965533","W12150643N3965533-W12150604N3965661",102911105,"WYANDOTTE 1105",null,"2019-11-20T17:46:46",null,null,"Not assessed","https://viewer.us-3.sharpershape.services/viewer/assets/5d88bfa56476d74edd5dd21d/details","https://viewer.us-3.sharpershape.services/viewer/issues/5ecf8c9a34b60c00015ec3b6/details","high","W12150618N3965594 WYANDOTTE 1105","[DouglasFir, Eucalyptus/BlueGum, CoastalLiveOak]","DouglasFir"]
[1054,"NORTHERN","NORTH VALLEY","Tier 2-3","102911105 Tier 2-3",102911105,"WYANDOTTE 1105",14.2,39.528759999999899,-121.530479999999,null,47.3,"W12153048N3952876",8.4,-11.2,"YES","W12153053N3952876","W12153054N3952815","W12153054N3952815-W12153053N3952876",102911105,"WYANDOTTE 1105",null,"2019-11-20T17:46:46",null,null,"Not assessed","https://viewer.us-3.sharpershape.services/viewer/assets/5ca5a2c6f6b463a3b1a04e34/details","https://viewer.us-3.sharpershape.services/viewer/issues/5ecf8c9034b60c00015ebfd2/details","high","W12153048N3952876 WYANDOTTE 1105","[DouglasFir, Other, GrayPine]","DouglasFir"]
[1055,"NORTHERN","NORTH VALLEY","Tier 2-3","102911105 Tier 2-3",102911105,"WYANDOTTE 1105",9.5,39.528779999999898,-121.535069999999,null,17.600000000000001,"W12153507N3952878",6.6,9.6999999999999993,"NO","W12153422N3952882","W12153537N3952882","W12153537N3952882-W12153422N3952882",102911105,"WYANDOTTE 1105",null,"2019-11-20T17:46:46",null,null,"Not assessed","https://viewer.us-3.sharpershape.services/viewer/assets/5ca5a2c6f6b4638913a05099/details","https://viewer.us-3.sharpershape.services/viewer/issues/5ecf8c95a03e66000131095c/details","high","W12153507N3952878 WYANDOTTE 1105","[CoastalLiveOak, Eucalyptus/BlueGum, Other]","CoastalLiveOak"]
[1056,"NORTHERN","NORTH VALLEY","Tier 0-1","102911105 Tier 0-1",102911105,"WYANDOTTE 1105",25.9,39.525509999999898,-121.53431,null,34.200000000000003,"W12153431N3952551",12,4.8,"NO","W12153390N3952564","W12153462N3952554","W12153462N3952554-W12153390N3952564",102911105,"WYANDOTTE 1105",null,"2019-11-20T17:46:46",null,null,"Not assessed","https://viewer.us-3.sharpershape.services/viewer/assets/5ca5a2c6f6b463cfd6a04cce/details","https://viewer.us-3.sharpershape.services/viewer/issues/5ecf8c9834b60c00015ec274/details","high","W12153431N3952551 WYANDOTTE 1105","[DouglasFir, Other, MontereyPine]","DouglasFir"]
[1057,"NORTHERN","NORTH VALLEY","Tier 2-3","102911105 Tier 2-3",102911105,"WYANDOTTE 1105",63,39.532219999999903,-121.53139,null,86.5,"W12153139N3953222",47.6,-16.1999999999999,"YES","W12153205N3953245","W12153117N3953239","W12153117N3953239-W12153205N3953245",102911105,"WYANDOTTE 1105",null,"2019-11-20T17:46:46",null,null,"Not assessed","https://viewer.us-3.sharpershape.services/viewer/assets/5ca5a2c6f6b4636b14a051ca/details","https://viewer.us-3.sharpershape.services/viewer/issues/5ecf8c9734b60c00015ec177/details","high","W12153139N3953222 WYANDOTTE 1105","[Eucalyptus/BlueGum, MontereyPine, GrayPine]","Eucalyptus/BlueGum"]
[1058,"NORTHERN","NORTH VALLEY","Tier 2-3","102911105 Tier 2-3",102911105,"WYANDOTTE 1105",16.100000000000001,39.525149999999897,-121.521289999999,null,45.899999999999899,"W12152129N3952515",5.6,-13.4,"YES","W12152121N3952468","W12152123N3952539","W12152123N3952539-W12152121N3952468",102911105,"WYANDOTTE 1105",null,"2019-11-20T17:46:46",null,null,"Not assessed","https://viewer.us-3.sharpershape.services/viewer/assets/5ca5a2c6f6b463550ba0502f/details","https://viewer.us-3.sharpershape.services/viewer/issues/5ecf8c9534b60c00015ec0c0/details","high","W12152129N3952515 WYANDOTTE 1105","[DouglasFir, GrayPine, ValleyOak]","DouglasFir"]
[1059,"NORTHERN","NORTH VALLEY","Tier 2-3","102911105 Tier 2-3",102911105,"WYANDOTTE 1105",34,39.530729999999899,-121.535409999999,null,63,"W12153541N3953073",17.8,-14.2,"YES","W12153538N3953063","W12153655N3953063","W12153655N3953063-W12153538N3953063",102911105,"WYANDOTTE 1105",null,"2019-11-20T17:46:46",null,null,"Not assessed","https://viewer.us-3.sharpershape.services/viewer/assets/5ca5a2c6f6b4638037a04ab3/details","https://viewer.us-3.sharpershape.services/viewer/issues/5ecf8c95a03e660001310920/details","high","W12153541N3953073 WYANDOTTE 1105","[GrayPine, DouglasFir, MontereyPine]","GrayPine"]
[1060,"NORTHERN","NORTH VALLEY","Tier 2-3","102911105 Tier 2-3",102911105,"WYANDOTTE 1105",48.7,39.529869999999903,-121.5301,null,60,"W12153010N3952987",34.799999999999997,-3.1,"YES","W12152988N3952972","W12153068N3952972","W12153068N3952972-W12152988N3952972",102911105,"WYANDOTTE 1105",null,"2019-11-20T17:46:46",null,null,"Not assessed","https://viewer.us-3.sharpershape.services/viewer/assets/5d89b6cc55dd6b81633f2eff/details","https://viewer.us-3.sharpershape.services/viewer/issues/5ecf8c9934b60c00015ec349/details","high","W12153010N3952987 WYANDOTTE 1105","[GrayPine, Eucalyptus/BlueGum, MontereyPine]","GrayPine"]
[1061,"NORTHERN","NORTH VALLEY","Tier 2-3","102911105 Tier 2-3",102911105,"WYANDOTTE 1105",12.1,39.531129999999898,-121.526089999999,null,35,"W12152609N3953113",7.3,4.3,"NO","W12152603N3953064","W12152604N3953139","W12152604N3953139-W12152603N3953064",102911105,"WYANDOTTE 1105",null,"2019-11-20T17:46:46",null,null,"Not assessed","https://viewer.us-3.sharpershape.services/viewer/assets/5ca5a2c6f6b463f925a04ce0/details","https://viewer.us-3.sharpershape.services/viewer/issues/5ecf8c98a03e660001310bc9/details","high","W12152609N3953113 WYANDOTTE 1105","[Other, LiveOak, GrayPine]","Other"]
[1062,"NORTHERN","NORTH VALLEY","Tier 2-3","102911105 Tier 2-3",102911105,"WYANDOTTE 1105",17,39.528529999999897,-121.53528,null,28.3,"W12153528N3952853",7.9,2.2999999999999998,"NO","W12153534N3952830","W12153534N3952830","W12153534N3952830-W12153534N3952830",102911105,"WYANDOTTE 1105",null,"2019-11-20T17:46:46",null,null,"Not assessed","https://viewer.us-3.sharpershape.services/viewer/assets/5ca5a2c6f6b4631e4ba04b95/details","https://viewer.us-3.sharpershape.services/viewer/issues/5ecf8c96a03e6600013109da/details","high","W12153528N3952853 WYANDOTTE 1105","[Other, DouglasFir, LiveOak]","Other"]
[1063,"NORTHERN","NORTH VALLEY","Tier 2-3","102911105 Tier 2-3",102911105,"WYANDOTTE 1105",53.899999999999899,39.532600000000002,-121.53807999999999,null,67.099999999999895,"W12153808N3953260",37.200000000000003,-0.6,"YES","W12153905N3953243","W12153810N3953244","W12153810N3953244-W12153905N3953243",102911105,"WYANDOTTE 1105",null,"2019-11-20T17:46:46",null,null,"Not assessed","https://viewer.us-3.sharpershape.services/viewer/assets/5ca5a2c6f6b46300cca04f1d/details","https://viewer.us-3.sharpershape.services/viewer/issues/5ecf8c93a03e6600013108a6/details","high","W12153808N3953260 WYANDOTTE 1105","[GrayPine, Other, DouglasFir]","GrayPine"]
[1064,"NORTHERN","NORTH VALLEY","Tier 0-1","102911105 Tier 0-1",102911105,"WYANDOTTE 1105",7.9,39.524560000000001,-121.521819999999,null,52.2,"W12152182N3952456",12,-22.1999999999999,"YES","W12152121N3952468","W12152223N3952454","W12152223N3952454-W12152121N3952468",102911105,"WYANDOTTE 1105",null,"2019-11-20T17:46:46","OH",null,"Not assessed","https://viewer.us-3.sharpershape.services/viewer/assets/5ca5a2c6f6b4634c98a0504c/details","https://viewer.us-3.sharpershape.services/viewer/issues/5ecf8c9634b60c00015ec150/details","high","W12152182N3952456 WYANDOTTE 1105","[GrayPine, Other, ValleyOak]","GrayPine"]
[1065,"NORTHERN","NORTH VALLEY","Tier 2-3","102911105 Tier 2-3",102911105,"WYANDOTTE 1105",28.8,39.530850000000001,-121.539189999999,null,43.8,"W12153919N3953085",5.6,-1.7,"YES","W12153907N3953103","W12153908N3953063","W12153908N3953063-W12153907N3953103",102911105,"WYANDOTTE 1105",null,"2019-11-20T17:46:46",null,null,"Not assessed","https://viewer.us-3.sharpershape.services/viewer/assets/5ca5a2c6f6b463538ea050f7/details","https://viewer.us-3.sharpershape.services/viewer/issues/5ecf8c9734b60c00015ec1d5/details","high","W12153919N3953085 WYANDOTTE 1105","[Other, CoastalLiveOak, Eucalyptus/BlueGum]","Other"]
[1066,"NORTHERN","NORTH VALLEY","Tier 2-3","102911105 Tier 2-3",102911105,"WYANDOTTE 1105",21.8,39.532889999999902,-121.539429999999,null,44.399999999999899,"W12153943N3953289",7,-3.1,"YES","W12153906N3953282","W12153944N3953282","W12153944N3953282-W12153906N3953282",102911105,"WYANDOTTE 1105",null,"2019-11-20T17:46:46",null,null,"Not assessed","https://viewer.us-3.sharpershape.services/viewer/assets/5ca5a2c6f6b463739ea04cfc/details","https://viewer.us-3.sharpershape.services/viewer/issues/5ecf8c9534b60c00015ec082/details","high","W12153943N3953289 WYANDOTTE 1105","[DouglasFir, Eucalyptus/BlueGum, CoastalLiveOak]","DouglasFir"]
[1067,"NORTHERN","NORTH VALLEY","Tier 0-1","102911105 Tier 0-1",102911105,"WYANDOTTE 1105",8.1999999999999904,39.525639999999903,-121.533209999999,null,32.299999999999898,"W12153321N3952564",6.3,5.0999999999999996,"NO","W12153345N3952585","W12153312N3952549","W12153312N3952549-W12153345N3952585",102911105,"WYANDOTTE 1105",null,"2019-11-20T17:46:46",null,null,"Not assessed","https://viewer.us-3.sharpershape.services/viewer/assets/5ca5a2c6f6b4639894a04b2d/details","https://viewer.us-3.sharpershape.services/viewer/issues/5ecf8c94a03e6600013108ee/details","high","W12153321N3952564 WYANDOTTE 1105","[Other, CoastalLiveOak, LiveOak]","Other"]
[1068,"NORTHERN","NORTH VALLEY","Tier 2-3","102911105 Tier 2-3",102911105,"WYANDOTTE 1105",14.1,39.529640000000001,-121.519559999999,null,36.299999999999997,"W12151956N3952964",9.1,-3.5,"YES","W12151936N3952926","W12152005N3953021","W12152005N3953021-W12151936N3952926",102911105,"WYANDOTTE 1105",null,"2019-11-20T17:46:46","OH",null,"Not assessed","https://viewer.us-3.sharpershape.services/viewer/assets/5ca5a2c6f6b463d94da04bdf/details","https://viewer.us-3.sharpershape.services/viewer/issues/5ecf8c9834b60c00015ec2b3/details","high","W12151956N3952964 WYANDOTTE 1105","[GrayPine, MontereyPine, Eucalyptus/BlueGum]","GrayPine"]
[1069,"NORTHERN","NORTH VALLEY","Tier 2-3","102911105 Tier 2-3",102911105,"WYANDOTTE 1105",66.599999999999895,39.526049999999898,-121.53270000000001,null,90.5,"W12153270N3952605",50.3,-21.8,"YES","W12153224N3952655","W12153295N3952615","W12153295N3952615-W12153224N3952655",102911105,"WYANDOTTE 1105",null,"2019-11-20T17:46:46",null,null,"Not assessed","https://viewer.us-3.sharpershape.services/viewer/assets/5ca5a2c6f6b4635390a04a71/details","https://viewer.us-3.sharpershape.services/viewer/issues/5ecf8c96a03e6600013109ce/details","high","W12153270N3952605 WYANDOTTE 1105","[GrayPine, DouglasFir, Other]","GrayPine"]
[1070,"NORTHERN","NORTH VALLEY","Tier 2-3","102911105 Tier 2-3",102911105,"WYANDOTTE 1105",51.2,39.523629999999898,-121.537729999999,null,57.2,"W12153773N3952363",39.899999999999899,9,"NO","W12153761N3952311","W12153751N3952386","W12153751N3952386-W12153761N3952311",102911105,"WYANDOTTE 1105",null,"2019-11-20T17:46:46",null,null,"Not assessed","https://viewer.us-3.sharpershape.services/viewer/assets/5ca5a2c6f6b46364c0a0520a/details","https://viewer.us-3.sharpershape.services/viewer/issues/5ecf8c96a03e660001310a0b/details","high","W12153773N3952363 WYANDOTTE 1105","[GrayPine, Other, TanOak]","GrayPine"]
[1071,"NORTHERN","NORTH VALLEY","Tier 2-3","102911105 Tier 2-3",102911105,"WYANDOTTE 1105",23.4,39.53237,-121.535439999999,null,32.6,"W12153544N3953237",8.1999999999999904,3.5,"NO","W12153557N3953230","W12153419N3953235","W12153419N3953235-W12153557N3953230",102911105,"WYANDOTTE 1105",null,"2019-11-20T17:46:46",null,null,"Not assessed","https://viewer.us-3.sharpershape.services/viewer/assets/5ca5a2c6f6b463191ca04d93/details","https://viewer.us-3.sharpershape.services/viewer/issues/5ee2b430a03e66000146e432/details","high","W12153544N3953237 WYANDOTTE 1105","[Eucalyptus/BlueGum, CoastalLiveOak, Other]","Eucalyptus/BlueGum"]
[1072,"NORTHERN","NORTH VALLEY","Tier 2-3","102911105 Tier 2-3",102911105,"WYANDOTTE 1105",38,39.657400000000003,-121.50564,null,31.9,"W12150564N3965740",23.8,9.6999999999999993,"NO","W12150561N3965801","W12150604N3965661","W12150604N3965661-W12150561N3965801",102911105,"WYANDOTTE 1105",null,"2019-11-20T17:46:46",null,null,"Not assessed","https://viewer.us-3.sharpershape.services/viewer/assets/5d88be906476d7a8685dd21a/details","https://viewer.us-3.sharpershape.services/viewer/issues/5ecf8c9a34b60c00015ec3bb/details","high","W12150564N3965740 WYANDOTTE 1105"]
[1073,"NORTHERN","NORTH VALLEY","Tier 2-3","102911105 Tier 2-3",102911105,"WYANDOTTE 1105",8.6999999999999993,39.529589999999899,-121.519649999999,null,30.4,"W12151965N3952959",6.4,4,"NO","W12151936N3952926","W12152005N3953021","W12152005N3953021-W12151936N3952926",102911105,"WYANDOTTE 1105",null,"2019-11-20T17:46:46",null,null,"Not assessed","https://viewer.us-3.sharpershape.services/viewer/assets/5ca5a2c6f6b463d94da04bdf/details","https://viewer.us-3.sharpershape.services/viewer/issues/5ecf8c9834b60c00015ec2cd/details","high","W12151965N3952959 WYANDOTTE 1105","[CoastalLiveOak, Other, MontereyPine]","CoastalLiveOak"]
[1074,"NORTHERN","NORTH VALLEY","Tier 2-3","102911105 Tier 2-3",102911105,"WYANDOTTE 1105",29.1999999999999,39.530569999999898,-121.532849999999,null,84.7,"W12153285N3953057",6.7,-38.299999999999997,"YES","W12153323N3953048","W12153269N3953048","W12153269N3953048-W12153323N3953048",102911105,"WYANDOTTE 1105",null,"2019-11-20T17:46:46",null,null,"Not assessed","https://viewer.us-3.sharpershape.services/viewer/assets/5ca5a2c6f6b4636013a051bf/details","https://viewer.us-3.sharpershape.services/viewer/issues/5ecf8c9834b60c00015ec292/details","high","W12153285N3953057 WYANDOTTE 1105","[GrayPine, DouglasFir, LiveOak]","GrayPine"]
[1075,"NORTHERN","NORTH VALLEY","Tier 2-3","102911105 Tier 2-3",102911105,"WYANDOTTE 1105",22.8,39.531230000000001,-121.53216,null,41.5,"W12153216N3953123",16.5,-6.1,"YES","W12153206N3953153","W12153207N3953097","W12153207N3953097-W12153206N3953153",102911105,"WYANDOTTE 1105",null,"2019-11-20T17:46:46",null,null,"Not assessed","https://viewer.us-3.sharpershape.services/viewer/assets/5ca5a2c6f6b463f9cfa04c7e/details","https://viewer.us-3.sharpershape.services/viewer/issues/5ecf8c98a03e660001310b40/details","high","W12153216N3953123 WYANDOTTE 1105","[DouglasFir, GrayPine, Other]","DouglasFir"]
[1076,"NORTHERN","NORTH VALLEY","Tier 2-3","102911105 Tier 2-3",102911105,"WYANDOTTE 1105",15,39.532400000000003,-121.531939999999,null,61.1,"W12153194N3953240",7.1,-32.799999999999898,"YES","W12153205N3953245","W12153117N3953239","W12153117N3953239-W12153205N3953245",102911105,"WYANDOTTE 1105",null,"2019-11-20T17:46:46","OH",null,"Not assessed","https://viewer.us-3.sharpershape.services/viewer/assets/5ca5a2c6f6b4636b14a051ca/details","https://viewer.us-3.sharpershape.services/viewer/issues/5ecf8c9734b60c00015ec17f/details","high","W12153194N3953240 WYANDOTTE 1105","[DouglasFir, CoastalLiveOak, MontereyPine]","DouglasFir"]
[1077,"NORTHERN","NORTH VALLEY","Tier 2-3","102911105 Tier 2-3",102911105,"WYANDOTTE 1105",2.1,39.530609999999903,-121.538129999999,null,24.1999999999999,"W12153813N3953061",8.6,8.6999999999999993,"NO","W12153771N3953063","W12153843N3953063","W12153843N3953063-W12153771N3953063",102911105,"WYANDOTTE 1105",null,"2019-11-20T17:46:46",null,null,"Not assessed","https://viewer.us-3.sharpershape.services/viewer/assets/5ca5a2c6f6b4638d7aa04e91/details","https://viewer.us-3.sharpershape.services/viewer/issues/5ecf8c96a03e6600013109a3/details","high","W12153813N3953061 WYANDOTTE 1105","[DouglasFir, LiveOak, TanOak]","DouglasFir"]
[1078,"NORTHERN","NORTH VALLEY","Tier 2-3","102911105 Tier 2-3",102911105,"WYANDOTTE 1105",41.8,39.52778,-121.52822,null,58.6,"W12152822N3952778",30.1999999999999,0.7,"NO","W12152800N3952774","W12152907N3952726","W12152907N3952726-W12152800N3952774",102911105,"WYANDOTTE 1105",null,"2019-11-20T17:46:46",null,null,"Not assessed","https://viewer.us-3.sharpershape.services/viewer/assets/5ca5a2c6f6b4634630a04e8d/details","https://viewer.us-3.sharpershape.services/viewer/issues/5ecf8c97a03e660001310ae4/details","high","W12152822N3952778 WYANDOTTE 1105","[GrayPine, Other, MontereyPine]","GrayPine"]
[1079,"NORTHERN","NORTH VALLEY","Tier 2-3","102911105 Tier 2-3",102911105,"WYANDOTTE 1105",14.5,39.532489999999903,-121.540859999999,null,47,"W12154086N3953249",9,-2.7,"YES","W12154073N3953285","W12154086N3953214","W12154086N3953214-W12154073N3953285",102911105,"WYANDOTTE 1105",null,"2019-11-20T17:46:46",null,null,"Not assessed","https://viewer.us-3.sharpershape.services/viewer/assets/5ca5a2c6f6b4635017a04ad1/details","https://viewer.us-3.sharpershape.services/viewer/issues/5ecf8c96a03e6600013109b6/details","high","W12154086N3953249 WYANDOTTE 1105","[DouglasFir, Other, TanOak]","DouglasFir"]
[1080,"NORTHERN","NORTH VALLEY","Tier 0-1","102911105 Tier 0-1",102911105,"WYANDOTTE 1105",58.7,39.52458,-121.535079999999,null,61.5,"W12153508N3952458",38.6,7.3,"NO","W12153530N3952456","W12153581N3952442","W12153581N3952442-W12153530N3952456",102911105,"WYANDOTTE 1105",null,"2019-11-20T17:46:46",null,null,"Not assessed","https://viewer.us-3.sharpershape.services/viewer/assets/5ca5a2c6f6b463115ca04a27/details","https://viewer.us-3.sharpershape.services/viewer/issues/5ecf8c98a03e660001310ba8/details","high","W12153508N3952458 WYANDOTTE 1105","[LiveOak, DouglasFir, Other]","LiveOak"]
[1081,"NORTHERN","NORTH VALLEY","Tier 2-3","102911105 Tier 2-3",102911105,"WYANDOTTE 1105",25.4,39.530679999999897,-121.535319999999,null,33.6,"W12153532N3953068",12,8.1999999999999904,"NO","W12153538N3953063","W12153655N3953063","W12153655N3953063-W12153538N3953063",102911105,"WYANDOTTE 1105",null,"2019-11-20T17:46:46",null,null,"Not assessed","https://viewer.us-3.sharpershape.services/viewer/assets/5ca5a2c6f6b4638037a04ab3/details","https://viewer.us-3.sharpershape.services/viewer/issues/5ecf8c95a03e66000131091c/details","high","W12153532N3953068 WYANDOTTE 1105","[GrayPine, DouglasFir, CoastalLiveOak]","GrayPine"]
[1082,"NORTHERN","NORTH VALLEY","Tier 2-3","102911105 Tier 2-3",102911105,"WYANDOTTE 1105",20.8,39.524929999999898,-121.53699,null,27.3,"W12153699N3952493",11.9,23.9,"NO","W12153682N3952487","W12153709N3952512","W12153709N3952512-W12153682N3952487",102911105,"WYANDOTTE 1105",null,"2019-11-20T17:46:46",null,null,"Not assessed","https://viewer.us-3.sharpershape.services/viewer/assets/5ca5a2c6f6b4635859a04d71/details","https://viewer.us-3.sharpershape.services/viewer/issues/5ecf953ea03e660001311e92/details","high","W12153699N3952493 WYANDOTTE 1105","[DouglasFir, Other, TanOak]","DouglasFir"]
[1083,"NORTHERN","NORTH VALLEY","Tier 2-3","102911105 Tier 2-3",102911105,"WYANDOTTE 1105",38.5,39.526029999999899,-121.532889999999,null,66.599999999999895,"W12153289N3952603",22.9,-18.1999999999999,"YES","W12153295N3952615","W12153345N3952585","W12153345N3952585-W12153295N3952615",102911105,"WYANDOTTE 1105",null,"2019-11-20T17:46:46",null,null,"Not assessed","https://viewer.us-3.sharpershape.services/viewer/assets/5ca5a2c6f6b4637e6fa049ea/details","https://viewer.us-3.sharpershape.services/viewer/issues/5ecf8c90a03e660001310808/details","high","W12153289N3952603 WYANDOTTE 1105","[DouglasFir, Other, Eucalyptus/BlueGum]","DouglasFir"]
[1084,"NORTHERN","NORTH VALLEY","Tier 2-3","102911105 Tier 2-3",102911105,"WYANDOTTE 1105",28.6,39.529559999999897,-121.531949999999,null,44.399999999999899,"W12153195N3952956",12,-2.4,"YES","W12153206N3952881","W12153206N3952972","W12153206N3952972-W12153206N3952881",102911105,"WYANDOTTE 1105",null,"2019-11-20T17:46:46",null,null,"Not assessed","https://viewer.us-3.sharpershape.services/viewer/assets/5ca5a2c6f6b463a605a04c77/details","https://viewer.us-3.sharpershape.services/viewer/issues/5ecf8c9834b60c00015ec29c/details","high","W12153195N3952956 WYANDOTTE 1105","[LiveOak, DouglasFir, Other]","LiveOak"]
[1085,"NORTHERN","NORTH VALLEY","Tier 2-3","102911105 Tier 2-3",102911105,"WYANDOTTE 1105",17,39.532019999999903,-121.53913,null,31.1,"W12153913N3953202",12,6.1,"NO","W12153905N3953243","W12153907N3953193","W12153907N3953193-W12153905N3953243",102911105,"WYANDOTTE 1105",null,"2019-11-20T17:46:46",null,null,"Not assessed","https://viewer.us-3.sharpershape.services/viewer/assets/5ca5a2c6f6b46326f9a04de3/details","https://viewer.us-3.sharpershape.services/viewer/issues/5ecf8c9934b60c00015ec35d/details","high","W12153913N3953202 WYANDOTTE 1105","[CoastalLiveOak, Other, DouglasFir]","CoastalLiveOak"]
[1086,"NORTHERN","NORTH VALLEY","Tier 2-3","102911105 Tier 2-3",102911105,"WYANDOTTE 1105",12.4,39.525619999999897,-121.53743,null,33.799999999999898,"W12153743N3952562",7.2,1.7,"NO","W12153742N3952569","W12153709N3952512","W12153709N3952512-W12153742N3952569",102911105,"WYANDOTTE 1105",null,"2019-11-20T17:46:46",null,null,"Not assessed","https://viewer.us-3.sharpershape.services/viewer/assets/5ca5a2c6f6b4633f70a04d23/details","https://viewer.us-3.sharpershape.services/viewer/issues/5ecf8c9234b60c00015ebff7/details","high","W12153743N3952562 WYANDOTTE 1105","[DouglasFir, CoastalLiveOak, Other]","DouglasFir"]
[1087,"NORTHERN","NORTH VALLEY","Tier 2-3","102911105 Tier 2-3",102911105,"WYANDOTTE 1105",14.2,39.531489999999899,-121.536469999999,null,33.5,"W12153647N3953149",4.7,0.4,"NO","W12153585N3953154","W12153654N3953154","W12153654N3953154-W12153585N3953154",102911105,"WYANDOTTE 1105",null,"2019-11-20T17:46:46",null,null,"Not assessed","https://viewer.us-3.sharpershape.services/viewer/assets/5ca5a2c6f6b46360cfa049fb/details","https://viewer.us-3.sharpershape.services/viewer/issues/5ecf8c9734b60c00015ec213/details","high","W12153647N3953149 WYANDOTTE 1105","[Other, DouglasFir, CoastalLiveOak]","Other"]
[1088,"NORTHERN","NORTH VALLEY","Tier 2-3","102911105 Tier 2-3",102911105,"WYANDOTTE 1105",23,39.532049999999899,-121.53645,null,35.700000000000003,"W12153645N3953205",3,0.9,"NO","W12153654N3953154","W12153655N3953211","W12153655N3953211-W12153654N3953154",102911105,"WYANDOTTE 1105",null,"2019-11-20T17:46:46",null,null,"Not assessed","https://viewer.us-3.sharpershape.services/viewer/assets/5ca5a2c6f6b463875ba04bda/details","https://viewer.us-3.sharpershape.services/viewer/issues/5ecf8c9534b60c00015ec093/details","high","W12153645N3953205 WYANDOTTE 1105","[TanOak, DouglasFir, LiveOak]","TanOak"]
[1089,"NORTHERN","NORTH VALLEY","Tier 2-3","102911105 Tier 2-3",102911105,"WYANDOTTE 1105",56.1,39.527760000000001,-121.533909999999,null,73.599999999999994,"W12153391N3952776",39.399999999999899,-2.2999999999999998,"YES","W12153270N3952789","W12153385N3952791","W12153385N3952791-W12153270N3952789",102911105,"WYANDOTTE 1105",null,"2019-11-20T17:46:46",null,null,"Not assessed","https://viewer.us-3.sharpershape.services/viewer/assets/5ca5a2c6f6b463466ba049bf/details","https://viewer.us-3.sharpershape.services/viewer/issues/5ecf8c9334b60c00015ec03c/details","high","W12153391N3952776 WYANDOTTE 1105","[GrayPine, MontereyPine, DouglasFir]","GrayPine"]
[1090,"NORTHERN","NORTH VALLEY","Tier 2-3","102911105 Tier 2-3",102911105,"WYANDOTTE 1105",13,39.526559999999897,-121.53895,null,33,"W12153895N3952656",9.9,5.2,"NO","W12153848N3952653","W12153928N3952652","W12153928N3952652-W12153848N3952653",102911105,"WYANDOTTE 1105",null,"2019-11-20T17:46:46",null,null,"Not assessed","https://viewer.us-3.sharpershape.services/viewer/assets/5ca5a2c6f6b463083da04d94/details","https://viewer.us-3.sharpershape.services/viewer/issues/5ecf8c98a03e660001310bc5/details","high","W12153895N3952656 WYANDOTTE 1105","[Other, DouglasFir, GrayPine]","Other"]
[1091,"NORTHERN","NORTH VALLEY","Tier 0-1","102911105 Tier 0-1",102911105,"WYANDOTTE 1105",12.4,39.525439999999897,-121.53524,null,34.200000000000003,"W12153524N3952544",6.1,2.8,"NO","W12153537N3952537","W12153462N3952554","W12153462N3952554-W12153537N3952537",102911105,"WYANDOTTE 1105",null,"2019-11-20T17:46:46",null,null,"Not assessed","https://viewer.us-3.sharpershape.services/viewer/assets/5ca5a2c6f6b463381fa049b8/details","https://viewer.us-3.sharpershape.services/viewer/issues/5ecf8c96a03e6600013109ea/details","high","W12153524N3952544 WYANDOTTE 1105","[DouglasFir, Eucalyptus/BlueGum, Other]","DouglasFir"]
[1092,"NORTHERN","NORTH VALLEY","Tier 2-3","102911105 Tier 2-3",102911105,"WYANDOTTE 1105",17.8,39.531509999999898,-121.51818,null,36.6,"W12151818N3953151",12,7.3,"NO","W12151822N3953157","W12151765N3953162","W12151765N3953162-W12151822N3953157",102911105,"WYANDOTTE 1105",null,"2019-11-20T17:46:46",null,null,"Not assessed","https://viewer.us-3.sharpershape.services/viewer/assets/5ca5a2c6f6b463f67aa051de/details","https://viewer.us-3.sharpershape.services/viewer/issues/5ecf8c9734b60c00015ec19f/details","high","W12151818N3953151 WYANDOTTE 1105","[DouglasFir, Other, CoastalLiveOak]","DouglasFir"]
[1093,"NORTHERN","NORTH VALLEY","Tier 2-3","102911105 Tier 2-3",102911105,"WYANDOTTE 1105",15.2,39.529910000000001,-121.519759999999,null,27.1,"W12151976N3952991",9.6,7.5,"NO","W12151936N3952926","W12152005N3953021","W12152005N3953021-W12151936N3952926",102911105,"WYANDOTTE 1105",null,"2019-11-20T17:46:46",null,null,"Not assessed","https://viewer.us-3.sharpershape.services/viewer/assets/5ca5a2c6f6b463d94da04bdf/details","https://viewer.us-3.sharpershape.services/viewer/issues/5ecf8c9834b60c00015ec2a7/details","high","W12151976N3952991 WYANDOTTE 1105","[Other, Eucalyptus/BlueGum, CoastalLiveOak]","Other"]
[1094,"NORTHERN","NORTH VALLEY","Tier 2-3","102911105 Tier 2-3",102911105,"WYANDOTTE 1105",33.399999999999899,39.530749999999898,-121.533349999999,null,35.799999999999997,"W12153335N3953075",21.9,7.3,"NO","W12153323N3953048","W12153322N3953104","W12153322N3953104-W12153323N3953048",102911105,"WYANDOTTE 1105",null,"2019-11-20T17:46:46",null,null,"Not assessed","https://viewer.us-3.sharpershape.services/viewer/assets/5ca5a2c6f6b463a1c6a051b8/details","https://viewer.us-3.sharpershape.services/viewer/issues/5ecf8c9334b60c00015ec03a/details","high","W12153335N3953075 WYANDOTTE 1105","[GrayPine, DouglasFir, Other]","GrayPine"]
[1095,"NORTHERN","NORTH VALLEY","Tier 2-3","102911105 Tier 2-3",102911105,"WYANDOTTE 1105",17.6999999999999,39.673919999999903,-121.49602,null,18,"W12149602N3967392",12,24,"NO","W12149658N3967347","W12149590N3967413","W12149590N3967413-W12149658N3967347",0,"WYANDOTTE 1105",null,"2019-11-20T17:46:46",null,null,"Not assessed","https://viewer.us-3.sharpershape.services/viewer/assets/5ca5a2c6f6b463ad06a0497a/details","https://viewer.us-3.sharpershape.services/viewer/issues/5ecf8ea5a03e6600013110c6/details","high","W12149602N3967392 WYANDOTTE 1105"]
[1096,"NORTHERN","NORTH VALLEY","Tier 2-3","102911105 Tier 2-3",102911105,"WYANDOTTE 1105",9.6999999999999993,39.529689999999903,-121.53288000000001,null,33.700000000000003,"W12153288N3952969",10.199999999999999,3.8,"NO","W12153340N3952972","W12153284N3952973","W12153284N3952973-W12153340N3952972",102911105,"WYANDOTTE 1105",null,"2019-11-20T17:46:46",null,null,"Not assessed","https://viewer.us-3.sharpershape.services/viewer/assets/5ca5a2c6f6b4637dc0a04d35/details","https://viewer.us-3.sharpershape.services/viewer/issues/5ecf8c9634b60c00015ec12b/details","high","W12153288N3952969 WYANDOTTE 1105","[DouglasFir, Other, TanOak]","DouglasFir"]
[1097,"NORTHERN","NORTH VALLEY","Tier 2-3","102911105 Tier 2-3",102911105,"WYANDOTTE 1105",37.700000000000003,39.532699999999899,-121.5386,null,63.899999999999899,"W12153860N3953270",8.1999999999999904,-18.6999999999999,"YES","W12153906N3953282","W12153848N3953281","W12153848N3953281-W12153906N3953282",102911105,"WYANDOTTE 1105",null,"2019-11-20T17:46:46",null,null,"Not assessed","https://viewer.us-3.sharpershape.services/viewer/assets/5ca5a2c6f6b46324baa04ba9/details","https://viewer.us-3.sharpershape.services/viewer/issues/5ecf8c9934b60c00015ec31a/details","high","W12153860N3953270 WYANDOTTE 1105","[DouglasFir, Other, Eucalyptus/BlueGum]","DouglasFir"]
[1098,"NORTHERN","NORTH VALLEY","Tier 2-3","102911105 Tier 2-3",102911105,"WYANDOTTE 1105",59.7,39.538400000000003,-121.542289999999,null,93.6,"W12154229N3953840",44.7,-33.299999999999898,"YES","W12154252N3953857","W12154250N3953758","W12154250N3953758-W12154252N3953857",102911105,"WYANDOTTE 1105",null,"2019-11-20T17:46:46",null,null,"Not assessed","https://viewer.us-3.sharpershape.services/viewer/assets/5ca5a2c6f6b463b67da04e4c/details","https://viewer.us-3.sharpershape.services/viewer/issues/5ecf8c97a03e660001310a3d/details","high","W12154229N3953840 WYANDOTTE 1105","[DouglasFir, Eucalyptus/BlueGum, MontereyPine]","DouglasFir"]
[1099,"NORTHERN","NORTH VALLEY","Tier 2-3","102911105 Tier 2-3",102911105,"WYANDOTTE 1105",20,39.53069,-121.53583999999999,null,48.6,"W12153584N3953069",3.7,-15,"YES","W12153538N3953063","W12153655N3953063","W12153655N3953063-W12153538N3953063",102911105,"WYANDOTTE 1105",null,"2019-11-20T17:46:46",null,null,"Not assessed","https://viewer.us-3.sharpershape.services/viewer/assets/5ca5a2c6f6b4638037a04ab3/details","https://viewer.us-3.sharpershape.services/viewer/issues/5ecf8c95a03e66000131091e/details","high","W12153584N3953069 WYANDOTTE 1105","[DouglasFir, LiveOak, TanOak]","DouglasFir"]
[1100,"NORTHERN","NORTH VALLEY","Tier 2-3","102911105 Tier 2-3",102911105,"WYANDOTTE 1105",24.1999999999999,39.530859999999898,-121.53664000000001,null,43.8,"W12153664N3953086",8.3000000000000007,-2.2999999999999998,"YES","W12153654N3953103","W12153655N3953063","W12153655N3953063-W12153654N3953103",102911105,"WYANDOTTE 1105",null,"2019-11-20T17:46:46",null,null,"Not assessed","https://viewer.us-3.sharpershape.services/viewer/assets/5ca5a2c6f6b4639202a04d3a/details","https://viewer.us-3.sharpershape.services/viewer/issues/5ecf8c96a03e660001310a27/details","high","W12153664N3953086 WYANDOTTE 1105","[LiveOak, GrayPine, DouglasFir]","LiveOak"]
[1101,"NORTHERN","NORTH VALLEY","Tier 2-3","102911105 Tier 2-3",102911105,"WYANDOTTE 1105",17.1999999999999,39.5245099999999,-121.53726,null,33.799999999999898,"W12153726N3952451",6.5,8.6999999999999993,"NO","W12153716N3952455","W12153751N3952386","W12153751N3952386-W12153716N3952455",102911105,"WYANDOTTE 1105",null,"2019-11-20T17:46:46",null,null,"Not assessed","https://viewer.us-3.sharpershape.services/viewer/assets/5ca5a2c6f6b46351f2a04ede/details","https://viewer.us-3.sharpershape.services/viewer/issues/5ecf8c9634b60c00015ec165/details","high","W12153726N3952451 WYANDOTTE 1105","[GrayPine, MontereyPine, ValleyOak]","GrayPine"]
[1102,"NORTHERN","NORTH VALLEY","Tier 2-3","102911105 Tier 2-3",102911105,"WYANDOTTE 1105",53.1,39.531230000000001,-121.53673000000001,null,59.5,"W12153673N3953123",39.5,3.9,"NO","W12153654N3953103","W12153654N3953154","W12153654N3953154-W12153654N3953103",102911105,"WYANDOTTE 1105",null,"2019-11-20T17:46:46",null,null,"Not assessed","https://viewer.us-3.sharpershape.services/viewer/assets/5ca5a2c6f6b463060ca04c49/details","https://viewer.us-3.sharpershape.services/viewer/issues/5ecf8c98a03e660001310b11/details","high","W12153673N3953123 WYANDOTTE 1105","[Other, CoastalLiveOak, Eucalyptus/BlueGum]","Other"]
[1103,"NORTHERN","NORTH VALLEY","Tier 2-3","102911105 Tier 2-3",102911105,"WYANDOTTE 1105",12.7,39.532609999999899,-121.532,null,34.700000000000003,"W12153200N3953261",7.7,-3.7,"YES","W12153205N3953285","W12153205N3953245","W12153205N3953245-W12153205N3953285",102911105,"WYANDOTTE 1105",null,"2019-11-20T17:46:46",null,null,"Not assessed","https://viewer.us-3.sharpershape.services/viewer/assets/5ca5a2c6f6b46321caa04c4b/details","https://viewer.us-3.sharpershape.services/viewer/issues/5ecf8c9934b60c00015ec350/details","high","W12153200N3953261 WYANDOTTE 1105","[CoastalLiveOak, DouglasFir, MontereyPine]","CoastalLiveOak"]
[1104,"NORTHERN","NORTH VALLEY","Tier 2-3","102911105 Tier 2-3",102911105,"WYANDOTTE 1105",18.5,39.5317399999999,-121.52598,null,34.899999999999899,"W12152598N3953174",8.1999999999999904,-2.8,"YES","W12152604N3953139","W12152606N3953202","W12152606N3953202-W12152604N3953139",102911105,"WYANDOTTE 1105",null,"2019-11-20T17:46:46",null,null,"Not assessed","https://viewer.us-3.sharpershape.services/viewer/assets/5ca5a2c6f6b463cbbca04b3b/details","https://viewer.us-3.sharpershape.services/viewer/issues/5ecf8c98a03e660001310b89/details","high","W12152598N3953174 WYANDOTTE 1105","[GrayPine, MontereyPine, ValleyOak]","GrayPine"]
[1105,"NORTHERN","NORTH VALLEY","Tier 2-3","102911105 Tier 2-3",102911105,"WYANDOTTE 1105",28.1,39.527929999999898,-121.53395999999999,null,34.1,"W12153396N3952793",6.4,18.399999999999999,"NO","W12153270N3952789","W12153385N3952791","W12153385N3952791-W12153270N3952789",102911105,"WYANDOTTE 1105",null,"2019-11-20T17:46:46",null,null,"Not assessed","https://viewer.us-3.sharpershape.services/viewer/assets/5ca5a2c6f6b463466ba049bf/details","https://viewer.us-3.sharpershape.services/viewer/issues/5ecf8ed934b60c00015ec9f2/details","high","W12153396N3952793 WYANDOTTE 1105","[LiveOak, Other, GrayPine]","LiveOak"]
[1106,"NORTHERN","NORTH VALLEY","Tier 2-3","102911105 Tier 2-3",102911105,"WYANDOTTE 1105",16.600000000000001,39.532240000000002,-121.540769999999,null,33.299999999999898,"W12154077N3953224",11.6,2.7,"NO","W12154073N3953285","W12154086N3953214","W12154086N3953214-W12154073N3953285",102911105,"WYANDOTTE 1105",null,"2019-11-20T17:46:46",null,null,"Not assessed","https://viewer.us-3.sharpershape.services/viewer/assets/5ca5a2c6f6b4635017a04ad1/details","https://viewer.us-3.sharpershape.services/viewer/issues/5ecf8c96a03e6600013109bd/details","high","W12154077N3953224 WYANDOTTE 1105","[Other, DouglasFir, ValleyOak]","Other"]
[1107,"NORTHERN","NORTH VALLEY","Tier 2-3","102911105 Tier 2-3",102911105,"WYANDOTTE 1105",17.5,39.652659999999898,-121.50709999999999,null,37.899999999999899,"W12150710N3965266",12,5.6,"NO","W12150742N3965186","W12150660N3965474","W12150660N3965474-W12150742N3965186",102911105,"WYANDOTTE 1105",null,"2019-11-20T17:46:46",null,null,"Not assessed","https://viewer.us-3.sharpershape.services/viewer/assets/5d88b9de6476d776cb5dd20b/details","https://viewer.us-3.sharpershape.services/viewer/issues/5ecf8c9a34b60c00015ec3c4/details","high","W12150710N3965266 WYANDOTTE 1105","[MontereyPine, Eucalyptus/BlueGum, GrayPine]","MontereyPine"]
[1108,"NORTHERN","NORTH VALLEY","Tier 2-3","102911105 Tier 2-3",102911105,"WYANDOTTE 1105",7.2,39.528970000000001,-121.52037,null,36.5,"W12152037N3952897",5.9,0.8,"NO","W12152014N3952914","W12152053N3952877","W12152053N3952877-W12152014N3952914",102911105,"WYANDOTTE 1105",null,"2019-11-20T17:46:46",null,null,"Not assessed","https://viewer.us-3.sharpershape.services/viewer/assets/5ca5a2c6f6b463d0f3a04a55/details","https://viewer.us-3.sharpershape.services/viewer/issues/5ecf8c9734b60c00015ec1fb/details","high","W12152037N3952897 WYANDOTTE 1105","[GrayPine, DouglasFir, Other]","GrayPine"]
[1109,"NORTHERN","NORTH VALLEY","Tier 2-3","102911105 Tier 2-3",102911105,"WYANDOTTE 1105",20.6999999999999,39.53228,-121.532139999999,null,30.4,"W12153214N3953228",7.7,3.8,"NO","W12153205N3953245","W12153206N3953192","W12153206N3953192-W12153205N3953245",102911105,"WYANDOTTE 1105",null,"2019-11-20T17:46:46",null,null,"Not assessed","https://viewer.us-3.sharpershape.services/viewer/assets/5ca5a2c6f6b463299fa04cf2/details","https://viewer.us-3.sharpershape.services/viewer/issues/5ecf8c9934b60c00015ec37a/details","high","W12153214N3953228 WYANDOTTE 1105","[DouglasFir, Eucalyptus/BlueGum, CoastalLiveOak]","DouglasFir"]
[1110,"NORTHERN","NORTH VALLEY","Tier 2-3","102911105 Tier 2-3",102911105,"WYANDOTTE 1105",29.6,39.528839999999903,-121.526839999999,null,33.1,"W12152684N3952884",8.6,20.6,"NO","W12152596N3952916","W12152680N3952875","W12152680N3952875-W12152596N3952916",102911105,"WYANDOTTE 1105",null,"2019-11-20T17:46:46",null,null,"Not assessed","https://viewer.us-3.sharpershape.services/viewer/assets/5ca5a2c6f6b463c0bba05089/details","https://viewer.us-3.sharpershape.services/viewer/issues/5ecf8edb34b60c00015eca06/details","high","W12152684N3952884 WYANDOTTE 1105","[GrayPine, Other, DouglasFir]","GrayPine"]
[1111,"NORTHERN","NORTH VALLEY","Tier 2-3","102911105 Tier 2-3",102911105,"WYANDOTTE 1105",18.600000000000001,39.672640000000001,-121.497119999999,null,23.5,"W12149712N3967264",8.6,-0.9,"YES","W12149658N3967347","W12149755N3967217","W12149755N3967217-W12149658N3967347",0,"WYANDOTTE 1105",null,"2019-11-20T17:46:46",null,null,"Not assessed","https://viewer.us-3.sharpershape.services/viewer/assets/5ca5a2c6f6b463d89ea04e5a/details","https://viewer.us-3.sharpershape.services/viewer/issues/5ecf8c9834b60c00015ec2da/details","high","W12149712N3967264 WYANDOTTE 1105"]
[1112,"NORTHERN","NORTH VALLEY","Tier 2-3","102911105 Tier 2-3",102911105,"WYANDOTTE 1105",18.100000000000001,39.531479999999902,-121.536349999999,null,32.700000000000003,"W12153635N3953148",8.6999999999999993,1.3,"NO","W12153585N3953154","W12153654N3953154","W12153654N3953154-W12153585N3953154",102911105,"WYANDOTTE 1105",null,"2019-11-20T17:46:46",null,null,"Not assessed","https://viewer.us-3.sharpershape.services/viewer/assets/5ca5a2c6f6b46360cfa049fb/details","https://viewer.us-3.sharpershape.services/viewer/issues/5ecf8c9734b60c00015ec212/details","high","W12153635N3953148 WYANDOTTE 1105","[CoastalLiveOak, DouglasFir, Eucalyptus/BlueGum]","CoastalLiveOak"]
[1113,"NORTHERN","NORTH VALLEY","Tier 2-3","102911105 Tier 2-3",102911105,"WYANDOTTE 1105",15.2,39.532869999999903,-121.539159999999,null,41.5,"W12153916N3953287",4.5,-6.1,"YES","W12153906N3953282","W12153944N3953282","W12153944N3953282-W12153906N3953282",102911105,"WYANDOTTE 1105",null,"2019-11-20T17:46:46",null,null,"Not assessed","https://viewer.us-3.sharpershape.services/viewer/assets/5ca5a2c6f6b463739ea04cfc/details","https://viewer.us-3.sharpershape.services/viewer/issues/5ecf8c9534b60c00015ec081/details","high","W12153916N3953287 WYANDOTTE 1105","[DouglasFir, LiveOak, TanOak]","DouglasFir"]
[1114,"NORTHERN","NORTH VALLEY","Tier 2-3","102911105 Tier 2-3",102911105,"WYANDOTTE 1105",7.4,39.524920000000002,-121.536779999999,null,33.899999999999899,"W12153678N3952492",5.5,1.4,"NO","W12153636N3952510","W12153682N3952487","W12153682N3952487-W12153636N3952510",102911105,"WYANDOTTE 1105",null,"2019-11-20T17:46:46",null,null,"Not assessed","https://viewer.us-3.sharpershape.services/viewer/assets/5ca5a2c6f6b463f969a04978/details","https://viewer.us-3.sharpershape.services/viewer/issues/5ecf8c9934b60c00015ec2ef/details","high","W12153678N3952492 WYANDOTTE 1105","[GrayPine, DouglasFir, MontereyPine]","GrayPine"]
[1115,"NORTHERN","NORTH VALLEY","Tier 2-3","102911105 Tier 2-3",102911105,"WYANDOTTE 1105",33.899999999999899,39.5322999999999,-121.52619,null,46.899999999999899,"W12152619N3953230",28.3,9.6999999999999993,"NO","W12152606N3953202","W12152605N3953235","W12152605N3953235-W12152606N3953202",102911105,"WYANDOTTE 1105",null,"2019-11-20T17:46:46",null,null,"Not assessed","https://viewer.us-3.sharpershape.services/viewer/assets/5ca5a2c6f6b4631991a04dcc/details","https://viewer.us-3.sharpershape.services/viewer/issues/5ecfe7bca03e66000133409b/details","high","W12152619N3953230 WYANDOTTE 1105","[CoastalLiveOak, Eucalyptus/BlueGum, DouglasFir]","CoastalLiveOak"]
[1116,"NORTHERN","NORTH VALLEY","Tier 2-3","102911105 Tier 2-3",102911105,"WYANDOTTE 1105",41.899999999999899,39.52928,-121.52527000000001,null,43.8,"W12152527N3952928",6.1,2.8,"NO","W12152508N3952949","W12152596N3952916","W12152596N3952916-W12152508N3952949",102911105,"WYANDOTTE 1105",null,"2019-11-20T17:46:46",null,null,"Not assessed","https://viewer.us-3.sharpershape.services/viewer/assets/5ca5a2c6f6b4634e80a04ae4/details","https://viewer.us-3.sharpershape.services/viewer/issues/5ecf8c9734b60c00015ec1e0/details","high","W12152527N3952928 WYANDOTTE 1105","[MontereyPine, TanOak, Other]","MontereyPine"]
[1117,"NORTHERN","NORTH VALLEY","Tier 0-1","102911105 Tier 0-1",102911105,"WYANDOTTE 1105",46.5,39.525459999999903,-121.53425,null,72.799999999999898,"W12153425N3952546",30.6999999999999,-19.899999999999999,"YES","W12153390N3952564","W12153462N3952554","W12153462N3952554-W12153390N3952564",102911105,"WYANDOTTE 1105",null,"2019-11-20T17:46:46",null,null,"Not assessed","https://viewer.us-3.sharpershape.services/viewer/assets/5ca5a2c6f6b463cfd6a04cce/details","https://viewer.us-3.sharpershape.services/viewer/issues/5ecf8c9834b60c00015ec26e/details","high","W12153425N3952546 WYANDOTTE 1105","[Other, TanOak, MontereyPine]","Other"]
[1118,"NORTHERN","NORTH VALLEY","Tier 2-3","102911105 Tier 2-3",102911105,"WYANDOTTE 1105",46,39.52899,-121.52007,null,83.4,"W12152007N3952899",31.3,-30,"YES","W12152014N3952914","W12152053N3952877","W12152053N3952877-W12152014N3952914",102911105,"WYANDOTTE 1105",null,"2019-11-20T17:46:46",null,null,"Not assessed","https://viewer.us-3.sharpershape.services/viewer/assets/5ca5a2c6f6b463d0f3a04a55/details","https://viewer.us-3.sharpershape.services/viewer/issues/5ecf8c9734b60c00015ec206/details","high","W12152007N3952899 WYANDOTTE 1105","[GrayPine, CoastalLiveOak, DouglasFir]","GrayPine"]
[1119,"NORTHERN","NORTH VALLEY","Tier 2-3","102911105 Tier 2-3",102911105,"WYANDOTTE 1105",16.399999999999899,39.530719999999903,-121.51934,null,25.8,"W12151934N3953072",10.5,7,"NO","W12151923N3953089","W12152005N3953021","W12152005N3953021-W12151923N3953089",102911105,"WYANDOTTE 1105",null,"2019-11-20T17:46:46",null,null,"Not assessed","https://viewer.us-3.sharpershape.services/viewer/assets/5ca5a2c6f6b46307baa0515f/details","https://viewer.us-3.sharpershape.services/viewer/issues/5ecf8c93a03e6600013108c5/details","high","W12151934N3953072 WYANDOTTE 1105","[GrayPine, DouglasFir, MontereyPine]","GrayPine"]
[1120,"NORTHERN","NORTH VALLEY","Tier 2-3","102911105 Tier 2-3",102911105,"WYANDOTTE 1105",27.1,39.53181,-121.53216999999999,null,72.099999999999994,"W12153217N3953181",8.6999999999999993,-28.6999999999999,"YES","W12153206N3953153","W12153206N3953192","W12153206N3953192-W12153206N3953153",102911105,"WYANDOTTE 1105",null,"2019-11-20T17:46:46",null,null,"Not assessed","https://viewer.us-3.sharpershape.services/viewer/assets/5ca5a2c6f6b46375f6a04bc0/details","https://viewer.us-3.sharpershape.services/viewer/issues/5ecf8c9834b60c00015ec22d/details","high","W12153217N3953181 WYANDOTTE 1105","[GrayPine, CoastalLiveOak, Other]","GrayPine"]
[1121,"NORTHERN","NORTH VALLEY","Tier 2-3","102911105 Tier 2-3",102911105,"WYANDOTTE 1105",10.7,39.531579999999899,-121.53161,null,41.6,"W12153161N3953158",5.3,-13.1,"YES","W12153206N3953153","W12153147N3953155","W12153147N3953155-W12153206N3953153",102911105,"WYANDOTTE 1105",null,"2019-11-20T17:46:46","OH",null,"Not assessed","https://viewer.us-3.sharpershape.services/viewer/assets/5ca5a2c6f6b4635ba4a04c32/details","https://viewer.us-3.sharpershape.services/viewer/issues/5ecf8c96a03e660001310999/details","high","W12153161N3953158 WYANDOTTE 1105","[GrayPine, DouglasFir, Other]","GrayPine"]
[1122,"NORTHERN","NORTH VALLEY","Tier 2-3","102911105 Tier 2-3",102911105,"WYANDOTTE 1105",30.1,39.5369999999999,-121.5424,null,24.6999999999999,"W12154240N3953700",19.100000000000001,6.2,"NO","W12154253N3953660","W12154250N3953758","W12154250N3953758-W12154253N3953660",102911105,"WYANDOTTE 1105",null,"2019-11-20T17:46:46",null,null,"Not assessed","https://viewer.us-3.sharpershape.services/viewer/assets/5ca5a2c6f6b4637989a05102/details","https://viewer.us-3.sharpershape.services/viewer/issues/5ecf8c9734b60c00015ec1b5/details","high","W12154240N3953700 WYANDOTTE 1105"]
[1123,"NORTHERN","NORTH VALLEY","Tier 0-1","102911105 Tier 0-1",102911105,"WYANDOTTE 1105",18,39.524589999999897,-121.522639999999,null,55.3,"W12152264N3952459",4.8,-18.3,"YES","W12152293N3952453","W12152223N3952454","W12152223N3952454-W12152293N3952453",102911105,"WYANDOTTE 1105",null,"2019-11-20T17:46:46","OH",null,"Not assessed","https://viewer.us-3.sharpershape.services/viewer/assets/5ca5a2c6f6b4634c38a04c9a/details","https://viewer.us-3.sharpershape.services/viewer/issues/5ecf8c9634b60c00015ec101/details","high","W12152264N3952459 WYANDOTTE 1105","[GrayPine, Other, DouglasFir]","GrayPine"]
[1124,"NORTHERN","NORTH VALLEY","Tier 2-3","102911105 Tier 2-3",102911105,"WYANDOTTE 1105",19.1999999999999,39.529519999999899,-121.53198,null,45.7,"W12153198N3952952",6,-8.4,"YES","W12153206N3952881","W12153206N3952972","W12153206N3952972-W12153206N3952881",102911105,"WYANDOTTE 1105",null,"2019-11-20T17:46:46",null,null,"Not assessed","https://viewer.us-3.sharpershape.services/viewer/assets/5ca5a2c6f6b463a605a04c77/details","https://viewer.us-3.sharpershape.services/viewer/issues/5ecf8c9834b60c00015ec2a4/details","high","W12153198N3952952 WYANDOTTE 1105","[DouglasFir, LiveOak, CoastalLiveOak]","DouglasFir"]
[1125,"NORTHERN","NORTH VALLEY","Tier 0-1","102911105 Tier 0-1",102911105,"WYANDOTTE 1105",2.2000000000000002,39.524650000000001,-121.5215,null,23.8,"W12152150N3952465",8.1,9.3000000000000007,"NO","W12152121N3952468","W12152223N3952454","W12152223N3952454-W12152121N3952468",102911105,"WYANDOTTE 1105",null,"2019-11-20T17:46:46",null,null,"Not assessed","https://viewer.us-3.sharpershape.services/viewer/assets/5ca5a2c6f6b4634c98a0504c/details","https://viewer.us-3.sharpershape.services/viewer/issues/5ecf8c9634b60c00015ec145/details","high","W12152150N3952465 WYANDOTTE 1105","[GrayPine, TanOak, ValleyOak]","GrayPine"]
[1126,"NORTHERN","NORTH VALLEY","Tier 2-3","102911105 Tier 2-3",102911105,"WYANDOTTE 1105",16.8,39.524760000000001,-121.521279999999,null,19.399999999999999,"W12152128N3952476",11.4,23.4,"NO","W12152121N3952468","W12152123N3952539","W12152123N3952539-W12152121N3952468",102911105,"WYANDOTTE 1105",null,"2019-11-20T17:46:46",null,null,"Not assessed","https://viewer.us-3.sharpershape.services/viewer/assets/5ca5a2c6f6b463550ba0502f/details","https://viewer.us-3.sharpershape.services/viewer/issues/5ecf957aa03e660001312078/details","high","W12152128N3952476 WYANDOTTE 1105","[GrayPine, TanOak, DouglasFir]","GrayPine"]
[1127,"NORTHERN","NORTH VALLEY","Tier 2-3","102911105 Tier 2-3",102911105,"WYANDOTTE 1105",14.5,39.531799999999997,-121.532,null,54.5,"W12153200N3953180",6.5,-19.5,"YES","W12153206N3953153","W12153206N3953192","W12153206N3953192-W12153206N3953153",102911105,"WYANDOTTE 1105",null,"2019-11-20T17:46:46",null,null,"Not assessed","https://viewer.us-3.sharpershape.services/viewer/assets/5ca5a2c6f6b46375f6a04bc0/details","https://viewer.us-3.sharpershape.services/viewer/issues/5ecf8c9834b60c00015ec222/details","high","W12153200N3953180 WYANDOTTE 1105","[GrayPine, DouglasFir, MontereyPine]","GrayPine"]
[1128,"NORTHERN","NORTH VALLEY","Tier 2-3","102911105 Tier 2-3",102911105,"WYANDOTTE 1105",22,39.532409999999899,-121.534289999999,null,47.3,"W12153429N3953241",5.8,-8.3000000000000007,"YES","W12153557N3953230","W12153419N3953235","W12153419N3953235-W12153557N3953230",102911105,"WYANDOTTE 1105",null,"2019-11-20T17:46:46",null,null,"Not assessed","https://viewer.us-3.sharpershape.services/viewer/assets/5ca5a2c6f6b463191ca04d93/details","https://viewer.us-3.sharpershape.services/viewer/issues/5ee2b430a03e66000146e43f/details","high","W12153429N3953241 WYANDOTTE 1105","[DouglasFir, Eucalyptus/BlueGum, CoastalLiveOak]","DouglasFir"]
[1129,"NORTHERN","NORTH VALLEY","Tier 0-1","102911105 Tier 0-1",102911105,"WYANDOTTE 1105",65.900000000000006,39.524900000000002,-121.536329999999,null,78.900000000000006,"W12153633N3952490",45.8,-10.199999999999999,"YES","W12153636N3952510","W12153682N3952487","W12153682N3952487-W12153636N3952510",102911105,"WYANDOTTE 1105",null,"2019-11-20T17:46:46",null,null,"Not assessed","https://viewer.us-3.sharpershape.services/viewer/assets/5ca5a2c6f6b463f969a04978/details","https://viewer.us-3.sharpershape.services/viewer/issues/5ecf8c9934b60c00015ec2f1/details","high","W12153633N3952490 WYANDOTTE 1105","[LiveOak, Other, DouglasFir]","LiveOak"]
[1130,"NORTHERN","NORTH VALLEY","Tier 2-3","102911105 Tier 2-3",102911105,"WYANDOTTE 1105",21.1,39.528970000000001,-121.53546,null,36.899999999999899,"W12153546N3952897",11.9,23.9,"NO","W12153537N3952882","W12153538N3952985","W12153538N3952985-W12153537N3952882",102911105,"WYANDOTTE 1105",null,"2019-11-20T17:46:46",null,null,"Not assessed","https://viewer.us-3.sharpershape.services/viewer/assets/5ca5a2c6f6b463441aa04ac2/details","https://viewer.us-3.sharpershape.services/viewer/issues/5ecf9545a03e660001311ef0/details","high","W12153546N3952897 WYANDOTTE 1105","[GrayPine, DouglasFir, MontereyPine]","GrayPine"]
[1131,"NORTHERN","NORTH VALLEY","Tier 0-1","102911105 Tier 0-1",102911105,"WYANDOTTE 1105",14.8,39.524709999999899,-121.5213,null,29.6999999999999,"W12152130N3952471",4,5.4,"NO","W12152121N3952468","W12152123N3952539","W12152123N3952539-W12152121N3952468",102911105,"WYANDOTTE 1105",null,"2019-11-20T17:46:46",null,null,"Not assessed","https://viewer.us-3.sharpershape.services/viewer/assets/5ca5a2c6f6b463550ba0502f/details","https://viewer.us-3.sharpershape.services/viewer/issues/5ecf8c9534b60c00015ec0c2/details","high","W12152130N3952471 WYANDOTTE 1105","[GrayPine, LiveOak, TanOak]","GrayPine"]
[1132,"NORTHERN","NORTH VALLEY","Tier 2-3","102911105 Tier 2-3",102911105,"WYANDOTTE 1105",44.399999999999899,39.530139999999903,-121.5224,null,37.399999999999899,"W12152240N3953014",10.3,22.3,"NO","W12152284N3952992","W12152184N3953012","W12152184N3953012-W12152284N3952992",102911105,"WYANDOTTE 1105",null,"2019-11-20T17:46:46",null,null,"Not assessed","https://viewer.us-3.sharpershape.services/viewer/assets/5ca5a2c6f6b4639636a0497c/details","https://viewer.us-3.sharpershape.services/viewer/issues/5ee2b979a03e66000146e4ce/details","high","W12152240N3953014 WYANDOTTE 1105","[GrayPine, BlackOak, Other]","GrayPine"]
[1133,"NORTHERN","NORTH VALLEY","Tier 2-3","102911105 Tier 2-3",102911105,"WYANDOTTE 1105",28.5,39.531639999999904,-121.51755,null,69.400000000000006,"W12151755N3953164",12,-21.3,"YES","W12151822N3953157","W12151765N3953162","W12151765N3953162-W12151822N3953157",102911105,"WYANDOTTE 1105",null,"2019-11-20T17:46:46",null,null,"Not assessed","https://viewer.us-3.sharpershape.services/viewer/assets/5ca5a2c6f6b463f67aa051de/details","https://viewer.us-3.sharpershape.services/viewer/issues/5ecf8c9734b60c00015ec1a7/details","high","W12151755N3953164 WYANDOTTE 1105","[Other, LiveOak, DouglasFir]","Other"]
[1134,"NORTHERN","NORTH VALLEY","Tier 2-3","102911105 Tier 2-3",102911105,"WYANDOTTE 1105",25.3,39.532219999999903,-121.535629999999,null,32.6,"W12153563N3953222",8.3000000000000007,9.1,"NO","W12153557N3953230","W12153644N3953230","W12153644N3953230-W12153557N3953230",102911105,"WYANDOTTE 1105",null,"2019-11-20T17:46:46",null,null,"Not assessed","https://viewer.us-3.sharpershape.services/viewer/assets/5ca5a2c6f6b4630717a04d92/details","https://viewer.us-3.sharpershape.services/viewer/issues/5ecf8c97a03e660001310ad7/details","high","W12153563N3953222 WYANDOTTE 1105","[Eucalyptus/BlueGum, DouglasFir, GrayPine]","Eucalyptus/BlueGum"]
[1135,"NORTHERN","NORTH VALLEY","Tier 2-3","102911105 Tier 2-3",102911105,"WYANDOTTE 1105",13.3,39.526559999999897,-121.53904,null,35.299999999999997,"W12153904N3952656",8.3000000000000007,3.1,"NO","W12153848N3952653","W12153928N3952652","W12153928N3952652-W12153848N3952653",102911105,"WYANDOTTE 1105",null,"2019-11-20T17:46:46",null,null,"Not assessed","https://viewer.us-3.sharpershape.services/viewer/assets/5ca5a2c6f6b463083da04d94/details","https://viewer.us-3.sharpershape.services/viewer/issues/5ecf8c98a03e660001310bc2/details","high","W12153904N3952656 WYANDOTTE 1105","[Other, DouglasFir, GrayPine]","Other"]
[1136,"NORTHERN","NORTH VALLEY","Tier 0-1","102911105 Tier 0-1",102911105,"WYANDOTTE 1105",29,39.525590000000001,-121.53548000000001,null,32.299999999999898,"W12153548N3952559",7.2,19.1999999999999,"NO","W12153537N3952537","W12153537N3952598","W12153537N3952598-W12153537N3952537",102911105,"WYANDOTTE 1105",null,"2019-11-20T17:46:46",null,null,"Not assessed","https://viewer.us-3.sharpershape.services/viewer/assets/5ca5a2c6f6b4634b85a04d18/details","https://viewer.us-3.sharpershape.services/viewer/issues/5ecf8ecf34b60c00015ec96e/details","high","W12153548N3952559 WYANDOTTE 1105","[DouglasFir, LiveOak, Other]","DouglasFir"]
[1137,"NORTHERN","NORTH VALLEY","Tier 0-1","102911105 Tier 0-1",102911105,"WYANDOTTE 1105",28.8,39.524659999999898,-121.52204,null,63.399999999999899,"W12152204N3952466",7.8,-16.600000000000001,"YES","W12152121N3952468","W12152223N3952454","W12152223N3952454-W12152121N3952468",102911105,"WYANDOTTE 1105",null,"2019-11-20T17:46:46",null,null,"Not assessed","https://viewer.us-3.sharpershape.services/viewer/assets/5ca5a2c6f6b4634c98a0504c/details","https://viewer.us-3.sharpershape.services/viewer/issues/5ecf8c9634b60c00015ec154/details","high","W12152204N3952466 WYANDOTTE 1105","[GrayPine, DouglasFir, Other]","GrayPine"]
[1138,"NORTHERN","NORTH VALLEY","Tier 2-3","102911105 Tier 2-3",102911105,"WYANDOTTE 1105",8.4,39.53051,-121.5322,null,22.9,"W12153220N3953051",7.1,8.1999999999999904,"NO","W12153206N3953048","W12153269N3953048","W12153269N3953048-W12153206N3953048",102911105,"WYANDOTTE 1105",null,"2019-11-20T17:46:46",null,null,"Not assessed","https://viewer.us-3.sharpershape.services/viewer/assets/5ca5a2c6f6b46331cba04b4a/details","https://viewer.us-3.sharpershape.services/viewer/issues/5ecf8c92a03e66000131085f/details","high","W12153220N3953051 WYANDOTTE 1105","[DouglasFir, LiveOak, TanOak]","DouglasFir"]
[1139,"NORTHERN","NORTH VALLEY","Tier 2-3","102911105 Tier 2-3",102911105,"WYANDOTTE 1105",20.1999999999999,39.536760000000001,-121.542439999999,null,67.400000000000006,"W12154244N3953676",12,-39.299999999999997,"YES","W12154253N3953660","W12154250N3953758","W12154250N3953758-W12154253N3953660",102911105,"WYANDOTTE 1105",null,"2019-11-20T17:46:46",null,null,"Not assessed","https://viewer.us-3.sharpershape.services/viewer/assets/5ca5a2c6f6b4637989a05102/details","https://viewer.us-3.sharpershape.services/viewer/issues/5ecf8c9734b60c00015ec1ab/details","high","W12154244N3953676 WYANDOTTE 1105","[Other, GrayPine, DouglasFir]","Other"]
[1140,"NORTHERN","NORTH VALLEY","Tier 2-3","102911105 Tier 2-3",102911105,"WYANDOTTE 1105",27.1,39.531749999999903,-121.54074,null,57.3,"W12154074N3953175",12,-24.8,"YES","W12154086N3953214","W12154084N3953131","W12154084N3953131-W12154086N3953214",102911105,"WYANDOTTE 1105",null,"2019-11-20T17:46:46","OH",null,"Not assessed","https://viewer.us-3.sharpershape.services/viewer/assets/5ca5a2c6f6b4630944a04ef1/details","https://viewer.us-3.sharpershape.services/viewer/issues/5ecf8c98a03e660001310b5d/details","high","W12154074N3953175 WYANDOTTE 1105","[DouglasFir, Eucalyptus/BlueGum, GrayPine]","DouglasFir"]
[1141,"NORTHERN","NORTH VALLEY","Tier 2-3","102911105 Tier 2-3",102911105,"WYANDOTTE 1105",37.700000000000003,39.532229999999899,-121.53439,null,59.7,"W12153439N3953223",18.8,-4,"YES","W12153557N3953230","W12153419N3953235","W12153419N3953235-W12153557N3953230",102911105,"WYANDOTTE 1105",null,"2019-11-20T17:46:46",null,null,"Not assessed","https://viewer.us-3.sharpershape.services/viewer/assets/5ca5a2c6f6b463191ca04d93/details","https://viewer.us-3.sharpershape.services/viewer/issues/5ee2b430a03e66000146e437/details","high","W12153439N3953223 WYANDOTTE 1105","[DouglasFir, GrayPine, LiveOak]","DouglasFir"]
[1142,"NORTHERN","NORTH VALLEY","Tier 0-1","102911105 Tier 0-1",102911105,"WYANDOTTE 1105",40.799999999999997,39.522659999999902,-121.53766,null,44.8,"W12153766N3952266",9.3000000000000007,21.3,"NO","W12153791N3952249","W12153775N3952283","W12153775N3952283-W12153791N3952249",102911105,"WYANDOTTE 1105",null,"2019-11-20T17:46:46",null,null,"Not assessed","https://viewer.us-3.sharpershape.services/viewer/assets/5ca5a2c6f6b463313aa04cb9/details","https://viewer.us-3.sharpershape.services/viewer/issues/5ecf954fa03e660001311f36/details","high","W12153766N3952266 WYANDOTTE 1105","[GrayPine, DouglasFir, Eucalyptus/BlueGum]","GrayPine"]
[1143,"NORTHERN","NORTH VALLEY","Tier 0-1","102911105 Tier 0-1",102911105,"WYANDOTTE 1105",39.6,39.5258299999999,-121.53323,null,50.5,"W12153323N3952583",9,1.2,"NO","W12153295N3952615","W12153345N3952585","W12153345N3952585-W12153295N3952615",102911105,"WYANDOTTE 1105",null,"2019-11-20T17:46:46",null,null,"Not assessed","https://viewer.us-3.sharpershape.services/viewer/assets/5ca5a2c6f6b4637e6fa049ea/details","https://viewer.us-3.sharpershape.services/viewer/issues/5ecf8c90a03e660001310809/details","high","W12153323N3952583 WYANDOTTE 1105","[GrayPine, MontereyPine, Eucalyptus/BlueGum]","GrayPine"]
[1144,"NORTHERN","NORTH VALLEY","Tier 2-3","102911105 Tier 2-3",102911105,"WYANDOTTE 1105",33.200000000000003,39.52722,-121.53163000000001,null,33.399999999999899,"W12153163N3952722",13.9,8.5,"NO","W12153152N3952699","W12153200N3952739","W12153200N3952739-W12153152N3952699",102911105,"WYANDOTTE 1105",null,"2019-11-20T17:46:46",null,null,"Not assessed","https://viewer.us-3.sharpershape.services/viewer/assets/5ca5a2c6f6b46337eda04c68/details","https://viewer.us-3.sharpershape.services/viewer/issues/5ecf8c9034b60c00015ebfd8/details","high","W12153163N3952722 WYANDOTTE 1105","[GrayPine, TanOak, ValleyOak]","GrayPine"]
[1145,"NORTHERN","NORTH VALLEY","Tier 2-3","102911105 Tier 2-3",102911105,"WYANDOTTE 1105",8,39.529240000000001,-121.525849999999,null,27.5,"W12152585N3952924",9.6,17.600000000000001,"NO","W12152508N3952949","W12152596N3952916","W12152596N3952916-W12152508N3952949",102911105,"WYANDOTTE 1105",null,"2019-11-20T17:46:46",null,null,"Not assessed","https://viewer.us-3.sharpershape.services/viewer/assets/5ca5a2c6f6b4634e80a04ae4/details","https://viewer.us-3.sharpershape.services/viewer/issues/5ecf954434b60c00015ed724/details","high","W12152585N3952924 WYANDOTTE 1105","[LiveOak, Other, GrayPine]","LiveOak"]
[1146,"NORTHERN","NORTH VALLEY","Tier 2-3","102911105 Tier 2-3",102911105,"WYANDOTTE 1105",34.200000000000003,39.535800000000002,-121.54263,null,69.400000000000006,"W12154263N3953580",23.4,-13.7,"YES","W12154256N3953592","W12154242N3953570","W12154242N3953570-W12154256N3953592",102911105,"WYANDOTTE 1105",null,"2019-11-20T17:46:46",null,null,"Not assessed","https://viewer.us-3.sharpershape.services/viewer/assets/5ca5a2c6f6b4638a06a050ea/details","https://viewer.us-3.sharpershape.services/viewer/issues/5ecf8c95a03e66000131096c/details","high","W12154263N3953580 WYANDOTTE 1105","[ValleyOak, GrayPine, DouglasFir]","ValleyOak"]
[1147,"NORTHERN","NORTH VALLEY","Tier 2-3","102911105 Tier 2-3",102911105,"WYANDOTTE 1105",32.1,39.522459999999903,-121.53779,null,70,"W12153779N3952246",8.4,-17.100000000000001,"YES","W12153791N3952249","W12153775N3952283","W12153775N3952283-W12153791N3952249",102911105,"WYANDOTTE 1105",null,"2019-11-20T17:46:46",null,null,"Not assessed","https://viewer.us-3.sharpershape.services/viewer/assets/5ca5a2c6f6b463313aa04cb9/details","https://viewer.us-3.sharpershape.services/viewer/issues/5ecf8c99a03e660001310c25/details","high","W12153779N3952246 WYANDOTTE 1105","[GrayPine, DouglasFir, Eucalyptus/BlueGum]","GrayPine"]
[1148,"NORTHERN","NORTH VALLEY","Tier 2-3","102911105 Tier 2-3",102911105,"WYANDOTTE 1105",17.1999999999999,39.673339999999897,-121.4966,null,28.4,"W12149660N3967334",12,3.1,"NO","W12149658N3967347","W12149755N3967217","W12149755N3967217-W12149658N3967347",0,"WYANDOTTE 1105",null,"2019-11-20T17:46:46",null,null,"Not assessed","https://viewer.us-3.sharpershape.services/viewer/assets/5ca5a2c6f6b463d89ea04e5a/details","https://viewer.us-3.sharpershape.services/viewer/issues/5ecf8c9834b60c00015ec2d4/details","high","W12149660N3967334 WYANDOTTE 1105"]
[1149,"NORTHERN","NORTH VALLEY","Tier 0-1","102911105 Tier 0-1",102911105,"WYANDOTTE 1105",12.3,39.522860000000001,-121.537679999999,null,36,"W12153768N3952286",7.2,5.2,"NO","W12153761N3952311","W12153775N3952283","W12153775N3952283-W12153761N3952311",102911105,"WYANDOTTE 1105",null,"2019-11-20T17:46:46",null,null,"Not assessed","https://viewer.us-3.sharpershape.services/viewer/assets/5ca5a2c6f6b463b271a05203/details","https://viewer.us-3.sharpershape.services/viewer/issues/5ecf8c91a03e660001310832/details","high","W12153768N3952286 WYANDOTTE 1105","[Other, DouglasFir, CoastalLiveOak]","Other"]
[1150,"NORTHERN","NORTH VALLEY","Tier 2-3","102911105 Tier 2-3",102911105,"WYANDOTTE 1105",10.6,39.5273299999999,-121.53046000000001,null,37.6,"W12153046N3952733",6.4,4.5,"NO","W12152971N3952716","W12153054N3952731","W12153054N3952731-W12152971N3952716",102911105,"WYANDOTTE 1105",null,"2019-11-20T17:46:46",null,null,"Not assessed","https://viewer.us-3.sharpershape.services/viewer/assets/5ca5a2c6f6b4637c8aa04fdb/details","https://viewer.us-3.sharpershape.services/viewer/issues/5ecf8c94a03e6600013108dc/details","high","W12153046N3952733 WYANDOTTE 1105","[CoastalLiveOak, Other, MontereyPine]","CoastalLiveOak"]
[1151,"NORTHERN","NORTH VALLEY","Tier 2-3","102911105 Tier 2-3",102911105,"WYANDOTTE 1105",44,39.5259199999999,-121.514449999999,null,33.200000000000003,"W12151445N3952592",7.4,19.399999999999999,"NO","W12151463N3952642","W12151461N3952559","W12151461N3952559-W12151463N3952642",102911105,"WYANDOTTE 1105",null,"2019-11-20T17:46:46",null,null,"Not assessed","https://viewer.us-3.sharpershape.services/viewer/assets/5d8b1e4455dd6b5e853f3023/details","https://viewer.us-3.sharpershape.services/viewer/issues/5ecf8eb234b60c00015ec8f2/details","high","W12151445N3952592 WYANDOTTE 1105","[GrayPine, Other, DouglasFir]","GrayPine"]
[1152,"NORTHERN","NORTH VALLEY","Tier 2-3","102911105 Tier 2-3",102911105,"WYANDOTTE 1105",35.799999999999997,39.528770000000002,-121.520659999999,null,60.3,"W12152066N3952877",36.799999999999997,-11.5,"YES","W12152014N3952914","W12152053N3952877","W12152053N3952877-W12152014N3952914",102911105,"WYANDOTTE 1105",null,"2019-11-20T17:46:46",null,null,"Not assessed","https://viewer.us-3.sharpershape.services/viewer/assets/5ca5a2c6f6b463d0f3a04a55/details","https://viewer.us-3.sharpershape.services/viewer/issues/5ecf8c9734b60c00015ec1fa/details","high","W12152066N3952877 WYANDOTTE 1105","[GrayPine, Other, CoastalLiveOak]","GrayPine"]
[1153,"NORTHERN","NORTH VALLEY","Tier 0-1","102911105 Tier 0-1",102911105,"WYANDOTTE 1105",0.9,39.517699999999998,-121.5406,null,25,"W12154060N3951770",11,11.9,"NO","W12154034N3951798","W12154067N3951764","W12154067N3951764-W12154034N3951798",102911105,"WYANDOTTE 1105",null,"2019-11-20T17:46:46",null,null,"Not assessed","https://viewer.us-3.sharpershape.services/viewer/assets/5ca5a2c6f6b4636236a05070/details","https://viewer.us-3.sharpershape.services/viewer/issues/5ecf8e87a03e660001310fd6/details","high","W12154060N3951770 WYANDOTTE 1105","[GrayPine, DouglasFir, Other]","GrayPine"]
[1154,"NORTHERN","NORTH VALLEY","Tier 2-3","102911105 Tier 2-3",102911105,"WYANDOTTE 1105",48.5,39.531129999999898,-121.53636,null,47.8,"W12153636N3953113",27.8,9.6,"NO","W12153654N3953103","W12153654N3953154","W12153654N3953154-W12153654N3953103",102911105,"WYANDOTTE 1105",null,"2019-11-20T17:46:46",null,null,"Not assessed","https://viewer.us-3.sharpershape.services/viewer/assets/5ca5a2c6f6b463060ca04c49/details","https://viewer.us-3.sharpershape.services/viewer/issues/5ecf8c98a03e660001310b0b/details","high","W12153636N3953113 WYANDOTTE 1105","[CoastalLiveOak, Other, Eucalyptus/BlueGum]","CoastalLiveOak"]
[1155,"NORTHERN","NORTH VALLEY","Tier 2-3","102911105 Tier 2-3",102911105,"WYANDOTTE 1105",27,39.529959999999903,-121.52222999999999,null,37.399999999999899,"W12152223N3952996",11.7,0.5,"NO","W12152284N3952992","W12152184N3953012","W12152184N3953012-W12152284N3952992",102911105,"WYANDOTTE 1105",null,"2019-11-20T17:46:46",null,null,"Not assessed","https://viewer.us-3.sharpershape.services/viewer/assets/5ca5a2c6f6b4639636a0497c/details","https://viewer.us-3.sharpershape.services/viewer/issues/5ee2b4c2a03e66000146e452/details","high","W12152223N3952996 WYANDOTTE 1105","[DouglasFir, CoastalLiveOak, MontereyPine]","DouglasFir"]
[1156,"NORTHERN","NORTH VALLEY","Tier 2-3","102911105 Tier 2-3",102911105,"WYANDOTTE 1105",2.5,39.5219799999999,-121.53864,null,9.5,"W12153864N3952198",10.8,13.4,"NO","W12153812N3952205","W12153891N3952195","W12153891N3952195-W12153812N3952205",102911105,"WYANDOTTE 1105",null,"2019-11-20T17:46:46",null,null,"Not assessed","https://viewer.us-3.sharpershape.services/viewer/assets/5ca5a2c6f6b463d5b0a04bae/details","https://viewer.us-3.sharpershape.services/viewer/issues/5ecf9557a03e660001311fa6/details","high","W12153864N3952198 WYANDOTTE 1105","[Other, DouglasFir, LiveOak]","Other"]
[1157,"NORTHERN","NORTH VALLEY","Tier 0-1","102911105 Tier 0-1",102911105,"WYANDOTTE 1105",32.299999999999898,39.523330000000001,-121.51201,null,47.2,"W12151201N3952333",19.899999999999999,7.5,"NO","W12151196N3952324","W12151119N3952361","W12151119N3952361-W12151196N3952324",102911105,"WYANDOTTE 1105",null,"2019-11-20T17:46:46",null,null,"Not assessed","https://viewer.us-3.sharpershape.services/viewer/assets/5ca5a2c6f6b4638f7da04e40/details","https://viewer.us-3.sharpershape.services/viewer/issues/5ecf8c9634b60c00015ec11a/details","high","W12151201N3952333 WYANDOTTE 1105","[DouglasFir, LiveOak, Other]","DouglasFir"]
[1158,"NORTHERN","NORTH VALLEY","Tier 2-3","102911105 Tier 2-3",102911105,"WYANDOTTE 1105",13.2,39.672919999999898,-121.496929999999,null,20.100000000000001,"W12149693N3967292",6.8,7.2,"NO","W12149658N3967347","W12149755N3967217","W12149755N3967217-W12149658N3967347",0,"WYANDOTTE 1105",null,"2019-11-20T17:46:46",null,null,"Not assessed","https://viewer.us-3.sharpershape.services/viewer/assets/5ca5a2c6f6b463d89ea04e5a/details","https://viewer.us-3.sharpershape.services/viewer/issues/5ecf8c9834b60c00015ec2df/details","high","W12149693N3967292 WYANDOTTE 1105","[CoastalLiveOak, DouglasFir, Eucalyptus/BlueGum]","CoastalLiveOak"]
[1159,"NORTHERN","NORTH VALLEY","Tier 2-3","102911105 Tier 2-3",102911105,"WYANDOTTE 1105",0.4,39.5312699999999,-121.5407,null,37.1,"W12154070N3953127",7,7.4,"NO","W12154084N3953131","W12154060N3953123","W12154060N3953123-W12154084N3953131",102911105,"WYANDOTTE 1105",null,"2019-11-20T17:46:46",null,null,"Not assessed","https://viewer.us-3.sharpershape.services/viewer/assets/5ca5a2c6f6b463023fa051ec/details","https://viewer.us-3.sharpershape.services/viewer/issues/5ecf8ea7a03e6600013110ca/details","high","W12154070N3953127 WYANDOTTE 1105","[CoastalLiveOak, DouglasFir, MontereyPine]","CoastalLiveOak"]
[1160,"NORTHERN","NORTH VALLEY","Tier 2-3","102911105 Tier 2-3",102911105,"WYANDOTTE 1105",5.4,39.527920000000002,-121.532929999999,null,21.9,"W12153293N3952792",10.5,15.9,"NO","W12153270N3952789","W12153385N3952791","W12153385N3952791-W12153270N3952789",102911105,"WYANDOTTE 1105",null,"2019-11-20T17:46:46",null,null,"Not assessed","https://viewer.us-3.sharpershape.services/viewer/assets/5ca5a2c6f6b463466ba049bf/details","https://viewer.us-3.sharpershape.services/viewer/issues/5ecf8ed934b60c00015ec9fc/details","high","W12153293N3952792 WYANDOTTE 1105","[DouglasFir, MontereyPine, CoastalLiveOak]","DouglasFir"]
[1161,"NORTHERN","NORTH VALLEY","Tier 2-3","102911105 Tier 2-3",102911105,"WYANDOTTE 1105",22.1,39.5360599999999,-121.54246000000001,null,27,"W12154246N3953606",8.1999999999999904,0.8,"NO","W12154253N3953660","W12154256N3953592","W12154256N3953592-W12154253N3953660",102911105,"WYANDOTTE 1105",null,"2019-11-20T17:46:46",null,null,"Not assessed","https://viewer.us-3.sharpershape.services/viewer/assets/5ca5a2c6f6b4630e63a05050/details","https://viewer.us-3.sharpershape.services/viewer/issues/5ecf8c9834b60c00015ec254/details","high","W12154246N3953606 WYANDOTTE 1105"]
[1162,"NORTHERN","NORTH VALLEY","Tier 2-3","102911105 Tier 2-3",102911105,"WYANDOTTE 1105",89.4,39.528680000000001,-121.52083,null,94.9,"W12152083N3952868",76.5,-1.3,"YES","W12152014N3952914","W12152053N3952877","W12152053N3952877-W12152014N3952914",102911105,"WYANDOTTE 1105",null,"2019-11-20T17:46:46",null,null,"Not assessed","https://viewer.us-3.sharpershape.services/viewer/assets/5ca5a2c6f6b463d0f3a04a55/details","https://viewer.us-3.sharpershape.services/viewer/issues/5ecf8c9734b60c00015ec202/details","high","W12152083N3952868 WYANDOTTE 1105","[GrayPine, Other, ValleyOak]","GrayPine"]
[1163,"NORTHERN","NORTH VALLEY","Tier 2-3","102911105 Tier 2-3",102911105,"WYANDOTTE 1105",33.899999999999899,39.530459999999898,-121.52589999999999,null,34.399999999999899,"W12152590N3953046",4.4000000000000004,4.8,"NO","W12152603N3952974","W12152603N3953064","W12152603N3953064-W12152603N3952974",102911105,"WYANDOTTE 1105",null,"2019-11-20T17:46:46",null,null,"Not assessed","https://viewer.us-3.sharpershape.services/viewer/assets/5ca5a2c6f6b463cd78a04dbd/details","https://viewer.us-3.sharpershape.services/viewer/issues/5ecf8c98a03e660001310bdf/details","high","W12152590N3953046 WYANDOTTE 1105","[MontereyPine, GrayPine, DouglasFir]","MontereyPine"]
[1164,"NORTHERN","NORTH VALLEY","Tier 2-3","102911105 Tier 2-3",102911105,"WYANDOTTE 1105",29.3,39.530719999999903,-121.53754000000001,null,39.700000000000003,"W12153754N3953072",20.1999999999999,3.2,"NO","W12153771N3953063","W12153655N3953063","W12153655N3953063-W12153771N3953063",102911105,"WYANDOTTE 1105",null,"2019-11-20T17:46:46",null,null,"Not assessed","https://viewer.us-3.sharpershape.services/viewer/assets/5ca5a2c6f6b4639bcca05130/details","https://viewer.us-3.sharpershape.services/viewer/issues/5ecf8c91a03e66000131081d/details","high","W12153754N3953072 WYANDOTTE 1105","[LiveOak, GrayPine, MontereyPine]","LiveOak"]
[1165,"NORTHERN","NORTH VALLEY","Tier 2-3","102911105 Tier 2-3",102911105,"WYANDOTTE 1105",21.9,39.526739999999897,-121.5318,null,43.899999999999899,"W12153180N3952674",6.9,-5.7,"YES","W12153152N3952699","W12153224N3952655","W12153224N3952655-W12153152N3952699",102911105,"WYANDOTTE 1105",null,"2019-11-20T17:46:46",null,null,"Not assessed","https://viewer.us-3.sharpershape.services/viewer/assets/5ca5a2c6f6b46367dca04ab1/details","https://viewer.us-3.sharpershape.services/viewer/issues/5ecf8c9734b60c00015ec219/details","high","W12153180N3952674 WYANDOTTE 1105","[ValleyOak, GrayPine, MontereyPine]","ValleyOak"]
[1166,"NORTHERN","NORTH VALLEY","Tier 2-3","102911105 Tier 2-3",102911105,"WYANDOTTE 1105",29.6999999999999,39.524500000000003,-121.53707,null,48.8,"W12153707N3952450",9.1999999999999993,-3.8,"YES","W12153716N3952455","W12153751N3952386","W12153751N3952386-W12153716N3952455",102911105,"WYANDOTTE 1105",null,"2019-11-20T17:46:46",null,null,"Not assessed","https://viewer.us-3.sharpershape.services/viewer/assets/5ca5a2c6f6b46351f2a04ede/details","https://viewer.us-3.sharpershape.services/viewer/issues/5ecf8c9634b60c00015ec16f/details","high","W12153707N3952450 WYANDOTTE 1105","[DouglasFir, CoastalLiveOak, Eucalyptus/BlueGum]","DouglasFir"]
[1167,"NORTHERN","NORTH VALLEY","Tier 2-3","102911105 Tier 2-3",102911105,"WYANDOTTE 1105",18.8,39.531129999999898,-121.536469999999,null,54.399999999999899,"W12153647N3953113",5.3,-17.5,"YES","W12153654N3953103","W12153654N3953154","W12153654N3953154-W12153654N3953103",102911105,"WYANDOTTE 1105",null,"2019-11-20T17:46:46","OH",null,"Not assessed","https://viewer.us-3.sharpershape.services/viewer/assets/5ca5a2c6f6b463060ca04c49/details","https://viewer.us-3.sharpershape.services/viewer/issues/5ecf8c98a03e660001310b0c/details","high","W12153647N3953113 WYANDOTTE 1105","[CoastalLiveOak, Other, Eucalyptus/BlueGum]","CoastalLiveOak"]
[1168,"NORTHERN","NORTH VALLEY","Tier 2-3","102911105 Tier 2-3",102911105,"WYANDOTTE 1105",10.199999999999999,39.531669999999899,-121.53649,null,46.6,"W12153649N3953167",5.4,-14.9,"YES","W12153654N3953154","W12153655N3953211","W12153655N3953211-W12153654N3953154",102911105,"WYANDOTTE 1105",null,"2019-11-20T17:46:46","OH",null,"Not assessed","https://viewer.us-3.sharpershape.services/viewer/assets/5ca5a2c6f6b463875ba04bda/details","https://viewer.us-3.sharpershape.services/viewer/issues/5ecf8c9534b60c00015ec08c/details","high","W12153649N3953167 WYANDOTTE 1105","[Other, CoastalLiveOak, Eucalyptus/BlueGum]","Other"]
[1169,"NORTHERN","NORTH VALLEY","Tier 2-3","102911105 Tier 2-3",102911105,"WYANDOTTE 1105",50.399999999999899,39.531439999999897,-121.517989999999,null,48.899999999999899,"W12151799N3953144",33.700000000000003,9.1,"NO","W12151822N3953157","W12151765N3953162","W12151765N3953162-W12151822N3953157",102911105,"WYANDOTTE 1105",null,"2019-11-20T17:46:46",null,null,"Not assessed","https://viewer.us-3.sharpershape.services/viewer/assets/5ca5a2c6f6b463f67aa051de/details","https://viewer.us-3.sharpershape.services/viewer/issues/5ecf8c9734b60c00015ec1a2/details","high","W12151799N3953144 WYANDOTTE 1105","[CoastalLiveOak, Other, BlackOak]","CoastalLiveOak"]
[1170,"NORTHERN","NORTH VALLEY","Tier 2-3","102911105 Tier 2-3",102911105,"WYANDOTTE 1105",0.6,39.526179999999897,-121.53288000000001,null,34.899999999999899,"W12153288N3952618",6.2,6.7,"NO","W12153224N3952655","W12153295N3952615","W12153295N3952615-W12153224N3952655",102911105,"WYANDOTTE 1105",null,"2019-11-20T17:46:46",null,null,"Not assessed","https://viewer.us-3.sharpershape.services/viewer/assets/5ca5a2c6f6b4635390a04a71/details","https://viewer.us-3.sharpershape.services/viewer/issues/5ecf8ee0a03e66000131125c/details","high","W12153288N3952618 WYANDOTTE 1105","[GrayPine, DouglasFir, Other]","GrayPine"]
[1171,"NORTHERN","NORTH VALLEY","Tier 2-3","102911105 Tier 2-3",102911105,"WYANDOTTE 1105",20.1999999999999,39.531129999999898,-121.53215,null,24.3,"W12153215N3953113",14.6,9,"NO","W12153206N3953153","W12153207N3953097","W12153207N3953097-W12153206N3953153",102911105,"WYANDOTTE 1105",null,"2019-11-20T17:46:46",null,null,"Not assessed","https://viewer.us-3.sharpershape.services/viewer/assets/5ca5a2c6f6b463f9cfa04c7e/details","https://viewer.us-3.sharpershape.services/viewer/issues/5ecf8c98a03e660001310b43/details","high","W12153215N3953113 WYANDOTTE 1105","[GrayPine, DouglasFir, MontereyPine]","GrayPine"]
[1172,"NORTHERN","NORTH VALLEY","Tier 2-3","102911105 Tier 2-3",102911105,"WYANDOTTE 1105",29.4,39.535910000000001,-121.542429999999,null,65.599999999999895,"W12154243N3953591",12,-31.3,"YES","W12154256N3953592","W12154242N3953570","W12154242N3953570-W12154256N3953592",102911105,"WYANDOTTE 1105",null,"2019-11-20T17:46:46","OH",null,"Not assessed","https://viewer.us-3.sharpershape.services/viewer/assets/5ca5a2c6f6b4638a06a050ea/details","https://viewer.us-3.sharpershape.services/viewer/issues/5ecf8c95a03e66000131096b/details","high","W12154243N3953591 WYANDOTTE 1105","[Other, LiveOak, GrayPine]","Other"]
[1173,"NORTHERN","NORTH VALLEY","Tier 2-3","102911105 Tier 2-3",102911105,"WYANDOTTE 1105",22.1,39.532249999999898,-121.53197,null,62.6,"W12153197N3953225",12,-30.8,"YES","W12153205N3953245","W12153206N3953192","W12153206N3953192-W12153205N3953245",102911105,"WYANDOTTE 1105",null,"2019-11-20T17:46:46",null,null,"Not assessed","https://viewer.us-3.sharpershape.services/viewer/assets/5ca5a2c6f6b463299fa04cf2/details","https://viewer.us-3.sharpershape.services/viewer/issues/5ecf8c9934b60c00015ec376/details","high","W12153197N3953225 WYANDOTTE 1105","[GrayPine, Other, DouglasFir]","GrayPine"]
[1174,"NORTHERN","NORTH VALLEY","Tier 2-3","102911105 Tier 2-3",102911105,"WYANDOTTE 1105",0.4,39.532200000000003,-121.532049999999,null,25.4,"W12153205N3953220",6,6.4,"NO","W12153205N3953245","W12153206N3953192","W12153206N3953192-W12153205N3953245",102911105,"WYANDOTTE 1105",null,"2019-11-20T17:46:46",null,null,"Not assessed","https://viewer.us-3.sharpershape.services/viewer/assets/5ca5a2c6f6b463299fa04cf2/details","https://viewer.us-3.sharpershape.services/viewer/issues/5ecf959ea03e6600013120e0/details","high","W12153205N3953220 WYANDOTTE 1105","[CoastalLiveOak, DouglasFir, Eucalyptus/BlueGum]","CoastalLiveOak"]
[1175,"NORTHERN","NORTH VALLEY","Tier 2-3","102911105 Tier 2-3",102911105,"WYANDOTTE 1105",49.399999999999899,39.53275,-121.525869999999,null,84.1,"W12152587N3953275",30.1,-30.8,"YES","W12152605N3953285","W12152605N3953235","W12152605N3953235-W12152605N3953285",102911105,"WYANDOTTE 1105",null,"2019-11-20T17:46:46",null,null,"Not assessed","https://viewer.us-3.sharpershape.services/viewer/assets/5e1c22f1942b994ca37b032f/details","https://viewer.us-3.sharpershape.services/viewer/issues/5ecfe7bc34b60c000160de4e/details","high","W12152587N3953275 WYANDOTTE 1105","[MontereyPine, ValleyOak, Other]","MontereyPine"]
[1176,"NORTHERN","NORTH VALLEY","Tier 0-1","102911105 Tier 0-1",102911105,"WYANDOTTE 1105",19.399999999999999,39.523620000000001,-121.511309999999,null,39.700000000000003,"W12151131N3952362",5.5,-0.5,"YES","W12151196N3952324","W12151119N3952361","W12151119N3952361-W12151196N3952324",102911105,"WYANDOTTE 1105",null,"2019-11-20T17:46:46",null,null,"Not assessed","https://viewer.us-3.sharpershape.services/viewer/assets/5ca5a2c6f6b4638f7da04e40/details","https://viewer.us-3.sharpershape.services/viewer/issues/5ecf8c9634b60c00015ec10e/details","high","W12151131N3952362 WYANDOTTE 1105","[DouglasFir, LiveOak, ValleyOak]","DouglasFir"]
[1177,"NORTHERN","NORTH VALLEY","Tier 2-3","102911105 Tier 2-3",102911105,"WYANDOTTE 1105",20.399999999999999,39.652389999999897,-121.507159999999,null,40.5,"W12150716N3965239",12,-1.1000000000000001,"YES","W12150742N3965186","W12150660N3965474","W12150660N3965474-W12150742N3965186",102911105,"WYANDOTTE 1105",null,"2019-11-20T17:46:46",null,null,"Not assessed","https://viewer.us-3.sharpershape.services/viewer/assets/5d88b9de6476d776cb5dd20b/details","https://viewer.us-3.sharpershape.services/viewer/issues/5ecf8c9a34b60c00015ec3c6/details","high","W12150716N3965239 WYANDOTTE 1105"]
[1178,"NORTHERN","NORTH VALLEY","Tier 2-3","102911105 Tier 2-3",102911105,"WYANDOTTE 1105",27.1,39.530969999999897,-121.53918,null,30.1,"W12153918N3953097",5.4,17.399999999999999,"NO","W12153907N3953103","W12153908N3953063","W12153908N3953063-W12153907N3953103",102911105,"WYANDOTTE 1105",null,"2019-11-20T17:46:46",null,null,"Not assessed","https://viewer.us-3.sharpershape.services/viewer/assets/5ca5a2c6f6b463538ea050f7/details","https://viewer.us-3.sharpershape.services/viewer/issues/5ecf954fa03e660001311f40/details","high","W12153918N3953097 WYANDOTTE 1105"]
[1179,"NORTHERN","NORTH VALLEY","Tier 2-3","102911105 Tier 2-3",102911105,"WYANDOTTE 1105",30.6999999999999,39.530389999999898,-121.532809999999,null,63.899999999999899,"W12153281N3953039",7.7,-20.5,"YES","W12153323N3953048","W12153269N3953048","W12153269N3953048-W12153323N3953048",102911105,"WYANDOTTE 1105",null,"2019-11-20T17:46:46",null,null,"Not assessed","https://viewer.us-3.sharpershape.services/viewer/assets/5ca5a2c6f6b4636013a051bf/details","https://viewer.us-3.sharpershape.services/viewer/issues/5ecf8c9834b60c00015ec28f/details","high","W12153281N3953039 WYANDOTTE 1105","[GrayPine, DouglasFir, LiveOak]","GrayPine"]
[1180,"NORTHERN","NORTH VALLEY","Tier 2-3","102911105 Tier 2-3",102911105,"WYANDOTTE 1105",39,39.532409999999899,-121.53404,null,73,"W12153404N3953241",17.5,-20.6,"YES","W12153419N3953235","W12153421N3953300","W12153421N3953300-W12153419N3953235",102911105,"WYANDOTTE 1105",null,"2019-11-20T17:46:46",null,null,"Not assessed","https://viewer.us-3.sharpershape.services/viewer/assets/5ca5a2c6f6b4635c05a05132/details","https://viewer.us-3.sharpershape.services/viewer/issues/5ee2b42f34b60c0001746b64/details","high","W12153404N3953241 WYANDOTTE 1105","[GrayPine, DouglasFir, TanOak]","GrayPine"]
[1181,"NORTHERN","NORTH VALLEY","Tier 2-3","102911105 Tier 2-3",102911105,"WYANDOTTE 1105",17.899999999999999,39.531410000000001,-121.518479999999,null,39.399999999999899,"W12151848N3953141",10.1,0.7,"NO","W12151868N3953111","W12151822N3953157","W12151822N3953157-W12151868N3953111",102911105,"WYANDOTTE 1105",null,"2019-11-20T17:46:46",null,null,"Not assessed","https://viewer.us-3.sharpershape.services/viewer/assets/5ca5a2c6f6b4630821a04f40/details","https://viewer.us-3.sharpershape.services/viewer/issues/5ecf8c9334b60c00015ec01a/details","high","W12151848N3953141 WYANDOTTE 1105","[CoastalLiveOak, DouglasFir, Other]","CoastalLiveOak"]
[1182,"NORTHERN","NORTH VALLEY","Tier 2-3","102911105 Tier 2-3",102911105,"WYANDOTTE 1105",54.2,39.540709999999898,-121.54236,null,47.2,"W12154236N3954071",32,7.1,"NO","W12154249N3954102","W12154258N3954066","W12154258N3954066-W12154249N3954102",102911105,"WYANDOTTE 1105",null,"2019-11-20T17:46:46",null,null,"Not assessed","https://viewer.us-3.sharpershape.services/viewer/assets/5ca5a2c6f6b4638a8aa050a6/details","https://viewer.us-3.sharpershape.services/viewer/issues/5ecf8c96a03e660001310978/details","high","W12154236N3954071 WYANDOTTE 1105","[DouglasFir, CoastalLiveOak, Eucalyptus/BlueGum]","DouglasFir"]
[1183,"NORTHERN","NORTH VALLEY","Tier 2-3","102911105 Tier 2-3",102911105,"WYANDOTTE 1105",25.5,39.526219999999903,-121.520669999999,null,27.9,"W12152067N3952622",10,22,"NO","W12152064N3952615","W12152124N3952614","W12152124N3952614-W12152064N3952615",102911105,"WYANDOTTE 1105",null,"2019-11-20T17:46:46",null,null,"Not assessed","https://viewer.us-3.sharpershape.services/viewer/assets/5ca5a2c6f6b463c7cfa0501b/details","https://viewer.us-3.sharpershape.services/viewer/issues/5ecf8ed734b60c00015ec9d4/details","high","W12152067N3952622 WYANDOTTE 1105","[GrayPine, DouglasFir, TanOak]","GrayPine"]
[1184,"NORTHERN","NORTH VALLEY","Tier 2-3","102911105 Tier 2-3",102911105,"WYANDOTTE 1105",46.6,39.527099999999997,-121.529169999999,null,89.1,"W12152917N3952710",29.5,-35,"YES","W12152907N3952726","W12152971N3952716","W12152971N3952716-W12152907N3952726",102911105,"WYANDOTTE 1105",null,"2019-11-20T17:46:46",null,null,"Not assessed","https://viewer.us-3.sharpershape.services/viewer/assets/5ca5a2c6f6b4635805a04cab/details","https://viewer.us-3.sharpershape.services/viewer/issues/5ecf8c9734b60c00015ec1e8/details","high","W12152917N3952710 WYANDOTTE 1105","[GrayPine, Other, ValleyOak]","GrayPine"]
[1185,"NORTHERN","NORTH VALLEY","Tier 2-3","102911105 Tier 2-3",102911105,"WYANDOTTE 1105",13.1,39.531559999999899,-121.539569999999,null,48.7,"W12153957N3953156",8.4,-10.7,"YES","W12153907N3953151","W12153966N3953151","W12153966N3953151-W12153907N3953151",102911105,"WYANDOTTE 1105",null,"2019-11-20T17:46:46",null,null,"Not assessed","https://viewer.us-3.sharpershape.services/viewer/assets/5ca5a2c6f6b463a79da04e35/details","https://viewer.us-3.sharpershape.services/viewer/issues/5ecf8c9234b60c00015ebfef/details","high","W12153957N3953156 WYANDOTTE 1105","[DouglasFir, Other, CoastalLiveOak]","DouglasFir"]
[1186,"NORTHERN","NORTH VALLEY","Tier 2-3","102911105 Tier 2-3",102911105,"WYANDOTTE 1105",26.3,39.528639999999903,-121.527109999999,null,56.8,"W12152711N3952864",13.3,-6.8,"YES","W12152680N3952875","W12152750N3952825","W12152750N3952825-W12152680N3952875",102911105,"WYANDOTTE 1105",null,"2019-11-20T17:46:46",null,null,"Not assessed","https://viewer.us-3.sharpershape.services/viewer/assets/5ca5a2c6f6b46337c2a04be5/details","https://viewer.us-3.sharpershape.services/viewer/issues/5ecf8c9634b60c00015ec0f7/details","high","W12152711N3952864 WYANDOTTE 1105","[GrayPine, DouglasFir, Other]","GrayPine"]
[1187,"NORTHERN","NORTH VALLEY","Tier 2-3","102911105 Tier 2-3",102911105,"WYANDOTTE 1105",68.900000000000006,39.52704,-121.52919,null,70.5,"W12152919N3952704",52.399999999999899,2.2000000000000002,"NO","W12152907N3952726","W12152971N3952716","W12152971N3952716-W12152907N3952726",102911105,"WYANDOTTE 1105",null,"2019-11-20T17:46:46",null,null,"Not assessed","https://viewer.us-3.sharpershape.services/viewer/assets/5ca5a2c6f6b4635805a04cab/details","https://viewer.us-3.sharpershape.services/viewer/issues/5ecf8c9734b60c00015ec1e1/details","high","W12152919N3952704 WYANDOTTE 1105"]
[1188,"NORTHERN","NORTH VALLEY","Tier 2-3","102911105 Tier 2-3",102911105,"WYANDOTTE 1105",57.1,39.534889999999898,-121.542439999999,null,95,"W12154244N3953489",44.3,-17.1999999999999,"YES","W12154214N3953455","W12154230N3953520","W12154230N3953520-W12154214N3953455",102911105,"WYANDOTTE 1105",null,"2019-11-20T17:46:46",null,null,"Not assessed","https://viewer.us-3.sharpershape.services/viewer/assets/5ca5a2c6f6b4638e61a05162/details","https://viewer.us-3.sharpershape.services/viewer/issues/5ecf8c9534b60c00015ec0b0/details","high","W12154244N3953489 WYANDOTTE 1105","[DouglasFir, GrayPine, Eucalyptus/BlueGum]","DouglasFir"]
[1189,"NORTHERN","NORTH VALLEY","Tier 2-3","102911105 Tier 2-3",102911105,"WYANDOTTE 1105",60,39.531210000000002,-121.53184,null,82.9,"W12153184N3953121",43,-19.600000000000001,"YES","W12153206N3953153","W12153207N3953097","W12153207N3953097-W12153206N3953153",102911105,"WYANDOTTE 1105",null,"2019-11-20T17:46:46",null,null,"Not assessed","https://viewer.us-3.sharpershape.services/viewer/assets/5ca5a2c6f6b463f9cfa04c7e/details","https://viewer.us-3.sharpershape.services/viewer/issues/5ecf8c98a03e660001310b31/details","high","W12153184N3953121 WYANDOTTE 1105","[Eucalyptus/BlueGum, GrayPine, DouglasFir]","Eucalyptus/BlueGum"]
[1190,"NORTHERN","NORTH VALLEY","Tier 2-3","102911105 Tier 2-3",102911105,"WYANDOTTE 1105",38.299999999999997,39.5321,-121.5322,null,52.3,"W12153220N3953210",32.200000000000003,-4.5999999999999996,"YES","W12153205N3953245","W12153206N3953192","W12153206N3953192-W12153205N3953245",102911105,"WYANDOTTE 1105",null,"2019-11-20T17:46:46",null,null,"Not assessed","https://viewer.us-3.sharpershape.services/viewer/assets/5ca5a2c6f6b463299fa04cf2/details","https://viewer.us-3.sharpershape.services/viewer/issues/5ecf8c9934b60c00015ec381/details","high","W12153220N3953210 WYANDOTTE 1105","[GrayPine, MontereyPine, Eucalyptus/BlueGum]","GrayPine"]
[1191,"NORTHERN","NORTH VALLEY","Tier 2-3","102911105 Tier 2-3",102911105,"WYANDOTTE 1105",38.899999999999899,39.529379999999897,-121.525829999999,null,25.1,"W12152583N3952938",10.4,22.4,"NO","W12152596N3952916","W12152603N3952974","W12152603N3952974-W12152596N3952916",102911105,"WYANDOTTE 1105",null,"2019-11-20T17:46:46",null,null,"Not assessed","https://viewer.us-3.sharpershape.services/viewer/assets/5ca5a2c6f6b463c9e0a0514e/details","https://viewer.us-3.sharpershape.services/viewer/issues/5ecf8ec2a03e660001311166/details","high","W12152583N3952938 WYANDOTTE 1105","[MontereyPine, LiveOak, DouglasFir]","MontereyPine"]
[1192,"NORTHERN","NORTH VALLEY","Tier 2-3","102911105 Tier 2-3",102911105,"WYANDOTTE 1105",11.8,39.530589999999897,-121.53784,null,30.1999999999999,"W12153784N3953059",8.6,5.9,"NO","W12153771N3953063","W12153843N3953063","W12153843N3953063-W12153771N3953063",102911105,"WYANDOTTE 1105",null,"2019-11-20T17:46:46",null,null,"Not assessed","https://viewer.us-3.sharpershape.services/viewer/assets/5ca5a2c6f6b4638d7aa04e91/details","https://viewer.us-3.sharpershape.services/viewer/issues/5ecf8c96a03e6600013109a1/details","high","W12153784N3953059 WYANDOTTE 1105","[LiveOak, DouglasFir, TanOak]","LiveOak"]
[1193,"NORTHERN","NORTH VALLEY","Tier 2-3","102911105 Tier 2-3",102911105,"WYANDOTTE 1105",35.200000000000003,39.531500000000001,-121.517789999999,null,50.2,"W12151779N3953150",11.3,-3.9,"YES","W12151822N3953157","W12151765N3953162","W12151765N3953162-W12151822N3953157",102911105,"WYANDOTTE 1105",null,"2019-11-20T17:46:46",null,null,"Not assessed","https://viewer.us-3.sharpershape.services/viewer/assets/5ca5a2c6f6b463f67aa051de/details","https://viewer.us-3.sharpershape.services/viewer/issues/5ecf8c9734b60c00015ec19b/details","high","W12151779N3953150 WYANDOTTE 1105","[CoastalLiveOak, DouglasFir, Other]","CoastalLiveOak"]
[1194,"NORTHERN","NORTH VALLEY","Tier 2-3","102911105 Tier 2-3",102911105,"WYANDOTTE 1105",20.8,39.530629999999903,-121.51966,null,39,"W12151966N3953063",9.3000000000000007,-3.4,"YES","W12151923N3953089","W12152005N3953021","W12152005N3953021-W12151923N3953089",102911105,"WYANDOTTE 1105",null,"2019-11-20T17:46:46",null,null,"Not assessed","https://viewer.us-3.sharpershape.services/viewer/assets/5ca5a2c6f6b46307baa0515f/details","https://viewer.us-3.sharpershape.services/viewer/issues/5ecf8c93a03e6600013108c8/details","high","W12151966N3953063 WYANDOTTE 1105","[ValleyOak, GrayPine, Other]","ValleyOak"]
[1195,"NORTHERN","NORTH VALLEY","Tier 2-3","102911105 Tier 2-3",102911105,"WYANDOTTE 1105",27.3,39.528169999999903,-121.52745,null,31.3,"W12152745N3952817",14,9.1,"NO","W12152750N3952825","W12152800N3952774","W12152800N3952774-W12152750N3952825",102911105,"WYANDOTTE 1105",null,"2019-11-20T17:46:46",null,null,"Not assessed","https://viewer.us-3.sharpershape.services/viewer/assets/5ca5a2c6f6b4634ff7a05112/details","https://viewer.us-3.sharpershape.services/viewer/issues/5ecf8c9434b60c00015ec04d/details","high","W12152745N3952817 WYANDOTTE 1105","[GrayPine, Eucalyptus/BlueGum, MontereyPine]","GrayPine"]
[1196,"NORTHERN","NORTH VALLEY","Tier 2-3","102911105 Tier 2-3",102911105,"WYANDOTTE 1105",5.6,39.531779999999898,-121.536569999999,null,21.9,"W12153657N3953178",10,15.5,"NO","W12153654N3953154","W12153655N3953211","W12153655N3953211-W12153654N3953154",102911105,"WYANDOTTE 1105",null,"2019-11-20T17:46:46",null,null,"Not assessed","https://viewer.us-3.sharpershape.services/viewer/assets/5ca5a2c6f6b463875ba04bda/details","https://viewer.us-3.sharpershape.services/viewer/issues/5ecf8f0634b60c00015ecb18/details","high","W12153657N3953178 WYANDOTTE 1105","[Other, DouglasFir, CoastalLiveOak]","Other"]
[1197,"NORTHERN","NORTH VALLEY","Tier 0-1","102911105 Tier 0-1",102911105,"WYANDOTTE 1105",18.899999999999999,39.523040000000002,-121.53757,null,39.5,"W12153757N3952304",9.8000000000000007,5.4,"NO","W12153761N3952311","W12153775N3952283","W12153775N3952283-W12153761N3952311",102911105,"WYANDOTTE 1105",null,"2019-11-20T17:46:46",null,null,"Not assessed","https://viewer.us-3.sharpershape.services/viewer/assets/5ca5a2c6f6b463b271a05203/details","https://viewer.us-3.sharpershape.services/viewer/issues/5ecf8c91a03e660001310830/details","high","W12153757N3952304 WYANDOTTE 1105","[GrayPine, DouglasFir, Other]","GrayPine"]
[1198,"NORTHERN","NORTH VALLEY","Tier 2-3","102911105 Tier 2-3",102911105,"WYANDOTTE 1105",33.6,39.532629999999898,-121.53667,null,35.700000000000003,"W12153667N3953263",10.5,22.5,"NO","W12153655N3953283","W12153655N3953245","W12153655N3953245-W12153655N3953283",102911105,"WYANDOTTE 1105",null,"2019-11-20T17:46:46",null,null,"Not assessed","https://viewer.us-3.sharpershape.services/viewer/assets/5ca5a2c6f6b463379ea04ebb/details","https://viewer.us-3.sharpershape.services/viewer/issues/5ecf9556a03e660001311f84/details","high","W12153667N3953263 WYANDOTTE 1105","[Other, DouglasFir, LiveOak]","Other"]
[1199,"NORTHERN","NORTH VALLEY","Tier 2-3","102911105 Tier 2-3",102911105,"WYANDOTTE 1105",12.5,39.52787,-121.53377,null,39.6,"W12153377N3952787",8.4,4.3,"NO","W12153270N3952789","W12153385N3952791","W12153385N3952791-W12153270N3952789",102911105,"WYANDOTTE 1105",null,"2019-11-20T17:46:46",null,null,"Not assessed","https://viewer.us-3.sharpershape.services/viewer/assets/5ca5a2c6f6b463466ba049bf/details","https://viewer.us-3.sharpershape.services/viewer/issues/5ecf8c9334b60c00015ec041/details","high","W12153377N3952787 WYANDOTTE 1105","[CoastalLiveOak, Other, Eucalyptus/BlueGum]","CoastalLiveOak"]
[1200,"NORTHERN","NORTH VALLEY","Tier 0-1","102911105 Tier 0-1",102911105,"WYANDOTTE 1105",57.7,39.524709999999899,-121.52240999999999,null,73.5,"W12152241N3952471",41.7,-1.4,"YES","W12152293N3952453","W12152223N3952454","W12152223N3952454-W12152293N3952453",102911105,"WYANDOTTE 1105",null,"2019-11-20T17:46:46",null,null,"Not assessed","https://viewer.us-3.sharpershape.services/viewer/assets/5ca5a2c6f6b4634c38a04c9a/details","https://viewer.us-3.sharpershape.services/viewer/issues/5ecf8c9634b60c00015ec107/details","high","W12152241N3952471 WYANDOTTE 1105","[Other, GrayPine, CoastalLiveOak]","Other"]
[1201,"NORTHERN","NORTH VALLEY","Tier 2-3","102911105 Tier 2-3",102911105,"WYANDOTTE 1105",11.5,39.524999999999899,-121.51464,null,34.299999999999997,"W12151464N3952500",3.9,-2.2999999999999998,"YES","W12151459N3952471","W12151461N3952559","W12151461N3952559-W12151459N3952471",102911105,"WYANDOTTE 1105",null,"2019-11-20T17:46:46",null,null,"Not assessed","https://viewer.us-3.sharpershape.services/viewer/assets/5d8b1e506476d7eadd5dd3a0/details","https://viewer.us-3.sharpershape.services/viewer/issues/5ecf8c9934b60c00015ec36e/details","high","W12151464N3952500 WYANDOTTE 1105","[GrayPine, MontereyPine, ValleyOak]","GrayPine"]
[1202,"NORTHERN","NORTH VALLEY","Tier 0-1","102911105 Tier 0-1",102911105,"WYANDOTTE 1105",18.6999999999999,39.525619999999897,-121.533799999999,null,34.700000000000003,"W12153380N3952562",9.8000000000000007,5.5,"NO","W12153390N3952564","W12153345N3952585","W12153345N3952585-W12153390N3952564",102911105,"WYANDOTTE 1105",null,"2019-11-20T17:46:46",null,null,"Not assessed","https://viewer.us-3.sharpershape.services/viewer/assets/5ca5a2c6f6b463a435a04e28/details","https://viewer.us-3.sharpershape.services/viewer/issues/5ecf8c91a03e660001310838/details","high","W12153380N3952562 WYANDOTTE 1105","[Other, GrayPine, DouglasFir]","Other"]
[1203,"NORTHERN","NORTH VALLEY","Tier 2-3","102911105 Tier 2-3",102911105,"WYANDOTTE 1105",46.5,39.537300000000002,-121.542329999999,null,50.899999999999899,"W12154233N3953730",37.1,-2.2999999999999998,"YES","W12154253N3953660","W12154250N3953758","W12154250N3953758-W12154253N3953660",102911105,"WYANDOTTE 1105",null,"2019-11-20T17:46:46",null,null,"Not assessed","https://viewer.us-3.sharpershape.services/viewer/assets/5ca5a2c6f6b4637989a05102/details","https://viewer.us-3.sharpershape.services/viewer/issues/5ecf8c9734b60c00015ec1b2/details","high","W12154233N3953730 WYANDOTTE 1105","[GrayPine, Other, Eucalyptus/BlueGum]","GrayPine"]
[1204,"NORTHERN","NORTH VALLEY","Tier 2-3","102911105 Tier 2-3",102911105,"WYANDOTTE 1105",20.5,39.527279999999898,-121.53,null,38.1,"W12153000N3952728",10.5,7.5,"NO","W12152971N3952716","W12153054N3952731","W12153054N3952731-W12152971N3952716",102911105,"WYANDOTTE 1105",null,"2019-11-20T17:46:46",null,null,"Not assessed","https://viewer.us-3.sharpershape.services/viewer/assets/5ca5a2c6f6b4637c8aa04fdb/details","https://viewer.us-3.sharpershape.services/viewer/issues/5ecf8c94a03e6600013108de/details","high","W12153000N3952728 WYANDOTTE 1105","[Other, GrayPine, DouglasFir]","Other"]
[1205,"NORTHERN","NORTH VALLEY","Tier 2-3","102911105 Tier 2-3",102911105,"WYANDOTTE 1105",23.8,39.536650000000002,-121.542429999999,null,99.1,"W12154243N3953665",12,-71.099999999999994,"YES","W12154253N3953660","W12154250N3953758","W12154250N3953758-W12154253N3953660",102911105,"WYANDOTTE 1105",null,"2019-11-20T17:46:46","OH",null,"Not assessed","https://viewer.us-3.sharpershape.services/viewer/assets/5ca5a2c6f6b4637989a05102/details","https://viewer.us-3.sharpershape.services/viewer/issues/5ecf8c9734b60c00015ec1af/details","high","W12154243N3953665 WYANDOTTE 1105","[GrayPine, DouglasFir, Other]","GrayPine"]
[1206,"NORTHERN","NORTH VALLEY","Tier 2-3","102911105 Tier 2-3",102911105,"WYANDOTTE 1105",0.4,39.524159999999902,-121.537369999999,null,29.6,"W12153737N3952416",4.7,5.2,"NO","W12153716N3952455","W12153751N3952386","W12153751N3952386-W12153716N3952455",102911105,"WYANDOTTE 1105",null,"2019-11-20T17:46:46",null,null,"Not assessed","https://viewer.us-3.sharpershape.services/viewer/assets/5ca5a2c6f6b46351f2a04ede/details","https://viewer.us-3.sharpershape.services/viewer/issues/5ecf95d7a03e660001312158/details","high","W12153737N3952416 WYANDOTTE 1105","[CoastalLiveOak, Other, DouglasFir]","CoastalLiveOak"]
[1207,"NORTHERN","NORTH VALLEY","Tier 2-3","102911105 Tier 2-3",102911105,"WYANDOTTE 1105",23.8,39.5242,-121.53744,null,33.899999999999899,"W12153744N3952420",5,9.1999999999999993,"NO","W12153716N3952455","W12153751N3952386","W12153751N3952386-W12153716N3952455",102911105,"WYANDOTTE 1105",null,"2019-11-20T17:46:46",null,null,"Not assessed","https://viewer.us-3.sharpershape.services/viewer/assets/5ca5a2c6f6b46351f2a04ede/details","https://viewer.us-3.sharpershape.services/viewer/issues/5ecf8c9634b60c00015ec163/details","high","W12153744N3952420 WYANDOTTE 1105","[DouglasFir, CoastalLiveOak, LiveOak]","DouglasFir"]
[1208,"NORTHERN","NORTH VALLEY","Tier 2-3","102911105 Tier 2-3",102911105,"WYANDOTTE 1105",0.6,39.52881,-121.53492,null,27.4,"W12153492N3952881",4.7,5.3,"NO","W12153422N3952882","W12153537N3952882","W12153537N3952882-W12153422N3952882",102911105,"WYANDOTTE 1105",null,"2019-11-20T17:46:46",null,null,"Not assessed","https://viewer.us-3.sharpershape.services/viewer/assets/5ca5a2c6f6b4638913a05099/details","https://viewer.us-3.sharpershape.services/viewer/issues/5ecf8f8d34b60c00015ecbd4/details","high","W12153492N3952881 WYANDOTTE 1105","[DouglasFir, ValleyOak, Other]","DouglasFir"]
[1209,"NORTHERN","NORTH VALLEY","Tier 2-3","102911105 Tier 2-3",102911105,"WYANDOTTE 1105",18.6999999999999,39.525759999999899,-121.53754000000001,null,27,"W12153754N3952576",9.3000000000000007,21.3,"NO","W12153742N3952569","W12153767N3952612","W12153767N3952612-W12153742N3952569",102911105,"WYANDOTTE 1105",null,"2019-11-20T17:46:46",null,null,"Not assessed","https://viewer.us-3.sharpershape.services/viewer/assets/5e1b0881942b992c9e7b02ef/details","https://viewer.us-3.sharpershape.services/viewer/issues/5ecf9545a03e660001311ece/details","high","W12153754N3952576 WYANDOTTE 1105","[CoastalLiveOak, LiveOak, DouglasFir]","CoastalLiveOak"]
[1210,"NORTHERN","NORTH VALLEY","Tier 2-3","102911105 Tier 2-3",102911105,"WYANDOTTE 1105",23.8,39.531439999999897,-121.51823,null,38.299999999999997,"W12151823N3953144",12,8,"NO","W12151868N3953111","W12151822N3953157","W12151822N3953157-W12151868N3953111",102911105,"WYANDOTTE 1105",null,"2019-11-20T17:46:46",null,null,"Not assessed","https://viewer.us-3.sharpershape.services/viewer/assets/5ca5a2c6f6b4630821a04f40/details","https://viewer.us-3.sharpershape.services/viewer/issues/5ecf8c9334b60c00015ec022/details","high","W12151823N3953144 WYANDOTTE 1105","[GrayPine, DouglasFir, Other]","GrayPine"]
[1211,"NORTHERN","NORTH VALLEY","Tier 2-3","102911105 Tier 2-3",102911105,"WYANDOTTE 1105",0.1,39.53013,-121.52151000000001,null,29.6999999999999,"W12152151N3953013",5.2,5.3,"NO","W12152184N3953012","W12152091N3953014","W12152091N3953014-W12152184N3953012",102911105,"WYANDOTTE 1105",null,"2019-11-20T17:46:46",null,null,"Not assessed","https://viewer.us-3.sharpershape.services/viewer/assets/5ca5a2c6f6b463611da04cf7/details","https://viewer.us-3.sharpershape.services/viewer/issues/5ecf8f3134b60c00015ecb88/details","high","W12152151N3953013 WYANDOTTE 1105","[MontereyPine, DouglasFir, CoastalLiveOak]","MontereyPine"]
[1212,"NORTHERN","NORTH VALLEY","Tier 2-3","102911105 Tier 2-3",102911105,"WYANDOTTE 1105",82.2,39.531239999999897,-121.518159999999,null,82,"W12151816N3953124",72.599999999999994,3.7,"NO","W12151868N3953111","W12151822N3953157","W12151822N3953157-W12151868N3953111",102911105,"WYANDOTTE 1105",null,"2019-11-20T17:46:46",null,null,"Not assessed","https://viewer.us-3.sharpershape.services/viewer/assets/5ca5a2c6f6b4630821a04f40/details","https://viewer.us-3.sharpershape.services/viewer/issues/5ecf8c9334b60c00015ec025/details","high","W12151816N3953124 WYANDOTTE 1105","[Other, ValleyOak, MontereyPine]","Other"]
[1213,"NORTHERN","NORTH VALLEY","Tier 2-3","102911105 Tier 2-3",102911105,"WYANDOTTE 1105",27.9,39.528489999999898,-121.53524,null,32.5,"W12153524N3952849",12,4.5,"NO","W12153534N3952830","W12153534N3952830","W12153534N3952830-W12153534N3952830",102911105,"WYANDOTTE 1105",null,"2019-11-20T17:46:46",null,null,"Not assessed","https://viewer.us-3.sharpershape.services/viewer/assets/5ca5a2c6f6b4631e4ba04b95/details","https://viewer.us-3.sharpershape.services/viewer/issues/5ecf8c96a03e6600013109db/details","high","W12153524N3952849 WYANDOTTE 1105","[DouglasFir, LiveOak, Other]","DouglasFir"]
[1214,"NORTHERN","NORTH VALLEY","Tier 2-3","102911105 Tier 2-3",102911105,"WYANDOTTE 1105",9,39.529229999999899,-121.525919999999,null,29.9,"W12152592N3952923",7.8,3.1,"NO","W12152596N3952916","W12152603N3952974","W12152603N3952974-W12152596N3952916",102911105,"WYANDOTTE 1105",null,"2019-11-20T17:46:46",null,null,"Not assessed","https://viewer.us-3.sharpershape.services/viewer/assets/5ca5a2c6f6b463c9e0a0514e/details","https://viewer.us-3.sharpershape.services/viewer/issues/5ecf8c9734b60c00015ec18f/details","high","W12152592N3952923 WYANDOTTE 1105","[LiveOak, Other, TanOak]","LiveOak"]
[1215,"NORTHERN","NORTH VALLEY","Tier 2-3","102911105 Tier 2-3",102911105,"WYANDOTTE 1105",14.6,39.540889999999898,-121.54246000000001,null,12.3,"W12154246N3954089",12,8,"NO","W12154249N3954102","W12154258N3954066","W12154258N3954066-W12154249N3954102",102911105,"WYANDOTTE 1105",null,"2019-11-20T17:46:46",null,null,"Not assessed","https://viewer.us-3.sharpershape.services/viewer/assets/5ca5a2c6f6b4638a8aa050a6/details","https://viewer.us-3.sharpershape.services/viewer/issues/5ecf8c96a03e66000131097c/details","high","W12154246N3954089 WYANDOTTE 1105","[Other, Eucalyptus/BlueGum, CoastalLiveOak]","Other"]
[1216,"NORTHERN","NORTH VALLEY","Tier 0-1","102911105 Tier 0-1",102911105,"WYANDOTTE 1105",56.2,39.524700000000003,-121.522689999999,null,73.7,"W12152269N3952470",40.399999999999899,-4.3,"YES","W12152293N3952453","W12152223N3952454","W12152223N3952454-W12152293N3952453",102911105,"WYANDOTTE 1105",null,"2019-11-20T17:46:46",null,null,"Not assessed","https://viewer.us-3.sharpershape.services/viewer/assets/5ca5a2c6f6b4634c38a04c9a/details","https://viewer.us-3.sharpershape.services/viewer/issues/5ecf8c9634b60c00015ec104/details","high","W12152269N3952470 WYANDOTTE 1105","[GrayPine, Other, DouglasFir]","GrayPine"]
[1217,"NORTHERN","NORTH VALLEY","Tier 0-1","102911105 Tier 0-1",102911105,"WYANDOTTE 1105",11.4,39.518319999999903,-121.540269999999,null,27.8,"W12154027N3951832",10.8,22.8,"NO","W12154022N3951835","W12154005N3951840","W12154005N3951840-W12154022N3951835",102911105,"WYANDOTTE 1105",null,"2019-11-20T17:46:46",null,null,"Not assessed","https://viewer.us-3.sharpershape.services/viewer/assets/5ca5a2c6f6b463daa0a04a6c/details","https://viewer.us-3.sharpershape.services/viewer/issues/5ecf94dea03e660001311cf6/details","high","W12154027N3951832 WYANDOTTE 1105","[GrayPine, TanOak, Other]","GrayPine"]
[1218,"NORTHERN","NORTH VALLEY","Tier 2-3","102911105 Tier 2-3",102911105,"WYANDOTTE 1105",29.8,39.527629999999903,-121.53064000000001,null,27.1,"W12153064N3952763",5.3,17.3,"NO","W12153054N3952815","W12153052N3952749","W12153052N3952749-W12153054N3952815",102911105,"WYANDOTTE 1105",null,"2019-11-20T17:46:46",null,null,"Not assessed","https://viewer.us-3.sharpershape.services/viewer/assets/5ca5a2c6f6b4636011a051da/details","https://viewer.us-3.sharpershape.services/viewer/issues/5ecf8ec6a03e6600013111c2/details","high","W12153064N3952763 WYANDOTTE 1105","[GrayPine, ValleyOak, TanOak]","GrayPine"]
[1219,"NORTHERN","NORTH VALLEY","Tier 0-1","102911105 Tier 0-1",102911105,"WYANDOTTE 1105",19.399999999999999,39.524589999999897,-121.521339999999,null,31,"W12152134N3952459",12,6.7,"NO","W12152121N3952468","W12152223N3952454","W12152223N3952454-W12152121N3952468",102911105,"WYANDOTTE 1105",null,"2019-11-20T17:46:46",null,null,"Not assessed","https://viewer.us-3.sharpershape.services/viewer/assets/5ca5a2c6f6b4634c98a0504c/details","https://viewer.us-3.sharpershape.services/viewer/issues/5ecf8c9634b60c00015ec14b/details","high","W12152134N3952459 WYANDOTTE 1105","[DouglasFir, MontereyPine, CoastalLiveOak]","DouglasFir"]
[1220,"NORTHERN","NORTH VALLEY","Tier 2-3","102911105 Tier 2-3",102911105,"WYANDOTTE 1105",21.6999999999999,39.532080000000001,-121.540769999999,null,69.099999999999994,"W12154077N3953208",12,-33.299999999999898,"YES","W12154086N3953214","W12154084N3953131","W12154084N3953131-W12154086N3953214",102911105,"WYANDOTTE 1105",null,"2019-11-20T17:46:46","OH",null,"Not assessed","https://viewer.us-3.sharpershape.services/viewer/assets/5ca5a2c6f6b4630944a04ef1/details","https://viewer.us-3.sharpershape.services/viewer/issues/5ecf8c98a03e660001310b66/details","high","W12154077N3953208 WYANDOTTE 1105","[DouglasFir, GrayPine, CoastalLiveOak]","DouglasFir"]
[1221,"NORTHERN","NORTH VALLEY","Tier 2-3","102911105 Tier 2-3",102911105,"WYANDOTTE 1105",59.5,39.673879999999897,-121.495869999999,null,68.7,"W12149587N3967388",47.7,5.3,"NO","W12149658N3967347","W12149590N3967413","W12149590N3967413-W12149658N3967347",0,"WYANDOTTE 1105",null,"2019-11-20T17:46:46",null,null,"Not assessed","https://viewer.us-3.sharpershape.services/viewer/assets/5ca5a2c6f6b463ad06a0497a/details","https://viewer.us-3.sharpershape.services/viewer/issues/5ecf8c9234b60c00015ec013/details","high","W12149587N3967388 WYANDOTTE 1105"]
[1222,"NORTHERN","NORTH VALLEY","Tier 2-3","102911105 Tier 2-3",102911105,"WYANDOTTE 1105",32.899999999999899,39.527989999999903,-121.53265,null,43.6,"W12153265N3952799",27.5,-0.2,"YES","W12153270N3952789","W12153203N3952790","W12153203N3952790-W12153270N3952789",102911105,"WYANDOTTE 1105",null,"2019-11-20T17:46:46",null,null,"Not assessed","https://viewer.us-3.sharpershape.services/viewer/assets/5ca5a2c6f6b4631fcca0508c/details","https://viewer.us-3.sharpershape.services/viewer/issues/5ecf8c9934b60c00015ec2e5/details","high","W12153265N3952799 WYANDOTTE 1105","[GrayPine, Other, DouglasFir]","GrayPine"]
[1223,"NORTHERN","NORTH VALLEY","Tier 2-3","102911105 Tier 2-3",102911105,"WYANDOTTE 1105",36.6,39.531599999999997,-121.5407,null,34.799999999999997,"W12154070N3953160",20.6999999999999,4.5,"NO","W12154086N3953214","W12154084N3953131","W12154084N3953131-W12154086N3953214",102911105,"WYANDOTTE 1105",null,"2019-11-20T17:46:46",null,null,"Not assessed","https://viewer.us-3.sharpershape.services/viewer/assets/5ca5a2c6f6b4630944a04ef1/details","https://viewer.us-3.sharpershape.services/viewer/issues/5ecf8c98a03e660001310b5c/details","high","W12154070N3953160 WYANDOTTE 1105","[DouglasFir, Eucalyptus/BlueGum, GrayPine]","DouglasFir"]
[1224,"NORTHERN","NORTH VALLEY","Tier 2-3","102911105 Tier 2-3",102911105,"WYANDOTTE 1105",0.9,39.52852,-121.53539000000001,null,24.9,"W12153539N3952852",7.6,8.6,"NO","W12153534N3952830","W12153534N3952830","W12153534N3952830-W12153534N3952830",102911105,"WYANDOTTE 1105",null,"2019-11-20T17:46:46",null,null,"Not assessed","https://viewer.us-3.sharpershape.services/viewer/assets/5ca5a2c6f6b4631e4ba04b95/details","https://viewer.us-3.sharpershape.services/viewer/issues/5ecf955b34b60c00015ed826/details","high","W12153539N3952852 WYANDOTTE 1105","[DouglasFir, LiveOak, TanOak]","DouglasFir"]
[1225,"NORTHERN","NORTH VALLEY","Tier 2-3","102911105 Tier 2-3",102911105,"WYANDOTTE 1105",28,39.526359999999897,-121.53546,null,34.700000000000003,"W12153546N3952636",5.4,17.399999999999999,"NO","W12153535N3952637","W12153536N3952706","W12153536N3952706-W12153535N3952637",102911105,"WYANDOTTE 1105",null,"2019-11-20T17:46:46",null,null,"Not assessed","https://viewer.us-3.sharpershape.services/viewer/assets/5e7a18565dcbeb387a17baf6/details","https://viewer.us-3.sharpershape.services/viewer/issues/5ecf8eea34b60c00015eca58/details","high","W12153546N3952636 WYANDOTTE 1105","[CoastalLiveOak, Other, Eucalyptus/BlueGum]","CoastalLiveOak"]
[1226,"NORTHERN","NORTH VALLEY","Tier 2-3","102911105 Tier 2-3",102911105,"WYANDOTTE 1105",33,39.530159999999903,-121.51988,null,72.900000000000006,"W12151988N3953016",9.6,-20.6,"YES","W12151936N3952926","W12152005N3953021","W12152005N3953021-W12151936N3952926",102911105,"WYANDOTTE 1105",null,"2019-11-20T17:46:46",null,null,"Not assessed","https://viewer.us-3.sharpershape.services/viewer/assets/5ca5a2c6f6b463d94da04bdf/details","https://viewer.us-3.sharpershape.services/viewer/issues/5ecf8c9834b60c00015ec2ca/details","high","W12151988N3953016 WYANDOTTE 1105","[GrayPine, DouglasFir, LiveOak]","GrayPine"]
[1227,"NORTHERN","NORTH VALLEY","Tier 2-3","102911105 Tier 2-3",102911105,"WYANDOTTE 1105",32.1,39.528700000000001,-121.53041,null,37.5,"W12153041N3952870",11.6,8.3000000000000007,"NO","W12153053N3952876","W12153054N3952815","W12153054N3952815-W12153053N3952876",102911105,"WYANDOTTE 1105",null,"2019-11-20T17:46:46",null,null,"Not assessed","https://viewer.us-3.sharpershape.services/viewer/assets/5ca5a2c6f6b463a3b1a04e34/details","https://viewer.us-3.sharpershape.services/viewer/issues/5ecf8c9034b60c00015ebfcb/details","high","W12153041N3952870 WYANDOTTE 1105","[GrayPine, ValleyOak, DouglasFir]","GrayPine"]
[1228,"NORTHERN","NORTH VALLEY","Tier 0-1","102911105 Tier 0-1",102911105,"WYANDOTTE 1105",19.8,39.525669999999899,-121.53369000000001,null,30.6,"W12153369N3952567",12,9.1,"NO","W12153390N3952564","W12153345N3952585","W12153345N3952585-W12153390N3952564",102911105,"WYANDOTTE 1105",null,"2019-11-20T17:46:46",null,null,"Not assessed","https://viewer.us-3.sharpershape.services/viewer/assets/5ca5a2c6f6b463a435a04e28/details","https://viewer.us-3.sharpershape.services/viewer/issues/5ecf8c91a03e660001310835/details","high","W12153369N3952567 WYANDOTTE 1105","[Eucalyptus/BlueGum, CoastalLiveOak, DouglasFir]","Eucalyptus/BlueGum"]
[1229,"NORTHERN","NORTH VALLEY","Tier 2-3","102911105 Tier 2-3",102911105,"WYANDOTTE 1105",28.6999999999999,39.532739999999897,-121.534319999999,null,18.6999999999999,"W12153432N3953274",8.6999999999999993,20.6999999999999,"NO","W12153419N3953235","W12153421N3953300","W12153421N3953300-W12153419N3953235",102911105,"WYANDOTTE 1105",null,"2019-11-20T17:46:46",null,null,"Not assessed","https://viewer.us-3.sharpershape.services/viewer/assets/5ca5a2c6f6b4635c05a05132/details","https://viewer.us-3.sharpershape.services/viewer/issues/5ee2b96d34b60c0001746b89/details","high","W12153432N3953274 WYANDOTTE 1105","[LiveOak, DouglasFir, GrayPine]","LiveOak"]
[1230,"NORTHERN","NORTH VALLEY","Tier 2-3","102911105 Tier 2-3",102911105,"WYANDOTTE 1105",12.3,39.530159999999903,-121.520099999999,null,33.5,"W12152010N3953016",12,6,"NO","W12151936N3952926","W12152005N3953021","W12152005N3953021-W12151936N3952926",102911105,"WYANDOTTE 1105",null,"2019-11-20T17:46:46",null,null,"Not assessed","https://viewer.us-3.sharpershape.services/viewer/assets/5ca5a2c6f6b463d94da04bdf/details","https://viewer.us-3.sharpershape.services/viewer/issues/5ecf8c9834b60c00015ec2c6/details","high","W12152010N3953016 WYANDOTTE 1105","[Other, TanOak, LiveOak]","Other"]
[1231,"NORTHERN","NORTH VALLEY","Tier 2-3","102911105 Tier 2-3",102911105,"WYANDOTTE 1105",17.6999999999999,39.530539999999903,-121.53530000000001,null,25.6,"W12153530N3953054",12,9.6999999999999993,"NO","W12153538N3953063","W12153538N3952985","W12153538N3952985-W12153538N3953063",102911105,"WYANDOTTE 1105",null,"2019-11-20T17:46:46",null,null,"Not assessed","https://viewer.us-3.sharpershape.services/viewer/assets/5ca5a2c6f6b4636d60a0516d/details","https://viewer.us-3.sharpershape.services/viewer/issues/5ecf8c97a03e660001310a34/details","high","W12153530N3953054 WYANDOTTE 1105"]
[1232,"NORTHERN","NORTH VALLEY","Tier 2-3","102911105 Tier 2-3",102911105,"WYANDOTTE 1105",22.4,39.53275,-121.538439999999,null,60.7,"W12153844N3953275",12,-25.1,"YES","W12153906N3953282","W12153848N3953281","W12153848N3953281-W12153906N3953282",102911105,"WYANDOTTE 1105",null,"2019-11-20T17:46:46",null,null,"Not assessed","https://viewer.us-3.sharpershape.services/viewer/assets/5ca5a2c6f6b46324baa04ba9/details","https://viewer.us-3.sharpershape.services/viewer/issues/5ecf8c9934b60c00015ec324/details","high","W12153844N3953275 WYANDOTTE 1105","[Eucalyptus/BlueGum, GrayPine, DouglasFir]","Eucalyptus/BlueGum"]
[1233,"NORTHERN","NORTH VALLEY","Tier 2-3","102911105 Tier 2-3",102911105,"WYANDOTTE 1105",25.4,39.532739999999897,-121.54085000000001,null,65.099999999999895,"W12154085N3953274",10,-17.3,"YES","W12154073N3953285","W12154086N3953214","W12154086N3953214-W12154073N3953285",102911105,"WYANDOTTE 1105",null,"2019-11-20T17:46:46",null,null,"Not assessed","https://viewer.us-3.sharpershape.services/viewer/assets/5ca5a2c6f6b4635017a04ad1/details","https://viewer.us-3.sharpershape.services/viewer/issues/5ecf8c96a03e6600013109b5/details","high","W12154085N3953274 WYANDOTTE 1105","[GrayPine, DouglasFir, LiveOak]","GrayPine"]
[1234,"NORTHERN","NORTH VALLEY","Tier 2-3","102911105 Tier 2-3",102911105,"WYANDOTTE 1105",19.6999999999999,39.532899999999998,-121.536879999999,null,49.3,"W12153688N3953290",6.9,-10.6,"YES","W12153713N3953284","W12153655N3953283","W12153655N3953283-W12153713N3953284",102911105,"WYANDOTTE 1105",null,"2019-11-20T17:46:46","OH",null,"Not assessed","https://viewer.us-3.sharpershape.services/viewer/assets/5ca5a2c6f6b46315baa04b02/details","https://viewer.us-3.sharpershape.services/viewer/issues/5ecf8c98a03e660001310bd1/details","high","W12153688N3953290 WYANDOTTE 1105","[DouglasFir, CoastalLiveOak, Eucalyptus/BlueGum]","DouglasFir"]
[1235,"NORTHERN","NORTH VALLEY","Tier 2-3","102911105 Tier 2-3",102911105,"WYANDOTTE 1105",19.3,39.5416799999999,-121.542069999999,null,44.3,"W12154207N3954168",8.1999999999999904,-0.7,"YES","W12154206N3954186","W12154249N3954102","W12154249N3954102-W12154206N3954186",102911105,"WYANDOTTE 1105",null,"2019-11-20T17:46:46",null,null,"Not assessed","https://viewer.us-3.sharpershape.services/viewer/assets/5ca5a2c6f6b4631d52a04cea/details","https://viewer.us-3.sharpershape.services/viewer/issues/5ecf8c98a03e660001310bf5/details","high","W12154207N3954168 WYANDOTTE 1105","[DouglasFir, LiveOak, TanOak]","DouglasFir"]
[1236,"NORTHERN","NORTH VALLEY","Tier 2-3","102911105 Tier 2-3",102911105,"WYANDOTTE 1105",35,39.538779999999903,-121.542419999999,null,81,"W12154242N3953878",15.6,-46,"YES","W12154252N3953857","W12154263N3953924","W12154263N3953924-W12154252N3953857",102911105,"WYANDOTTE 1105",null,"2019-11-20T17:46:46",null,null,"Not assessed","https://viewer.us-3.sharpershape.services/viewer/assets/5ca5a2c6f6b463b563a04ed9/details","https://viewer.us-3.sharpershape.services/viewer/issues/5ecf8c9334b60c00015ec02a/details","high","W12154242N3953878 WYANDOTTE 1105","[DouglasFir, Other, GrayPine]","DouglasFir"]
[1237,"NORTHERN","NORTH VALLEY","Tier 2-3","102911105 Tier 2-3",102911105,"WYANDOTTE 1105",26.5,39.531140000000001,-121.53664000000001,null,38.899999999999899,"W12153664N3953114",17.5,6,"NO","W12153654N3953103","W12153654N3953154","W12153654N3953154-W12153654N3953103",102911105,"WYANDOTTE 1105",null,"2019-11-20T17:46:46",null,null,"Not assessed","https://viewer.us-3.sharpershape.services/viewer/assets/5ca5a2c6f6b463060ca04c49/details","https://viewer.us-3.sharpershape.services/viewer/issues/5ecf8c98a03e660001310b08/details","high","W12153664N3953114 WYANDOTTE 1105","[DouglasFir, LiveOak, TanOak]","DouglasFir"]
[1238,"NORTHERN","NORTH VALLEY","Tier 0-1","102911105 Tier 0-1",102911105,"WYANDOTTE 1105",25.1999999999999,39.525300000000001,-121.532809999999,null,36.899999999999899,"W12153281N3952530",4.8,2.8,"NO","W12153312N3952549","W12153279N3952515","W12153279N3952515-W12153312N3952549",102911105,"WYANDOTTE 1105",null,"2019-11-20T17:46:46",null,null,"Not assessed","https://viewer.us-3.sharpershape.services/viewer/assets/5ca5a2c6f6b463ab92a051ae/details","https://viewer.us-3.sharpershape.services/viewer/issues/5ecf8c9534b60c00015ec0b9/details","high","W12153281N3952530 WYANDOTTE 1105","[Other, CoastalLiveOak, BlackOak]","Other"]
[1239,"NORTHERN","NORTH VALLEY","Tier 2-3","102911105 Tier 2-3",102911105,"WYANDOTTE 1105",9.6,39.532260000000001,-121.53586,null,28.3,"W12153586N3953226",5.8,0.5,"NO","W12153557N3953230","W12153644N3953230","W12153644N3953230-W12153557N3953230",102911105,"WYANDOTTE 1105",null,"2019-11-20T17:46:46",null,null,"Not assessed","https://viewer.us-3.sharpershape.services/viewer/assets/5ca5a2c6f6b4630717a04d92/details","https://viewer.us-3.sharpershape.services/viewer/issues/5ecf8c97a03e660001310ad5/details","high","W12153586N3953226 WYANDOTTE 1105","[DouglasFir, Other, GrayPine]","DouglasFir"]
[1240,"NORTHERN","NORTH VALLEY","Tier 2-3","102911105 Tier 2-3",102911105,"WYANDOTTE 1105",32.399999999999899,39.526019999999903,-121.51474,null,28.3,"W12151474N3952602",7.6,19.600000000000001,"NO","W12151463N3952642","W12151461N3952559","W12151461N3952559-W12151463N3952642",102911105,"WYANDOTTE 1105",null,"2019-11-20T17:46:46",null,null,"Not assessed","https://viewer.us-3.sharpershape.services/viewer/assets/5d8b1e4455dd6b5e853f3023/details","https://viewer.us-3.sharpershape.services/viewer/issues/5ecf8eb234b60c00015ec8f4/details","high","W12151474N3952602 WYANDOTTE 1105","[GrayPine, DouglasFir, ValleyOak]","GrayPine"]
[1241,"NORTHERN","NORTH VALLEY","Tier 0-1","102911105 Tier 0-1",102911105,"WYANDOTTE 1105",46.7,39.525439999999897,-121.534359999999,null,45.1,"W12153436N3952544",31,7.5,"NO","W12153390N3952564","W12153462N3952554","W12153462N3952554-W12153390N3952564",102911105,"WYANDOTTE 1105",null,"2019-11-20T17:46:46",null,null,"Not assessed","https://viewer.us-3.sharpershape.services/viewer/assets/5ca5a2c6f6b463cfd6a04cce/details","https://viewer.us-3.sharpershape.services/viewer/issues/5ecf8c9834b60c00015ec270/details","high","W12153436N3952544 WYANDOTTE 1105","[DouglasFir, CoastalLiveOak, Other]","DouglasFir"]
[1242,"NORTHERN","NORTH VALLEY","Tier 2-3","102911105 Tier 2-3",102911105,"WYANDOTTE 1105",0.8,39.527769999999897,-121.514409999999,null,32.5,"W12151441N3952777",5.4,6.2,"NO","W12151437N3952744","W12151441N3952799","W12151441N3952799-W12151437N3952744",102911105,"WYANDOTTE 1105",null,"2019-11-20T17:46:46",null,null,"Not assessed","https://viewer.us-3.sharpershape.services/viewer/assets/5ca5a2c6f6b463015da04b5c/details","https://viewer.us-3.sharpershape.services/viewer/issues/5ecf954da03e660001311f1a/details","high","W12151441N3952777 WYANDOTTE 1105","[GrayPine, ValleyOak, Other]","GrayPine"]
[1243,"NORTHERN","NORTH VALLEY","Tier 2-3","102911105 Tier 2-3",102911105,"WYANDOTTE 1105",34.700000000000003,39.53051,-121.519509999999,null,67.7,"W12151951N3953051",11.3,-25.6999999999999,"YES","W12151923N3953089","W12152005N3953021","W12152005N3953021-W12151923N3953089",102911105,"WYANDOTTE 1105",null,"2019-11-20T17:46:46",null,null,"Not assessed","https://viewer.us-3.sharpershape.services/viewer/assets/5ca5a2c6f6b46307baa0515f/details","https://viewer.us-3.sharpershape.services/viewer/issues/5ecf8c93a03e6600013108bf/details","high","W12151951N3953051 WYANDOTTE 1105","[GrayPine, Other, DouglasFir]","GrayPine"]
[1244,"NORTHERN","NORTH VALLEY","Tier 2-3","102911105 Tier 2-3",102911105,"WYANDOTTE 1105",32.700000000000003,39.529119999999899,-121.5196,null,52.3,"W12151960N3952912",15.3,-12,"YES","W12151936N3952926","W12152014N3952914","W12152014N3952914-W12151936N3952926",102911105,"WYANDOTTE 1105",null,"2019-11-20T17:46:46",null,null,"Not assessed","https://viewer.us-3.sharpershape.services/viewer/assets/5ca5a2c6f6b4634b73a04f6f/details","https://viewer.us-3.sharpershape.services/viewer/issues/5ecf8c96a03e6600013109f7/details","high","W12151960N3952912 WYANDOTTE 1105","[GrayPine, Other, MontereyPine]","GrayPine"]
[1245,"NORTHERN","NORTH VALLEY","Tier 2-3","102911105 Tier 2-3",102911105,"WYANDOTTE 1105",7.4,39.525880000000001,-121.521209999999,null,19.600000000000001,"W12152121N3952588",5.7,7.3,"NO","W12152123N3952539","W12152124N3952614","W12152124N3952614-W12152123N3952539",102911105,"WYANDOTTE 1105",null,"2019-11-20T17:46:46",null,null,"Not assessed","https://viewer.us-3.sharpershape.services/viewer/assets/5ca5a2c6f6b46335f7a04ffc/details","https://viewer.us-3.sharpershape.services/viewer/issues/5ecf8c95a03e660001310913/details","high","W12152121N3952588 WYANDOTTE 1105","[GrayPine, LiveOak, Other]","GrayPine"]
[1246,"NORTHERN","NORTH VALLEY","Tier 2-3","102911105 Tier 2-3",102911105,"WYANDOTTE 1105",0.2,39.529739999999897,-121.53060000000001,null,36.700000000000003,"W12153060N3952974",6.4,6.5,"NO","W12152988N3952972","W12153068N3952972","W12153068N3952972-W12152988N3952972",102911105,"WYANDOTTE 1105",null,"2019-11-20T17:46:46",null,null,"Not assessed","https://viewer.us-3.sharpershape.services/viewer/assets/5d89b6cc55dd6b81633f2eff/details","https://viewer.us-3.sharpershape.services/viewer/issues/5ecf959fa03e660001312100/details","high","W12153060N3952974 WYANDOTTE 1105","[CoastalLiveOak, ValleyOak, MontereyPine]","CoastalLiveOak"]
[1247,"NORTHERN","NORTH VALLEY","Tier 2-3","102911105 Tier 2-3",102911105,"WYANDOTTE 1105",38.200000000000003,39.5311799999999,-121.51881,null,50.6,"W12151881N3953118",8.6999999999999993,2.7,"NO","W12151868N3953111","W12151923N3953089","W12151923N3953089-W12151868N3953111",102911105,"WYANDOTTE 1105",null,"2019-11-20T17:46:46",null,null,"Not assessed","https://viewer.us-3.sharpershape.services/viewer/assets/5ca5a2c6f6b4636ea8a04d47/details","https://viewer.us-3.sharpershape.services/viewer/issues/5ecf8c97a03e660001310aa7/details","high","W12151881N3953118 WYANDOTTE 1105","[Other, ValleyOak, GrayPine]","Other"]
[1248,"NORTHERN","NORTH VALLEY","Tier 2-3","102911105 Tier 2-3",102911105,"WYANDOTTE 1105",66.099999999999895,39.528419999999898,-121.52692,null,86.7,"W12152692N3952842",47,-18.399999999999999,"YES","W12152680N3952875","W12152750N3952825","W12152750N3952825-W12152680N3952875",102911105,"WYANDOTTE 1105",null,"2019-11-20T17:46:46",null,null,"Not assessed","https://viewer.us-3.sharpershape.services/viewer/assets/5ca5a2c6f6b46337c2a04be5/details","https://viewer.us-3.sharpershape.services/viewer/issues/5ecf8c9634b60c00015ec0f6/details","high","W12152692N3952842 WYANDOTTE 1105"]
[1249,"NORTHERN","NORTH VALLEY","Tier 2-3","102911105 Tier 2-3",102911105,"WYANDOTTE 1105",21.1,39.530700000000003,-121.53663,null,49,"W12153663N3953070",7.5,-10,"YES","W12153654N3953103","W12153655N3953063","W12153655N3953063-W12153654N3953103",102911105,"WYANDOTTE 1105",null,"2019-11-20T17:46:46",null,null,"Not assessed","https://viewer.us-3.sharpershape.services/viewer/assets/5ca5a2c6f6b4639202a04d3a/details","https://viewer.us-3.sharpershape.services/viewer/issues/5ecf8c96a03e660001310a21/details","high","W12153663N3953070 WYANDOTTE 1105","[Other, DouglasFir, LiveOak]","Other"]
[1250,"NORTHERN","NORTH VALLEY","Tier 2-3","102911105 Tier 2-3",102911105,"WYANDOTTE 1105",38.6,39.530749999999898,-121.5386,null,35.1,"W12153860N3953075",11.9,6.1,"NO","W12153908N3953063","W12153843N3953063","W12153843N3953063-W12153908N3953063",102911105,"WYANDOTTE 1105",null,"2019-11-20T17:46:46",null,null,"Not assessed","https://viewer.us-3.sharpershape.services/viewer/assets/5ca5a2c6f6b46390f3a04fa9/details","https://viewer.us-3.sharpershape.services/viewer/issues/5ecf8c9134b60c00015ebfe7/details","high","W12153860N3953075 WYANDOTTE 1105","[DouglasFir, GrayPine, LiveOak]","DouglasFir"]
[1251,"NORTHERN","NORTH VALLEY","Tier 2-3","102911105 Tier 2-3",102911105,"WYANDOTTE 1105",26.5,39.530529999999899,-121.51981000000001,null,30.9,"W12151981N3953053",15,9.1999999999999993,"NO","W12151923N3953089","W12152005N3953021","W12152005N3953021-W12151923N3953089",102911105,"WYANDOTTE 1105",null,"2019-11-20T17:46:46",null,null,"Not assessed","https://viewer.us-3.sharpershape.services/viewer/assets/5ca5a2c6f6b46307baa0515f/details","https://viewer.us-3.sharpershape.services/viewer/issues/5ecf8c93a03e6600013108c9/details","high","W12151981N3953053 WYANDOTTE 1105","[DouglasFir, CoastalLiveOak, MontereyPine]","DouglasFir"]
[1252,"NORTHERN","NORTH VALLEY","Tier 2-3","102911105 Tier 2-3",102911105,"WYANDOTTE 1105",21.8,39.53116,-121.518519999999,null,61.2,"W12151852N3953116",5.4,-24.6999999999999,"YES","W12151868N3953111","W12151822N3953157","W12151822N3953157-W12151868N3953111",102911105,"WYANDOTTE 1105",null,"2019-11-20T17:46:46",null,null,"Not assessed","https://viewer.us-3.sharpershape.services/viewer/assets/5ca5a2c6f6b4630821a04f40/details","https://viewer.us-3.sharpershape.services/viewer/issues/5ecf8c9334b60c00015ec023/details","high","W12151852N3953116 WYANDOTTE 1105","[Other, MontereyPine, Eucalyptus/BlueGum]","Other"]
[1253,"NORTHERN","NORTH VALLEY","Tier 2-3","102911105 Tier 2-3",102911105,"WYANDOTTE 1105",45.2,39.526429999999898,-121.51479,null,66.599999999999895,"W12151479N3952643",36.5,-2.2999999999999998,"YES","W12151463N3952642","W12151461N3952559","W12151461N3952559-W12151463N3952642",102911105,"WYANDOTTE 1105",null,"2019-11-20T17:46:46",null,null,"Not assessed","https://viewer.us-3.sharpershape.services/viewer/assets/5d8b1e4455dd6b5e853f3023/details","https://viewer.us-3.sharpershape.services/viewer/issues/5ecf8c99a03e660001310c37/details","high","W12151479N3952643 WYANDOTTE 1105","[GrayPine, DouglasFir, Other]","GrayPine"]
[1254,"NORTHERN","NORTH VALLEY","Tier 2-3","102911105 Tier 2-3",102911105,"WYANDOTTE 1105",13,39.5275099999999,-121.535409999999,null,31.6999999999999,"W12153541N3952751",6.7,-0.5,"YES","W12153535N3952774","W12153536N3952706","W12153536N3952706-W12153535N3952774",102911105,"WYANDOTTE 1105",null,"2019-11-20T17:46:46",null,null,"Not assessed","https://viewer.us-3.sharpershape.services/viewer/assets/5ca5a2c6f6b463ada9a04fb0/details","https://viewer.us-3.sharpershape.services/viewer/issues/5ecf8c97a03e660001310a8a/details","high","W12153541N3952751 WYANDOTTE 1105","[CoastalLiveOak, Other, MontereyPine]","CoastalLiveOak"]
[1255,"NORTHERN","NORTH VALLEY","Tier 2-3","102911105 Tier 2-3",102911105,"WYANDOTTE 1105",6.4,39.53257,-121.53207999999999,null,30.6,"W12153208N3953257",6,2,"NO","W12153205N3953285","W12153205N3953245","W12153205N3953245-W12153205N3953285",102911105,"WYANDOTTE 1105",null,"2019-11-20T17:46:46",null,null,"Not assessed","https://viewer.us-3.sharpershape.services/viewer/assets/5ca5a2c6f6b46321caa04c4b/details","https://viewer.us-3.sharpershape.services/viewer/issues/5ecf8c9934b60c00015ec34f/details","high","W12153208N3953257 WYANDOTTE 1105","[GrayPine, DouglasFir, ValleyOak]","GrayPine"]
[1256,"NORTHERN","NORTH VALLEY","Tier 2-3","102911105 Tier 2-3",102911105,"WYANDOTTE 1105",8.6999999999999993,39.527049999999903,-121.51438,null,36.399999999999899,"W12151438N3952705",4.9000000000000004,0.6,"NO","W12151433N3952690","W12151437N3952744","W12151437N3952744-W12151433N3952690",102911105,"WYANDOTTE 1105",null,"2019-11-20T17:46:46",null,null,"Not assessed","https://viewer.us-3.sharpershape.services/viewer/assets/5ca5a2c6f6b46309eba051c7/details","https://viewer.us-3.sharpershape.services/viewer/issues/5ecf8c98a03e660001310b29/details","high","W12151438N3952705 WYANDOTTE 1105","[Other, CoastalLiveOak, ValleyOak]","Other"]
[1257,"NORTHERN","NORTH VALLEY","Tier 2-3","102911105 Tier 2-3",102911105,"WYANDOTTE 1105",39.899999999999899,39.526409999999899,-121.53932,null,75.799999999999898,"W12153932N3952641",24.8,-20.8,"YES","W12153848N3952653","W12153928N3952652","W12153928N3952652-W12153848N3952653",102911105,"WYANDOTTE 1105",null,"2019-11-20T17:46:46",null,null,"Not assessed","https://viewer.us-3.sharpershape.services/viewer/assets/5ca5a2c6f6b463083da04d94/details","https://viewer.us-3.sharpershape.services/viewer/issues/5ecf8c98a03e660001310bc7/details","high","W12153932N3952641 WYANDOTTE 1105","[GrayPine, Other, DouglasFir]","GrayPine"]
[1258,"NORTHERN","NORTH VALLEY","Tier 2-3","102911105 Tier 2-3",102911105,"WYANDOTTE 1105",34.399999999999899,39.664000000000001,-121.502809999999,null,74,"W12150281N3966400",17,3.1,"NO","W12150267N3966441","W12150368N3966300","W12150368N3966300-W12150267N3966441",102911105,"WYANDOTTE 1105",null,"2019-11-20T17:46:46",null,null,"Not assessed","https://viewer.us-3.sharpershape.services/viewer/assets/5ca5a2c6f6b4631995a04ed5/details","https://viewer.us-3.sharpershape.services/viewer/issues/5ecf8c9934b60c00015ec312/details","high","W12150281N3966400 WYANDOTTE 1105"]
[1259,"NORTHERN","NORTH VALLEY","Tier 2-3","102911105 Tier 2-3",102911105,"WYANDOTTE 1105",35.1,39.529620000000001,-121.532359999999,null,54.6,"W12153236N3952962",20.3,-11.1,"YES","W12153206N3952972","W12153284N3952973","W12153284N3952973-W12153206N3952972",102911105,"WYANDOTTE 1105",null,"2019-11-20T17:46:46",null,null,"Not assessed","https://viewer.us-3.sharpershape.services/viewer/assets/5ca5a2c6f6b4630785a04d19/details","https://viewer.us-3.sharpershape.services/viewer/issues/5ecf8c98a03e660001310b8a/details","high","W12153236N3952962 WYANDOTTE 1105","[LiveOak, Other, DouglasFir]","LiveOak"]
[1260,"NORTHERN","NORTH VALLEY","Tier 2-3","102911105 Tier 2-3",102911105,"WYANDOTTE 1105",75,39.530270000000002,-121.532749999999,null,70.7,"W12153275N3953027",57.5,9.9,"NO","W12153323N3953048","W12153269N3953048","W12153269N3953048-W12153323N3953048",102911105,"WYANDOTTE 1105",null,"2019-11-20T17:46:46",null,null,"Not assessed","https://viewer.us-3.sharpershape.services/viewer/assets/5ca5a2c6f6b4636013a051bf/details","https://viewer.us-3.sharpershape.services/viewer/issues/5ecf8c9834b60c00015ec291/details","high","W12153275N3953027 WYANDOTTE 1105","[Eucalyptus/BlueGum, DouglasFir, Other]","Eucalyptus/BlueGum"]
[1261,"NORTHERN","NORTH VALLEY","Tier 2-3","102911105 Tier 2-3",102911105,"WYANDOTTE 1105",0.2,39.67266,-121.49719,null,23.6999999999999,"W12149719N3967266",6.2,6.4,"NO","W12149658N3967347","W12149755N3967217","W12149755N3967217-W12149658N3967347",0,"WYANDOTTE 1105",null,"2019-11-20T17:46:46",null,null,"Not assessed","https://viewer.us-3.sharpershape.services/viewer/assets/5ca5a2c6f6b463d89ea04e5a/details","https://viewer.us-3.sharpershape.services/viewer/issues/5ecf8ef2a03e6600013112e2/details","high","W12149719N3967266 WYANDOTTE 1105"]
[1262,"NORTHERN","NORTH VALLEY","Tier 2-3","102911105 Tier 2-3",102911105,"WYANDOTTE 1105",27.4,39.5250699999999,-121.538179999999,null,53.8,"W12153818N3952507",15.4,-9,"YES","W12153745N3952470","W12153809N3952504","W12153809N3952504-W12153745N3952470",102911105,"WYANDOTTE 1105",null,"2019-11-20T17:46:46",null,null,"Not assessed","https://viewer.us-3.sharpershape.services/viewer/assets/5ca5a2c6f6b4638d21a051a2/details","https://viewer.us-3.sharpershape.services/viewer/issues/5ecf8c95a03e660001310939/details","high","W12153818N3952507 WYANDOTTE 1105","[DouglasFir, CoastalLiveOak, MontereyPine]","DouglasFir"]
[1263,"NORTHERN","NORTH VALLEY","Tier 2-3","102911105 Tier 2-3",102911105,"WYANDOTTE 1105",61.399999999999899,39.527090000000001,-121.535589999999,null,67,"W12153559N3952709",50.399999999999899,1.7,"NO","W12153535N3952774","W12153536N3952706","W12153536N3952706-W12153535N3952774",102911105,"WYANDOTTE 1105",null,"2019-11-20T17:46:46",null,null,"Not assessed","https://viewer.us-3.sharpershape.services/viewer/assets/5ca5a2c6f6b463ada9a04fb0/details","https://viewer.us-3.sharpershape.services/viewer/issues/5ecf8c97a03e660001310a75/details","high","W12153559N3952709 WYANDOTTE 1105","[GrayPine, Other, DouglasFir]","GrayPine"]
[1264,"NORTHERN","NORTH VALLEY","Tier 2-3","102911105 Tier 2-3",102911105,"WYANDOTTE 1105",34.6,39.529820000000001,-121.5228,null,38.899999999999899,"W12152280N3952982",9.5,21.5,"NO","W12152284N3952992","W12152184N3953012","W12152184N3953012-W12152284N3952992",102911105,"WYANDOTTE 1105",null,"2019-11-20T17:46:46",null,null,"Not assessed","https://viewer.us-3.sharpershape.services/viewer/assets/5ca5a2c6f6b4639636a0497c/details","https://viewer.us-3.sharpershape.services/viewer/issues/5ee2b979a03e66000146e4cc/details","high","W12152280N3952982 WYANDOTTE 1105","[GrayPine, DouglasFir, ValleyOak]","GrayPine"]
[1265,"NORTHERN","NORTH VALLEY","Tier 2-3","102911105 Tier 2-3",102911105,"WYANDOTTE 1105",31.1999999999999,39.527270000000001,-121.52965,null,33.799999999999898,"W12152965N3952727",10.8,22.8,"NO","W12152907N3952726","W12152971N3952716","W12152971N3952716-W12152907N3952726",102911105,"WYANDOTTE 1105",null,"2019-11-20T17:46:46",null,null,"Not assessed","https://viewer.us-3.sharpershape.services/viewer/assets/5ca5a2c6f6b4635805a04cab/details","https://viewer.us-3.sharpershape.services/viewer/issues/5ecf8ed734b60c00015ec9ee/details","high","W12152965N3952727 WYANDOTTE 1105","[Other, GrayPine, DouglasFir]","Other"]
[1266,"NORTHERN","NORTH VALLEY","Tier 2-3","102911105 Tier 2-3",102911105,"WYANDOTTE 1105",19.8,39.529419999999902,-121.519379999999,null,29,"W12151938N3952942",8.9,7.2,"NO","W12151936N3952926","W12152005N3953021","W12152005N3953021-W12151936N3952926",102911105,"WYANDOTTE 1105",null,"2019-11-20T17:46:46",null,null,"Not assessed","https://viewer.us-3.sharpershape.services/viewer/assets/5ca5a2c6f6b463d94da04bdf/details","https://viewer.us-3.sharpershape.services/viewer/issues/5ecf8c9834b60c00015ec2ad/details","high","W12151938N3952942 WYANDOTTE 1105","[Eucalyptus/BlueGum, Other, CoastalLiveOak]","Eucalyptus/BlueGum"]
[1267,"NORTHERN","NORTH VALLEY","Tier 2-3","102911105 Tier 2-3",102911105,"WYANDOTTE 1105",24.1,39.54063,-121.54249,null,32.1,"W12154249N3954063",12,2.8,"NO","W12154258N3954066","W12154261N3953987","W12154261N3953987-W12154258N3954066",102911105,"WYANDOTTE 1105",null,"2019-11-20T17:46:46",null,null,"Not assessed","https://viewer.us-3.sharpershape.services/viewer/assets/5ca5a2c6f6b463dd95a04ecd/details","https://viewer.us-3.sharpershape.services/viewer/issues/5ecf8c97a03e660001310ac9/details","high","W12154249N3954063 WYANDOTTE 1105"]
[1268,"NORTHERN","NORTH VALLEY","Tier 2-3","102911105 Tier 2-3",102911105,"WYANDOTTE 1105",20.1999999999999,39.528479999999902,-121.514179999999,null,32.399999999999899,"W12151418N3952848",13.6,6.3,"NO","W12151441N3952799","W12151401N3952860","W12151401N3952860-W12151441N3952799",102911105,"WYANDOTTE 1105",null,"2019-11-20T17:46:46",null,null,"Not assessed","https://viewer.us-3.sharpershape.services/viewer/assets/5ca5a2c6f6b463bdf4a04f50/details","https://viewer.us-3.sharpershape.services/viewer/issues/5ecf8c9534b60c00015ec0e5/details","high","W12151418N3952848 WYANDOTTE 1105","[CoastalLiveOak, Eucalyptus/BlueGum, Other]","CoastalLiveOak"]
[1269,"NORTHERN","NORTH VALLEY","Tier 2-3","102911105 Tier 2-3",102911105,"WYANDOTTE 1105",43.399999999999899,39.532530000000001,-121.53139,null,41.1,"W12153139N3953253",9.8000000000000007,21.8,"NO","W12153205N3953245","W12153117N3953239","W12153117N3953239-W12153205N3953245",102911105,"WYANDOTTE 1105",null,"2019-11-20T17:46:46",null,null,"Not assessed","https://viewer.us-3.sharpershape.services/viewer/assets/5ca5a2c6f6b4636b14a051ca/details","https://viewer.us-3.sharpershape.services/viewer/issues/5ecf8f03a03e66000131134c/details","high","W12153139N3953253 WYANDOTTE 1105","[DouglasFir, CoastalLiveOak, Other]","DouglasFir"]
[1270,"NORTHERN","NORTH VALLEY","Tier 2-3","102911105 Tier 2-3",102911105,"WYANDOTTE 1105",14.3,39.529969999999899,-121.52231999999999,null,23.8,"W12152232N3952997",8.1,6.6,"NO","W12152284N3952992","W12152184N3953012","W12152184N3953012-W12152284N3952992",102911105,"WYANDOTTE 1105",null,"2019-11-20T17:46:46",null,null,"Not assessed","https://viewer.us-3.sharpershape.services/viewer/assets/5ca5a2c6f6b4639636a0497c/details","https://viewer.us-3.sharpershape.services/viewer/issues/5ee2b4c2a03e66000146e451/details","high","W12152232N3952997 WYANDOTTE 1105","[GrayPine, MontereyPine, ValleyOak]","GrayPine"]
[1271,"NORTHERN","NORTH VALLEY","Tier 2-3","102911105 Tier 2-3",102911105,"WYANDOTTE 1105",14,39.530670000000001,-121.535979999999,null,41.899999999999899,"W12153598N3953067",4.5,-13.5,"YES","W12153538N3953063","W12153655N3953063","W12153655N3953063-W12153538N3953063",102911105,"WYANDOTTE 1105",null,"2019-11-20T17:46:46",null,null,"Not assessed","https://viewer.us-3.sharpershape.services/viewer/assets/5ca5a2c6f6b4638037a04ab3/details","https://viewer.us-3.sharpershape.services/viewer/issues/5ecf8c95a03e660001310930/details","high","W12153598N3953067 WYANDOTTE 1105","[TanOak, LiveOak, DouglasFir]","TanOak"]
[1272,"NORTHERN","NORTH VALLEY","Tier 2-3","102911105 Tier 2-3",102911105,"WYANDOTTE 1105",26.8,39.532919999999898,-121.531769999999,null,38.1,"W12153177N3953292",7.2,-1.4,"YES","W12153205N3953285","W12153118N3953282","W12153118N3953282-W12153205N3953285",102911105,"WYANDOTTE 1105",null,"2019-11-20T17:46:46",null,null,"Not assessed","https://viewer.us-3.sharpershape.services/viewer/assets/5ca5a2c6f6b463490aa04d2f/details","https://viewer.us-3.sharpershape.services/viewer/issues/5ecf8c9534b60c00015ec0d4/details","high","W12153177N3953292 WYANDOTTE 1105","[DouglasFir, TanOak, LiveOak]","DouglasFir"]
[1273,"NORTHERN","NORTH VALLEY","Tier 2-3","102911105 Tier 2-3",102911105,"WYANDOTTE 1105",37.6,39.531479999999902,-121.517949999999,null,49.399999999999899,"W12151795N3953148",21.6999999999999,-1,"YES","W12151822N3953157","W12151765N3953162","W12151765N3953162-W12151822N3953157",102911105,"WYANDOTTE 1105",null,"2019-11-20T17:46:46",null,null,"Not assessed","https://viewer.us-3.sharpershape.services/viewer/assets/5ca5a2c6f6b463f67aa051de/details","https://viewer.us-3.sharpershape.services/viewer/issues/5ecf8c9734b60c00015ec1a9/details","high","W12151795N3953148 WYANDOTTE 1105","[CoastalLiveOak, Other, DouglasFir]","CoastalLiveOak"]
[1274,"NORTHERN","NORTH VALLEY","Tier 2-3","102911105 Tier 2-3",102911105,"WYANDOTTE 1105",36,39.528199999999998,-121.534549999999,null,40.700000000000003,"W12153455N3952820",9.1,9.4,"NO","W12153496N3952831","W12153427N3952831","W12153427N3952831-W12153496N3952831",102911105,"WYANDOTTE 1105",null,"2019-11-20T17:46:46",null,null,"Not assessed","https://viewer.us-3.sharpershape.services/viewer/assets/5ca5a2c6f6b46346a1a04e09/details","https://viewer.us-3.sharpershape.services/viewer/issues/5ecf8c9834b60c00015ec230/details","high","W12153455N3952820 WYANDOTTE 1105","[CoastalLiveOak, Eucalyptus/BlueGum, Other]","CoastalLiveOak"]
[1275,"NORTHERN","NORTH VALLEY","Tier 2-3","102911105 Tier 2-3",102911105,"WYANDOTTE 1105",4.3,39.521549999999898,-121.53833,null,27,"W12153833N3952155",6.5,7.8,"NO","W12153812N3952205","W12153833N3952149","W12153833N3952149-W12153812N3952205",102911105,"WYANDOTTE 1105",null,"2019-11-20T17:46:46",null,null,"Not assessed","https://viewer.us-3.sharpershape.services/viewer/assets/5ca5a2c6f6b4634754a0511a/details","https://viewer.us-3.sharpershape.services/viewer/issues/5ecf8c98a03e660001310b05/details","high","W12153833N3952155 WYANDOTTE 1105","[GrayPine, ValleyOak, DouglasFir]","GrayPine"]
[1276,"NORTHERN","NORTH VALLEY","Tier 2-3","102911105 Tier 2-3",102911105,"WYANDOTTE 1105",32.200000000000003,39.530380000000001,-121.53166,null,45.899999999999899,"W12153166N3953038",7.7,-0.2,"YES","W12153206N3953048","W12153157N3953048","W12153157N3953048-W12153206N3953048",102911105,"WYANDOTTE 1105",null,"2019-11-20T17:46:46",null,null,"Not assessed","https://viewer.us-3.sharpershape.services/viewer/assets/5ca5a2c6f6b4633db9a04a98/details","https://viewer.us-3.sharpershape.services/viewer/issues/5ecf8c9634b60c00015ec13e/details","high","W12153166N3953038 WYANDOTTE 1105","[DouglasFir, LiveOak, ValleyOak]","DouglasFir"]
[1277,"NORTHERN","NORTH VALLEY","Tier 2-3","102911105 Tier 2-3",102911105,"WYANDOTTE 1105",11.3,39.529579999999903,-121.51953,null,27.4,"W12151953N3952958",6.6,3.5,"NO","W12151936N3952926","W12152005N3953021","W12152005N3953021-W12151936N3952926",102911105,"WYANDOTTE 1105",null,"2019-11-20T17:46:46",null,null,"Not assessed","https://viewer.us-3.sharpershape.services/viewer/assets/5ca5a2c6f6b463d94da04bdf/details","https://viewer.us-3.sharpershape.services/viewer/issues/5ecf8c9834b60c00015ec2b7/details","high","W12151953N3952958 WYANDOTTE 1105","[Other, GrayPine, DouglasFir]","Other"]
[1278,"NORTHERN","NORTH VALLEY","Tier 2-3","102911105 Tier 2-3",102911105,"WYANDOTTE 1105",0.7,39.521969999999897,-121.538749999999,null,24.6999999999999,"W12153875N3952197",1.7,2.4,"NO","W12153812N3952205","W12153891N3952195","W12153891N3952195-W12153812N3952205",102911105,"WYANDOTTE 1105",null,"2019-11-20T17:46:46",null,null,"Not assessed","https://viewer.us-3.sharpershape.services/viewer/assets/5ca5a2c6f6b463d5b0a04bae/details","https://viewer.us-3.sharpershape.services/viewer/issues/5ecf9557a03e660001311f8a/details","high","W12153875N3952197 WYANDOTTE 1105","[Other, CoastalLiveOak, DouglasFir]","Other"]
[1279,"NORTHERN","NORTH VALLEY","Tier 2-3","102911105 Tier 2-3",102911105,"WYANDOTTE 1105",12.1,39.53275,-121.539009999999,null,28.4,"W12153901N3953275",7.6,6.1,"NO","W12153906N3953282","W12153905N3953243","W12153905N3953243-W12153906N3953282",102911105,"WYANDOTTE 1105",null,"2019-11-20T17:46:46",null,null,"Not assessed","https://viewer.us-3.sharpershape.services/viewer/assets/5ca5a2c6f6b463fdeba04bb5/details","https://viewer.us-3.sharpershape.services/viewer/issues/5ecf8c9834b60c00015ec231/details","high","W12153901N3953275 WYANDOTTE 1105","[DouglasFir, ValleyOak, TanOak]","DouglasFir"]
[1280,"NORTHERN","NORTH VALLEY","Tier 2-3","102911105 Tier 2-3",102911105,"WYANDOTTE 1105",20.6999999999999,39.527229999999903,-121.530749999999,null,34.200000000000003,"W12153075N3952723",9.9,4.7,"NO","W12153054N3952731","W12153116N3952725","W12153116N3952725-W12153054N3952731",102911105,"WYANDOTTE 1105",null,"2019-11-20T17:46:46",null,null,"Not assessed","https://viewer.us-3.sharpershape.services/viewer/assets/5ca5a2c6f6b4632e29a04bb0/details","https://viewer.us-3.sharpershape.services/viewer/issues/5ecf8c99a03e660001310c58/details","high","W12153075N3952723 WYANDOTTE 1105","[Other, DouglasFir, ValleyOak]","Other"]
[1281,"NORTHERN","NORTH VALLEY","Tier 2-3","102911105 Tier 2-3",102911105,"WYANDOTTE 1105",31.6,39.526409999999899,-121.538029999999,null,35.200000000000003,"W12153803N3952641",13.7,10,"NO","W12153848N3952653","W12153767N3952612","W12153767N3952612-W12153848N3952653",102911105,"WYANDOTTE 1105",null,"2019-11-20T17:46:46",null,null,"Not assessed","https://viewer.us-3.sharpershape.services/viewer/assets/5ca5a2c6f6b463399da04f5c/details","https://viewer.us-3.sharpershape.services/viewer/issues/5ecf8c9434b60c00015ec062/details","high","W12153803N3952641 WYANDOTTE 1105","[Other, GrayPine, DouglasFir]","Other"]
[1282,"NORTHERN","NORTH VALLEY","Tier 0-1","102911105 Tier 0-1",102911105,"WYANDOTTE 1105",55.899999999999899,39.524709999999899,-121.5222,null,76.900000000000006,"W12152220N3952471",40.1,-6,"YES","W12152121N3952468","W12152223N3952454","W12152223N3952454-W12152121N3952468",102911105,"WYANDOTTE 1105",null,"2019-11-20T17:46:46",null,null,"Not assessed","https://viewer.us-3.sharpershape.services/viewer/assets/5ca5a2c6f6b4634c98a0504c/details","https://viewer.us-3.sharpershape.services/viewer/issues/5ecf8c9634b60c00015ec149/details","high","W12152220N3952471 WYANDOTTE 1105","[GrayPine, Other, ValleyOak]","GrayPine"]
[1283,"NORTHERN","NORTH VALLEY","Tier 2-3","102911105 Tier 2-3",102911105,"WYANDOTTE 1105",28.3,39.531680000000001,-121.51791,null,44.8,"W12151791N3953168",11.1,6.3,"NO","W12151822N3953157","W12151765N3953162","W12151765N3953162-W12151822N3953157",102911105,"WYANDOTTE 1105",null,"2019-11-20T17:46:46",null,null,"Not assessed","https://viewer.us-3.sharpershape.services/viewer/assets/5ca5a2c6f6b463f67aa051de/details","https://viewer.us-3.sharpershape.services/viewer/issues/5ecf8c9734b60c00015ec1a4/details","high","W12151791N3953168 WYANDOTTE 1105","[DouglasFir, Other, MontereyPine]","DouglasFir"]
[1284,"NORTHERN","NORTH VALLEY","Tier 2-3","102911105 Tier 2-3",102911105,"WYANDOTTE 1105",16.899999999999899,39.529669999999903,-121.529989999999,null,45.6,"W12152999N3952967",8.4,-5.2,"YES","W12152988N3952972","W12153068N3952972","W12153068N3952972-W12152988N3952972",102911105,"WYANDOTTE 1105",null,"2019-11-20T17:46:46",null,null,"Not assessed","https://viewer.us-3.sharpershape.services/viewer/assets/5d89b6cc55dd6b81633f2eff/details","https://viewer.us-3.sharpershape.services/viewer/issues/5ecf8c9934b60c00015ec34b/details","high","W12152999N3952967 WYANDOTTE 1105","[CoastalLiveOak, DouglasFir, Other]","CoastalLiveOak"]
[1285,"NORTHERN","NORTH VALLEY","Tier 2-3","102911105 Tier 2-3",102911105,"WYANDOTTE 1105",16.8,39.529119999999899,-121.526179999999,null,38.1,"W12152618N3952912",11.2,2.5,"NO","W12152596N3952916","W12152680N3952875","W12152680N3952875-W12152596N3952916",102911105,"WYANDOTTE 1105",null,"2019-11-20T17:46:46",null,null,"Not assessed","https://viewer.us-3.sharpershape.services/viewer/assets/5ca5a2c6f6b463c0bba05089/details","https://viewer.us-3.sharpershape.services/viewer/issues/5ecf8c96a03e660001310a1c/details","high","W12152618N3952912 WYANDOTTE 1105","[TanOak, GrayPine, Other]","TanOak"]
[1286,"NORTHERN","NORTH VALLEY","Tier 2-3","102911105 Tier 2-3",102911105,"WYANDOTTE 1105",0.8,39.529609999999899,-121.52396,null,25.9,"W12152396N3952961",9.6999999999999993,10.4,"NO","W12152351N3952966","W12152414N3952959","W12152414N3952959-W12152351N3952966",102911105,"WYANDOTTE 1105",null,"2019-11-20T17:46:46",null,null,"Not assessed","https://viewer.us-3.sharpershape.services/viewer/assets/5ca5a2c6f6b463d8dea04db3/details","https://viewer.us-3.sharpershape.services/viewer/issues/5ee2b920a03e66000146e478/details","high","W12152396N3952961 WYANDOTTE 1105","[GrayPine, MontereyPine, BlackOak]","GrayPine"]
[1287,"NORTHERN","NORTH VALLEY","Tier 2-3","102911105 Tier 2-3",102911105,"WYANDOTTE 1105",31.6999999999999,39.532240000000002,-121.534459999999,null,43.6,"W12153446N3953224",5.9,4.0999999999999996,"NO","W12153557N3953230","W12153419N3953235","W12153419N3953235-W12153557N3953230",102911105,"WYANDOTTE 1105",null,"2019-11-20T17:46:46",null,null,"Not assessed","https://viewer.us-3.sharpershape.services/viewer/assets/5ca5a2c6f6b463191ca04d93/details","https://viewer.us-3.sharpershape.services/viewer/issues/5ee2b430a03e66000146e428/details","high","W12153446N3953224 WYANDOTTE 1105","[DouglasFir, CoastalLiveOak, MontereyPine]","DouglasFir"]
[1288,"NORTHERN","NORTH VALLEY","Tier 2-3","102911105 Tier 2-3",102911105,"WYANDOTTE 1105",43.1,39.529240000000001,-121.52024,null,63.6,"W12152024N3952924",35,-4.7,"YES","W12152014N3952914","W12152053N3952877","W12152053N3952877-W12152014N3952914",102911105,"WYANDOTTE 1105",null,"2019-11-20T17:46:46",null,null,"Not assessed","https://viewer.us-3.sharpershape.services/viewer/assets/5ca5a2c6f6b463d0f3a04a55/details","https://viewer.us-3.sharpershape.services/viewer/issues/5ecf8c9734b60c00015ec1fc/details","high","W12152024N3952924 WYANDOTTE 1105","[Eucalyptus/BlueGum, DouglasFir, CoastalLiveOak]","Eucalyptus/BlueGum"]
[1289,"NORTHERN","NORTH VALLEY","Tier 2-3","102911105 Tier 2-3",102911105,"WYANDOTTE 1105",8.1999999999999904,39.5244,-121.537279999999,null,33.799999999999898,"W12153728N3952440",3.5,1.4,"NO","W12153716N3952455","W12153751N3952386","W12153751N3952386-W12153716N3952455",102911105,"WYANDOTTE 1105",null,"2019-11-20T17:46:46",null,null,"Not assessed","https://viewer.us-3.sharpershape.services/viewer/assets/5ca5a2c6f6b46351f2a04ede/details","https://viewer.us-3.sharpershape.services/viewer/issues/5ecf8c9634b60c00015ec16e/details","high","W12153728N3952440 WYANDOTTE 1105","[MontereyPine, Other, DouglasFir]","MontereyPine"]
[1290,"NORTHERN","NORTH VALLEY","Tier 2-3","102911105 Tier 2-3",102911105,"WYANDOTTE 1105",32.5,39.524789999999904,-121.53739,null,77.799999999999898,"W12153739N3952479",15.1,-30.6,"YES","W12153745N3952470","W12153809N3952504","W12153809N3952504-W12153745N3952470",102911105,"WYANDOTTE 1105",null,"2019-11-20T17:46:46",null,null,"Not assessed","https://viewer.us-3.sharpershape.services/viewer/assets/5ca5a2c6f6b4638d21a051a2/details","https://viewer.us-3.sharpershape.services/viewer/issues/5ecf8c95a03e660001310932/details","high","W12153739N3952479 WYANDOTTE 1105","[GrayPine, DouglasFir, Other]","GrayPine"]
[1291,"NORTHERN","NORTH VALLEY","Tier 2-3","102911105 Tier 2-3",102911105,"WYANDOTTE 1105",12.6,39.529669999999903,-121.52378,null,36.899999999999899,"W12152378N3952967",8.6999999999999993,-0.8,"YES","W12152351N3952966","W12152414N3952959","W12152414N3952959-W12152351N3952966",102911105,"WYANDOTTE 1105",null,"2019-11-20T17:46:46",null,null,"Not assessed","https://viewer.us-3.sharpershape.services/viewer/assets/5ca5a2c6f6b463d8dea04db3/details","https://viewer.us-3.sharpershape.services/viewer/issues/5ee2b4c2a03e66000146e448/details","high","W12152378N3952967 WYANDOTTE 1105","[Other, DouglasFir, GrayPine]","Other"]
[1292,"NORTHERN","NORTH VALLEY","Tier 2-3","102911105 Tier 2-3",102911105,"WYANDOTTE 1105",35.200000000000003,39.529339999999898,-121.51957,null,60.899999999999899,"W12151957N3952934",20.1999999999999,-11.7,"YES","W12151936N3952926","W12152014N3952914","W12152014N3952914-W12151936N3952926",102911105,"WYANDOTTE 1105",null,"2019-11-20T17:46:46",null,null,"Not assessed","https://viewer.us-3.sharpershape.services/viewer/assets/5ca5a2c6f6b4634b73a04f6f/details","https://viewer.us-3.sharpershape.services/viewer/issues/5ecf8c96a03e6600013109ff/details","high","W12151957N3952934 WYANDOTTE 1105","[DouglasFir, MontereyPine, Other]","DouglasFir"]
[1293,"NORTHERN","NORTH VALLEY","Tier 2-3","102911105 Tier 2-3",102911105,"WYANDOTTE 1105",9.3000000000000007,39.5283599999999,-121.5274,null,31.1999999999999,"W12152740N3952836",9.6999999999999993,9.1999999999999993,"NO","W12152680N3952875","W12152750N3952825","W12152750N3952825-W12152680N3952875",102911105,"WYANDOTTE 1105",null,"2019-11-20T17:46:46",null,null,"Not assessed","https://viewer.us-3.sharpershape.services/viewer/assets/5ca5a2c6f6b46337c2a04be5/details","https://viewer.us-3.sharpershape.services/viewer/issues/5ecf8c9634b60c00015ec0ea/details","high","W12152740N3952836 WYANDOTTE 1105","[GrayPine, Eucalyptus/BlueGum, Other]","GrayPine"]
[1294,"NORTHERN","NORTH VALLEY","Tier 2-3","102911105 Tier 2-3",102911105,"WYANDOTTE 1105",31.5,39.526209999999899,-121.51474,null,38.6,"W12151474N3952621",18.8,9,"NO","W12151463N3952642","W12151461N3952559","W12151461N3952559-W12151463N3952642",102911105,"WYANDOTTE 1105",null,"2019-11-20T17:46:46",null,null,"Not assessed","https://viewer.us-3.sharpershape.services/viewer/assets/5d8b1e4455dd6b5e853f3023/details","https://viewer.us-3.sharpershape.services/viewer/issues/5ecf8c99a03e660001310c3d/details","high","W12151474N3952621 WYANDOTTE 1105","[DouglasFir, Other, GrayPine]","DouglasFir"]
[1295,"NORTHERN","NORTH VALLEY","Tier 2-3","102911105 Tier 2-3",102911105,"WYANDOTTE 1105",34.200000000000003,39.538709999999902,-121.54241,null,105.5,"W12154241N3953871",14.8,-71.299999999999898,"YES","W12154252N3953857","W12154263N3953924","W12154263N3953924-W12154252N3953857",102911105,"WYANDOTTE 1105",null,"2019-11-20T17:46:46",null,null,"Not assessed","https://viewer.us-3.sharpershape.services/viewer/assets/5ca5a2c6f6b463b563a04ed9/details","https://viewer.us-3.sharpershape.services/viewer/issues/5ecf8c9334b60c00015ec02b/details","high","W12154241N3953871 WYANDOTTE 1105","[GrayPine, PonderosaPine, DouglasFir]","GrayPine"]
[1296,"NORTHERN","NORTH VALLEY","Tier 0-1","102911105 Tier 0-1",102911105,"WYANDOTTE 1105",19.8,39.524539999999902,-121.52176,null,77,"W12152176N3952454",12,-42.2,"YES","W12152121N3952468","W12152223N3952454","W12152223N3952454-W12152121N3952468",102911105,"WYANDOTTE 1105",null,"2019-11-20T17:46:46","OH",null,"Not assessed","https://viewer.us-3.sharpershape.services/viewer/assets/5ca5a2c6f6b4634c98a0504c/details","https://viewer.us-3.sharpershape.services/viewer/issues/5ecf8c9634b60c00015ec159/details","high","W12152176N3952454 WYANDOTTE 1105","[GrayPine, ValleyOak, Other]","GrayPine"]
[1297,"NORTHERN","NORTH VALLEY","Tier 2-3","102911105 Tier 2-3",102911105,"WYANDOTTE 1105",45.2,39.539589999999897,-121.542439999999,null,74.799999999999898,"W12154244N3953959",24.1,-29.1999999999999,"YES","W12154261N3953987","W12154263N3953924","W12154263N3953924-W12154261N3953987",102911105,"WYANDOTTE 1105",null,"2019-11-20T17:46:46",null,null,"Not assessed","https://viewer.us-3.sharpershape.services/viewer/assets/5ca5a2c6f6b4637988a04a3e/details","https://viewer.us-3.sharpershape.services/viewer/issues/5ecf8c93a03e660001310871/details","high","W12154244N3953959 WYANDOTTE 1105","[DouglasFir, Other, GrayPine]","DouglasFir"]
[1298,"NORTHERN","NORTH VALLEY","Tier 2-3","102911105 Tier 2-3",102911105,"WYANDOTTE 1105",74.2,39.532809999999898,-121.538209999999,null,78.900000000000006,"W12153821N3953281",56.1,0.2,"NO","W12153906N3953282","W12153848N3953281","W12153848N3953281-W12153906N3953282",102911105,"WYANDOTTE 1105",null,"2019-11-20T17:46:46",null,null,"Not assessed","https://viewer.us-3.sharpershape.services/viewer/assets/5ca5a2c6f6b46324baa04ba9/details","https://viewer.us-3.sharpershape.services/viewer/issues/5ecf8c9934b60c00015ec31c/details","high","W12153821N3953281 WYANDOTTE 1105","[Other, DouglasFir, GrayPine]","Other"]
[1299,"NORTHERN","NORTH VALLEY","Tier 0-1","102911105 Tier 0-1",102911105,"WYANDOTTE 1105",26.5,39.524619999999899,-121.52249,null,69.900000000000006,"W12152249N3952462",7.8,-26.6999999999999,"YES","W12152293N3952453","W12152223N3952454","W12152223N3952454-W12152293N3952453",102911105,"WYANDOTTE 1105",null,"2019-11-20T17:46:46",null,null,"Not assessed","https://viewer.us-3.sharpershape.services/viewer/assets/5ca5a2c6f6b4634c38a04c9a/details","https://viewer.us-3.sharpershape.services/viewer/issues/5ecf8c9634b60c00015ec103/details","high","W12152249N3952462 WYANDOTTE 1105","[GrayPine, DouglasFir, Other]","GrayPine"]
[1300,"NORTHERN","NORTH VALLEY","Tier 2-3","102911105 Tier 2-3",102911105,"WYANDOTTE 1105",41.7,39.531779999999898,-121.53891,null,42.399999999999899,"W12153891N3953178",27.4,5.5,"NO","W12153907N3953193","W12153907N3953151","W12153907N3953151-W12153907N3953193",102911105,"WYANDOTTE 1105",null,"2019-11-20T17:46:46",null,null,"Not assessed","https://viewer.us-3.sharpershape.services/viewer/assets/5ca5a2c6f6b463c991a04df7/details","https://viewer.us-3.sharpershape.services/viewer/issues/5ecf8c9834b60c00015ec244/details","high","W12153891N3953178 WYANDOTTE 1105","[Other, LiveOak, TanOak]","Other"]
[1301,"NORTHERN","NORTH VALLEY","Tier 0-1","102911105 Tier 0-1",102911105,"WYANDOTTE 1105",0.8,39.52393,-121.514989999999,null,18.3,"W12151499N3952393",11.7,12.5,"NO","W12151549N3952385","W12151473N3952396","W12151473N3952396-W12151549N3952385",102911105,"WYANDOTTE 1105",null,"2019-11-20T17:46:46",null,null,"Not assessed","https://viewer.us-3.sharpershape.services/viewer/assets/5ca5a2c6f6b46317dfa04ac8/details","https://viewer.us-3.sharpershape.services/viewer/issues/5ecf953e34b60c00015ed6d2/details","high","W12151499N3952393 WYANDOTTE 1105","[GrayPine, TanOak, Other]","GrayPine"]
[1302,"NORTHERN","NORTH VALLEY","Tier 2-3","102911105 Tier 2-3",102911105,"WYANDOTTE 1105",18.6999999999999,39.672539999999898,-121.49736,null,25.6,"W12149736N3967254",12,8,"NO","W12149658N3967347","W12149755N3967217","W12149755N3967217-W12149658N3967347",0,"WYANDOTTE 1105",null,"2019-11-20T17:46:46",null,null,"Not assessed","https://viewer.us-3.sharpershape.services/viewer/assets/5ca5a2c6f6b463d89ea04e5a/details","https://viewer.us-3.sharpershape.services/viewer/issues/5ecf8c9834b60c00015ec2d0/details","high","W12149736N3967254 WYANDOTTE 1105","[MontereyPine, CoastalLiveOak, DouglasFir]","MontereyPine"]
[1303,"NORTHERN","NORTH VALLEY","Tier 2-3","102911105 Tier 2-3",102911105,"WYANDOTTE 1105",39.299999999999997,39.540410000000001,-121.542439999999,null,33.5,"W12154244N3954041",24.4,6.4,"NO","W12154258N3954066","W12154261N3953987","W12154261N3953987-W12154258N3954066",102911105,"WYANDOTTE 1105",null,"2019-11-20T17:46:46",null,null,"Not assessed","https://viewer.us-3.sharpershape.services/viewer/assets/5ca5a2c6f6b463dd95a04ecd/details","https://viewer.us-3.sharpershape.services/viewer/issues/5ecf8c97a03e660001310abf/details","high","W12154244N3954041 WYANDOTTE 1105","[DouglasFir, Eucalyptus/BlueGum, GrayPine]","DouglasFir"]
[1304,"NORTHERN","NORTH VALLEY","Tier 2-3","102911105 Tier 2-3",102911105,"WYANDOTTE 1105",1.9,39.529739999999897,-121.530389999999,null,23.6999999999999,"W12153039N3952974",8.1999999999999904,8.6,"NO","W12152988N3952972","W12153068N3952972","W12153068N3952972-W12152988N3952972",102911105,"WYANDOTTE 1105",null,"2019-11-20T17:46:46",null,null,"Not assessed","https://viewer.us-3.sharpershape.services/viewer/assets/5d89b6cc55dd6b81633f2eff/details","https://viewer.us-3.sharpershape.services/viewer/issues/5ecf8c9934b60c00015ec34a/details","high","W12153039N3952974 WYANDOTTE 1105","[MontereyPine, Other, LiveOak]","MontereyPine"]
[1305,"NORTHERN","NORTH VALLEY","Tier 2-3","102911105 Tier 2-3",102911105,"WYANDOTTE 1105",1,39.532289999999897,-121.53592999999999,null,16.8,"W12153593N3953229",12,8.1999999999999904,"NO","W12153557N3953230","W12153644N3953230","W12153644N3953230-W12153557N3953230",102911105,"WYANDOTTE 1105",null,"2019-11-20T17:46:46",null,null,"Not assessed","https://viewer.us-3.sharpershape.services/viewer/assets/5ca5a2c6f6b4630717a04d92/details","https://viewer.us-3.sharpershape.services/viewer/issues/5ecf8c97a03e660001310ad1/details","high","W12153593N3953229 WYANDOTTE 1105","[Eucalyptus/BlueGum, DouglasFir, CoastalLiveOak]","Eucalyptus/BlueGum"]
[1306,"NORTHERN","NORTH VALLEY","Tier 2-3","102911105 Tier 2-3",102911105,"WYANDOTTE 1105",12.8,39.5327699999999,-121.538679999999,null,67.099999999999895,"W12153868N3953277",5.8,-36.399999999999899,"YES","W12153906N3953282","W12153848N3953281","W12153848N3953281-W12153906N3953282",102911105,"WYANDOTTE 1105",null,"2019-11-20T17:46:46","OH",null,"Not assessed","https://viewer.us-3.sharpershape.services/viewer/assets/5ca5a2c6f6b46324baa04ba9/details","https://viewer.us-3.sharpershape.services/viewer/issues/5ecf8c9934b60c00015ec331/details","high","W12153868N3953277 WYANDOTTE 1105","[Other, DouglasFir, CoastalLiveOak]","Other"]
[1307,"NORTHERN","NORTH VALLEY","Tier 0-1","102911105 Tier 0-1",102911105,"WYANDOTTE 1105",16.5,39.524099999999997,-121.51461,null,58.7,"W12151461N3952410",4.0999999999999996,-19.399999999999999,"YES","W12151473N3952396","W12151456N3952437","W12151456N3952437-W12151473N3952396",102911105,"WYANDOTTE 1105",null,"2019-11-20T17:46:46",null,null,"Not assessed","https://viewer.us-3.sharpershape.services/viewer/assets/5ca5a2c6f6b4637591a050b5/details","https://viewer.us-3.sharpershape.services/viewer/issues/5ecf8c96a03e660001310983/details","high","W12151461N3952410 WYANDOTTE 1105","[ValleyOak, Other, CoastalLiveOak]","ValleyOak"]
[1308,"NORTHERN","NORTH VALLEY","Tier 2-3","102911105 Tier 2-3",102911105,"WYANDOTTE 1105",47,39.53049,-121.539069999999,null,79.2,"W12153907N3953049",29,-17.600000000000001,"YES","W12153908N3953063","W12153843N3953063","W12153843N3953063-W12153908N3953063",102911105,"WYANDOTTE 1105",null,"2019-11-20T17:46:46",null,null,"Not assessed","https://viewer.us-3.sharpershape.services/viewer/assets/5ca5a2c6f6b46390f3a04fa9/details","https://viewer.us-3.sharpershape.services/viewer/issues/5ecf8c9134b60c00015ebfe4/details","high","W12153907N3953049 WYANDOTTE 1105","[GrayPine, LiveOak, MontereyPine]","GrayPine"]
[1309,"NORTHERN","NORTH VALLEY","Tier 2-3","102911105 Tier 2-3",102911105,"WYANDOTTE 1105",24.6,39.528439999999897,-121.530439999999,null,32.299999999999898,"W12153044N3952844",12,7.9,"NO","W12153053N3952876","W12153054N3952815","W12153054N3952815-W12153053N3952876",102911105,"WYANDOTTE 1105",null,"2019-11-20T17:46:46",null,null,"Not assessed","https://viewer.us-3.sharpershape.services/viewer/assets/5ca5a2c6f6b463a3b1a04e34/details","https://viewer.us-3.sharpershape.services/viewer/issues/5ecf8c9034b60c00015ebfcd/details","high","W12153044N3952844 WYANDOTTE 1105"]
[1310,"NORTHERN","NORTH VALLEY","Tier 2-3","102911105 Tier 2-3",102911105,"WYANDOTTE 1105",15.3,39.531549999999903,-121.53265,null,33.899999999999899,"W12153265N3953155",12,5.6,"NO","W12153206N3953153","W12153261N3953152","W12153261N3953152-W12153206N3953153",102911105,"WYANDOTTE 1105",null,"2019-11-20T17:46:46",null,null,"Not assessed","https://viewer.us-3.sharpershape.services/viewer/assets/5ca5a2c6f6b4636454a04d9a/details","https://viewer.us-3.sharpershape.services/viewer/issues/5ecf8c97a03e660001310a6b/details","high","W12153265N3953155 WYANDOTTE 1105","[DouglasFir, GrayPine, ValleyOak]","DouglasFir"]
[1311,"NORTHERN","NORTH VALLEY","Tier 2-3","102911105 Tier 2-3",102911105,"WYANDOTTE 1105",10.9,39.526179999999897,-121.520749999999,null,34.1,"W12152075N3952618",6.7,0.7,"NO","W12152064N3952615","W12152124N3952614","W12152124N3952614-W12152064N3952615",102911105,"WYANDOTTE 1105",null,"2019-11-20T17:46:46",null,null,"Not assessed","https://viewer.us-3.sharpershape.services/viewer/assets/5ca5a2c6f6b463c7cfa0501b/details","https://viewer.us-3.sharpershape.services/viewer/issues/5ecf8c9634b60c00015ec131/details","high","W12152075N3952618 WYANDOTTE 1105","[GrayPine, DouglasFir, Other]","GrayPine"]
[1312,"NORTHERN","NORTH VALLEY","Tier 2-3","102911105 Tier 2-3",102911105,"WYANDOTTE 1105",0.3,39.5267699999999,-121.53188,null,25.5,"W12153188N3952677",8.9,9.1999999999999993,"NO","W12153152N3952699","W12153224N3952655","W12153224N3952655-W12153152N3952699",102911105,"WYANDOTTE 1105",null,"2019-11-20T17:46:46",null,null,"Not assessed","https://viewer.us-3.sharpershape.services/viewer/assets/5ca5a2c6f6b46367dca04ab1/details","https://viewer.us-3.sharpershape.services/viewer/issues/5ecf955934b60c00015ed7f2/details","high","W12153188N3952677 WYANDOTTE 1105","[GrayPine, DouglasFir, MontereyPine]","GrayPine"]
[1313,"NORTHERN","NORTH VALLEY","Tier 2-3","102911105 Tier 2-3",102911105,"WYANDOTTE 1105",14,39.5282699999999,-121.534409999999,null,44.8,"W12153441N3952827",5,-8,"YES","W12153496N3952831","W12153427N3952831","W12153427N3952831-W12153496N3952831",102911105,"WYANDOTTE 1105",null,"2019-11-20T17:46:46",null,null,"Not assessed","https://viewer.us-3.sharpershape.services/viewer/assets/5ca5a2c6f6b46346a1a04e09/details","https://viewer.us-3.sharpershape.services/viewer/issues/5ecf8c9834b60c00015ec22e/details","high","W12153441N3952827 WYANDOTTE 1105","[LiveOak, DouglasFir, ValleyOak]","LiveOak"]
[1314,"NORTHERN","NORTH VALLEY","Tier 2-3","102911105 Tier 2-3",102911105,"WYANDOTTE 1105",4.2,39.5301499999999,-121.521549999999,null,27.1999999999999,"W12152155N3953015",6.6,7.5,"NO","W12152184N3953012","W12152091N3953014","W12152091N3953014-W12152184N3953012",102911105,"WYANDOTTE 1105",null,"2019-11-20T17:46:46",null,null,"Not assessed","https://viewer.us-3.sharpershape.services/viewer/assets/5ca5a2c6f6b463611da04cf7/details","https://viewer.us-3.sharpershape.services/viewer/issues/5ecf8c97a03e660001310a90/details","high","W12152155N3953015 WYANDOTTE 1105","[GrayPine, Other, CoastalLiveOak]","GrayPine"]
[1315,"NORTHERN","NORTH VALLEY","Tier 2-3","102911105 Tier 2-3",102911105,"WYANDOTTE 1105",17.1999999999999,39.525929999999903,-121.53748,null,34.399999999999899,"W12153748N3952593",12,2.6,"NO","W12153742N3952569","W12153767N3952612","W12153767N3952612-W12153742N3952569",102911105,"WYANDOTTE 1105",null,"2019-11-20T17:46:46",null,null,"Not assessed","https://viewer.us-3.sharpershape.services/viewer/assets/5e1b0881942b992c9e7b02ef/details","https://viewer.us-3.sharpershape.services/viewer/issues/5ecf8c9934b60c00015ec3a7/details","high","W12153748N3952593 WYANDOTTE 1105"]
[1316,"NORTHERN","NORTH VALLEY","Tier 2-3","102911105 Tier 2-3",102911105,"WYANDOTTE 1105",61.6,39.675190000000001,-121.494529999999,null,91,"W12149453N3967519",40.799999999999997,6.8,"NO","W12149590N3967413","W12149366N3967635","W12149366N3967635-W12149590N3967413",102911105,"WYANDOTTE 1105",null,"2019-11-20T17:46:46",null,null,"Not assessed","https://viewer.us-3.sharpershape.services/viewer/assets/5ca5a2c6f6b46310cea04dc9/details","https://viewer.us-3.sharpershape.services/viewer/issues/5ecf8c92a03e66000131084f/details","high","W12149453N3967519 WYANDOTTE 1105","[GrayPine, DouglasFir, MontereyPine]","GrayPine"]
[1317,"NORTHERN","NORTH VALLEY","Tier 2-3","102911105 Tier 2-3",102911105,"WYANDOTTE 1105",14.7,39.532089999999897,-121.53426,null,73.7,"W12153426N3953209",12,-39.299999999999997,"YES","W12153419N3953172","W12153419N3953235","W12153419N3953235-W12153419N3953172",102911105,"WYANDOTTE 1105",null,"2019-11-20T17:46:46","OH",null,"Not assessed","https://viewer.us-3.sharpershape.services/viewer/assets/5ca5a2c6f6b463ef61a04c9e/details","https://viewer.us-3.sharpershape.services/viewer/issues/5ee2b42e34b60c0001746b53/details","high","W12153426N3953209 WYANDOTTE 1105","[DouglasFir, GrayPine, TanOak]","DouglasFir"]
[1318,"NORTHERN","NORTH VALLEY","Tier 0-1","102911105 Tier 0-1",102911105,"WYANDOTTE 1105",50.399999999999899,39.523609999999898,-121.511539999999,null,90.7,"W12151154N3952361",36,-28.1,"YES","W12151196N3952324","W12151119N3952361","W12151119N3952361-W12151196N3952324",102911105,"WYANDOTTE 1105",null,"2019-11-20T17:46:46",null,null,"Not assessed","https://viewer.us-3.sharpershape.services/viewer/assets/5ca5a2c6f6b4638f7da04e40/details","https://viewer.us-3.sharpershape.services/viewer/issues/5ecf8c9634b60c00015ec116/details","high","W12151154N3952361 WYANDOTTE 1105","[GrayPine, DouglasFir, LiveOak]","GrayPine"]
[1319,"NORTHERN","NORTH VALLEY","Tier 2-3","102911105 Tier 2-3",102911105,"WYANDOTTE 1105",32.1,39.5302399999999,-121.52109,null,61.7,"W12152109N3953024",7,-14,"YES","W12152184N3953012","W12152091N3953014","W12152091N3953014-W12152184N3953012",102911105,"WYANDOTTE 1105",null,"2019-11-20T17:46:46",null,null,"Not assessed","https://viewer.us-3.sharpershape.services/viewer/assets/5ca5a2c6f6b463611da04cf7/details","https://viewer.us-3.sharpershape.services/viewer/issues/5ecf8c97a03e660001310a91/details","high","W12152109N3953024 WYANDOTTE 1105","[GrayPine, Other, ValleyOak]","GrayPine"]
[1320,"NORTHERN","NORTH VALLEY","Tier 0-1","102911105 Tier 0-1",102911105,"WYANDOTTE 1105",12.7,39.523469999999897,-121.511369999999,null,38.6,"W12151137N3952347",4.8,-8.3000000000000007,"YES","W12151196N3952324","W12151119N3952361","W12151119N3952361-W12151196N3952324",102911105,"WYANDOTTE 1105",null,"2019-11-20T17:46:46",null,null,"Not assessed","https://viewer.us-3.sharpershape.services/viewer/assets/5ca5a2c6f6b4638f7da04e40/details","https://viewer.us-3.sharpershape.services/viewer/issues/5ecf8c9634b60c00015ec10b/details","high","W12151137N3952347 WYANDOTTE 1105","[GrayPine, LiveOak, ValleyOak]","GrayPine"]
[1321,"NORTHERN","NORTH VALLEY","Tier 2-3","102911105 Tier 2-3",102911105,"WYANDOTTE 1105",62.6,39.532029999999899,-121.538839999999,null,60.3,"W12153884N3953203",41,5.5,"NO","W12153905N3953243","W12153907N3953193","W12153907N3953193-W12153905N3953243",102911105,"WYANDOTTE 1105",null,"2019-11-20T17:46:46",null,null,"Not assessed","https://viewer.us-3.sharpershape.services/viewer/assets/5ca5a2c6f6b46326f9a04de3/details","https://viewer.us-3.sharpershape.services/viewer/issues/5ecf8c9934b60c00015ec35e/details","high","W12153884N3953203 WYANDOTTE 1105","[DouglasFir, GrayPine, Eucalyptus/BlueGum]","DouglasFir"]
[1322,"NORTHERN","NORTH VALLEY","Tier 2-3","102911105 Tier 2-3",102911105,"WYANDOTTE 1105",14.4,39.532359999999898,-121.53144,null,38.700000000000003,"W12153144N3953236",7.8,-4.9000000000000004,"YES","W12153205N3953245","W12153117N3953239","W12153117N3953239-W12153205N3953245",102911105,"WYANDOTTE 1105",null,"2019-11-20T17:46:46",null,null,"Not assessed","https://viewer.us-3.sharpershape.services/viewer/assets/5ca5a2c6f6b4636b14a051ca/details","https://viewer.us-3.sharpershape.services/viewer/issues/5ecf8c9734b60c00015ec17b/details","high","W12153144N3953236 WYANDOTTE 1105","[CoastalLiveOak, MontereyPine, GrayPine]","CoastalLiveOak"]
[1323,"NORTHERN","NORTH VALLEY","Tier 0-1","102911105 Tier 0-1",102911105,"WYANDOTTE 1105",53.3,39.523679999999899,-121.51604,null,69.7,"W12151604N3952368",49.1,-4.4000000000000004,"YES","W12151682N3952381","W12151594N3952384","W12151594N3952384-W12151682N3952381",102911105,"WYANDOTTE 1105",null,"2019-11-20T17:46:46",null,null,"Not assessed","https://viewer.us-3.sharpershape.services/viewer/assets/5ca5a2c6f6b463b446a04a3d/details","https://viewer.us-3.sharpershape.services/viewer/issues/5ecf8c95a03e66000131094c/details","high","W12151604N3952368 WYANDOTTE 1105","[DouglasFir, Other, MontereyPine]","DouglasFir"]
[1324,"NORTHERN","NORTH VALLEY","Tier 2-3","102911105 Tier 2-3",102911105,"WYANDOTTE 1105",32.6,39.526429999999898,-121.53906000000001,null,67.400000000000006,"W12153906N3952643",15.6,-18.8,"YES","W12153848N3952653","W12153928N3952652","W12153928N3952652-W12153848N3952653",102911105,"WYANDOTTE 1105",null,"2019-11-20T17:46:46",null,null,"Not assessed","https://viewer.us-3.sharpershape.services/viewer/assets/5ca5a2c6f6b463083da04d94/details","https://viewer.us-3.sharpershape.services/viewer/issues/5ecf8c98a03e660001310bbd/details","high","W12153906N3952643 WYANDOTTE 1105","[GrayPine, Other, DouglasFir]","GrayPine"]
[1325,"NORTHERN","NORTH VALLEY","Tier 2-3","102911105 Tier 2-3",102911105,"WYANDOTTE 1105",66.2,39.533079999999899,-121.54106,null,83.7,"W12154106N3953308",53.5,9.5,"NO","W12154073N3953285","W12154087N3953327","W12154087N3953327-W12154073N3953285",102911105,"WYANDOTTE 1105",null,"2019-11-20T17:46:46",null,null,"Not assessed","https://viewer.us-3.sharpershape.services/viewer/assets/5ca5a2c6f6b463f395a04ceb/details","https://viewer.us-3.sharpershape.services/viewer/issues/5ecf8c97a03e660001310abe/details","high","W12154106N3953308 WYANDOTTE 1105","[GrayPine, DouglasFir, CoastalLiveOak]","GrayPine"]
[1326,"NORTHERN","NORTH VALLEY","Tier 2-3","102911105 Tier 2-3",102911105,"WYANDOTTE 1105",27.6999999999999,39.674039999999898,-121.49584,null,38.200000000000003,"W12149584N3967404",15,2.8,"NO","W12149658N3967347","W12149590N3967413","W12149590N3967413-W12149658N3967347",0,"WYANDOTTE 1105",null,"2019-11-20T17:46:46",null,null,"Not assessed","https://viewer.us-3.sharpershape.services/viewer/assets/5ca5a2c6f6b463ad06a0497a/details","https://viewer.us-3.sharpershape.services/viewer/issues/5ecf8c9234b60c00015ec015/details","high","W12149584N3967404 WYANDOTTE 1105","[GrayPine, DouglasFir, MontereyPine]","GrayPine"]
[1327,"NORTHERN","NORTH VALLEY","Tier 2-3","102911105 Tier 2-3",102911105,"WYANDOTTE 1105",28.6999999999999,39.527619999999899,-121.52804,null,38.799999999999997,"W12152804N3952762",12,4,"NO","W12152800N3952774","W12152907N3952726","W12152907N3952726-W12152800N3952774",102911105,"WYANDOTTE 1105",null,"2019-11-20T17:46:46",null,null,"Not assessed","https://viewer.us-3.sharpershape.services/viewer/assets/5ca5a2c6f6b4634630a04e8d/details","https://viewer.us-3.sharpershape.services/viewer/issues/5ecf8c97a03e660001310ae9/details","high","W12152804N3952762 WYANDOTTE 1105","[GrayPine, ValleyOak, Eucalyptus/BlueGum]","GrayPine"]
[1328,"NORTHERN","NORTH VALLEY","Tier 0-1","102911105 Tier 0-1",102911105,"WYANDOTTE 1105",2.8,39.525799999999997,-121.533379999999,null,26.6999999999999,"W12153338N3952580",10.3,13.2,"NO","W12153345N3952585","W12153312N3952549","W12153312N3952549-W12153345N3952585",102911105,"WYANDOTTE 1105",null,"2019-11-20T17:46:46",null,null,"Not assessed","https://viewer.us-3.sharpershape.services/viewer/assets/5ca5a2c6f6b4639894a04b2d/details","https://viewer.us-3.sharpershape.services/viewer/issues/5ecf956ea03e66000131200c/details","high","W12153338N3952580 WYANDOTTE 1105","[MontereyPine, GrayPine, DouglasFir]","MontereyPine"]
[1329,"NORTHERN","NORTH VALLEY","Tier 0-1","102911105 Tier 0-1",102911105,"WYANDOTTE 1105",18.1999999999999,39.52458,-121.52297,null,45.6,"W12152297N3952458",12,-0.8,"YES","W12152293N3952453","W12152223N3952454","W12152223N3952454-W12152293N3952453",102911105,"WYANDOTTE 1105",null,"2019-11-20T17:46:46",null,null,"Not assessed","https://viewer.us-3.sharpershape.services/viewer/assets/5ca5a2c6f6b4634c38a04c9a/details","https://viewer.us-3.sharpershape.services/viewer/issues/5ecf8c9634b60c00015ec100/details","high","W12152297N3952458 WYANDOTTE 1105","[CoastalLiveOak, Eucalyptus/BlueGum, DouglasFir]","CoastalLiveOak"]
[1330,"NORTHERN","NORTH VALLEY","Tier 2-3","102911105 Tier 2-3",102911105,"WYANDOTTE 1105",47.5,39.528230000000001,-121.52727,null,53.7,"W12152727N3952823",26.5,0.3,"NO","W12152680N3952875","W12152750N3952825","W12152750N3952825-W12152680N3952875",102911105,"WYANDOTTE 1105",null,"2019-11-20T17:46:46",null,null,"Not assessed","https://viewer.us-3.sharpershape.services/viewer/assets/5ca5a2c6f6b46337c2a04be5/details","https://viewer.us-3.sharpershape.services/viewer/issues/5ecf8c9634b60c00015ec0e6/details","high","W12152727N3952823 WYANDOTTE 1105","[GrayPine, MontereyPine, TanOak]","GrayPine"]
[1331,"NORTHERN","NORTH VALLEY","Tier 2-3","102911105 Tier 2-3",102911105,"WYANDOTTE 1105",9.3000000000000007,39.655249999999903,-121.506399999999,null,23.9,"W12150640N3965525",12,8.1999999999999904,"NO","W12150643N3965533","W12150660N3965474","W12150660N3965474-W12150643N3965533",102911105,"WYANDOTTE 1105",null,"2019-11-20T17:46:46",null,null,"Not assessed","https://viewer.us-3.sharpershape.services/viewer/assets/5d88be6055dd6b9f923f2ea6/details","https://viewer.us-3.sharpershape.services/viewer/issues/5ecf8c9934b60c00015ec385/details","high","W12150640N3965525 WYANDOTTE 1105"]
[1332,"NORTHERN","NORTH VALLEY","Tier 2-3","102911105 Tier 2-3",102911105,"WYANDOTTE 1105",51.1,39.52957,-121.53027,null,71.400000000000006,"W12153027N3952957",31.5,-9.6,"YES","W12152988N3952972","W12153068N3952972","W12153068N3952972-W12152988N3952972",102911105,"WYANDOTTE 1105",null,"2019-11-20T17:46:46",null,null,"Not assessed","https://viewer.us-3.sharpershape.services/viewer/assets/5d89b6cc55dd6b81633f2eff/details","https://viewer.us-3.sharpershape.services/viewer/issues/5ecf8c9934b60c00015ec339/details","high","W12153027N3952957 WYANDOTTE 1105","[DouglasFir, Other, LiveOak]","DouglasFir"]
[1333,"NORTHERN","NORTH VALLEY","Tier 2-3","102911105 Tier 2-3",102911105,"WYANDOTTE 1105",22.1999999999999,39.530789999999897,-121.525939999999,null,25.3,"W12152594N3953079",11.8,23.8,"NO","W12152603N3953064","W12152604N3953139","W12152604N3953139-W12152603N3953064",102911105,"WYANDOTTE 1105",null,"2019-11-20T17:46:46",null,null,"Not assessed","https://viewer.us-3.sharpershape.services/viewer/assets/5ca5a2c6f6b463f925a04ce0/details","https://viewer.us-3.sharpershape.services/viewer/issues/5ecf954f34b60c00015ed798/details","high","W12152594N3953079 WYANDOTTE 1105","[GrayPine, DouglasFir, Other]","GrayPine"]
[1334,"NORTHERN","NORTH VALLEY","Tier 0-1","102911105 Tier 0-1",102911105,"WYANDOTTE 1105",16.600000000000001,39.525639999999903,-121.535439999999,null,38.5,"W12153544N3952564",6.1,-1.3,"YES","W12153537N3952537","W12153537N3952598","W12153537N3952598-W12153537N3952537",102911105,"WYANDOTTE 1105",null,"2019-11-20T17:46:46",null,null,"Not assessed","https://viewer.us-3.sharpershape.services/viewer/assets/5ca5a2c6f6b4634b85a04d18/details","https://viewer.us-3.sharpershape.services/viewer/issues/5ecf8c97a03e660001310b02/details","high","W12153544N3952564 WYANDOTTE 1105","[DouglasFir, LiveOak, CoastalLiveOak]","DouglasFir"]
[1335,"NORTHERN","NORTH VALLEY","Tier 2-3","102911105 Tier 2-3",102911105,"WYANDOTTE 1105",33.799999999999898,39.528410000000001,-121.535489999999,null,26.1,"W12153549N3952841",9,21,"NO","W12153534N3952830","W12153534N3952830","W12153534N3952830-W12153534N3952830",102911105,"WYANDOTTE 1105",null,"2019-11-20T17:46:46",null,null,"Not assessed","https://viewer.us-3.sharpershape.services/viewer/assets/5ca5a2c6f6b4631e4ba04b95/details","https://viewer.us-3.sharpershape.services/viewer/issues/5ecf955b34b60c00015ed82c/details","high","W12153549N3952841 WYANDOTTE 1105","[DouglasFir, LiveOak, TanOak]","DouglasFir"]
[1336,"NORTHERN","NORTH VALLEY","Tier 2-3","102911105 Tier 2-3",102911105,"WYANDOTTE 1105",62.2,39.529469999999897,-121.519769999999,null,67.2,"W12151977N3952947",54.2,8.6999999999999993,"NO","W12151936N3952926","W12152005N3953021","W12152005N3953021-W12151936N3952926",102911105,"WYANDOTTE 1105",null,"2019-11-20T17:46:46",null,null,"Not assessed","https://viewer.us-3.sharpershape.services/viewer/assets/5ca5a2c6f6b463d94da04bdf/details","https://viewer.us-3.sharpershape.services/viewer/issues/5ecf8c9834b60c00015ec2af/details","high","W12151977N3952947 WYANDOTTE 1105","[GrayPine, Other, DouglasFir]","GrayPine"]
[1337,"NORTHERN","NORTH VALLEY","Tier 2-3","102911105 Tier 2-3",102911105,"WYANDOTTE 1105",20.1999999999999,39.525939999999899,-121.52131,null,18.600000000000001,"W12152131N3952594",7.4,19.399999999999999,"NO","W12152123N3952539","W12152124N3952614","W12152124N3952614-W12152123N3952539",102911105,"WYANDOTTE 1105",null,"2019-11-20T17:46:46",null,null,"Not assessed","https://viewer.us-3.sharpershape.services/viewer/assets/5ca5a2c6f6b46335f7a04ffc/details","https://viewer.us-3.sharpershape.services/viewer/issues/5ecf8ed034b60c00015ec9a4/details","high","W12152131N3952594 WYANDOTTE 1105","[CoastalLiveOak, Other, LiveOak]","CoastalLiveOak"]
[1338,"NORTHERN","NORTH VALLEY","Tier 0-1","102911105 Tier 0-1",102911105,"WYANDOTTE 1105",1.5,39.524529999999899,-121.5354,null,86.2,"W12153540N3952453",5.9,-48.899999999999899,"YES","W12153530N3952456","W12153581N3952442","W12153581N3952442-W12153530N3952456",102911105,"WYANDOTTE 1105",null,"2019-11-20T17:46:46","OH",null,"Not assessed","https://viewer.us-3.sharpershape.services/viewer/assets/5ca5a2c6f6b463115ca04a27/details","https://viewer.us-3.sharpershape.services/viewer/issues/5ecf8c98a03e660001310baa/details","high","W12153540N3952453 WYANDOTTE 1105","[DouglasFir, GrayPine, LiveOak]","DouglasFir"]
[1339,"NORTHERN","NORTH VALLEY","Tier 2-3","102911105 Tier 2-3",102911105,"WYANDOTTE 1105",22.9,39.526049999999898,-121.514709999999,null,30.3,"W12151471N3952605",5.0999999999999996,8.1999999999999904,"NO","W12151463N3952642","W12151461N3952559","W12151461N3952559-W12151463N3952642",102911105,"WYANDOTTE 1105",null,"2019-11-20T17:46:46",null,null,"Not assessed","https://viewer.us-3.sharpershape.services/viewer/assets/5d8b1e4455dd6b5e853f3023/details","https://viewer.us-3.sharpershape.services/viewer/issues/5ecf8c99a03e660001310c38/details","high","W12151471N3952605 WYANDOTTE 1105","[GrayPine, DouglasFir, ValleyOak]","GrayPine"]
[1340,"NORTHERN","NORTH VALLEY","Tier 2-3","102911105 Tier 2-3",102911105,"WYANDOTTE 1105",1.6,39.530479999999898,-121.53333000000001,null,21.1,"W12153333N3953048",7.1,8.6,"NO","W12153355N3953046","W12153323N3953048","W12153323N3953048-W12153355N3953046",102911105,"WYANDOTTE 1105",null,"2019-11-20T17:46:46",null,null,"Not assessed","https://viewer.us-3.sharpershape.services/viewer/assets/5ca5a2c6f6b463e131a04ef3/details","https://viewer.us-3.sharpershape.services/viewer/issues/5ecf952534b60c00015ed684/details","high","W12153333N3953048 WYANDOTTE 1105","[DouglasFir, GrayPine, Eucalyptus/BlueGum]","DouglasFir"]
[1341,"NORTHERN","NORTH VALLEY","Tier 2-3","102911105 Tier 2-3",102911105,"WYANDOTTE 1105",9.1,39.530169999999899,-121.520089999999,null,31.1,"W12152009N3953017",6.6,6.6,"NO","W12151936N3952926","W12152005N3953021","W12152005N3953021-W12151936N3952926",102911105,"WYANDOTTE 1105",null,"2019-11-20T17:46:46",null,null,"Not assessed","https://viewer.us-3.sharpershape.services/viewer/assets/5ca5a2c6f6b463d94da04bdf/details","https://viewer.us-3.sharpershape.services/viewer/issues/5ecf8c9834b60c00015ec2b6/details","high","W12152009N3953017 WYANDOTTE 1105","[DouglasFir, CoastalLiveOak, Other]","DouglasFir"]
[1342,"NORTHERN","NORTH VALLEY","Tier 2-3","102911105 Tier 2-3",102911105,"WYANDOTTE 1105",44.6,39.529019999999903,-121.520009999999,null,89.4,"W12152001N3952902",25.6,-36,"YES","W12151936N3952926","W12152014N3952914","W12152014N3952914-W12151936N3952926",102911105,"WYANDOTTE 1105",null,"2019-11-20T17:46:46",null,null,"Not assessed","https://viewer.us-3.sharpershape.services/viewer/assets/5ca5a2c6f6b4634b73a04f6f/details","https://viewer.us-3.sharpershape.services/viewer/issues/5ecf8c96a03e6600013109f3/details","high","W12152001N3952902 WYANDOTTE 1105","[GrayPine, DouglasFir, CoastalLiveOak]","GrayPine"]
[1343,"NORTHERN","NORTH VALLEY","Tier 2-3","102911105 Tier 2-3",102911105,"WYANDOTTE 1105",49.6,39.6584,-121.50530000000001,null,44.2,"W12150530N3965840",29.1999999999999,6.7,"NO","W12150545N3965863","W12150561N3965801","W12150561N3965801-W12150545N3965863",102911105,"WYANDOTTE 1105",null,"2019-11-20T17:46:46",null,null,"Not assessed","https://viewer.us-3.sharpershape.services/viewer/assets/5da559b2c545ca4e5107fbeb/details","https://viewer.us-3.sharpershape.services/viewer/issues/5ecf8c9aa03e660001310c5c/details","high","W12150530N3965840 WYANDOTTE 1105"]
[1344,"NORTHERN","NORTH VALLEY","Tier 2-3","102911105 Tier 2-3",102911105,"WYANDOTTE 1105",36.6,39.52946,-121.52428,null,38.799999999999997,"W12152428N3952946",21.1,5.7,"NO","W12152414N3952959","W12152508N3952949","W12152508N3952949-W12152414N3952959",102911105,"WYANDOTTE 1105",null,"2019-11-20T17:46:46",null,null,"Not assessed","https://viewer.us-3.sharpershape.services/viewer/assets/5ca5a2c6f6b4633d64a04cf9/details","https://viewer.us-3.sharpershape.services/viewer/issues/5ee2b4c3a03e66000146e461/details","high","W12152428N3952946 WYANDOTTE 1105","[Other, LiveOak, ValleyOak]","Other"]
[1345,"NORTHERN","NORTH VALLEY","Tier 2-3","102911105 Tier 2-3",102911105,"WYANDOTTE 1105",52.899999999999899,39.5401799999999,-121.5424,null,51.7,"W12154240N3954018",35.299999999999997,1.4,"NO","W12154258N3954066","W12154261N3953987","W12154261N3953987-W12154258N3954066",102911105,"WYANDOTTE 1105",null,"2019-11-20T17:46:46",null,null,"Not assessed","https://viewer.us-3.sharpershape.services/viewer/assets/5ca5a2c6f6b463dd95a04ecd/details","https://viewer.us-3.sharpershape.services/viewer/issues/5ecf8c97a03e660001310acb/details","high","W12154240N3954018 WYANDOTTE 1105","[DouglasFir, Eucalyptus/BlueGum, Other]","DouglasFir"]
[1346,"NORTHERN","NORTH VALLEY","Tier 2-3","102911105 Tier 2-3",102911105,"WYANDOTTE 1105",0.1,39.5301499999999,-121.520989999999,null,34.299999999999997,"W12152099N3953015",3.8,3.9,"NO","W12152184N3953012","W12152091N3953014","W12152091N3953014-W12152184N3953012",102911105,"WYANDOTTE 1105",null,"2019-11-20T17:46:46",null,null,"Not assessed","https://viewer.us-3.sharpershape.services/viewer/assets/5ca5a2c6f6b463611da04cf7/details","https://viewer.us-3.sharpershape.services/viewer/issues/5ecf8f3134b60c00015ecb84/details","high","W12152099N3953015 WYANDOTTE 1105","[GrayPine, Other, CoastalLiveOak]","GrayPine"]
[1347,"NORTHERN","NORTH VALLEY","Tier 2-3","102911105 Tier 2-3",102911105,"WYANDOTTE 1105",6.4,39.52196,-121.538709999999,null,19.399999999999999,"W12153871N3952196",3.5,5.4,"NO","W12153812N3952205","W12153891N3952195","W12153891N3952195-W12153812N3952205",102911105,"WYANDOTTE 1105",null,"2019-11-20T17:46:46",null,null,"Not assessed","https://viewer.us-3.sharpershape.services/viewer/assets/5ca5a2c6f6b463d5b0a04bae/details","https://viewer.us-3.sharpershape.services/viewer/issues/5ecf8c98a03e660001310b17/details","high","W12153871N3952196 WYANDOTTE 1105","[GrayPine, Other, MontereyPine]","GrayPine"]
[1348,"NORTHERN","NORTH VALLEY","Tier 2-3","102911105 Tier 2-3",102911105,"WYANDOTTE 1105",9.9,39.532519999999899,-121.53659,null,27.8,"W12153659N3953252",10.6,8.4,"NO","W12153655N3953283","W12153655N3953245","W12153655N3953245-W12153655N3953283",102911105,"WYANDOTTE 1105",null,"2019-11-20T17:46:46",null,null,"Not assessed","https://viewer.us-3.sharpershape.services/viewer/assets/5ca5a2c6f6b463379ea04ebb/details","https://viewer.us-3.sharpershape.services/viewer/issues/5ecf8c94a03e6600013108e6/details","high","W12153659N3953252 WYANDOTTE 1105","[LiveOak, Other, GrayPine]","LiveOak"]
[1349,"NORTHERN","NORTH VALLEY","Tier 2-3","102911105 Tier 2-3",102911105,"WYANDOTTE 1105",19,39.531329999999897,-121.53198999999999,null,46.3,"W12153199N3953133",3.5,-15.6,"YES","W12153206N3953153","W12153207N3953097","W12153207N3953097-W12153206N3953153",102911105,"WYANDOTTE 1105",null,"2019-11-20T17:46:46","OH",null,"Not assessed","https://viewer.us-3.sharpershape.services/viewer/assets/5ca5a2c6f6b463f9cfa04c7e/details","https://viewer.us-3.sharpershape.services/viewer/issues/5ecf8c98a03e660001310b46/details","high","W12153199N3953133 WYANDOTTE 1105","[DouglasFir, Other, GrayPine]","DouglasFir"]
[1350,"NORTHERN","NORTH VALLEY","Tier 2-3","102911105 Tier 2-3",102911105,"WYANDOTTE 1105",25.8,39.536290000000001,-121.542439999999,null,22.6999999999999,"W12154244N3953629",14.6,5.0999999999999996,"NO","W12154253N3953660","W12154256N3953592","W12154256N3953592-W12154253N3953660",102911105,"WYANDOTTE 1105",null,"2019-11-20T17:46:46",null,null,"Not assessed","https://viewer.us-3.sharpershape.services/viewer/assets/5ca5a2c6f6b4630e63a05050/details","https://viewer.us-3.sharpershape.services/viewer/issues/5ecf8c9834b60c00015ec250/details","high","W12154244N3953629 WYANDOTTE 1105","[CoastalLiveOak, Eucalyptus/BlueGum, DouglasFir]","CoastalLiveOak"]
[1351,"NORTHERN","NORTH VALLEY","Tier 2-3","102911105 Tier 2-3",102911105,"WYANDOTTE 1105",54.8,39.5325899999999,-121.53851,null,89.9,"W12153851N3953259",38.299999999999997,-23.6999999999999,"YES","W12153905N3953243","W12153810N3953244","W12153810N3953244-W12153905N3953243",102911105,"WYANDOTTE 1105",null,"2019-11-20T17:46:46",null,null,"Not assessed","https://viewer.us-3.sharpershape.services/viewer/assets/5ca5a2c6f6b46300cca04f1d/details","https://viewer.us-3.sharpershape.services/viewer/issues/5ecf8c93a03e66000131089a/details","high","W12153851N3953259 WYANDOTTE 1105","[GrayPine, Other, CoastalLiveOak]","GrayPine"]
[1352,"NORTHERN","NORTH VALLEY","Tier 2-3","102911105 Tier 2-3",102911105,"WYANDOTTE 1105",30.3,39.530549999999899,-121.53345,null,43.1,"W12153345N3953055",11,-2.9,"YES","W12153355N3953046","W12153323N3953048","W12153323N3953048-W12153355N3953046",102911105,"WYANDOTTE 1105",null,"2019-11-20T17:46:46",null,null,"Not assessed","https://viewer.us-3.sharpershape.services/viewer/assets/5ca5a2c6f6b463e131a04ef3/details","https://viewer.us-3.sharpershape.services/viewer/issues/5ecf8c9834b60c00015ec23b/details","high","W12153345N3953055 WYANDOTTE 1105","[CoastalLiveOak, DouglasFir, Eucalyptus/BlueGum]","CoastalLiveOak"]
[1353,"NORTHERN","NORTH VALLEY","Tier 2-3","102911105 Tier 2-3",102911105,"WYANDOTTE 1105",31,39.529979999999902,-121.52002,null,50.3,"W12152002N3952998",7,1.3,"NO","W12151936N3952926","W12152005N3953021","W12152005N3953021-W12151936N3952926",102911105,"WYANDOTTE 1105",null,"2019-11-20T17:46:46",null,null,"Not assessed","https://viewer.us-3.sharpershape.services/viewer/assets/5ca5a2c6f6b463d94da04bdf/details","https://viewer.us-3.sharpershape.services/viewer/issues/5ecf8c9834b60c00015ec2bc/details","high","W12152002N3952998 WYANDOTTE 1105","[Other, GrayPine, DouglasFir]","Other"]
[1354,"NORTHERN","NORTH VALLEY","Tier 2-3","102911105 Tier 2-3",102911105,"WYANDOTTE 1105",2.1,39.525979999999898,-121.537589999999,null,22.1999999999999,"W12153759N3952598",11.8,13.9,"NO","W12153742N3952569","W12153767N3952612","W12153767N3952612-W12153742N3952569",102911105,"WYANDOTTE 1105",null,"2019-11-20T17:46:46",null,null,"Not assessed","https://viewer.us-3.sharpershape.services/viewer/assets/5e1b0881942b992c9e7b02ef/details","https://viewer.us-3.sharpershape.services/viewer/issues/5ecf9545a03e660001311ed4/details","high","W12153759N3952598 WYANDOTTE 1105","[LiveOak, CoastalLiveOak, DouglasFir]","LiveOak"]
[1355,"NORTHERN","NORTH VALLEY","Tier 2-3","102911105 Tier 2-3",102911105,"WYANDOTTE 1105",35.1,39.532429999999898,-121.54067000000001,null,47.5,"W12154067N3953243",9.5,0.3,"NO","W12154073N3953285","W12154086N3953214","W12154086N3953214-W12154073N3953285",102911105,"WYANDOTTE 1105",null,"2019-11-20T17:46:46",null,null,"Not assessed","https://viewer.us-3.sharpershape.services/viewer/assets/5ca5a2c6f6b4635017a04ad1/details","https://viewer.us-3.sharpershape.services/viewer/issues/5ecf8c96a03e6600013109ad/details","high","W12154067N3953243 WYANDOTTE 1105","[DouglasFir, GrayPine, TanOak]","DouglasFir"]
[1356,"NORTHERN","NORTH VALLEY","Tier 2-3","102911105 Tier 2-3",102911105,"WYANDOTTE 1105",27.1999999999999,39.532309999999903,-121.54094000000001,null,70.900000000000006,"W12154094N3953231",17.3,-22.9,"YES","W12154073N3953285","W12154086N3953214","W12154086N3953214-W12154073N3953285",102911105,"WYANDOTTE 1105",null,"2019-11-20T17:46:46",null,null,"Not assessed","https://viewer.us-3.sharpershape.services/viewer/assets/5ca5a2c6f6b4635017a04ad1/details","https://viewer.us-3.sharpershape.services/viewer/issues/5ecf8c96a03e6600013109b0/details","high","W12154094N3953231 WYANDOTTE 1105","[GrayPine, DouglasFir, TanOak]","GrayPine"]
[1357,"NORTHERN","NORTH VALLEY","Tier 2-3","102911105 Tier 2-3",102911105,"WYANDOTTE 1105",6.4,39.5306,-121.535439999999,null,22.9,"W12153544N3953060",6.5,4.8,"NO","W12153538N3953063","W12153655N3953063","W12153655N3953063-W12153538N3953063",102911105,"WYANDOTTE 1105",null,"2019-11-20T17:46:46",null,null,"Not assessed","https://viewer.us-3.sharpershape.services/viewer/assets/5ca5a2c6f6b4638037a04ab3/details","https://viewer.us-3.sharpershape.services/viewer/issues/5ecf8c95a03e66000131092f/details","high","W12153544N3953060 WYANDOTTE 1105"]
[1358,"NORTHERN","NORTH VALLEY","Tier 2-3","102911105 Tier 2-3",102911105,"WYANDOTTE 1105",0.1,39.530479999999898,-121.53219,null,21.6,"W12153219N3953048",7.2,7.5,"NO","W12153206N3953048","W12153269N3953048","W12153269N3953048-W12153206N3953048",102911105,"WYANDOTTE 1105",null,"2019-11-20T17:46:46",null,null,"Not assessed","https://viewer.us-3.sharpershape.services/viewer/assets/5ca5a2c6f6b46331cba04b4a/details","https://viewer.us-3.sharpershape.services/viewer/issues/5ecf8c92a03e660001310868/details","high","W12153219N3953048 WYANDOTTE 1105","[DouglasFir, LiveOak, TanOak]","DouglasFir"]
[1359,"NORTHERN","NORTH VALLEY","Tier 2-3","102911105 Tier 2-3",102911105,"WYANDOTTE 1105",31.4,39.52769,-121.527889999999,null,36,"W12152789N3952769",13.9,8.1,"NO","W12152750N3952825","W12152800N3952774","W12152800N3952774-W12152750N3952825",102911105,"WYANDOTTE 1105",null,"2019-11-20T17:46:46",null,null,"Not assessed","https://viewer.us-3.sharpershape.services/viewer/assets/5ca5a2c6f6b4634ff7a05112/details","https://viewer.us-3.sharpershape.services/viewer/issues/5ecf8c9434b60c00015ec043/details","high","W12152789N3952769 WYANDOTTE 1105","[MontereyPine, ValleyOak, TanOak]","MontereyPine"]
[1360,"NORTHERN","NORTH VALLEY","Tier 2-3","102911105 Tier 2-3",102911105,"WYANDOTTE 1105",37.299999999999997,39.657080000000001,-121.50574,null,30.3,"W12150574N3965708",25,9,"NO","W12150561N3965801","W12150604N3965661","W12150604N3965661-W12150561N3965801",102911105,"WYANDOTTE 1105",null,"2019-11-20T17:46:46",null,null,"Not assessed","https://viewer.us-3.sharpershape.services/viewer/assets/5d88be906476d7a8685dd21a/details","https://viewer.us-3.sharpershape.services/viewer/issues/5ecf8c9a34b60c00015ec3c1/details","high","W12150574N3965708 WYANDOTTE 1105","[DouglasFir, Other, TanOak]","DouglasFir"]
[1361,"NORTHERN","NORTH VALLEY","Tier 2-3","102911105 Tier 2-3",102911105,"WYANDOTTE 1105",40.1,39.52984,-121.53055000000001,null,49.8,"W12153055N3952984",26.3,3,"NO","W12152988N3952972","W12153068N3952972","W12153068N3952972-W12152988N3952972",102911105,"WYANDOTTE 1105",null,"2019-11-20T17:46:46",null,null,"Not assessed","https://viewer.us-3.sharpershape.services/viewer/assets/5d89b6cc55dd6b81633f2eff/details","https://viewer.us-3.sharpershape.services/viewer/issues/5ecf8c9934b60c00015ec33c/details","high","W12153055N3952984 WYANDOTTE 1105","[GrayPine, DouglasFir, Other]","GrayPine"]
[1362,"NORTHERN","NORTH VALLEY","Tier 2-3","102911105 Tier 2-3",102911105,"WYANDOTTE 1105",12.9,39.527180000000001,-121.529249999999,null,29.1999999999999,"W12152925N3952718",5.5,5.4,"NO","W12152907N3952726","W12152971N3952716","W12152971N3952716-W12152907N3952726",102911105,"WYANDOTTE 1105",null,"2019-11-20T17:46:46",null,null,"Not assessed","https://viewer.us-3.sharpershape.services/viewer/assets/5ca5a2c6f6b4635805a04cab/details","https://viewer.us-3.sharpershape.services/viewer/issues/5ecf8c9734b60c00015ec1e9/details","high","W12152925N3952718 WYANDOTTE 1105","[Other, DouglasFir, CoastalLiveOak]","Other"]
[1363,"NORTHERN","NORTH VALLEY","Tier 2-3","102911105 Tier 2-3",102911105,"WYANDOTTE 1105",70.799999999999898,39.52702,-121.535619999999,null,69,"W12153562N3952702",59.899999999999899,8.4,"NO","W12153535N3952637","W12153536N3952706","W12153536N3952706-W12153535N3952637",102911105,"WYANDOTTE 1105",null,"2019-11-20T17:46:46",null,null,"Not assessed","https://viewer.us-3.sharpershape.services/viewer/assets/5e7a18565dcbeb387a17baf6/details","https://viewer.us-3.sharpershape.services/viewer/issues/5ecf8c9934b60c00015ec38c/details","high","W12153562N3952702 WYANDOTTE 1105","[GrayPine, MontereyPine, Other]","GrayPine"]
[1364,"NORTHERN","NORTH VALLEY","Tier 2-3","102911105 Tier 2-3",102911105,"WYANDOTTE 1105",30.5,39.532170000000001,-121.540729999999,null,58.8,"W12154073N3953217",12,-17.3,"YES","W12154073N3953285","W12154086N3953214","W12154086N3953214-W12154073N3953285",102911105,"WYANDOTTE 1105",null,"2019-11-20T17:46:46",null,null,"Not assessed","https://viewer.us-3.sharpershape.services/viewer/assets/5ca5a2c6f6b4635017a04ad1/details","https://viewer.us-3.sharpershape.services/viewer/issues/5ecf8c96a03e6600013109ac/details","high","W12154073N3953217 WYANDOTTE 1105","[Other, LiveOak, DouglasFir]","Other"]
[1365,"NORTHERN","NORTH VALLEY","Tier 2-3","102911105 Tier 2-3",102911105,"WYANDOTTE 1105",18.899999999999999,39.530539999999903,-121.53184,null,36,"W12153184N3953054",7.4,0.3,"NO","W12153206N3953048","W12153157N3953048","W12153157N3953048-W12153206N3953048",102911105,"WYANDOTTE 1105",null,"2019-11-20T17:46:46",null,null,"Not assessed","https://viewer.us-3.sharpershape.services/viewer/assets/5ca5a2c6f6b4633db9a04a98/details","https://viewer.us-3.sharpershape.services/viewer/issues/5ecf8c9634b60c00015ec13f/details","high","W12153184N3953054 WYANDOTTE 1105","[DouglasFir, LiveOak, ValleyOak]","DouglasFir"]
[1366,"NORTHERN","NORTH VALLEY","Tier 2-3","102911105 Tier 2-3",102911105,"WYANDOTTE 1105",27.6,39.528779999999898,-121.51881,null,36,"W12151881N3952878",9.6,5.5,"NO","W12151873N3952887","W12151852N3952834","W12151852N3952834-W12151873N3952887",102911105,"WYANDOTTE 1105",null,"2019-11-20T17:46:46",null,null,"Not assessed","https://viewer.us-3.sharpershape.services/viewer/assets/5ca5a2c6f6b4631966a05106/details","https://viewer.us-3.sharpershape.services/viewer/issues/5ecf8c99a03e660001310c03/details","high","W12151881N3952878 WYANDOTTE 1105","[GrayPine, DouglasFir, MontereyPine]","GrayPine"]
[1367,"NORTHERN","NORTH VALLEY","Tier 0-1","102911105 Tier 0-1",102911105,"WYANDOTTE 1105",46.2,39.52467,-121.52276000000001,null,67.400000000000006,"W12152276N3952467",8.9,-6.5,"YES","W12152293N3952453","W12152223N3952454","W12152223N3952454-W12152293N3952453",102911105,"WYANDOTTE 1105",null,"2019-11-20T17:46:46",null,null,"Not assessed","https://viewer.us-3.sharpershape.services/viewer/assets/5ca5a2c6f6b4634c38a04c9a/details","https://viewer.us-3.sharpershape.services/viewer/issues/5ecf8c9634b60c00015ec106/details","high","W12152276N3952467 WYANDOTTE 1105","[Other, DouglasFir, Eucalyptus/BlueGum]","Other"]
[1368,"NORTHERN","NORTH VALLEY","Tier 2-3","102911105 Tier 2-3",102911105,"WYANDOTTE 1105",48.7,39.530279999999898,-121.5211,null,66.400000000000006,"W12152110N3953028",41,-5.5,"YES","W12152184N3953012","W12152091N3953014","W12152091N3953014-W12152184N3953012",102911105,"WYANDOTTE 1105",null,"2019-11-20T17:46:46",null,null,"Not assessed","https://viewer.us-3.sharpershape.services/viewer/assets/5ca5a2c6f6b463611da04cf7/details","https://viewer.us-3.sharpershape.services/viewer/issues/5ecf8c97a03e660001310a8d/details","high","W12152110N3953028 WYANDOTTE 1105","[GrayPine, MontereyPine, ValleyOak]","GrayPine"]
[1369,"NORTHERN","NORTH VALLEY","Tier 2-3","102911105 Tier 2-3",102911105,"WYANDOTTE 1105",20.100000000000001,39.540549999999897,-121.5425,null,41.2,"W12154250N3954055",12,-6,"YES","W12154258N3954066","W12154261N3953987","W12154261N3953987-W12154258N3954066",102911105,"WYANDOTTE 1105",null,"2019-11-20T17:46:46",null,null,"Not assessed","https://viewer.us-3.sharpershape.services/viewer/assets/5ca5a2c6f6b463dd95a04ecd/details","https://viewer.us-3.sharpershape.services/viewer/issues/5ecf8c97a03e660001310ac7/details","high","W12154250N3954055 WYANDOTTE 1105"]
[1370,"NORTHERN","NORTH VALLEY","Tier 2-3","102911105 Tier 2-3",102911105,"WYANDOTTE 1105",21.3,39.528549999999903,-121.514139999999,null,32.399999999999899,"W12151414N3952855",12.8,9.3000000000000007,"NO","W12151441N3952799","W12151401N3952860","W12151401N3952860-W12151441N3952799",102911105,"WYANDOTTE 1105",null,"2019-11-20T17:46:46",null,null,"Not assessed","https://viewer.us-3.sharpershape.services/viewer/assets/5ca5a2c6f6b463bdf4a04f50/details","https://viewer.us-3.sharpershape.services/viewer/issues/5ecf8c9534b60c00015ec0df/details","high","W12151414N3952855 WYANDOTTE 1105","[Other, CoastalLiveOak, Eucalyptus/BlueGum]","Other"]
[1371,"NORTHERN","NORTH VALLEY","Tier 2-3","102911105 Tier 2-3",102911105,"WYANDOTTE 1105",42.1,39.531389999999902,-121.51860000000001,null,37.399999999999899,"W12151860N3953139",10.6,22.6,"NO","W12151868N3953111","W12151822N3953157","W12151822N3953157-W12151868N3953111",102911105,"WYANDOTTE 1105",null,"2019-11-20T17:46:46",null,null,"Not assessed","https://viewer.us-3.sharpershape.services/viewer/assets/5ca5a2c6f6b4630821a04f40/details","https://viewer.us-3.sharpershape.services/viewer/issues/5ecf955ea03e660001311fda/details","high","W12151860N3953139 WYANDOTTE 1105","[MontereyPine, ValleyOak, GrayPine]","MontereyPine"]
[1372,"NORTHERN","NORTH VALLEY","Tier 2-3","102911105 Tier 2-3",102911105,"WYANDOTTE 1105",7.2,39.524589999999897,-121.51455,null,34.1,"W12151455N3952459",5.3,2.2000000000000002,"NO","W12151459N3952471","W12151456N3952437","W12151456N3952437-W12151459N3952471",102911105,"WYANDOTTE 1105",null,"2019-11-20T17:46:46",null,null,"Not assessed","https://viewer.us-3.sharpershape.services/viewer/assets/5ca5a2c6f6b46347dfa04b7e/details","https://viewer.us-3.sharpershape.services/viewer/issues/5ecf8c95a03e66000131094f/details","high","W12151455N3952459 WYANDOTTE 1105"]
[1373,"NORTHERN","NORTH VALLEY","Tier 2-3","102911105 Tier 2-3",102911105,"WYANDOTTE 1105",29,39.5352999999999,-121.542209999999,null,94.799999999999898,"W12154221N3953530",12,-57.399999999999899,"YES","W12154242N3953570","W12154230N3953520","W12154230N3953520-W12154242N3953570",102911105,"WYANDOTTE 1105",null,"2019-11-20T17:46:46",null,null,"Not assessed","https://viewer.us-3.sharpershape.services/viewer/assets/5ca5a2c6f6b463392ea051c1/details","https://viewer.us-3.sharpershape.services/viewer/issues/5ecf8c9734b60c00015ec1c3/details","high","W12154221N3953530 WYANDOTTE 1105"]
[1374,"NORTHERN","NORTH VALLEY","Tier 2-3","102911105 Tier 2-3",102911105,"WYANDOTTE 1105",18.1999999999999,39.52928,-121.5314,null,30.9,"W12153140N3952928",6.5,8.4,"NO","W12153130N3952973","W12153133N3952927","W12153133N3952927-W12153130N3952973",102911105,"WYANDOTTE 1105",null,"2019-11-20T17:46:46",null,null,"Not assessed","https://viewer.us-3.sharpershape.services/viewer/assets/5ca5a2c6f6b463b19aa050cd/details","https://viewer.us-3.sharpershape.services/viewer/issues/5ecf8c97a03e660001310ae0/details","high","W12153140N3952928 WYANDOTTE 1105","[GrayPine, DouglasFir, TanOak]","GrayPine"]
[1375,"NORTHERN","NORTH VALLEY","Tier 2-3","102911105 Tier 2-3",102911105,"WYANDOTTE 1105",11.2,39.52966,-121.52338,null,31.6999999999999,"W12152338N3952966",6.5,1.6,"NO","W12152284N3952992","W12152351N3952966","W12152351N3952966-W12152284N3952992",102911105,"WYANDOTTE 1105",null,"2019-11-20T17:46:46",null,null,"Not assessed","https://viewer.us-3.sharpershape.services/viewer/assets/5ca5a2c6f6b4635ce1a0510b/details","https://viewer.us-3.sharpershape.services/viewer/issues/5ee2b4c134b60c0001746b73/details","high","W12152338N3952966 WYANDOTTE 1105","[TanOak, LiveOak, GrayPine]","TanOak"]
[1376,"NORTHERN","NORTH VALLEY","Tier 2-3","102911105 Tier 2-3",102911105,"WYANDOTTE 1105",35.399999999999899,39.530589999999897,-121.532939999999,null,42.5,"W12153294N3953059",11.3,7.8,"NO","W12153323N3953048","W12153269N3953048","W12153269N3953048-W12153323N3953048",102911105,"WYANDOTTE 1105",null,"2019-11-20T17:46:46",null,null,"Not assessed","https://viewer.us-3.sharpershape.services/viewer/assets/5ca5a2c6f6b4636013a051bf/details","https://viewer.us-3.sharpershape.services/viewer/issues/5ecf8c9834b60c00015ec28c/details","high","W12153294N3953059 WYANDOTTE 1105","[LiveOak, MontereyPine, Other]","LiveOak"]
[1377,"NORTHERN","NORTH VALLEY","Tier 2-3","102911105 Tier 2-3",102911105,"WYANDOTTE 1105",20.8,39.521929999999898,-121.538579999999,null,25.1999999999999,"W12153858N3952193",12,6.3,"NO","W12153812N3952205","W12153891N3952195","W12153891N3952195-W12153812N3952205",102911105,"WYANDOTTE 1105",null,"2019-11-20T17:46:46",null,null,"Not assessed","https://viewer.us-3.sharpershape.services/viewer/assets/5ca5a2c6f6b463d5b0a04bae/details","https://viewer.us-3.sharpershape.services/viewer/issues/5ecf8c98a03e660001310b1b/details","high","W12153858N3952193 WYANDOTTE 1105","[GrayPine, DouglasFir, Other]","GrayPine"]
[1378,"NORTHERN","NORTH VALLEY","Tier 2-3","102911105 Tier 2-3",102911105,"WYANDOTTE 1105",16.1999999999999,39.658380000000001,-121.50543,null,20.6999999999999,"W12150543N3965838",12,4.9000000000000004,"NO","W12150545N3965863","W12150561N3965801","W12150561N3965801-W12150545N3965863",102911105,"WYANDOTTE 1105",null,"2019-11-20T17:46:46",null,null,"Not assessed","https://viewer.us-3.sharpershape.services/viewer/assets/5da559b2c545ca4e5107fbeb/details","https://viewer.us-3.sharpershape.services/viewer/issues/5ecf8c9aa03e660001310c5f/details","high","W12150543N3965838 WYANDOTTE 1105"]
[1379,"NORTHERN","NORTH VALLEY","Tier 2-3","102911105 Tier 2-3",102911105,"WYANDOTTE 1105",69.900000000000006,39.536209999999897,-121.542289999999,null,95.4,"W12154229N3953621",48.3,-25.4,"YES","W12154253N3953660","W12154256N3953592","W12154256N3953592-W12154253N3953660",102911105,"WYANDOTTE 1105",null,"2019-11-20T17:46:46",null,null,"Not assessed","https://viewer.us-3.sharpershape.services/viewer/assets/5ca5a2c6f6b4630e63a05050/details","https://viewer.us-3.sharpershape.services/viewer/issues/5ecf8c9834b60c00015ec24e/details","high","W12154229N3953621 WYANDOTTE 1105","[Other, DouglasFir, CoastalLiveOak]","Other"]
[1380,"NORTHERN","NORTH VALLEY","Tier 2-3","102911105 Tier 2-3",102911105,"WYANDOTTE 1105",8.6,39.532330000000002,-121.53569,null,29.5,"W12153569N3953233",6.8,0.5,"NO","W12153557N3953230","W12153644N3953230","W12153644N3953230-W12153557N3953230",102911105,"WYANDOTTE 1105",null,"2019-11-20T17:46:46",null,null,"Not assessed","https://viewer.us-3.sharpershape.services/viewer/assets/5ca5a2c6f6b4630717a04d92/details","https://viewer.us-3.sharpershape.services/viewer/issues/5ecf8c97a03e660001310ad3/details","high","W12153569N3953233 WYANDOTTE 1105","[DouglasFir, LiveOak, Other]","DouglasFir"]
[1381,"NORTHERN","NORTH VALLEY","Tier 2-3","102911105 Tier 2-3",102911105,"WYANDOTTE 1105",27.6,39.670670000000001,-121.497309999999,null,29.1,"W12149731N3967067",17.6999999999999,0,"YES","W12149700N3966999","W12149727N3967099","W12149727N3967099-W12149700N3966999",0,"WYANDOTTE 1105",null,"2019-11-20T17:46:46",null,null,"Not assessed","https://viewer.us-3.sharpershape.services/viewer/assets/5ca5a2c6f6b4636b1ca05155/details","https://viewer.us-3.sharpershape.services/viewer/issues/5ecf8c9834b60c00015ec27d/details","high","W12149731N3967067 WYANDOTTE 1105","[ValleyOak, Other, GrayPine]","ValleyOak"]
[1382,"NORTHERN","NORTH VALLEY","Tier 2-3","102911105 Tier 2-3",102911105,"WYANDOTTE 1105",11.8,39.538429999999899,-121.54246000000001,null,89,"W12154246N3953843",6.2,-69.400000000000006,"YES","W12154252N3953857","W12154250N3953758","W12154250N3953758-W12154252N3953857",102911105,"WYANDOTTE 1105",null,"2019-11-20T17:46:46","OH",null,"Not assessed","https://viewer.us-3.sharpershape.services/viewer/assets/5ca5a2c6f6b463b67da04e4c/details","https://viewer.us-3.sharpershape.services/viewer/issues/5ecf8c97a03e660001310a43/details","high","W12154246N3953843 WYANDOTTE 1105","[DouglasFir, CoastalLiveOak, Other]","DouglasFir"]
[1383,"NORTHERN","NORTH VALLEY","Tier 2-3","102911105 Tier 2-3",102911105,"WYANDOTTE 1105",9.1,39.531120000000001,-121.53211,null,20.399999999999999,"W12153211N3953112",10.5,7.2,"NO","W12153206N3953153","W12153207N3953097","W12153207N3953097-W12153206N3953153",102911105,"WYANDOTTE 1105",null,"2019-11-20T17:46:46",null,null,"Not assessed","https://viewer.us-3.sharpershape.services/viewer/assets/5ca5a2c6f6b463f9cfa04c7e/details","https://viewer.us-3.sharpershape.services/viewer/issues/5ecf8c98a03e660001310b47/details","high","W12153211N3953112 WYANDOTTE 1105","[DouglasFir, MontereyPine, LiveOak]","DouglasFir"]
[1384,"NORTHERN","NORTH VALLEY","Tier 2-3","102911105 Tier 2-3",102911105,"WYANDOTTE 1105",28,39.532730000000001,-121.53851,null,70.099999999999994,"W12153851N3953273",17.5,-30.9,"YES","W12153906N3953282","W12153848N3953281","W12153848N3953281-W12153906N3953282",102911105,"WYANDOTTE 1105",null,"2019-11-20T17:46:46","OH",null,"Not assessed","https://viewer.us-3.sharpershape.services/viewer/assets/5ca5a2c6f6b46324baa04ba9/details","https://viewer.us-3.sharpershape.services/viewer/issues/5ecf8c9934b60c00015ec318/details","high","W12153851N3953273 WYANDOTTE 1105","[DouglasFir, GrayPine, CoastalLiveOak]","DouglasFir"]
[1385,"NORTHERN","NORTH VALLEY","Tier 2-3","102911105 Tier 2-3",102911105,"WYANDOTTE 1105",33.5,39.53058,-121.53264,null,46.6,"W12153264N3953058",9.1,2.6,"NO","W12153206N3953048","W12153269N3953048","W12153269N3953048-W12153206N3953048",102911105,"WYANDOTTE 1105",null,"2019-11-20T17:46:46",null,null,"Not assessed","https://viewer.us-3.sharpershape.services/viewer/assets/5ca5a2c6f6b46331cba04b4a/details","https://viewer.us-3.sharpershape.services/viewer/issues/5ecf8c92a03e660001310856/details","high","W12153264N3953058 WYANDOTTE 1105","[GrayPine, DouglasFir, MontereyPine]","GrayPine"]
[1386,"NORTHERN","NORTH VALLEY","Tier 2-3","102911105 Tier 2-3",102911105,"WYANDOTTE 1105",10.199999999999999,39.531500000000001,-121.532129999999,null,53.6,"W12153213N3953150",5.0999999999999996,-24,"YES","W12153206N3953153","W12153261N3953152","W12153261N3953152-W12153206N3953153",102911105,"WYANDOTTE 1105",null,"2019-11-20T17:46:46","OH",null,"Not assessed","https://viewer.us-3.sharpershape.services/viewer/assets/5ca5a2c6f6b4636454a04d9a/details","https://viewer.us-3.sharpershape.services/viewer/issues/5ecf8c97a03e660001310a66/details","high","W12153213N3953150 WYANDOTTE 1105","[GrayPine, DouglasFir, Other]","GrayPine"]
[1387,"NORTHERN","NORTH VALLEY","Tier 2-3","102911105 Tier 2-3",102911105,"WYANDOTTE 1105",15.5,39.526969999999899,-121.53542,null,41.2,"W12153542N3952697",8,-7.6,"YES","W12153535N3952637","W12153536N3952706","W12153536N3952706-W12153535N3952637",102911105,"WYANDOTTE 1105",null,"2019-11-20T17:46:46",null,null,"Not assessed","https://viewer.us-3.sharpershape.services/viewer/assets/5e7a18565dcbeb387a17baf6/details","https://viewer.us-3.sharpershape.services/viewer/issues/5ecf8c9934b60c00015ec395/details","high","W12153542N3952697 WYANDOTTE 1105","[DouglasFir, TanOak, ValleyOak]","DouglasFir"]
[1388,"NORTHERN","NORTH VALLEY","Tier 2-3","102911105 Tier 2-3",102911105,"WYANDOTTE 1105",18.6999999999999,39.52722,-121.5317,null,21.8,"W12153170N3952722",12,9.3000000000000007,"NO","W12153152N3952699","W12153200N3952739","W12153200N3952739-W12153152N3952699",102911105,"WYANDOTTE 1105",null,"2019-11-20T17:46:46",null,null,"Not assessed","https://viewer.us-3.sharpershape.services/viewer/assets/5ca5a2c6f6b46337eda04c68/details","https://viewer.us-3.sharpershape.services/viewer/issues/5ecf8c9034b60c00015ebfd5/details","high","W12153170N3952722 WYANDOTTE 1105","[Other, GrayPine, Eucalyptus/BlueGum]","Other"]
[1389,"NORTHERN","NORTH VALLEY","Tier 2-3","102911105 Tier 2-3",102911105,"WYANDOTTE 1105",30.9,39.530529999999899,-121.53716,null,46.2,"W12153716N3953053",4.0999999999999996,-5.6,"YES","W12153771N3953063","W12153655N3953063","W12153655N3953063-W12153771N3953063",102911105,"WYANDOTTE 1105",null,"2019-11-20T17:46:46",null,null,"Not assessed","https://viewer.us-3.sharpershape.services/viewer/assets/5ca5a2c6f6b4639bcca05130/details","https://viewer.us-3.sharpershape.services/viewer/issues/5ecf8c91a03e660001310815/details","high","W12153716N3953053 WYANDOTTE 1105","[DouglasFir, LiveOak, Other]","DouglasFir"]
[1390,"NORTHERN","NORTH VALLEY","Tier 2-3","102911105 Tier 2-3",102911105,"WYANDOTTE 1105",11.5,39.530439999999899,-121.52598,null,26.1999999999999,"W12152598N3953044",4.4000000000000004,-0.4,"YES","W12152603N3952974","W12152603N3953064","W12152603N3953064-W12152603N3952974",102911105,"WYANDOTTE 1105",null,"2019-11-20T17:46:46",null,null,"Not assessed","https://viewer.us-3.sharpershape.services/viewer/assets/5ca5a2c6f6b463cd78a04dbd/details","https://viewer.us-3.sharpershape.services/viewer/issues/5ecf8c98a03e660001310bdc/details","high","W12152598N3953044 WYANDOTTE 1105","[GrayPine, DouglasFir, Other]","GrayPine"]
[1391,"NORTHERN","NORTH VALLEY","Tier 0-1","102911105 Tier 0-1",102911105,"WYANDOTTE 1105",30.9,39.525619999999897,-121.5331,null,66.099999999999895,"W12153310N3952562",12,-20.6,"YES","W12153345N3952585","W12153312N3952549","W12153312N3952549-W12153345N3952585",102911105,"WYANDOTTE 1105",null,"2019-11-20T17:46:46",null,null,"Not assessed","https://viewer.us-3.sharpershape.services/viewer/assets/5ca5a2c6f6b4639894a04b2d/details","https://viewer.us-3.sharpershape.services/viewer/issues/5ecf8c94a03e6600013108eb/details","high","W12153310N3952562 WYANDOTTE 1105","[GrayPine, Other, DouglasFir]","GrayPine"]
[1392,"NORTHERN","NORTH VALLEY","Tier 2-3","102911105 Tier 2-3",102911105,"WYANDOTTE 1105",37.299999999999997,39.524349999999899,-121.53712,null,68.900000000000006,"W12153712N3952435",10.3,-26.1999999999999,"YES","W12153716N3952455","W12153751N3952386","W12153751N3952386-W12153716N3952455",102911105,"WYANDOTTE 1105",null,"2019-11-20T17:46:46",null,null,"Not assessed","https://viewer.us-3.sharpershape.services/viewer/assets/5ca5a2c6f6b46351f2a04ede/details","https://viewer.us-3.sharpershape.services/viewer/issues/5ecf8c9634b60c00015ec166/details","high","W12153712N3952435 WYANDOTTE 1105","[GrayPine, DouglasFir, MontereyPine]","GrayPine"]
[1393,"NORTHERN","NORTH VALLEY","Tier 2-3","102911105 Tier 2-3",102911105,"WYANDOTTE 1105",31.6,39.53152,-121.525919999999,null,29.6,"W12152592N3953152",8.5,20.5,"NO","W12152604N3953139","W12152606N3953202","W12152606N3953202-W12152604N3953139",102911105,"WYANDOTTE 1105",null,"2019-11-20T17:46:46",null,null,"Not assessed","https://viewer.us-3.sharpershape.services/viewer/assets/5ca5a2c6f6b463cbbca04b3b/details","https://viewer.us-3.sharpershape.services/viewer/issues/5ecf8ebaa03e660001311150/details","high","W12152592N3953152 WYANDOTTE 1105","[GrayPine, DouglasFir, TanOak]","GrayPine"]
[1394,"NORTHERN","NORTH VALLEY","Tier 2-3","102911105 Tier 2-3",102911105,"WYANDOTTE 1105",31.1999999999999,39.531819999999897,-121.53895,null,44.8,"W12153895N3953182",10.8,-4.0999999999999996,"YES","W12153907N3953193","W12153907N3953151","W12153907N3953151-W12153907N3953193",102911105,"WYANDOTTE 1105",null,"2019-11-20T17:46:46",null,null,"Not assessed","https://viewer.us-3.sharpershape.services/viewer/assets/5ca5a2c6f6b463c991a04df7/details","https://viewer.us-3.sharpershape.services/viewer/issues/5ecf8c9834b60c00015ec241/details","high","W12153895N3953182 WYANDOTTE 1105","[Other, TanOak, LiveOak]","Other"]
[1395,"NORTHERN","NORTH VALLEY","Tier 2-3","102911105 Tier 2-3",102911105,"WYANDOTTE 1105",33.5,39.651979999999902,-121.507229999999,null,48.1,"W12150723N3965198",12,8.3000000000000007,"NO","W12150742N3965186","W12150660N3965474","W12150660N3965474-W12150742N3965186",102911105,"WYANDOTTE 1105",null,"2019-11-20T17:46:46",null,null,"Not assessed","https://viewer.us-3.sharpershape.services/viewer/assets/5d88b9de6476d776cb5dd20b/details","https://viewer.us-3.sharpershape.services/viewer/issues/5ecf8c9a34b60c00015ec3c2/details","high","W12150723N3965198 WYANDOTTE 1105"]
[1396,"NORTHERN","NORTH VALLEY","Tier 2-3","102911105 Tier 2-3",102911105,"WYANDOTTE 1105",46.2,39.53116,-121.53322,null,27.8,"W12153322N3953116",11.8,23.8,"NO","W12153323N3953048","W12153322N3953104","W12153322N3953104-W12153323N3953048",102911105,"WYANDOTTE 1105",null,"2019-11-20T17:46:46",null,null,"Not assessed","https://viewer.us-3.sharpershape.services/viewer/assets/5ca5a2c6f6b463a1c6a051b8/details","https://viewer.us-3.sharpershape.services/viewer/issues/5ecf954aa03e660001311f0e/details","high","W12153322N3953116 WYANDOTTE 1105","[CoastalLiveOak, GrayPine, MontereyPine]","CoastalLiveOak"]
[1397,"NORTHERN","NORTH VALLEY","Tier 2-3","102911105 Tier 2-3",102911105,"WYANDOTTE 1105",16.100000000000001,39.529699999999998,-121.523259999999,null,34.299999999999997,"W12152326N3952970",5.6,0.6,"NO","W12152284N3952992","W12152351N3952966","W12152351N3952966-W12152284N3952992",102911105,"WYANDOTTE 1105",null,"2019-11-20T17:46:46",null,null,"Not assessed","https://viewer.us-3.sharpershape.services/viewer/assets/5ca5a2c6f6b4635ce1a0510b/details","https://viewer.us-3.sharpershape.services/viewer/issues/5ee2b4c134b60c0001746b74/details","high","W12152326N3952970 WYANDOTTE 1105","[GrayPine, TanOak, DouglasFir]","GrayPine"]
[1398,"NORTHERN","NORTH VALLEY","Tier 2-3","102911105 Tier 2-3",102911105,"WYANDOTTE 1105",9.1999999999999993,39.529429999999898,-121.526039999999,null,32.200000000000003,"W12152604N3952943",7.5,3,"NO","W12152596N3952916","W12152603N3952974","W12152603N3952974-W12152596N3952916",102911105,"WYANDOTTE 1105",null,"2019-11-20T17:46:46",null,null,"Not assessed","https://viewer.us-3.sharpershape.services/viewer/assets/5ca5a2c6f6b463c9e0a0514e/details","https://viewer.us-3.sharpershape.services/viewer/issues/5ecf8c9734b60c00015ec18b/details","high","W12152604N3952943 WYANDOTTE 1105","[MontereyPine, CoastalLiveOak, Other]","MontereyPine"]
[1399,"NORTHERN","NORTH VALLEY","Tier 2-3","102911105 Tier 2-3",102911105,"WYANDOTTE 1105",33.1,39.67286,-121.49688999999999,null,21.5,"W12149689N3967286",6.7,18.6999999999999,"NO","W12149658N3967347","W12149755N3967217","W12149755N3967217-W12149658N3967347",0,"WYANDOTTE 1105",null,"2019-11-20T17:46:46",null,null,"Not assessed","https://viewer.us-3.sharpershape.services/viewer/assets/5ca5a2c6f6b463d89ea04e5a/details","https://viewer.us-3.sharpershape.services/viewer/issues/5ecf8ef2a03e6600013112e6/details","high","W12149689N3967286 WYANDOTTE 1105","[CoastalLiveOak, MontereyPine, Other]","CoastalLiveOak"]
[1400,"NORTHERN","NORTH VALLEY","Tier 2-3","102911105 Tier 2-3",102911105,"WYANDOTTE 1105",10.7,39.527270000000001,-121.535409999999,null,24.4,"W12153541N3952727",7,4.0999999999999996,"NO","W12153535N3952774","W12153536N3952706","W12153536N3952706-W12153535N3952774",102911105,"WYANDOTTE 1105",null,"2019-11-20T17:46:46",null,null,"Not assessed","https://viewer.us-3.sharpershape.services/viewer/assets/5ca5a2c6f6b463ada9a04fb0/details","https://viewer.us-3.sharpershape.services/viewer/issues/5ecf8c97a03e660001310a86/details","high","W12153541N3952727 WYANDOTTE 1105","[Other, MontereyPine, Eucalyptus/BlueGum]","Other"]
[1401,"NORTHERN","NORTH VALLEY","Tier 2-3","102911105 Tier 2-3",102911105,"WYANDOTTE 1105",9.6999999999999993,39.529759999999897,-121.530739999999,null,31.3,"W12153074N3952976",9.3000000000000007,5.3,"NO","W12153068N3952972","W12153130N3952973","W12153130N3952973-W12153068N3952972",102911105,"WYANDOTTE 1105",null,"2019-11-20T17:46:46",null,null,"Not assessed","https://viewer.us-3.sharpershape.services/viewer/assets/5ca5a2c6f6b46312f8a05163/details","https://viewer.us-3.sharpershape.services/viewer/issues/5ecf8c99a03e660001310c20/details","high","W12153074N3952976 WYANDOTTE 1105","[GrayPine, Other, ValleyOak]","GrayPine"]
[1402,"NORTHERN","NORTH VALLEY","Tier 2-3","102911105 Tier 2-3",102911105,"WYANDOTTE 1105",21.9,39.532910000000001,-121.531859999999,null,46.3,"W12153186N3953291",9.6999999999999993,-11.6,"YES","W12153205N3953285","W12153118N3953282","W12153118N3953282-W12153205N3953285",102911105,"WYANDOTTE 1105",null,"2019-11-20T17:46:46",null,null,"Not assessed","https://viewer.us-3.sharpershape.services/viewer/assets/5ca5a2c6f6b463490aa04d2f/details","https://viewer.us-3.sharpershape.services/viewer/issues/5ecf8c9534b60c00015ec0ce/details","high","W12153186N3953291 WYANDOTTE 1105","[Other, GrayPine, ValleyOak]","Other"]
[1403,"NORTHERN","NORTH VALLEY","Tier 2-3","102911105 Tier 2-3",102911105,"WYANDOTTE 1105",19.899999999999999,39.532899999999998,-121.531679999999,null,43.399999999999899,"W12153168N3953290",5.8,-12.2,"YES","W12153205N3953285","W12153118N3953282","W12153118N3953282-W12153205N3953285",102911105,"WYANDOTTE 1105",null,"2019-11-20T17:46:46",null,null,"Not assessed","https://viewer.us-3.sharpershape.services/viewer/assets/5ca5a2c6f6b463490aa04d2f/details","https://viewer.us-3.sharpershape.services/viewer/issues/5ecf8c9534b60c00015ec0cf/details","high","W12153168N3953290 WYANDOTTE 1105","[DouglasFir, TanOak, CoastalLiveOak]","DouglasFir"]
[1404,"NORTHERN","NORTH VALLEY","Tier 0-1","102911105 Tier 0-1",102911105,"WYANDOTTE 1105",15.4,39.5254499999999,-121.535309999999,null,74.2,"W12153531N3952545",5,-37.200000000000003,"YES","W12153537N3952537","W12153537N3952598","W12153537N3952598-W12153537N3952537",102911105,"WYANDOTTE 1105",null,"2019-11-20T17:46:46","OH",null,"Not assessed","https://viewer.us-3.sharpershape.services/viewer/assets/5ca5a2c6f6b4634b85a04d18/details","https://viewer.us-3.sharpershape.services/viewer/issues/5ecf8c97a03e660001310afe/details","high","W12153531N3952545 WYANDOTTE 1105","[Other, DouglasFir, LiveOak]","Other"]
[1405,"NORTHERN","NORTH VALLEY","Tier 2-3","102911105 Tier 2-3",102911105,"WYANDOTTE 1105",6.3,39.530819999999899,-121.51926,null,20.3,"W12151926N3953082",11.9,18.1999999999999,"NO","W12151923N3953089","W12152005N3953021","W12152005N3953021-W12151923N3953089",102911105,"WYANDOTTE 1105",null,"2019-11-20T17:46:46",null,null,"Not assessed","https://viewer.us-3.sharpershape.services/viewer/assets/5ca5a2c6f6b46307baa0515f/details","https://viewer.us-3.sharpershape.services/viewer/issues/5ecf8ee3a03e6600013112a8/details","high","W12151926N3953082 WYANDOTTE 1105","[DouglasFir, CoastalLiveOak, MontereyPine]","DouglasFir"]
[1406,"NORTHERN","NORTH VALLEY","Tier 0-1","102911105 Tier 0-1",102911105,"WYANDOTTE 1105",16.399999999999899,39.523109999999903,-121.51245,null,45,"W12151245N3952311",5,-11.9,"YES","W12151282N3952292","W12151196N3952324","W12151196N3952324-W12151282N3952292",102911105,"WYANDOTTE 1105",null,"2019-11-20T17:46:46","OH",null,"Not assessed","https://viewer.us-3.sharpershape.services/viewer/assets/5ca5a2c6f6b463e9a0a04bb9/details","https://viewer.us-3.sharpershape.services/viewer/issues/5ecf8c98a03e660001310b9c/details","high","W12151245N3952311 WYANDOTTE 1105","[LiveOak, DouglasFir, GrayPine]","LiveOak"]
[1407,"NORTHERN","NORTH VALLEY","Tier 2-3","102911105 Tier 2-3",102911105,"WYANDOTTE 1105",46.1,39.527670000000001,-121.531849999999,null,50.7,"W12153185N3952767",24.1999999999999,3.8,"NO","W12153203N3952790","W12153200N3952739","W12153200N3952739-W12153203N3952790",102911105,"WYANDOTTE 1105",null,"2019-11-20T17:46:46",null,null,"Not assessed","https://viewer.us-3.sharpershape.services/viewer/assets/5ca5a2c6f6b463164ba04aa2/details","https://viewer.us-3.sharpershape.services/viewer/issues/5ecf8c9934b60c00015ec2ea/details","high","W12153185N3952767 WYANDOTTE 1105","[Other, GrayPine, MontereyPine]","Other"]
[1408,"NORTHERN","NORTH VALLEY","Tier 0-1","102911105 Tier 0-1",102911105,"WYANDOTTE 1105",24,39.524549999999898,-121.52160000000001,null,58.8,"W12152160N3952455",12,-20.5,"YES","W12152121N3952468","W12152223N3952454","W12152223N3952454-W12152121N3952468",102911105,"WYANDOTTE 1105",null,"2019-11-20T17:46:46",null,null,"Not assessed","https://viewer.us-3.sharpershape.services/viewer/assets/5ca5a2c6f6b4634c98a0504c/details","https://viewer.us-3.sharpershape.services/viewer/issues/5ecf8c9634b60c00015ec151/details","high","W12152160N3952455 WYANDOTTE 1105","[DouglasFir, CoastalLiveOak, MontereyPine]","DouglasFir"]
[1409,"NORTHERN","NORTH VALLEY","Tier 2-3","102911105 Tier 2-3",102911105,"WYANDOTTE 1105",43.3,39.528489999999898,-121.53037,null,49.1,"W12153037N3952849",21.6999999999999,5.0999999999999996,"NO","W12153053N3952876","W12153054N3952815","W12153054N3952815-W12153053N3952876",102911105,"WYANDOTTE 1105",null,"2019-11-20T17:46:46",null,null,"Not assessed","https://viewer.us-3.sharpershape.services/viewer/assets/5ca5a2c6f6b463a3b1a04e34/details","https://viewer.us-3.sharpershape.services/viewer/issues/5ecf8c9034b60c00015ebfcf/details","high","W12153037N3952849 WYANDOTTE 1105","[GrayPine, Other, DouglasFir]","GrayPine"]
[1410,"NORTHERN","NORTH VALLEY","Tier 0-1","102911105 Tier 0-1",102911105,"WYANDOTTE 1105",41,39.523289999999903,-121.51155,null,79.7,"W12151155N3952329",7.7,-32.200000000000003,"YES","W12151196N3952324","W12151119N3952361","W12151119N3952361-W12151196N3952324",102911105,"WYANDOTTE 1105",null,"2019-11-20T17:46:46",null,null,"Not assessed","https://viewer.us-3.sharpershape.services/viewer/assets/5ca5a2c6f6b4638f7da04e40/details","https://viewer.us-3.sharpershape.services/viewer/issues/5ecf8c9634b60c00015ec118/details","high","W12151155N3952329 WYANDOTTE 1105","[GrayPine, Other, ValleyOak]","GrayPine"]
[1411,"NORTHERN","NORTH VALLEY","Tier 2-3","102911105 Tier 2-3",102911105,"WYANDOTTE 1105",6.3,39.532409999999899,-121.53888000000001,null,18.6999999999999,"W12153888N3953241",12,8.9,"NO","W12153905N3953243","W12153810N3953244","W12153810N3953244-W12153905N3953243",102911105,"WYANDOTTE 1105",null,"2019-11-20T17:46:46",null,null,"Not assessed","https://viewer.us-3.sharpershape.services/viewer/assets/5ca5a2c6f6b46300cca04f1d/details","https://viewer.us-3.sharpershape.services/viewer/issues/5ecf8c93a03e6600013108ac/details","high","W12153888N3953241 WYANDOTTE 1105","[Other, CoastalLiveOak, DouglasFir]","Other"]
[1412,"NORTHERN","NORTH VALLEY","Tier 2-3","102911105 Tier 2-3",102911105,"WYANDOTTE 1105",43.399999999999899,39.530349999999899,-121.5313,null,48.399999999999899,"W12153130N3953035",7.4,4.4000000000000004,"NO","W12153111N3953048","W12153157N3953048","W12153157N3953048-W12153111N3953048",102911105,"WYANDOTTE 1105",null,"2019-11-20T17:46:46",null,null,"Not assessed","https://viewer.us-3.sharpershape.services/viewer/assets/5ca5a2c6f6b4636c9ba049d5/details","https://viewer.us-3.sharpershape.services/viewer/issues/5ecf8c9634b60c00015ec127/details","high","W12153130N3953035 WYANDOTTE 1105","[CoastalLiveOak, Eucalyptus/BlueGum, Other]","CoastalLiveOak"]
[1413,"NORTHERN","NORTH VALLEY","Tier 2-3","102911105 Tier 2-3",102911105,"WYANDOTTE 1105",67.599999999999895,39.530349999999899,-121.51954000000001,null,67.900000000000006,"W12151954N3953035",52,2.6,"NO","W12151923N3953089","W12152005N3953021","W12152005N3953021-W12151923N3953089",102911105,"WYANDOTTE 1105",null,"2019-11-20T17:46:46",null,null,"Not assessed","https://viewer.us-3.sharpershape.services/viewer/assets/5ca5a2c6f6b46307baa0515f/details","https://viewer.us-3.sharpershape.services/viewer/issues/5ecf8c93a03e6600013108ce/details","high","W12151954N3953035 WYANDOTTE 1105","[GrayPine, Other, DouglasFir]","GrayPine"]
[1414,"NORTHERN","NORTH VALLEY","Tier 2-3","102911105 Tier 2-3",102911105,"WYANDOTTE 1105",7.3,39.530189999999898,-121.535339999999,null,18.899999999999999,"W12153534N3953019",9.4,8.1,"NO","W12153538N3953063","W12153538N3952985","W12153538N3952985-W12153538N3953063",102911105,"WYANDOTTE 1105",null,"2019-11-20T17:46:46",null,null,"Not assessed","https://viewer.us-3.sharpershape.services/viewer/assets/5ca5a2c6f6b4636d60a0516d/details","https://viewer.us-3.sharpershape.services/viewer/issues/5ecf8c97a03e660001310a36/details","high","W12153534N3953019 WYANDOTTE 1105"]
[1415,"NORTHERN","NORTH VALLEY","Tier 0-1","102911105 Tier 0-1",102911105,"WYANDOTTE 1105",23.1,39.525869999999898,-121.53546,null,32.5,"W12153546N3952587",12,8.8000000000000007,"NO","W12153537N3952537","W12153537N3952598","W12153537N3952598-W12153537N3952537",102911105,"WYANDOTTE 1105",null,"2019-11-20T17:46:46",null,null,"Not assessed","https://viewer.us-3.sharpershape.services/viewer/assets/5ca5a2c6f6b4634b85a04d18/details","https://viewer.us-3.sharpershape.services/viewer/issues/5ecf8c97a03e660001310b03/details","high","W12153546N3952587 WYANDOTTE 1105","[DouglasFir, LiveOak, Other]","DouglasFir"]
[1416,"NORTHERN","NORTH VALLEY","Tier 2-3","102911105 Tier 2-3",102911105,"WYANDOTTE 1105",49.899999999999899,39.526710000000001,-121.531679999999,null,48.7,"W12153168N3952671",28.1999999999999,9.1999999999999993,"NO","W12153152N3952699","W12153224N3952655","W12153224N3952655-W12153152N3952699",102911105,"WYANDOTTE 1105",null,"2019-11-20T17:46:46",null,null,"Not assessed","https://viewer.us-3.sharpershape.services/viewer/assets/5ca5a2c6f6b46367dca04ab1/details","https://viewer.us-3.sharpershape.services/viewer/issues/5ecf8c9734b60c00015ec21a/details","high","W12153168N3952671 WYANDOTTE 1105","[CoastalLiveOak, DouglasFir, Other]","CoastalLiveOak"]
[1417,"NORTHERN","NORTH VALLEY","Tier 2-3","102911105 Tier 2-3",102911105,"WYANDOTTE 1105",21.4,39.528579999999899,-121.535269999999,null,41.3,"W12153527N3952858",7,-8.5,"YES","W12153534N3952830","W12153534N3952830","W12153534N3952830-W12153534N3952830",102911105,"WYANDOTTE 1105",null,"2019-11-20T17:46:46",null,null,"Not assessed","https://viewer.us-3.sharpershape.services/viewer/assets/5ca5a2c6f6b4631e4ba04b95/details","https://viewer.us-3.sharpershape.services/viewer/issues/5ecf8c96a03e6600013109d6/details","high","W12153527N3952858 WYANDOTTE 1105","[DouglasFir, Other, LiveOak]","DouglasFir"]
[1418,"NORTHERN","NORTH VALLEY","Tier 2-3","102911105 Tier 2-3",102911105,"WYANDOTTE 1105",32.6,39.532200000000003,-121.53407,null,41,"W12153407N3953220",13.2,3.2,"NO","W12153419N3953172","W12153419N3953235","W12153419N3953235-W12153419N3953172",102911105,"WYANDOTTE 1105",null,"2019-11-20T17:46:46",null,null,"Not assessed","https://viewer.us-3.sharpershape.services/viewer/assets/5ca5a2c6f6b463ef61a04c9e/details","https://viewer.us-3.sharpershape.services/viewer/issues/5ee2b42e34b60c0001746b4f/details","high","W12153407N3953220 WYANDOTTE 1105","[CoastalLiveOak, DouglasFir, Other]","CoastalLiveOak"]
[1419,"NORTHERN","NORTH VALLEY","Tier 2-3","102911105 Tier 2-3",102911105,"WYANDOTTE 1105",18.1999999999999,39.530229999999897,-121.520529999999,null,38,"W12152053N3953023",5,0.9,"NO","W12152091N3953014","W12152005N3953021","W12152005N3953021-W12152091N3953014",102911105,"WYANDOTTE 1105",null,"2019-11-20T17:46:46",null,null,"Not assessed","https://viewer.us-3.sharpershape.services/viewer/assets/5ca5a2c6f6b4637ff5a04e47/details","https://viewer.us-3.sharpershape.services/viewer/issues/5ecf8c9534b60c00015ec068/details","high","W12152053N3953023 WYANDOTTE 1105","[Other, DouglasFir, LiveOak]","Other"]
[1420,"NORTHERN","NORTH VALLEY","Tier 2-3","102911105 Tier 2-3",102911105,"WYANDOTTE 1105",32.700000000000003,39.528799999999997,-121.530419999999,null,51.3,"W12153042N3952880",19.899999999999999,-4,"YES","W12153053N3952876","W12153054N3952815","W12153054N3952815-W12153053N3952876",102911105,"WYANDOTTE 1105",null,"2019-11-20T17:46:46",null,null,"Not assessed","https://viewer.us-3.sharpershape.services/viewer/assets/5ca5a2c6f6b463a3b1a04e34/details","https://viewer.us-3.sharpershape.services/viewer/issues/5ecf8c9034b60c00015ebfce/details","high","W12153042N3952880 WYANDOTTE 1105","[GrayPine, DouglasFir, Other]","GrayPine"]
[1421,"NORTHERN","NORTH VALLEY","Tier 2-3","102911105 Tier 2-3",102911105,"WYANDOTTE 1105",25.4,39.531089999999899,-121.539169999999,null,44.899999999999899,"W12153917N3953109",4.4000000000000004,-4.0999999999999996,"YES","W12153907N3953151","W12153907N3953103","W12153907N3953103-W12153907N3953151",102911105,"WYANDOTTE 1105",null,"2019-11-20T17:46:46",null,null,"Not assessed","https://viewer.us-3.sharpershape.services/viewer/assets/5ca5a2c6f6b46346bca04e9d/details","https://viewer.us-3.sharpershape.services/viewer/issues/5ecf8c94a03e6600013108fb/details","high","W12153917N3953109 WYANDOTTE 1105","[DouglasFir, GrayPine, Other]","DouglasFir"]
[1422,"NORTHERN","NORTH VALLEY","Tier 2-3","102911105 Tier 2-3",102911105,"WYANDOTTE 1105",13.6,39.53002,-121.522089999999,null,30.9,"W12152209N3953002",6.1,1.9,"NO","W12152284N3952992","W12152184N3953012","W12152184N3953012-W12152284N3952992",102911105,"WYANDOTTE 1105",null,"2019-11-20T17:46:46",null,null,"Not assessed","https://viewer.us-3.sharpershape.services/viewer/assets/5ca5a2c6f6b4639636a0497c/details","https://viewer.us-3.sharpershape.services/viewer/issues/5ee2b4c2a03e66000146e450/details","high","W12152209N3953002 WYANDOTTE 1105","[TanOak, GrayPine, Other]","TanOak"]
[1423,"NORTHERN","NORTH VALLEY","Tier 2-3","102911105 Tier 2-3",102911105,"WYANDOTTE 1105",19.1999999999999,39.526269999999897,-121.5147,null,29.3,"W12151470N3952627",11.3,23.3,"NO","W12151463N3952642","W12151461N3952559","W12151461N3952559-W12151463N3952642",102911105,"WYANDOTTE 1105",null,"2019-11-20T17:46:46",null,null,"Not assessed","https://viewer.us-3.sharpershape.services/viewer/assets/5d8b1e4455dd6b5e853f3023/details","https://viewer.us-3.sharpershape.services/viewer/issues/5ecf8eb234b60c00015ec8f8/details","high","W12151470N3952627 WYANDOTTE 1105","[DouglasFir, Other, LiveOak]","DouglasFir"]
[1424,"NORTHERN","NORTH VALLEY","Tier 0-1","102911105 Tier 0-1",102911105,"WYANDOTTE 1105",28.1,39.525459999999903,-121.53461,null,64.799999999999898,"W12153461N3952546",8,-23.1,"YES","W12153537N3952537","W12153462N3952554","W12153462N3952554-W12153537N3952537",102911105,"WYANDOTTE 1105",null,"2019-11-20T17:46:46",null,null,"Not assessed","https://viewer.us-3.sharpershape.services/viewer/assets/5ca5a2c6f6b463381fa049b8/details","https://viewer.us-3.sharpershape.services/viewer/issues/5ecf8c96a03e6600013109ed/details","high","W12153461N3952546 WYANDOTTE 1105","[GrayPine, DouglasFir, CoastalLiveOak]","GrayPine"]
[1425,"NORTHERN","NORTH VALLEY","Tier 2-3","102911105 Tier 2-3",102911105,"WYANDOTTE 1105",16.600000000000001,39.528959999999898,-121.51921,null,53.6,"W12151921N3952896",9.9,-7.7,"YES","W12151911N3952893","W12151936N3952926","W12151936N3952926-W12151911N3952893",102911105,"WYANDOTTE 1105",null,"2019-11-20T17:46:46","OH",null,"Not assessed","https://viewer.us-3.sharpershape.services/viewer/assets/5ca5a2c6f6b4635897a04d80/details","https://viewer.us-3.sharpershape.services/viewer/issues/5ecf8c95a03e66000131090b/details","high","W12151921N3952896 WYANDOTTE 1105","[GrayPine, DouglasFir, Other]","GrayPine"]
[1426,"NORTHERN","NORTH VALLEY","Tier 2-3","102911105 Tier 2-3",102911105,"WYANDOTTE 1105",35.200000000000003,39.531599999999997,-121.540979999999,null,60.1,"W12154098N3953160",30.1999999999999,-11.7,"YES","W12154086N3953214","W12154084N3953131","W12154084N3953131-W12154086N3953214",102911105,"WYANDOTTE 1105",null,"2019-11-20T17:46:46",null,null,"Not assessed","https://viewer.us-3.sharpershape.services/viewer/assets/5ca5a2c6f6b4630944a04ef1/details","https://viewer.us-3.sharpershape.services/viewer/issues/5ecf8c98a03e660001310b55/details","high","W12154098N3953160 WYANDOTTE 1105","[GrayPine, Other, CoastalLiveOak]","GrayPine"]
[1427,"NORTHERN","NORTH VALLEY","Tier 2-3","102911105 Tier 2-3",102911105,"WYANDOTTE 1105",29.3,39.537169999999897,-121.5424,null,43.3,"W12154240N3953717",17.100000000000001,-13.5,"YES","W12154253N3953660","W12154250N3953758","W12154250N3953758-W12154253N3953660",102911105,"WYANDOTTE 1105",null,"2019-11-20T17:46:46",null,null,"Not assessed","https://viewer.us-3.sharpershape.services/viewer/assets/5ca5a2c6f6b4637989a05102/details","https://viewer.us-3.sharpershape.services/viewer/issues/5ecf8c9734b60c00015ec1ae/details","high","W12154240N3953717 WYANDOTTE 1105"]
[1428,"NORTHERN","NORTH VALLEY","Tier 2-3","102911105 Tier 2-3",102911105,"WYANDOTTE 1105",38,39.5292099999999,-121.52548,null,34,"W12152548N3952921",23.9,8.6999999999999993,"NO","W12152508N3952949","W12152596N3952916","W12152596N3952916-W12152508N3952949",102911105,"WYANDOTTE 1105",null,"2019-11-20T17:46:46",null,null,"Not assessed","https://viewer.us-3.sharpershape.services/viewer/assets/5ca5a2c6f6b4634e80a04ae4/details","https://viewer.us-3.sharpershape.services/viewer/issues/5ecf8c9734b60c00015ec1dc/details","high","W12152548N3952921 WYANDOTTE 1105","[GrayPine, Other, LiveOak]","GrayPine"]
[1429,"NORTHERN","NORTH VALLEY","Tier 2-3","102911105 Tier 2-3",102911105,"WYANDOTTE 1105",30.6999999999999,39.676449999999903,-121.4937,null,35.399999999999899,"W12149370N3967645",18.6999999999999,0.8,"NO","W12149322N3967660","W12149366N3967635","W12149366N3967635-W12149322N3967660",102911105,"WYANDOTTE 1105",null,"2019-11-20T17:46:46",null,null,"Not assessed","https://viewer.us-3.sharpershape.services/viewer/assets/5ca5a2c6f6b463620ba05059/details","https://viewer.us-3.sharpershape.services/viewer/issues/5ecf8c98a03e660001310b20/details","high","W12149370N3967645 WYANDOTTE 1105","[MontereyPine, CoastalLiveOak, Other]","MontereyPine"]
[1430,"NORTHERN","NORTH VALLEY","Tier 2-3","102911105 Tier 2-3",102911105,"WYANDOTTE 1105",26.8,39.657029999999899,-121.50579999999999,null,20.100000000000001,"W12150580N3965703",12,9.9,"NO","W12150561N3965801","W12150604N3965661","W12150604N3965661-W12150561N3965801",102911105,"WYANDOTTE 1105",null,"2019-11-20T17:46:46",null,null,"Not assessed","https://viewer.us-3.sharpershape.services/viewer/assets/5d88be906476d7a8685dd21a/details","https://viewer.us-3.sharpershape.services/viewer/issues/5ecf8c9a34b60c00015ec3bd/details","high","W12150580N3965703 WYANDOTTE 1105","[MontereyPine, CoastalLiveOak, Eucalyptus/BlueGum]","MontereyPine"]
[1431,"NORTHERN","NORTH VALLEY","Tier 2-3","102911105 Tier 2-3",102911105,"WYANDOTTE 1105",31.1999999999999,39.529649999999897,-121.526139999999,null,42.1,"W12152614N3952965",18.5,2.7,"NO","W12152596N3952916","W12152603N3952974","W12152603N3952974-W12152596N3952916",102911105,"WYANDOTTE 1105",null,"2019-11-20T17:46:46",null,null,"Not assessed","https://viewer.us-3.sharpershape.services/viewer/assets/5ca5a2c6f6b463c9e0a0514e/details","https://viewer.us-3.sharpershape.services/viewer/issues/5ecf8c9734b60c00015ec190/details","high","W12152614N3952965 WYANDOTTE 1105","[DouglasFir, Other, LiveOak]","DouglasFir"]
[1432,"NORTHERN","NORTH VALLEY","Tier 2-3","102911105 Tier 2-3",102911105,"WYANDOTTE 1105",23.1,39.5323899999999,-121.538049999999,null,33.299999999999898,"W12153805N3953239",12,5,"NO","W12153905N3953243","W12153810N3953244","W12153810N3953244-W12153905N3953243",102911105,"WYANDOTTE 1105",null,"2019-11-20T17:46:46",null,null,"Not assessed","https://viewer.us-3.sharpershape.services/viewer/assets/5ca5a2c6f6b46300cca04f1d/details","https://viewer.us-3.sharpershape.services/viewer/issues/5ecf8c93a03e66000131089c/details","high","W12153805N3953239 WYANDOTTE 1105","[DouglasFir, LiveOak, CoastalLiveOak]","DouglasFir"]
[1433,"NORTHERN","NORTH VALLEY","Tier 2-3","102911105 Tier 2-3",102911105,"WYANDOTTE 1105",54.3,39.53707,-121.54231,null,64.5,"W12154231N3953707",39.700000000000003,-7.2,"YES","W12154253N3953660","W12154250N3953758","W12154250N3953758-W12154253N3953660",102911105,"WYANDOTTE 1105",null,"2019-11-20T17:46:46",null,null,"Not assessed","https://viewer.us-3.sharpershape.services/viewer/assets/5ca5a2c6f6b4637989a05102/details","https://viewer.us-3.sharpershape.services/viewer/issues/5ecf8c9734b60c00015ec1bd/details","high","W12154231N3953707 WYANDOTTE 1105"]
[1434,"NORTHERN","NORTH VALLEY","Tier 2-3","102911105 Tier 2-3",102911105,"WYANDOTTE 1105",14.6,39.531149999999897,-121.532,null,34.6,"W12153200N3953115",4.4000000000000004,-8.6999999999999993,"YES","W12153206N3953153","W12153207N3953097","W12153207N3953097-W12153206N3953153",102911105,"WYANDOTTE 1105",null,"2019-11-20T17:46:46",null,null,"Not assessed","https://viewer.us-3.sharpershape.services/viewer/assets/5ca5a2c6f6b463f9cfa04c7e/details","https://viewer.us-3.sharpershape.services/viewer/issues/5ecf8c98a03e660001310b33/details","high","W12153200N3953115 WYANDOTTE 1105","[DouglasFir, LiveOak, Eucalyptus/BlueGum]","DouglasFir"]
[1435,"NORTHERN","NORTH VALLEY","Tier 2-3","102911105 Tier 2-3",102911105,"WYANDOTTE 1105",22.6999999999999,39.521900000000002,-121.538749999999,null,39,"W12153875N3952190",12,-3.4,"YES","W12153812N3952205","W12153891N3952195","W12153891N3952195-W12153812N3952205",102911105,"WYANDOTTE 1105",null,"2019-11-20T17:46:46",null,null,"Not assessed","https://viewer.us-3.sharpershape.services/viewer/assets/5ca5a2c6f6b463d5b0a04bae/details","https://viewer.us-3.sharpershape.services/viewer/issues/5ecf8c98a03e660001310b1e/details","high","W12153875N3952190 WYANDOTTE 1105","[Other, GrayPine, DouglasFir]","Other"]
[1436,"NORTHERN","NORTH VALLEY","Tier 2-3","102911105 Tier 2-3",102911105,"WYANDOTTE 1105",14.8,39.523739999999897,-121.537589999999,null,41.1,"W12153759N3952374",6.8,-1.8,"YES","W12153761N3952311","W12153751N3952386","W12153751N3952386-W12153761N3952311",102911105,"WYANDOTTE 1105",null,"2019-11-20T17:46:46",null,null,"Not assessed","https://viewer.us-3.sharpershape.services/viewer/assets/5ca5a2c6f6b46364c0a0520a/details","https://viewer.us-3.sharpershape.services/viewer/issues/5ecf8c96a03e660001310a0c/details","high","W12153759N3952374 WYANDOTTE 1105","[DouglasFir, ValleyOak, GrayPine]","DouglasFir"]
[1437,"NORTHERN","NORTH VALLEY","Tier 2-3","102911105 Tier 2-3",102911105,"WYANDOTTE 1105",72,39.525680000000001,-121.51487,null,78.099999999999994,"W12151487N3952568",65,7.5,"NO","W12151463N3952642","W12151461N3952559","W12151461N3952559-W12151463N3952642",102911105,"WYANDOTTE 1105",null,"2019-11-20T17:46:46",null,null,"Not assessed","https://viewer.us-3.sharpershape.services/viewer/assets/5d8b1e4455dd6b5e853f3023/details","https://viewer.us-3.sharpershape.services/viewer/issues/5ecf8c99a03e660001310c32/details","high","W12151487N3952568 WYANDOTTE 1105","[GrayPine, Other, MontereyPine]","GrayPine"]
[1438,"NORTHERN","NORTH VALLEY","Tier 2-3","102911105 Tier 2-3",102911105,"WYANDOTTE 1105",19.3,39.52722,-121.530889999999,null,32.899999999999899,"W12153089N3952722",12,4.4000000000000004,"NO","W12153054N3952731","W12153116N3952725","W12153116N3952725-W12153054N3952731",102911105,"WYANDOTTE 1105",null,"2019-11-20T17:46:46",null,null,"Not assessed","https://viewer.us-3.sharpershape.services/viewer/assets/5ca5a2c6f6b4632e29a04bb0/details","https://viewer.us-3.sharpershape.services/viewer/issues/5ecf8c99a03e660001310c57/details","high","W12153089N3952722 WYANDOTTE 1105","[MontereyPine, Eucalyptus/BlueGum, DouglasFir]","MontereyPine"]
[1439,"NORTHERN","NORTH VALLEY","Tier 2-3","102911105 Tier 2-3",102911105,"WYANDOTTE 1105",19.3,39.5289199999999,-121.520269999999,null,33,"W12152027N3952892",10.5,8.3000000000000007,"NO","W12152014N3952914","W12152053N3952877","W12152053N3952877-W12152014N3952914",102911105,"WYANDOTTE 1105",null,"2019-11-20T17:46:46",null,null,"Not assessed","https://viewer.us-3.sharpershape.services/viewer/assets/5ca5a2c6f6b463d0f3a04a55/details","https://viewer.us-3.sharpershape.services/viewer/issues/5ecf8c9734b60c00015ec1ff/details","high","W12152027N3952892 WYANDOTTE 1105","[GrayPine, Other, BlackOak]","GrayPine"]
[1440,"NORTHERN","NORTH VALLEY","Tier 2-3","102911105 Tier 2-3",102911105,"WYANDOTTE 1105",27,39.526319999999899,-121.53825000000001,null,34.799999999999997,"W12153825N3952632",12,9.5,"NO","W12153848N3952653","W12153767N3952612","W12153767N3952612-W12153848N3952653",102911105,"WYANDOTTE 1105",null,"2019-11-20T17:46:46",null,null,"Not assessed","https://viewer.us-3.sharpershape.services/viewer/assets/5ca5a2c6f6b463399da04f5c/details","https://viewer.us-3.sharpershape.services/viewer/issues/5ecf8c9434b60c00015ec063/details","high","W12153825N3952632 WYANDOTTE 1105","[Other, LiveOak, CoastalLiveOak]","Other"]
[1441,"NORTHERN","NORTH VALLEY","Tier 2-3","102911105 Tier 2-3",102911105,"WYANDOTTE 1105",45.399999999999899,39.529289999999897,-121.532229999999,null,70.599999999999994,"W12153223N3952929",39.1,-10.199999999999999,"YES","W12153206N3952881","W12153206N3952972","W12153206N3952972-W12153206N3952881",102911105,"WYANDOTTE 1105",null,"2019-11-20T17:46:46",null,null,"Not assessed","https://viewer.us-3.sharpershape.services/viewer/assets/5ca5a2c6f6b463a605a04c77/details","https://viewer.us-3.sharpershape.services/viewer/issues/5ecf8c9834b60c00015ec2a1/details","high","W12153223N3952929 WYANDOTTE 1105","[GrayPine, DouglasFir, Eucalyptus/BlueGum]","GrayPine"]
[1442,"NORTHERN","NORTH VALLEY","Tier 0-1","102911105 Tier 0-1",102911105,"WYANDOTTE 1105",29.5,39.52393,-121.5159,null,45.7,"W12151590N3952393",22.6999999999999,2.7,"NO","W12151594N3952384","W12151549N3952385","W12151549N3952385-W12151594N3952384",102911105,"WYANDOTTE 1105",null,"2019-11-20T17:46:46",null,null,"Not assessed","https://viewer.us-3.sharpershape.services/viewer/assets/5ca5a2c6f6b46350b6a05139/details","https://viewer.us-3.sharpershape.services/viewer/issues/5ecf8c96a03e660001310a2d/details","high","W12151590N3952393 WYANDOTTE 1105","[LiveOak, DouglasFir, TanOak]","LiveOak"]
[1443,"NORTHERN","NORTH VALLEY","Tier 2-3","102911105 Tier 2-3",102911105,"WYANDOTTE 1105",9.9,39.526919999999897,-121.535309999999,null,29.8,"W12153531N3952692",7.6,0,"NO","W12153535N3952637","W12153536N3952706","W12153536N3952706-W12153535N3952637",102911105,"WYANDOTTE 1105",null,"2019-11-20T17:46:46",null,null,"Not assessed","https://viewer.us-3.sharpershape.services/viewer/assets/5e7a18565dcbeb387a17baf6/details","https://viewer.us-3.sharpershape.services/viewer/issues/5ecf8c9934b60c00015ec394/details","high","W12153531N3952692 WYANDOTTE 1105","[DouglasFir, TanOak, LiveOak]","DouglasFir"]
[1444,"NORTHERN","NORTH VALLEY","Tier 2-3","102911105 Tier 2-3",102911105,"WYANDOTTE 1105",38.899999999999899,39.52984,-121.522649999999,null,28.1999999999999,"W12152265N3952984",7.1,19.100000000000001,"NO","W12152284N3952992","W12152184N3953012","W12152184N3953012-W12152284N3952992",102911105,"WYANDOTTE 1105",null,"2019-11-20T17:46:46",null,null,"Not assessed","https://viewer.us-3.sharpershape.services/viewer/assets/5ca5a2c6f6b4639636a0497c/details","https://viewer.us-3.sharpershape.services/viewer/issues/5ee2b979a03e66000146e4be/details","high","W12152265N3952984 WYANDOTTE 1105","[GrayPine, Other, TanOak]","GrayPine"]
[1445,"NORTHERN","NORTH VALLEY","Tier 2-3","102911105 Tier 2-3",102911105,"WYANDOTTE 1105",33.1,39.532200000000003,-121.52619,null,41.7,"W12152619N3953220",8.8000000000000007,20.8,"NO","W12152606N3953202","W12152605N3953235","W12152605N3953235-W12152606N3953202",102911105,"WYANDOTTE 1105",null,"2019-11-20T17:46:46",null,null,"Not assessed","https://viewer.us-3.sharpershape.services/viewer/assets/5ca5a2c6f6b4631991a04dcc/details","https://viewer.us-3.sharpershape.services/viewer/issues/5ecfe7b3a03e660001334090/details","high","W12152619N3953220 WYANDOTTE 1105","[CoastalLiveOak, Eucalyptus/BlueGum, ValleyOak]","CoastalLiveOak"]
[1446,"NORTHERN","NORTH VALLEY","Tier 2-3","102911105 Tier 2-3",102911105,"WYANDOTTE 1105",14.9,39.530339999999903,-121.532129999999,null,21.8,"W12153213N3953034",9.9,21.9,"NO","W12153206N3953048","W12153206N3953018","W12153206N3953018-W12153206N3953048",102911105,"WYANDOTTE 1105",null,"2019-11-20T17:46:46",null,null,"Not assessed","https://viewer.us-3.sharpershape.services/viewer/assets/5ca5a2c6f6b463534ca04e23/details","https://viewer.us-3.sharpershape.services/viewer/issues/5ecf8ea534b60c00015ec8a8/details","high","W12153213N3953034 WYANDOTTE 1105","[Eucalyptus/BlueGum, CoastalLiveOak, DouglasFir]","Eucalyptus/BlueGum"]
[1447,"NORTHERN","NORTH VALLEY","Tier 2-3","102911105 Tier 2-3",102911105,"WYANDOTTE 1105",6,39.525230000000001,-121.537189999999,null,22.5,"W12153719N3952523",9.8000000000000007,8.9,"NO","W12153742N3952569","W12153709N3952512","W12153709N3952512-W12153742N3952569",102911105,"WYANDOTTE 1105",null,"2019-11-20T17:46:46",null,null,"Not assessed","https://viewer.us-3.sharpershape.services/viewer/assets/5ca5a2c6f6b4633f70a04d23/details","https://viewer.us-3.sharpershape.services/viewer/issues/5ecf8c9234b60c00015ebff9/details","high","W12153719N3952523 WYANDOTTE 1105","[DouglasFir, CoastalLiveOak, Other]","DouglasFir"]
[1448,"NORTHERN","NORTH VALLEY","Tier 2-3","102911105 Tier 2-3",102911105,"WYANDOTTE 1105",88.9,39.530229999999897,-121.532659999999,null,83.9,"W12153266N3953023",69.2,9,"NO","W12153206N3953048","W12153269N3953048","W12153269N3953048-W12153206N3953048",102911105,"WYANDOTTE 1105",null,"2019-11-20T17:46:46",null,null,"Not assessed","https://viewer.us-3.sharpershape.services/viewer/assets/5ca5a2c6f6b46331cba04b4a/details","https://viewer.us-3.sharpershape.services/viewer/issues/5ecf8c92a03e660001310863/details","high","W12153266N3953023 WYANDOTTE 1105","[DouglasFir, GrayPine, Eucalyptus/BlueGum]","DouglasFir"]
[1449,"NORTHERN","NORTH VALLEY","Tier 2-3","102911105 Tier 2-3",102911105,"WYANDOTTE 1105",14.4,39.52901,-121.532,null,31.6,"W12153200N3952901",8.6,4.0999999999999996,"NO","W12153206N3952881","W12153206N3952972","W12153206N3952972-W12153206N3952881",102911105,"WYANDOTTE 1105",null,"2019-11-20T17:46:46",null,null,"Not assessed","https://viewer.us-3.sharpershape.services/viewer/assets/5ca5a2c6f6b463a605a04c77/details","https://viewer.us-3.sharpershape.services/viewer/issues/5ecf8c9834b60c00015ec296/details","high","W12153200N3952901 WYANDOTTE 1105","[DouglasFir, GrayPine, Other]","DouglasFir"]
[1450,"NORTHERN","NORTH VALLEY","Tier 2-3","102911105 Tier 2-3",102911105,"WYANDOTTE 1105",50.8,39.529229999999899,-121.53225,null,55.5,"W12153225N3952923",40.5,8.1,"NO","W12153206N3952881","W12153206N3952972","W12153206N3952972-W12153206N3952881",102911105,"WYANDOTTE 1105",null,"2019-11-20T17:46:46",null,null,"Not assessed","https://viewer.us-3.sharpershape.services/viewer/assets/5ca5a2c6f6b463a605a04c77/details","https://viewer.us-3.sharpershape.services/viewer/issues/5ecf8c9834b60c00015ec295/details","high","W12153225N3952923 WYANDOTTE 1105","[DouglasFir, GrayPine, Eucalyptus/BlueGum]","DouglasFir"]
[1451,"NORTHERN","NORTH VALLEY","Tier 2-3","102911105 Tier 2-3",102911105,"WYANDOTTE 1105",34.6,39.653689999999898,-121.506749999999,null,71.599999999999994,"W12150675N3965369",22.9,8.5,"NO","W12150742N3965186","W12150660N3965474","W12150660N3965474-W12150742N3965186",102911105,"WYANDOTTE 1105",null,"2019-11-20T17:46:46",null,null,"Not assessed","https://viewer.us-3.sharpershape.services/viewer/assets/5d88b9de6476d776cb5dd20b/details","https://viewer.us-3.sharpershape.services/viewer/issues/5ecf8c9a34b60c00015ec3c9/details","high","W12150675N3965369 WYANDOTTE 1105","[DouglasFir, GrayPine, Other]","DouglasFir"]
[1452,"NORTHERN","NORTH VALLEY","Tier 2-3","102911105 Tier 2-3",102911105,"WYANDOTTE 1105",27.5,39.53105,-121.51859,null,50,"W12151859N3953105",12.9,-10.9,"YES","W12151868N3953111","W12151822N3953157","W12151822N3953157-W12151868N3953111",102911105,"WYANDOTTE 1105",null,"2019-11-20T17:46:46",null,null,"Not assessed","https://viewer.us-3.sharpershape.services/viewer/assets/5ca5a2c6f6b4630821a04f40/details","https://viewer.us-3.sharpershape.services/viewer/issues/5ecf8c9334b60c00015ec027/details","high","W12151859N3953105 WYANDOTTE 1105","[Other, GrayPine, DouglasFir]","Other"]
[1453,"NORTHERN","NORTH VALLEY","Tier 2-3","102911105 Tier 2-3",102911105,"WYANDOTTE 1105",44.6,39.526539999999898,-121.532,null,50.8,"W12153200N3952654",28.3,2.5,"NO","W12153152N3952699","W12153224N3952655","W12153224N3952655-W12153152N3952699",102911105,"WYANDOTTE 1105",null,"2019-11-20T17:46:46",null,null,"Not assessed","https://viewer.us-3.sharpershape.services/viewer/assets/5ca5a2c6f6b46367dca04ab1/details","https://viewer.us-3.sharpershape.services/viewer/issues/5ecf8c9734b60c00015ec221/details","high","W12153200N3952654 WYANDOTTE 1105","[Eucalyptus/BlueGum, GrayPine, Other]","Eucalyptus/BlueGum"]
[1454,"NORTHERN","NORTH VALLEY","Tier 0-1","102911105 Tier 0-1",102911105,"WYANDOTTE 1105",1.5,39.524729999999899,-121.52123,null,26.1999999999999,"W12152123N3952473",6.7,8.1999999999999904,"NO","W12152121N3952468","W12152223N3952454","W12152223N3952454-W12152121N3952468",102911105,"WYANDOTTE 1105",null,"2019-11-20T17:46:46",null,null,"Not assessed","https://viewer.us-3.sharpershape.services/viewer/assets/5ca5a2c6f6b4634c98a0504c/details","https://viewer.us-3.sharpershape.services/viewer/issues/5ecf8ef2a03e66000131130c/details","high","W12152123N3952473 WYANDOTTE 1105","[LiveOak, Other, DouglasFir]","LiveOak"]
[1455,"NORTHERN","NORTH VALLEY","Tier 2-3","102911105 Tier 2-3",102911105,"WYANDOTTE 1105",35.899999999999899,39.530290000000001,-121.53192,null,42.7,"W12153192N3953029",6.4,5.7,"NO","W12153206N3953048","W12153206N3953018","W12153206N3953018-W12153206N3953048",102911105,"WYANDOTTE 1105",null,"2019-11-20T17:46:46",null,null,"Not assessed","https://viewer.us-3.sharpershape.services/viewer/assets/5ca5a2c6f6b463534ca04e23/details","https://viewer.us-3.sharpershape.services/viewer/issues/5ecf8c94a03e6600013108d5/details","high","W12153192N3953029 WYANDOTTE 1105","[DouglasFir, Eucalyptus/BlueGum, CoastalLiveOak]","DouglasFir"]
[1456,"NORTHERN","NORTH VALLEY","Tier 0-1","102911105 Tier 0-1",102911105,"WYANDOTTE 1105",12.9,39.524479999999897,-121.535429999999,null,76.400000000000006,"W12153543N3952448",6.6,-41.6,"YES","W12153530N3952456","W12153581N3952442","W12153581N3952442-W12153530N3952456",102911105,"WYANDOTTE 1105",null,"2019-11-20T17:46:46","OH",null,"Not assessed","https://viewer.us-3.sharpershape.services/viewer/assets/5ca5a2c6f6b463115ca04a27/details","https://viewer.us-3.sharpershape.services/viewer/issues/5ecf8c98a03e660001310bad/details","high","W12153543N3952448 WYANDOTTE 1105","[Other, CoastalLiveOak, DouglasFir]","Other"]
[1457,"NORTHERN","NORTH VALLEY","Tier 2-3","102911105 Tier 2-3",102911105,"WYANDOTTE 1105",7,39.529869999999903,-121.522859999999,null,30.6,"W12152286N3952987",5.5,6.9,"NO","W12152284N3952992","W12152351N3952966","W12152351N3952966-W12152284N3952992",102911105,"WYANDOTTE 1105",null,"2019-11-20T17:46:46",null,null,"Not assessed","https://viewer.us-3.sharpershape.services/viewer/assets/5ca5a2c6f6b4635ce1a0510b/details","https://viewer.us-3.sharpershape.services/viewer/issues/5ee2b4c134b60c0001746b77/details","high","W12152286N3952987 WYANDOTTE 1105","[GrayPine, ValleyOak, DouglasFir]","GrayPine"]
[1458,"NORTHERN","NORTH VALLEY","Tier 2-3","102911105 Tier 2-3",102911105,"WYANDOTTE 1105",16.100000000000001,39.5327699999999,-121.53882,null,37.399999999999899,"W12153882N3953277",12,-6.3,"YES","W12153906N3953282","W12153848N3953281","W12153848N3953281-W12153906N3953282",102911105,"WYANDOTTE 1105",null,"2019-11-20T17:46:46","OH",null,"Not assessed","https://viewer.us-3.sharpershape.services/viewer/assets/5ca5a2c6f6b46324baa04ba9/details","https://viewer.us-3.sharpershape.services/viewer/issues/5ecf8c9934b60c00015ec31f/details","high","W12153882N3953277 WYANDOTTE 1105","[GrayPine, DouglasFir, ValleyOak]","GrayPine"]
[1459,"NORTHERN","NORTH VALLEY","Tier 2-3","102911105 Tier 2-3",102911105,"WYANDOTTE 1105",30.1,39.532330000000002,-121.52593,null,24.6999999999999,"W12152593N3953233",6.9,18.899999999999999,"NO","W12152605N3953285","W12152605N3953235","W12152605N3953235-W12152605N3953285",102911105,"WYANDOTTE 1105",null,"2019-11-20T17:46:46",null,null,"Not assessed","https://viewer.us-3.sharpershape.services/viewer/assets/5e1c22f1942b994ca37b032f/details","https://viewer.us-3.sharpershape.services/viewer/issues/5ecfe7c234b60c000160de5c/details","high","W12152593N3953233 WYANDOTTE 1105","[TanOak, GrayPine, ValleyOak]","TanOak"]
[1460,"NORTHERN","NORTH VALLEY","Tier 2-3","102911105 Tier 2-3",102911105,"WYANDOTTE 1105",27.5,39.529640000000001,-121.524439999999,null,65.799999999999898,"W12152444N3952964",7,-15.7,"YES","W12152414N3952959","W12152508N3952949","W12152508N3952949-W12152414N3952959",102911105,"WYANDOTTE 1105",null,"2019-11-20T17:46:46",null,null,"Not assessed","https://viewer.us-3.sharpershape.services/viewer/assets/5ca5a2c6f6b4633d64a04cf9/details","https://viewer.us-3.sharpershape.services/viewer/issues/5ee2b4c3a03e66000146e462/details","high","W12152444N3952964 WYANDOTTE 1105","[GrayPine, MontereyPine, Other]","GrayPine"]
[1461,"NORTHERN","NORTH VALLEY","Tier 2-3","102911105 Tier 2-3",102911105,"WYANDOTTE 1105",1.1000000000000001,39.532820000000001,-121.531289999999,null,27,"W12153129N3953282",4.5999999999999996,5.7,"NO","W12153205N3953285","W12153118N3953282","W12153118N3953282-W12153205N3953285",102911105,"WYANDOTTE 1105",null,"2019-11-20T17:46:46",null,null,"Not assessed","https://viewer.us-3.sharpershape.services/viewer/assets/5ca5a2c6f6b463490aa04d2f/details","https://viewer.us-3.sharpershape.services/viewer/issues/5ecf956aa03e660001311fec/details","high","W12153129N3953282 WYANDOTTE 1105","[Other, CoastalLiveOak, DouglasFir]","Other"]
[1462,"NORTHERN","NORTH VALLEY","Tier 2-3","102911105 Tier 2-3",102911105,"WYANDOTTE 1105",40.799999999999997,39.5304199999999,-121.53099,null,40.6,"W12153099N3953042",18.6999999999999,8,"NO","W12153111N3953048","W12153157N3953048","W12153157N3953048-W12153111N3953048",102911105,"WYANDOTTE 1105",null,"2019-11-20T17:46:46",null,null,"Not assessed","https://viewer.us-3.sharpershape.services/viewer/assets/5ca5a2c6f6b4636c9ba049d5/details","https://viewer.us-3.sharpershape.services/viewer/issues/5ecf8c9634b60c00015ec128/details","high","W12153099N3953042 WYANDOTTE 1105","[DouglasFir, LiveOak, Other]","DouglasFir"]
[1463,"NORTHERN","NORTH VALLEY","Tier 2-3","102911105 Tier 2-3",102911105,"WYANDOTTE 1105",42.5,39.5330599999999,-121.54097,null,78.799999999999898,"W12154097N3953306",28.3,-12.3,"YES","W12154073N3953285","W12154087N3953327","W12154087N3953327-W12154073N3953285",102911105,"WYANDOTTE 1105",null,"2019-11-20T17:46:46",null,null,"Not assessed","https://viewer.us-3.sharpershape.services/viewer/assets/5ca5a2c6f6b463f395a04ceb/details","https://viewer.us-3.sharpershape.services/viewer/issues/5ecf8c97a03e660001310ab4/details","high","W12154097N3953306 WYANDOTTE 1105","[GrayPine, DouglasFir, Eucalyptus/BlueGum]","GrayPine"]
[1464,"NORTHERN","NORTH VALLEY","Tier 2-3","102911105 Tier 2-3",102911105,"WYANDOTTE 1105",47.5,39.539159999999903,-121.542439999999,null,40.299999999999997,"W12154244N3953916",30.3,7.8,"NO","W12154252N3953857","W12154263N3953924","W12154263N3953924-W12154252N3953857",102911105,"WYANDOTTE 1105",null,"2019-11-20T17:46:46",null,null,"Not assessed","https://viewer.us-3.sharpershape.services/viewer/assets/5ca5a2c6f6b463b563a04ed9/details","https://viewer.us-3.sharpershape.services/viewer/issues/5ecf8c9334b60c00015ec033/details","high","W12154244N3953916 WYANDOTTE 1105","[CoastalLiveOak, Eucalyptus/BlueGum, DouglasFir]","CoastalLiveOak"]
[1465,"NORTHERN","NORTH VALLEY","Tier 2-3","102911105 Tier 2-3",102911105,"WYANDOTTE 1105",39,39.52984,-121.530469999999,null,34.700000000000003,"W12153047N3952984",8.6999999999999993,20.6999999999999,"NO","W12152988N3952972","W12153068N3952972","W12153068N3952972-W12152988N3952972",102911105,"WYANDOTTE 1105",null,"2019-11-20T17:46:46",null,null,"Not assessed","https://viewer.us-3.sharpershape.services/viewer/assets/5d89b6cc55dd6b81633f2eff/details","https://viewer.us-3.sharpershape.services/viewer/issues/5ecf959fa03e660001312116/details","high","W12153047N3952984 WYANDOTTE 1105","[GrayPine, DouglasFir, ValleyOak]","GrayPine"]
[1466,"NORTHERN","NORTH VALLEY","Tier 2-3","102911105 Tier 2-3",102911105,"WYANDOTTE 1105",27.9,39.532499999999899,-121.525939999999,null,28.1999999999999,"W12152594N3953250",14.3,7,"NO","W12152605N3953285","W12152605N3953235","W12152605N3953235-W12152605N3953285",102911105,"WYANDOTTE 1105",null,"2019-11-20T17:46:46",null,null,"Not assessed","https://viewer.us-3.sharpershape.services/viewer/assets/5e1c22f1942b994ca37b032f/details","https://viewer.us-3.sharpershape.services/viewer/issues/5ecfe7bc34b60c000160de4a/details","high","W12152594N3953250 WYANDOTTE 1105","[TanOak, MontereyPine, ValleyOak]","TanOak"]
[1467,"NORTHERN","NORTH VALLEY","Tier 2-3","102911105 Tier 2-3",102911105,"WYANDOTTE 1105",14.8,39.524349999999899,-121.5145,null,38.799999999999997,"W12151450N3952435",12,4.8,"NO","W12151473N3952396","W12151456N3952437","W12151456N3952437-W12151473N3952396",102911105,"WYANDOTTE 1105",null,"2019-11-20T17:46:46",null,null,"Not assessed","https://viewer.us-3.sharpershape.services/viewer/assets/5ca5a2c6f6b4637591a050b5/details","https://viewer.us-3.sharpershape.services/viewer/issues/5ecf8c96a03e660001310981/details","high","W12151450N3952435 WYANDOTTE 1105","[GrayPine, Other, LiveOak]","GrayPine"]
[1468,"NORTHERN","NORTH VALLEY","Tier 2-3","102911105 Tier 2-3",102911105,"WYANDOTTE 1105",0.5,39.670589999999898,-121.49715,null,23,"W12149715N3967059",5.7,6.2,"NO","W12149700N3966999","W12149727N3967099","W12149727N3967099-W12149700N3966999",0,"WYANDOTTE 1105",null,"2019-11-20T17:46:46",null,null,"Not assessed","https://viewer.us-3.sharpershape.services/viewer/assets/5ca5a2c6f6b4636b1ca05155/details","https://viewer.us-3.sharpershape.services/viewer/issues/5ecf953ea03e660001311e84/details","high","W12149715N3967059 WYANDOTTE 1105"]
[1469,"NORTHERN","NORTH VALLEY","Tier 2-3","102911105 Tier 2-3",102911105,"WYANDOTTE 1105",8.1999999999999904,39.5275099999999,-121.52843,null,26.3,"W12152843N3952751",11,9.3000000000000007,"NO","W12152800N3952774","W12152907N3952726","W12152907N3952726-W12152800N3952774",102911105,"WYANDOTTE 1105",null,"2019-11-20T17:46:46",null,null,"Not assessed","https://viewer.us-3.sharpershape.services/viewer/assets/5ca5a2c6f6b4634630a04e8d/details","https://viewer.us-3.sharpershape.services/viewer/issues/5ecf8c97a03e660001310ae6/details","high","W12152843N3952751 WYANDOTTE 1105","[Other, DouglasFir, CoastalLiveOak]","Other"]
[1470,"NORTHERN","NORTH VALLEY","Tier 0-1","102911105 Tier 0-1",102911105,"WYANDOTTE 1105",23.9,39.52375,-121.51542000000001,null,33.899999999999899,"W12151542N3952375",10.8,22.8,"NO","W12151549N3952385","W12151562N3952310","W12151562N3952310-W12151549N3952385",102911105,"WYANDOTTE 1105",null,"2019-11-20T17:46:46",null,null,"Not assessed","https://viewer.us-3.sharpershape.services/viewer/assets/5ca5a2c6f6b4631737a04c04/details","https://viewer.us-3.sharpershape.services/viewer/issues/5ecf8ec6a03e6600013111d0/details","high","W12151542N3952375 WYANDOTTE 1105","[DouglasFir, TanOak, LiveOak]","DouglasFir"]
[1471,"NORTHERN","NORTH VALLEY","Tier 2-3","102911105 Tier 2-3",102911105,"WYANDOTTE 1105",39.899999999999899,39.530740000000002,-121.535709999999,null,66,"W12153571N3953074",6.6,-16.399999999999899,"YES","W12153538N3953063","W12153655N3953063","W12153655N3953063-W12153538N3953063",102911105,"WYANDOTTE 1105",null,"2019-11-20T17:46:46",null,null,"Not assessed","https://viewer.us-3.sharpershape.services/viewer/assets/5ca5a2c6f6b4638037a04ab3/details","https://viewer.us-3.sharpershape.services/viewer/issues/5ecf8c95a03e660001310927/details","high","W12153571N3953074 WYANDOTTE 1105","[DouglasFir, GrayPine, LiveOak]","DouglasFir"]
[1472,"NORTHERN","NORTH VALLEY","Tier 2-3","102911105 Tier 2-3",102911105,"WYANDOTTE 1105",0.5,39.527389999999897,-121.51437,null,26.1,"W12151437N3952739",10.199999999999999,10.6,"NO","W12151433N3952690","W12151437N3952744","W12151437N3952744-W12151433N3952690",102911105,"WYANDOTTE 1105",null,"2019-11-20T17:46:46",null,null,"Not assessed","https://viewer.us-3.sharpershape.services/viewer/assets/5ca5a2c6f6b46309eba051c7/details","https://viewer.us-3.sharpershape.services/viewer/issues/5ecf953134b60c00015ed6a6/details","high","W12151437N3952739 WYANDOTTE 1105","[GrayPine, ValleyOak, DouglasFir]","GrayPine"]
[1473,"NORTHERN","NORTH VALLEY","Tier 2-3","102911105 Tier 2-3",102911105,"WYANDOTTE 1105",0.4,39.527639999999899,-121.530529999999,null,29.4,"W12153053N3952764",5.2,5.6,"NO","W12153054N3952815","W12153052N3952749","W12153052N3952749-W12153054N3952815",102911105,"WYANDOTTE 1105",null,"2019-11-20T17:46:46",null,null,"Not assessed","https://viewer.us-3.sharpershape.services/viewer/assets/5ca5a2c6f6b4636011a051da/details","https://viewer.us-3.sharpershape.services/viewer/issues/5ecf8ec6a03e6600013111c0/details","high","W12153053N3952764 WYANDOTTE 1105","[GrayPine, DouglasFir, ValleyOak]","GrayPine"]
[1474,"NORTHERN","NORTH VALLEY","Tier 2-3","102911105 Tier 2-3",102911105,"WYANDOTTE 1105",18.5,39.540140000000001,-121.542519999999,null,33.5,"W12154252N3954014",12,-8.9,"YES","W12154258N3954066","W12154261N3953987","W12154261N3953987-W12154258N3954066",102911105,"WYANDOTTE 1105",null,"2019-11-20T17:46:46",null,null,"Not assessed","https://viewer.us-3.sharpershape.services/viewer/assets/5ca5a2c6f6b463dd95a04ecd/details","https://viewer.us-3.sharpershape.services/viewer/issues/5ecf8c97a03e660001310ad0/details","high","W12154252N3954014 WYANDOTTE 1105","[DouglasFir, Eucalyptus/BlueGum, GrayPine]","DouglasFir"]
[1475,"NORTHERN","NORTH VALLEY","Tier 2-3","102911105 Tier 2-3",102911105,"WYANDOTTE 1105",28.6,39.5414999999999,-121.542119999999,null,19.3,"W12154212N3954150",12,9.8000000000000007,"NO","W12154206N3954186","W12154249N3954102","W12154249N3954102-W12154206N3954186",102911105,"WYANDOTTE 1105",null,"2019-11-20T17:46:46",null,null,"Not assessed","https://viewer.us-3.sharpershape.services/viewer/assets/5ca5a2c6f6b4631d52a04cea/details","https://viewer.us-3.sharpershape.services/viewer/issues/5ecf8c98a03e660001310be6/details","high","W12154212N3954150 WYANDOTTE 1105","[DouglasFir, CoastalLiveOak, Other]","DouglasFir"]
[1476,"NORTHERN","NORTH VALLEY","Tier 2-3","102911105 Tier 2-3",102911105,"WYANDOTTE 1105",72.799999999999898,39.532069999999898,-121.541129999999,null,88.2,"W12154113N3953207",64.5,4.8,"NO","W12154086N3953214","W12154084N3953131","W12154084N3953131-W12154086N3953214",102911105,"WYANDOTTE 1105",null,"2019-11-20T17:46:46",null,null,"Not assessed","https://viewer.us-3.sharpershape.services/viewer/assets/5ca5a2c6f6b4630944a04ef1/details","https://viewer.us-3.sharpershape.services/viewer/issues/5ecf8c98a03e660001310b63/details","high","W12154113N3953207 WYANDOTTE 1105","[GrayPine, DouglasFir, Other]","GrayPine"]
[1477,"NORTHERN","NORTH VALLEY","Tier 2-3","102911105 Tier 2-3",102911105,"WYANDOTTE 1105",0.5,39.532440000000001,-121.53865,null,60.7,"W12153865N3953244",6.7,-34.700000000000003,"YES","W12153905N3953243","W12153810N3953244","W12153810N3953244-W12153905N3953243",102911105,"WYANDOTTE 1105",null,"2019-11-20T17:46:46","OH",null,"Not assessed","https://viewer.us-3.sharpershape.services/viewer/assets/5ca5a2c6f6b46300cca04f1d/details","https://viewer.us-3.sharpershape.services/viewer/issues/5ecf8c93a03e660001310899/details","high","W12153865N3953244 WYANDOTTE 1105","[DouglasFir, GrayPine, CoastalLiveOak]","DouglasFir"]
[1478,"NORTHERN","NORTH VALLEY","Tier 2-3","102911105 Tier 2-3",102911105,"WYANDOTTE 1105",17.100000000000001,39.530549999999899,-121.519739999999,null,51.7,"W12151974N3953055",8.1,-17.600000000000001,"YES","W12151923N3953089","W12152005N3953021","W12152005N3953021-W12151923N3953089",102911105,"WYANDOTTE 1105",null,"2019-11-20T17:46:46",null,null,"Not assessed","https://viewer.us-3.sharpershape.services/viewer/assets/5ca5a2c6f6b46307baa0515f/details","https://viewer.us-3.sharpershape.services/viewer/issues/5ecf8c93a03e6600013108c4/details","high","W12151974N3953055 WYANDOTTE 1105","[DouglasFir, MontereyPine, CoastalLiveOak]","DouglasFir"]
[1479,"NORTHERN","NORTH VALLEY","Tier 2-3","102911105 Tier 2-3",102911105,"WYANDOTTE 1105",25.5,39.530369999999898,-121.535269999999,null,27.1,"W12153527N3953037",12,10,"NO","W12153538N3953063","W12153538N3952985","W12153538N3952985-W12153538N3953063",102911105,"WYANDOTTE 1105",null,"2019-11-20T17:46:46",null,null,"Not assessed","https://viewer.us-3.sharpershape.services/viewer/assets/5ca5a2c6f6b4636d60a0516d/details","https://viewer.us-3.sharpershape.services/viewer/issues/5ecf8c97a03e660001310a31/details","high","W12153527N3953037 WYANDOTTE 1105"]
[1480,"NORTHERN","NORTH VALLEY","Tier 0-1","102911105 Tier 0-1",102911105,"WYANDOTTE 1105",26.6,39.523129999999902,-121.512,null,57.399999999999899,"W12151200N3952313",6.6,-19,"YES","W12151282N3952292","W12151196N3952324","W12151196N3952324-W12151282N3952292",102911105,"WYANDOTTE 1105",null,"2019-11-20T17:46:46","OH",null,"Not assessed","https://viewer.us-3.sharpershape.services/viewer/assets/5ca5a2c6f6b463e9a0a04bb9/details","https://viewer.us-3.sharpershape.services/viewer/issues/5ecf8c98a03e660001310ba1/details","high","W12151200N3952313 WYANDOTTE 1105","[DouglasFir, Other, LiveOak]","DouglasFir"]
[1481,"NORTHERN","NORTH VALLEY","Tier 2-3","102911105 Tier 2-3",102911105,"WYANDOTTE 1105",27.5,39.530349999999899,-121.519739999999,null,43.399999999999899,"W12151974N3953035",9.9,-2,"YES","W12151923N3953089","W12152005N3953021","W12152005N3953021-W12151923N3953089",102911105,"WYANDOTTE 1105",null,"2019-11-20T17:46:46",null,null,"Not assessed","https://viewer.us-3.sharpershape.services/viewer/assets/5ca5a2c6f6b46307baa0515f/details","https://viewer.us-3.sharpershape.services/viewer/issues/5ecf8c93a03e6600013108ca/details","high","W12151974N3953035 WYANDOTTE 1105","[CoastalLiveOak, Other, LiveOak]","CoastalLiveOak"]
[1482,"NORTHERN","NORTH VALLEY","Tier 2-3","102911105 Tier 2-3",102911105,"WYANDOTTE 1105",38.700000000000003,39.53302,-121.54094000000001,null,87.4,"W12154094N3953302",10.7,-24.9,"YES","W12154073N3953285","W12154087N3953327","W12154087N3953327-W12154073N3953285",102911105,"WYANDOTTE 1105",null,"2019-11-20T17:46:46",null,null,"Not assessed","https://viewer.us-3.sharpershape.services/viewer/assets/5ca5a2c6f6b463f395a04ceb/details","https://viewer.us-3.sharpershape.services/viewer/issues/5ecf8c97a03e660001310aad/details","high","W12154094N3953302 WYANDOTTE 1105","[GrayPine, DouglasFir, TanOak]","GrayPine"]
[1483,"NORTHERN","NORTH VALLEY","Tier 0-1","102911105 Tier 0-1",102911105,"WYANDOTTE 1105",9.1999999999999993,39.525770000000001,-121.533549999999,null,40.899999999999899,"W12153355N3952577",4.9000000000000004,-3.6,"YES","W12153390N3952564","W12153345N3952585","W12153345N3952585-W12153390N3952564",102911105,"WYANDOTTE 1105",null,"2019-11-20T17:46:46",null,null,"Not assessed","https://viewer.us-3.sharpershape.services/viewer/assets/5ca5a2c6f6b463a435a04e28/details","https://viewer.us-3.sharpershape.services/viewer/issues/5ecf8c91a03e66000131083c/details","high","W12153355N3952577 WYANDOTTE 1105","[GrayPine, ValleyOak, TanOak]","GrayPine"]
[1484,"NORTHERN","NORTH VALLEY","Tier 2-3","102911105 Tier 2-3",102911105,"WYANDOTTE 1105",25.6,39.52946,-121.52458,null,30.1,"W12152458N3952946",12,7.7,"NO","W12152414N3952959","W12152508N3952949","W12152508N3952949-W12152414N3952959",102911105,"WYANDOTTE 1105",null,"2019-11-20T17:46:46",null,null,"Not assessed","https://viewer.us-3.sharpershape.services/viewer/assets/5ca5a2c6f6b4633d64a04cf9/details","https://viewer.us-3.sharpershape.services/viewer/issues/5ee2b4c3a03e66000146e45a/details","high","W12152458N3952946 WYANDOTTE 1105","[LiveOak, Other, DouglasFir]","LiveOak"]
[1485,"NORTHERN","NORTH VALLEY","Tier 2-3","102911105 Tier 2-3",102911105,"WYANDOTTE 1105",8.1,39.527650000000001,-121.514359999999,null,28.4,"W12151436N3952765",8.1,5.2,"NO","W12151437N3952744","W12151441N3952799","W12151441N3952799-W12151437N3952744",102911105,"WYANDOTTE 1105",null,"2019-11-20T17:46:46",null,null,"Not assessed","https://viewer.us-3.sharpershape.services/viewer/assets/5ca5a2c6f6b463015da04b5c/details","https://viewer.us-3.sharpershape.services/viewer/issues/5ecf8c98a03e660001310b2b/details","high","W12151436N3952765 WYANDOTTE 1105","[CoastalLiveOak, Eucalyptus/BlueGum, MontereyPine]","CoastalLiveOak"]
[1486,"NORTHERN","NORTH VALLEY","Tier 2-3","102911105 Tier 2-3",102911105,"WYANDOTTE 1105",12.1,39.532260000000001,-121.53649,null,23.1,"W12153649N3953226",10,22,"NO","W12153655N3953245","W12153644N3953230","W12153644N3953230-W12153655N3953245",102911105,"WYANDOTTE 1105",null,"2019-11-20T17:46:46",null,null,"Not assessed","https://viewer.us-3.sharpershape.services/viewer/assets/5ca5a2c6f6b4631064a0512f/details","https://viewer.us-3.sharpershape.services/viewer/issues/5ecf8d8d34b60c00015ec6cd/details","high","W12153649N3953226 WYANDOTTE 1105","[Other, TanOak, CoastalLiveOak]","Other"]
[1487,"NORTHERN","NORTH VALLEY","Tier 2-3","102911105 Tier 2-3",102911105,"WYANDOTTE 1105",75.900000000000006,39.526989999999898,-121.5294,null,70.900000000000006,"W12152940N3952699",58,8.1999999999999904,"NO","W12152907N3952726","W12152971N3952716","W12152971N3952716-W12152907N3952726",102911105,"WYANDOTTE 1105",null,"2019-11-20T17:46:46",null,null,"Not assessed","https://viewer.us-3.sharpershape.services/viewer/assets/5ca5a2c6f6b4635805a04cab/details","https://viewer.us-3.sharpershape.services/viewer/issues/5ecf8c9734b60c00015ec1eb/details","high","W12152940N3952699 WYANDOTTE 1105","[GrayPine, MontereyPine, Eucalyptus/BlueGum]","GrayPine"]
[1488,"NORTHERN","NORTH VALLEY","Tier 2-3","102911105 Tier 2-3",102911105,"WYANDOTTE 1105",25,39.524679999999897,-121.537149999999,null,46,"W12153715N3952468",13.9,0.4,"NO","W12153682N3952487","W12153716N3952455","W12153716N3952455-W12153682N3952487",102911105,"WYANDOTTE 1105",null,"2019-11-20T17:46:46",null,null,"Not assessed","https://viewer.us-3.sharpershape.services/viewer/assets/5ca5a2c6f6b4630bb0a049ec/details","https://viewer.us-3.sharpershape.services/viewer/issues/5ecf8c9834b60c00015ec25e/details","high","W12153715N3952468 WYANDOTTE 1105","[GrayPine, Other, DouglasFir]","GrayPine"]
[1489,"NORTHERN","NORTH VALLEY","Tier 2-3","102911105 Tier 2-3",102911105,"WYANDOTTE 1105",13.1,39.53058,-121.536779999999,null,33.700000000000003,"W12153678N3953058",4.9000000000000004,-0.9,"YES","W12153771N3953063","W12153655N3953063","W12153655N3953063-W12153771N3953063",102911105,"WYANDOTTE 1105",null,"2019-11-20T17:46:46",null,null,"Not assessed","https://viewer.us-3.sharpershape.services/viewer/assets/5ca5a2c6f6b4639bcca05130/details","https://viewer.us-3.sharpershape.services/viewer/issues/5ecf8c91a03e660001310821/details","high","W12153678N3953058 WYANDOTTE 1105","[LiveOak, DouglasFir, CoastalLiveOak]","LiveOak"]
[1490,"NORTHERN","NORTH VALLEY","Tier 2-3","102911105 Tier 2-3",102911105,"WYANDOTTE 1105",53.7,39.52657,-121.53188,null,67.099999999999895,"W12153188N3952657",37.1,-6.5,"YES","W12153152N3952699","W12153224N3952655","W12153224N3952655-W12153152N3952699",102911105,"WYANDOTTE 1105",null,"2019-11-20T17:46:46",null,null,"Not assessed","https://viewer.us-3.sharpershape.services/viewer/assets/5ca5a2c6f6b46367dca04ab1/details","https://viewer.us-3.sharpershape.services/viewer/issues/5ecf8c9734b60c00015ec21e/details","high","W12153188N3952657 WYANDOTTE 1105","[Eucalyptus/BlueGum, MontereyPine, Other]","Eucalyptus/BlueGum"]
[1491,"NORTHERN","NORTH VALLEY","Tier 2-3","102911105 Tier 2-3",102911105,"WYANDOTTE 1105",24.1999999999999,39.52758,-121.535449999999,null,34.899999999999899,"W12153545N3952758",8.3000000000000007,3.4,"NO","W12153535N3952774","W12153536N3952706","W12153536N3952706-W12153535N3952774",102911105,"WYANDOTTE 1105",null,"2019-11-20T17:46:46",null,null,"Not assessed","https://viewer.us-3.sharpershape.services/viewer/assets/5ca5a2c6f6b463ada9a04fb0/details","https://viewer.us-3.sharpershape.services/viewer/issues/5ecf8c97a03e660001310a74/details","high","W12153545N3952758 WYANDOTTE 1105","[DouglasFir, GrayPine, Other]","DouglasFir"]
[1492,"NORTHERN","NORTH VALLEY","Tier 2-3","102911105 Tier 2-3",102911105,"WYANDOTTE 1105",79.2,39.534009999999903,-121.5412,null,79.299999999999898,"W12154120N3953401",63.7,2.6,"NO","W12154087N3953327","W12154149N3953393","W12154149N3953393-W12154087N3953327",102911105,"WYANDOTTE 1105",null,"2019-11-20T17:46:46",null,null,"Not assessed","https://viewer.us-3.sharpershape.services/viewer/assets/5ca5a2c6f6b4635000a04d2e/details","https://viewer.us-3.sharpershape.services/viewer/issues/5ecf8c9234b60c00015ec00a/details","high","W12154120N3953401 WYANDOTTE 1105","[CoastalLiveOak, GrayPine, MontereyPine]","CoastalLiveOak"]
[1493,"NORTHERN","NORTH VALLEY","Tier 2-3","102911105 Tier 2-3",102911105,"WYANDOTTE 1105",26.6999999999999,39.532499999999899,-121.531679999999,null,43.2,"W12153168N3953250",9.4,-4.9000000000000004,"YES","W12153205N3953245","W12153117N3953239","W12153117N3953239-W12153205N3953245",102911105,"WYANDOTTE 1105",null,"2019-11-20T17:46:46",null,null,"Not assessed","https://viewer.us-3.sharpershape.services/viewer/assets/5ca5a2c6f6b4636b14a051ca/details","https://viewer.us-3.sharpershape.services/viewer/issues/5ecf8c9734b60c00015ec180/details","high","W12153168N3953250 WYANDOTTE 1105","[CoastalLiveOak, DouglasFir, Other]","CoastalLiveOak"]
[1494,"NORTHERN","NORTH VALLEY","Tier 0-1","102911105 Tier 0-1",102911105,"WYANDOTTE 1105",27.8,39.525120000000001,-121.535979999999,null,49.899999999999899,"W12153598N3952512",8.1999999999999904,-8.1999999999999904,"YES","W12153590N3952523","W12153636N3952510","W12153636N3952510-W12153590N3952523",102911105,"WYANDOTTE 1105",null,"2019-11-20T17:46:46",null,null,"Not assessed","https://viewer.us-3.sharpershape.services/viewer/assets/5ca5a2c6f6b4636365a050d5/details","https://viewer.us-3.sharpershape.services/viewer/issues/5ecf8c9534b60c00015ec09f/details","high","W12153598N3952512 WYANDOTTE 1105","[Other, DouglasFir, TanOak]","Other"]
[1495,"NORTHERN","NORTH VALLEY","Tier 2-3","102911105 Tier 2-3",102911105,"WYANDOTTE 1105",27.1999999999999,39.529809999999898,-121.530059999999,null,36.1,"W12153006N3952981",6.6,5.8,"NO","W12152988N3952972","W12153068N3952972","W12153068N3952972-W12152988N3952972",102911105,"WYANDOTTE 1105",null,"2019-11-20T17:46:46",null,null,"Not assessed","https://viewer.us-3.sharpershape.services/viewer/assets/5d89b6cc55dd6b81633f2eff/details","https://viewer.us-3.sharpershape.services/viewer/issues/5ecf8c9934b60c00015ec33a/details","high","W12153006N3952981 WYANDOTTE 1105","[Other, LiveOak, TanOak]","Other"]
[1496,"NORTHERN","NORTH VALLEY","Tier 2-3","102911105 Tier 2-3",102911105,"WYANDOTTE 1105",28.6,39.530389999999898,-121.532219999999,null,23.1,"W12153222N3953039",7.8,19.8,"NO","W12153206N3953048","W12153269N3953048","W12153269N3953048-W12153206N3953048",102911105,"WYANDOTTE 1105",null,"2019-11-20T17:46:46",null,null,"Not assessed","https://viewer.us-3.sharpershape.services/viewer/assets/5ca5a2c6f6b46331cba04b4a/details","https://viewer.us-3.sharpershape.services/viewer/issues/5ecf8ec5a03e6600013111b2/details","high","W12153222N3953039 WYANDOTTE 1105","[LiveOak, DouglasFir, Eucalyptus/BlueGum]","LiveOak"]
[1497,"NORTHERN","NORTH VALLEY","Tier 2-3","102911105 Tier 2-3",102911105,"WYANDOTTE 1105",23.1,39.532789999999899,-121.538389999999,null,62,"W12153839N3953279",9.1,-24.5,"YES","W12153906N3953282","W12153848N3953281","W12153848N3953281-W12153906N3953282",102911105,"WYANDOTTE 1105",null,"2019-11-20T17:46:46",null,null,"Not assessed","https://viewer.us-3.sharpershape.services/viewer/assets/5ca5a2c6f6b46324baa04ba9/details","https://viewer.us-3.sharpershape.services/viewer/issues/5ecf8c9934b60c00015ec325/details","high","W12153839N3953279 WYANDOTTE 1105","[DouglasFir, TanOak, GrayPine]","DouglasFir"]
[1498,"NORTHERN","NORTH VALLEY","Tier 2-3","102911105 Tier 2-3",102911105,"WYANDOTTE 1105",21.9,39.526139999999899,-121.53282,null,30.1999999999999,"W12153282N3952614",2.9,7.1,"NO","W12153224N3952655","W12153295N3952615","W12153295N3952615-W12153224N3952655",102911105,"WYANDOTTE 1105",null,"2019-11-20T17:46:46",null,null,"Not assessed","https://viewer.us-3.sharpershape.services/viewer/assets/5ca5a2c6f6b4635390a04a71/details","https://viewer.us-3.sharpershape.services/viewer/issues/5ecf8c96a03e6600013109d2/details","high","W12153282N3952614 WYANDOTTE 1105","[GrayPine, DouglasFir, Other]","GrayPine"]
[1499,"NORTHERN","NORTH VALLEY","Tier 2-3","102911105 Tier 2-3",102911105,"WYANDOTTE 1105",10.7,39.5259199999999,-121.514659999999,null,29.8,"W12151466N3952592",5.9,1.6,"NO","W12151463N3952642","W12151461N3952559","W12151461N3952559-W12151463N3952642",102911105,"WYANDOTTE 1105",null,"2019-11-20T17:46:46",null,null,"Not assessed","https://viewer.us-3.sharpershape.services/viewer/assets/5d8b1e4455dd6b5e853f3023/details","https://viewer.us-3.sharpershape.services/viewer/issues/5ecf8c99a03e660001310c34/details","high","W12151466N3952592 WYANDOTTE 1105","[GrayPine, DouglasFir, CoastalLiveOak]","GrayPine"]
[1500,"NORTHERN","NORTH VALLEY","Tier 2-3","102911105 Tier 2-3",102911105,"WYANDOTTE 1105",26.1999999999999,39.529820000000001,-121.52101,null,35.700000000000003,"W12152101N3952982",6.9,2,"NO","W12152091N3952965","W12152091N3953014","W12152091N3953014-W12152091N3952965",102911105,"WYANDOTTE 1105",null,"2019-11-20T17:46:46",null,null,"Not assessed","https://viewer.us-3.sharpershape.services/viewer/assets/5ca5a2c6f6b46337e8a04a3f/details","https://viewer.us-3.sharpershape.services/viewer/issues/5ecf8c9734b60c00015ec185/details","high","W12152101N3952982 WYANDOTTE 1105","[GrayPine, ValleyOak, Other]","GrayPine"]
[1501,"NORTHERN","NORTH VALLEY","Tier 2-3","102911105 Tier 2-3",102911105,"WYANDOTTE 1105",16.100000000000001,39.522019999999898,-121.53879999999999,null,21.9,"W12153880N3952202",12,7.6,"NO","W12153812N3952205","W12153891N3952195","W12153891N3952195-W12153812N3952205",102911105,"WYANDOTTE 1105",null,"2019-11-20T17:46:46",null,null,"Not assessed","https://viewer.us-3.sharpershape.services/viewer/assets/5ca5a2c6f6b463d5b0a04bae/details","https://viewer.us-3.sharpershape.services/viewer/issues/5ecf8c98a03e660001310b1a/details","high","W12153880N3952202 WYANDOTTE 1105","[LiveOak, Other, DouglasFir]","LiveOak"]
[1502,"NORTHERN","NORTH VALLEY","Tier 2-3","102911105 Tier 2-3",102911105,"WYANDOTTE 1105",0.6,39.532289999999897,-121.53565999999999,null,30.9,"W12153566N3953229",5.6,6.2,"NO","W12153557N3953230","W12153644N3953230","W12153644N3953230-W12153557N3953230",102911105,"WYANDOTTE 1105",null,"2019-11-20T17:46:46",null,null,"Not assessed","https://viewer.us-3.sharpershape.services/viewer/assets/5ca5a2c6f6b4630717a04d92/details","https://viewer.us-3.sharpershape.services/viewer/issues/5ecf8f0434b60c00015ecae4/details","high","W12153566N3953229 WYANDOTTE 1105","[DouglasFir, LiveOak, ValleyOak]","DouglasFir"]
[1503,"NORTHERN","NORTH VALLEY","Tier 0-1","102911105 Tier 0-1",102911105,"WYANDOTTE 1105",2,39.523379999999896,-121.5117,null,22.9,"W12151170N3952338",12,8.1,"NO","W12151196N3952324","W12151119N3952361","W12151119N3952361-W12151196N3952324",102911105,"WYANDOTTE 1105",null,"2019-11-20T17:46:46",null,null,"Not assessed","https://viewer.us-3.sharpershape.services/viewer/assets/5ca5a2c6f6b4638f7da04e40/details","https://viewer.us-3.sharpershape.services/viewer/issues/5ecf8c9634b60c00015ec113/details","high","W12151170N3952338 WYANDOTTE 1105","[DouglasFir, LiveOak, ValleyOak]","DouglasFir"]
[1504,"NORTHERN","NORTH VALLEY","Tier 2-3","102911105 Tier 2-3",102911105,"WYANDOTTE 1105",40.399999999999899,39.532200000000003,-121.53891,null,41.5,"W12153891N3953220",18.399999999999999,5.8,"NO","W12153905N3953243","W12153907N3953193","W12153907N3953193-W12153905N3953243",102911105,"WYANDOTTE 1105",null,"2019-11-20T17:46:46",null,null,"Not assessed","https://viewer.us-3.sharpershape.services/viewer/assets/5ca5a2c6f6b46326f9a04de3/details","https://viewer.us-3.sharpershape.services/viewer/issues/5ecf8c9934b60c00015ec35c/details","high","W12153891N3953220 WYANDOTTE 1105","[LiveOak, Other, DouglasFir]","LiveOak"]
[1505,"NORTHERN","NORTH VALLEY","Tier 0-1","102911105 Tier 0-1",102911105,"WYANDOTTE 1105",56.3,39.523269999999897,-121.511489999999,null,58.6,"W12151149N3952327",37.299999999999997,2.4,"NO","W12151196N3952324","W12151119N3952361","W12151119N3952361-W12151196N3952324",102911105,"WYANDOTTE 1105",null,"2019-11-20T17:46:46",null,null,"Not assessed","https://viewer.us-3.sharpershape.services/viewer/assets/5ca5a2c6f6b4638f7da04e40/details","https://viewer.us-3.sharpershape.services/viewer/issues/5ecf8c9634b60c00015ec111/details","high","W12151149N3952327 WYANDOTTE 1105","[GrayPine, Other, DouglasFir]","GrayPine"]
[1506,"NORTHERN","NORTH VALLEY","Tier 2-3","102911105 Tier 2-3",102911105,"WYANDOTTE 1105",39.899999999999899,39.533749999999898,-121.541129999999,null,75.2,"W12154113N3953375",27.8,-28.5,"YES","W12154087N3953327","W12154149N3953393","W12154149N3953393-W12154087N3953327",102911105,"WYANDOTTE 1105",null,"2019-11-20T17:46:46",null,null,"Not assessed","https://viewer.us-3.sharpershape.services/viewer/assets/5ca5a2c6f6b4635000a04d2e/details","https://viewer.us-3.sharpershape.services/viewer/issues/5ecf8c9234b60c00015ec001/details","high","W12154113N3953375 WYANDOTTE 1105","[GrayPine, DouglasFir, CoastalLiveOak]","GrayPine"]
[1507,"NORTHERN","NORTH VALLEY","Tier 0-1","102911105 Tier 0-1",102911105,"WYANDOTTE 1105",8.1,39.5225399999999,-121.513849999999,null,31.3,"W12151385N3952254",8.1,6.7,"NO","W12151335N3952254","W12151389N3952251","W12151389N3952251-W12151335N3952254",102911105,"WYANDOTTE 1105",null,"2019-11-20T17:46:46",null,null,"Not assessed","https://viewer.us-3.sharpershape.services/viewer/assets/5d8b1edb55dd6b072e3f3024/details","https://viewer.us-3.sharpershape.services/viewer/issues/5ecf8c99a03e660001310c5b/details","high","W12151385N3952254 WYANDOTTE 1105","[GrayPine, DouglasFir, Other]","GrayPine"]
[1508,"NORTHERN","NORTH VALLEY","Tier 2-3","102911105 Tier 2-3",102911105,"WYANDOTTE 1105",16.100000000000001,39.536119999999897,-121.542479999999,null,24.3,"W12154248N3953612",8.9,1.2,"NO","W12154253N3953660","W12154256N3953592","W12154256N3953592-W12154253N3953660",102911105,"WYANDOTTE 1105",null,"2019-11-20T17:46:46",null,null,"Not assessed","https://viewer.us-3.sharpershape.services/viewer/assets/5ca5a2c6f6b4630e63a05050/details","https://viewer.us-3.sharpershape.services/viewer/issues/5ecf8c9834b60c00015ec24c/details","high","W12154248N3953612 WYANDOTTE 1105","[DouglasFir, CoastalLiveOak, Eucalyptus/BlueGum]","DouglasFir"]
[1509,"NORTHERN","NORTH VALLEY","Tier 0-1","102911105 Tier 0-1",102911105,"WYANDOTTE 1105",21.8,39.524189999999898,-121.536209999999,null,36.5,"W12153621N3952419",5.8,1.7,"NO","W12153581N3952442","W12153639N3952420","W12153639N3952420-W12153581N3952442",102911105,"WYANDOTTE 1105",null,"2019-11-20T17:46:46",null,null,"Not assessed","https://viewer.us-3.sharpershape.services/viewer/assets/5ca5a2c6f6b46386b0a04cc4/details","https://viewer.us-3.sharpershape.services/viewer/issues/5ecf8c9534b60c00015ec09d/details","high","W12153621N3952419 WYANDOTTE 1105","[GrayPine, DouglasFir, ValleyOak]","GrayPine"]
[1510,"NORTHERN","NORTH VALLEY","Tier 2-3","102911105 Tier 2-3",102911105,"WYANDOTTE 1105",13.7,39.529289999999897,-121.525759999999,null,36.700000000000003,"W12152576N3952929",10.199999999999999,5.4,"NO","W12152508N3952949","W12152596N3952916","W12152596N3952916-W12152508N3952949",102911105,"WYANDOTTE 1105",null,"2019-11-20T17:46:46",null,null,"Not assessed","https://viewer.us-3.sharpershape.services/viewer/assets/5ca5a2c6f6b4634e80a04ae4/details","https://viewer.us-3.sharpershape.services/viewer/issues/5ecf8c9734b60c00015ec1db/details","high","W12152576N3952929 WYANDOTTE 1105","[GrayPine, TanOak, Other]","GrayPine"]
[1511,"NORTHERN","NORTH VALLEY","Tier 0-1","102911105 Tier 0-1",102911105,"WYANDOTTE 1105",6.2,39.525480000000002,-121.534779999999,null,26.1999999999999,"W12153478N3952548",4.5999999999999996,2.9,"NO","W12153537N3952537","W12153462N3952554","W12153462N3952554-W12153537N3952537",102911105,"WYANDOTTE 1105",null,"2019-11-20T17:46:46",null,null,"Not assessed","https://viewer.us-3.sharpershape.services/viewer/assets/5ca5a2c6f6b463381fa049b8/details","https://viewer.us-3.sharpershape.services/viewer/issues/5ecf8c96a03e6600013109e1/details","high","W12153478N3952548 WYANDOTTE 1105","[DouglasFir, Other, GrayPine]","DouglasFir"]
[1512,"NORTHERN","NORTH VALLEY","Tier 2-3","102911105 Tier 2-3",102911105,"WYANDOTTE 1105",19.5,39.53754,-121.542419999999,null,24.6999999999999,"W12154242N3953754",12,-1,"YES","W12154253N3953660","W12154250N3953758","W12154250N3953758-W12154253N3953660",102911105,"WYANDOTTE 1105",null,"2019-11-20T17:46:46",null,null,"Not assessed","https://viewer.us-3.sharpershape.services/viewer/assets/5ca5a2c6f6b4637989a05102/details","https://viewer.us-3.sharpershape.services/viewer/issues/5ecf8c9734b60c00015ec1b0/details","high","W12154242N3953754 WYANDOTTE 1105"]
[1513,"NORTHERN","NORTH VALLEY","Tier 2-3","102911105 Tier 2-3",102911105,"WYANDOTTE 1105",42.399999999999899,39.530609999999903,-121.53162,null,39.399999999999899,"W12153162N3953061",5.9,17.899999999999999,"NO","W12153206N3953048","W12153157N3953048","W12153157N3953048-W12153206N3953048",102911105,"WYANDOTTE 1105",null,"2019-11-20T17:46:46",null,null,"Not assessed","https://viewer.us-3.sharpershape.services/viewer/assets/5ca5a2c6f6b4633db9a04a98/details","https://viewer.us-3.sharpershape.services/viewer/issues/5ecf8edc34b60c00015eca18/details","high","W12153162N3953061 WYANDOTTE 1105","[LiveOak, DouglasFir, Other]","LiveOak"]
[1514,"NORTHERN","NORTH VALLEY","Tier 2-3","102911105 Tier 2-3",102911105,"WYANDOTTE 1105",0.1,39.526539999999898,-121.51455,null,25.6,"W12151455N3952654",8.1,8.1,"NO","W12151463N3952642","W12151433N3952690","W12151433N3952690-W12151463N3952642",102911105,"WYANDOTTE 1105",null,"2019-11-20T17:46:46",null,null,"Not assessed","https://viewer.us-3.sharpershape.services/viewer/assets/5ca5a2c6f6b46359cca05184/details","https://viewer.us-3.sharpershape.services/viewer/issues/5ecf950634b60c00015ed620/details","high","W12151455N3952654 WYANDOTTE 1105","[DouglasFir, Other, GrayPine]","DouglasFir"]
[1515,"NORTHERN","NORTH VALLEY","Tier 2-3","102911105 Tier 2-3",102911105,"WYANDOTTE 1105",29.1999999999999,39.531610000000001,-121.52593,null,30.4,"W12152593N3953161",14.3,8.6999999999999993,"NO","W12152604N3953139","W12152606N3953202","W12152606N3953202-W12152604N3953139",102911105,"WYANDOTTE 1105",null,"2019-11-20T17:46:46",null,null,"Not assessed","https://viewer.us-3.sharpershape.services/viewer/assets/5ca5a2c6f6b463cbbca04b3b/details","https://viewer.us-3.sharpershape.services/viewer/issues/5ecf8c98a03e660001310b81/details","high","W12152593N3953161 WYANDOTTE 1105","[GrayPine, ValleyOak, CoastalLiveOak]","GrayPine"]
[1516,"NORTHERN","NORTH VALLEY","Tier 2-3","102911105 Tier 2-3",102911105,"WYANDOTTE 1105",50.3,39.533969999999897,-121.54129,null,75.900000000000006,"W12154129N3953397",29.8,-21.5,"YES","W12154087N3953327","W12154149N3953393","W12154149N3953393-W12154087N3953327",102911105,"WYANDOTTE 1105",null,"2019-11-20T17:46:46",null,null,"Not assessed","https://viewer.us-3.sharpershape.services/viewer/assets/5ca5a2c6f6b4635000a04d2e/details","https://viewer.us-3.sharpershape.services/viewer/issues/5ecf8c9234b60c00015ec008/details","high","W12154129N3953397 WYANDOTTE 1105","[CoastalLiveOak, DouglasFir, MontereyPine]","CoastalLiveOak"]
[1517,"NORTHERN","NORTH VALLEY","Tier 2-3","102911105 Tier 2-3",102911105,"WYANDOTTE 1105",29.5,39.531680000000001,-121.53896,null,37.399999999999899,"W12153896N3953168",12,1,"NO","W12153907N3953193","W12153907N3953151","W12153907N3953151-W12153907N3953193",102911105,"WYANDOTTE 1105",null,"2019-11-20T17:46:46",null,null,"Not assessed","https://viewer.us-3.sharpershape.services/viewer/assets/5ca5a2c6f6b463c991a04df7/details","https://viewer.us-3.sharpershape.services/viewer/issues/5ecf8c9834b60c00015ec240/details","high","W12153896N3953168 WYANDOTTE 1105","[CoastalLiveOak, DouglasFir, BlackOak]","CoastalLiveOak"]
[1518,"NORTHERN","NORTH VALLEY","Tier 2-3","102911105 Tier 2-3",102911105,"WYANDOTTE 1105",5,39.531389999999902,-121.539969999999,null,70.2,"W12153997N3953139",7,-41.399999999999899,"YES","W12154021N3953134","W12153966N3953151","W12153966N3953151-W12154021N3953134",102911105,"WYANDOTTE 1105",null,"2019-11-20T17:46:46","OH",null,"Not assessed","https://viewer.us-3.sharpershape.services/viewer/assets/5ca5a2c6f6b4638850a050f0/details","https://viewer.us-3.sharpershape.services/viewer/issues/5ecf8c9234b60c00015ec000/details","high","W12153997N3953139 WYANDOTTE 1105","[Eucalyptus/BlueGum, DouglasFir, CoastalLiveOak]","Eucalyptus/BlueGum"]
[1519,"NORTHERN","NORTH VALLEY","Tier 2-3","102911105 Tier 2-3",102911105,"WYANDOTTE 1105",21.9,39.5277999999999,-121.514489999999,null,43.8,"W12151449N3952780",6.5,-3.4,"YES","W12151437N3952744","W12151441N3952799","W12151441N3952799-W12151437N3952744",102911105,"WYANDOTTE 1105",null,"2019-11-20T17:46:46",null,null,"Not assessed","https://viewer.us-3.sharpershape.services/viewer/assets/5ca5a2c6f6b463015da04b5c/details","https://viewer.us-3.sharpershape.services/viewer/issues/5ecf8c98a03e660001310b2a/details","high","W12151449N3952780 WYANDOTTE 1105","[MontereyPine, CoastalLiveOak, LiveOak]","MontereyPine"]
[1520,"NORTHERN","NORTH VALLEY","Tier 2-3","102911105 Tier 2-3",102911105,"WYANDOTTE 1105",58.399999999999899,39.529899999999998,-121.53064000000001,null,66.900000000000006,"W12153064N3952990",43.6,2.2999999999999998,"NO","W12152988N3952972","W12153068N3952972","W12153068N3952972-W12152988N3952972",102911105,"WYANDOTTE 1105",null,"2019-11-20T17:46:46",null,null,"Not assessed","https://viewer.us-3.sharpershape.services/viewer/assets/5d89b6cc55dd6b81633f2eff/details","https://viewer.us-3.sharpershape.services/viewer/issues/5ecf8c9934b60c00015ec333/details","high","W12153064N3952990 WYANDOTTE 1105","[GrayPine, Other, DouglasFir]","GrayPine"]
[1521,"NORTHERN","NORTH VALLEY","Tier 2-3","102911105 Tier 2-3",102911105,"WYANDOTTE 1105",14.2,39.5322099999999,-121.540909999999,null,58.899999999999899,"W12154091N3953221",7.4,-18.3,"YES","W12154073N3953285","W12154086N3953214","W12154086N3953214-W12154073N3953285",102911105,"WYANDOTTE 1105",null,"2019-11-20T17:46:46",null,null,"Not assessed","https://viewer.us-3.sharpershape.services/viewer/assets/5ca5a2c6f6b4635017a04ad1/details","https://viewer.us-3.sharpershape.services/viewer/issues/5ecf8c96a03e6600013109bc/details","high","W12154091N3953221 WYANDOTTE 1105","[GrayPine, Other, MontereyPine]","GrayPine"]
[1522,"NORTHERN","NORTH VALLEY","Tier 0-1","102911105 Tier 0-1",102911105,"WYANDOTTE 1105",8.5,39.524059999999899,-121.51465,null,41.7,"W12151465N3952406",5.3,-5.0999999999999996,"YES","W12151473N3952396","W12151456N3952437","W12151456N3952437-W12151473N3952396",102911105,"WYANDOTTE 1105",null,"2019-11-20T17:46:46",null,null,"Not assessed","https://viewer.us-3.sharpershape.services/viewer/assets/5ca5a2c6f6b4637591a050b5/details","https://viewer.us-3.sharpershape.services/viewer/issues/5ecf8c96a03e66000131097f/details","high","W12151465N3952406 WYANDOTTE 1105","[ValleyOak, Other, DouglasFir]","ValleyOak"]
[1523,"NORTHERN","NORTH VALLEY","Tier 2-3","102911105 Tier 2-3",102911105,"WYANDOTTE 1105",8.1,39.526809999999898,-121.535309999999,null,23.9,"W12153531N3952681",7.8,7,"NO","W12153535N3952637","W12153536N3952706","W12153536N3952706-W12153535N3952637",102911105,"WYANDOTTE 1105",null,"2019-11-20T17:46:46",null,null,"Not assessed","https://viewer.us-3.sharpershape.services/viewer/assets/5e7a18565dcbeb387a17baf6/details","https://viewer.us-3.sharpershape.services/viewer/issues/5ecf8c9934b60c00015ec38a/details","high","W12153531N3952681 WYANDOTTE 1105","[Other, CoastalLiveOak, DouglasFir]","Other"]
[1524,"NORTHERN","NORTH VALLEY","Tier 2-3","102911105 Tier 2-3",102911105,"WYANDOTTE 1105",47.2,39.526959999999903,-121.535179999999,null,54.7,"W12153518N3952696",32.399999999999899,-1.1000000000000001,"YES","W12153535N3952637","W12153536N3952706","W12153536N3952706-W12153535N3952637",102911105,"WYANDOTTE 1105",null,"2019-11-20T17:46:46",null,null,"Not assessed","https://viewer.us-3.sharpershape.services/viewer/assets/5e7a18565dcbeb387a17baf6/details","https://viewer.us-3.sharpershape.services/viewer/issues/5ecf8c9934b60c00015ec389/details","high","W12153518N3952696 WYANDOTTE 1105","[DouglasFir, GrayPine, LiveOak]","DouglasFir"]
[1525,"NORTHERN","NORTH VALLEY","Tier 2-3","102911105 Tier 2-3",102911105,"WYANDOTTE 1105",4.3,39.5312699999999,-121.540539999999,null,15.9,"W12154054N3953127",11,15.3,"NO","W12154021N3953134","W12154060N3953123","W12154060N3953123-W12154021N3953134",102911105,"WYANDOTTE 1105",null,"2019-11-20T17:46:46",null,null,"Not assessed","https://viewer.us-3.sharpershape.services/viewer/assets/5ca5a2c6f6b463084ea04fc4/details","https://viewer.us-3.sharpershape.services/viewer/issues/5ecf952ba03e660001311e2c/details","high","W12154054N3953127 WYANDOTTE 1105","[CoastalLiveOak, Other, DouglasFir]","CoastalLiveOak"]
[1526,"NORTHERN","NORTH VALLEY","Tier 2-3","102911105 Tier 2-3",102911105,"WYANDOTTE 1105",41.1,39.5267699999999,-121.531639999999,null,78.2,"W12153164N3952677",25.4,-26.9,"YES","W12153152N3952699","W12153224N3952655","W12153224N3952655-W12153152N3952699",102911105,"WYANDOTTE 1105",null,"2019-11-20T17:46:46",null,null,"Not assessed","https://viewer.us-3.sharpershape.services/viewer/assets/5ca5a2c6f6b46367dca04ab1/details","https://viewer.us-3.sharpershape.services/viewer/issues/5ecf8c9734b60c00015ec21f/details","high","W12153164N3952677 WYANDOTTE 1105","[Other, DouglasFir, CoastalLiveOak]","Other"]
[1527,"NORTHERN","NORTH VALLEY","Tier 2-3","102911105 Tier 2-3",102911105,"WYANDOTTE 1105",15.4,39.52657,-121.53915000000001,null,39.700000000000003,"W12153915N3952657",7.9,0.5,"NO","W12153848N3952653","W12153928N3952652","W12153928N3952652-W12153848N3952653",102911105,"WYANDOTTE 1105",null,"2019-11-20T17:46:46",null,null,"Not assessed","https://viewer.us-3.sharpershape.services/viewer/assets/5ca5a2c6f6b463083da04d94/details","https://viewer.us-3.sharpershape.services/viewer/issues/5ecf8c98a03e660001310bc0/details","high","W12153915N3952657 WYANDOTTE 1105","[Other, DouglasFir, GrayPine]","Other"]
[1528,"NORTHERN","NORTH VALLEY","Tier 0-1","102911105 Tier 0-1",102911105,"WYANDOTTE 1105",54.1,39.525790000000001,-121.53314,null,82.7,"W12153314N3952579",35,-18.5,"YES","W12153345N3952585","W12153312N3952549","W12153312N3952549-W12153345N3952585",102911105,"WYANDOTTE 1105",null,"2019-11-20T17:46:46",null,null,"Not assessed","https://viewer.us-3.sharpershape.services/viewer/assets/5ca5a2c6f6b4639894a04b2d/details","https://viewer.us-3.sharpershape.services/viewer/issues/5ecf8c94a03e6600013108f2/details","high","W12153314N3952579 WYANDOTTE 1105","[GrayPine, Eucalyptus/BlueGum, DouglasFir]","GrayPine"]
[1529,"NORTHERN","NORTH VALLEY","Tier 2-3","102911105 Tier 2-3",102911105,"WYANDOTTE 1105",48,39.530769999999897,-121.537509999999,null,55.7,"W12153751N3953077",34.399999999999899,1.4,"NO","W12153771N3953063","W12153655N3953063","W12153655N3953063-W12153771N3953063",102911105,"WYANDOTTE 1105",null,"2019-11-20T17:46:46",null,null,"Not assessed","https://viewer.us-3.sharpershape.services/viewer/assets/5ca5a2c6f6b4639bcca05130/details","https://viewer.us-3.sharpershape.services/viewer/issues/5ecf8c91a03e66000131081a/details","high","W12153751N3953077 WYANDOTTE 1105","[LiveOak, GrayPine, DouglasFir]","LiveOak"]
[1530,"NORTHERN","NORTH VALLEY","Tier 0-1","102911105 Tier 0-1",102911105,"WYANDOTTE 1105",7.5,39.525489999999898,-121.534729999999,null,24.6,"W12153473N3952549",12,5.4,"NO","W12153537N3952537","W12153462N3952554","W12153462N3952554-W12153537N3952537",102911105,"WYANDOTTE 1105",null,"2019-11-20T17:46:46",null,null,"Not assessed","https://viewer.us-3.sharpershape.services/viewer/assets/5ca5a2c6f6b463381fa049b8/details","https://viewer.us-3.sharpershape.services/viewer/issues/5ecf8c96a03e6600013109eb/details","high","W12153473N3952549 WYANDOTTE 1105","[GrayPine, DouglasFir, Other]","GrayPine"]
[1531,"NORTHERN","NORTH VALLEY","Tier 0-1","102911105 Tier 0-1",102911105,"WYANDOTTE 1105",15.7,39.526039999999902,-121.535429999999,null,47.7,"W12153543N3952604",8.4,-10.3,"YES","W12153537N3952598","W12153535N3952637","W12153535N3952637-W12153537N3952598",102911105,"WYANDOTTE 1105",null,"2019-11-20T17:46:46",null,null,"Not assessed","https://viewer.us-3.sharpershape.services/viewer/assets/5ca5a2c6f6b4634b4fa04e4e/details","https://viewer.us-3.sharpershape.services/viewer/issues/5ecf8c92a03e660001310840/details","high","W12153543N3952604 WYANDOTTE 1105","[Other, DouglasFir, LiveOak]","Other"]
[1532,"NORTHERN","NORTH VALLEY","Tier 2-3","102911105 Tier 2-3",102911105,"WYANDOTTE 1105",35.700000000000003,39.5289199999999,-121.533639999999,null,70.5,"W12153364N3952892",19.3,-18.600000000000001,"YES","W12153422N3952882","W12153363N3952882","W12153363N3952882-W12153422N3952882",102911105,"WYANDOTTE 1105",null,"2019-11-20T17:46:46",null,null,"Not assessed","https://viewer.us-3.sharpershape.services/viewer/assets/5ca5a2c6f6b46376c8a04f8b/details","https://viewer.us-3.sharpershape.services/viewer/issues/5ecf8c9534b60c00015ec0d5/details","high","W12153364N3952892 WYANDOTTE 1105","[GrayPine, Other, DouglasFir]","GrayPine"]
[1533,"NORTHERN","NORTH VALLEY","Tier 2-3","102911105 Tier 2-3",102911105,"WYANDOTTE 1105",31,39.529200000000003,-121.53126,null,46.6,"W12153126N3952920",12,-2.7,"YES","W12153130N3952973","W12153133N3952927","W12153133N3952927-W12153130N3952973",102911105,"WYANDOTTE 1105",null,"2019-11-20T17:46:46",null,null,"Not assessed","https://viewer.us-3.sharpershape.services/viewer/assets/5ca5a2c6f6b463b19aa050cd/details","https://viewer.us-3.sharpershape.services/viewer/issues/5ecf8c97a03e660001310ade/details","high","W12153126N3952920 WYANDOTTE 1105","[DouglasFir, CoastalLiveOak, GrayPine]","DouglasFir"]
[1534,"NORTHERN","NORTH VALLEY","Tier 0-1","102911105 Tier 0-1",102911105,"WYANDOTTE 1105",23.1999999999999,39.52261,-121.51519,null,33.700000000000003,"W12151519N3952261",8.6,6.8,"NO","W12151515N3952268","W12151562N3952310","W12151562N3952310-W12151515N3952268",102911105,"WYANDOTTE 1105",null,"2019-11-20T17:46:46",null,null,"Not assessed","https://viewer.us-3.sharpershape.services/viewer/assets/5d88b93a55dd6b15c73f2e90/details","https://viewer.us-3.sharpershape.services/viewer/issues/5ecf8c99a03e660001310c42/details","high","W12151519N3952261 WYANDOTTE 1105","[ValleyOak, Other, LiveOak]","ValleyOak"]
[1535,"NORTHERN","NORTH VALLEY","Tier 2-3","102911105 Tier 2-3",102911105,"WYANDOTTE 1105",38.6,39.526319999999899,-121.5324,null,38.6,"W12153240N3952632",18.8,8.3000000000000007,"NO","W12153224N3952655","W12153295N3952615","W12153295N3952615-W12153224N3952655",102911105,"WYANDOTTE 1105",null,"2019-11-20T17:46:46",null,null,"Not assessed","https://viewer.us-3.sharpershape.services/viewer/assets/5ca5a2c6f6b4635390a04a71/details","https://viewer.us-3.sharpershape.services/viewer/issues/5ecf8c96a03e6600013109d3/details","high","W12153240N3952632 WYANDOTTE 1105","[GrayPine, DouglasFir, TanOak]","GrayPine"]
[1536,"NORTHERN","NORTH VALLEY","Tier 2-3","102911105 Tier 2-3",102911105,"WYANDOTTE 1105",15,39.531100000000002,-121.51885,null,46.399999999999899,"W12151885N3953110",4.9000000000000004,-9.8000000000000007,"YES","W12151868N3953111","W12151923N3953089","W12151923N3953089-W12151868N3953111",102911105,"WYANDOTTE 1105",null,"2019-11-20T17:46:46",null,null,"Not assessed","https://viewer.us-3.sharpershape.services/viewer/assets/5ca5a2c6f6b4636ea8a04d47/details","https://viewer.us-3.sharpershape.services/viewer/issues/5ecf8c97a03e660001310a95/details","high","W12151885N3953110 WYANDOTTE 1105","[GrayPine, DouglasFir, Other]","GrayPine"]
[1537,"NORTHERN","NORTH VALLEY","Tier 2-3","102911105 Tier 2-3",102911105,"WYANDOTTE 1105",19,39.541200000000003,-121.54231,null,33,"W12154231N3954120",6.8,-12.7,"YES","W12154206N3954186","W12154249N3954102","W12154249N3954102-W12154206N3954186",102911105,"WYANDOTTE 1105",null,"2019-11-20T17:46:46",null,null,"Not assessed","https://viewer.us-3.sharpershape.services/viewer/assets/5ca5a2c6f6b4631d52a04cea/details","https://viewer.us-3.sharpershape.services/viewer/issues/5ecf8c98a03e660001310bea/details","high","W12154231N3954120 WYANDOTTE 1105","[DouglasFir, CoastalLiveOak, Other]","DouglasFir"]
[1538,"NORTHERN","NORTH VALLEY","Tier 2-3","102911105 Tier 2-3",102911105,"WYANDOTTE 1105",18.600000000000001,39.65513,-121.50641,null,24.1,"W12150641N3965513",12,6,"NO","W12150643N3965533","W12150660N3965474","W12150660N3965474-W12150643N3965533",102911105,"WYANDOTTE 1105",null,"2019-11-20T17:46:46",null,null,"Not assessed","https://viewer.us-3.sharpershape.services/viewer/assets/5d88be6055dd6b9f923f2ea6/details","https://viewer.us-3.sharpershape.services/viewer/issues/5ecf8c9934b60c00015ec387/details","high","W12150641N3965513 WYANDOTTE 1105","[Other, DouglasFir, ValleyOak]","Other"]
[1539,"NORTHERN","NORTH VALLEY","Tier 2-3","102911105 Tier 2-3",102911105,"WYANDOTTE 1105",63.6,39.530299999999997,-121.53279999999999,null,78,"W12153280N3953030",47.2,-7.6,"YES","W12153323N3953048","W12153269N3953048","W12153269N3953048-W12153323N3953048",102911105,"WYANDOTTE 1105",null,"2019-11-20T17:46:46",null,null,"Not assessed","https://viewer.us-3.sharpershape.services/viewer/assets/5ca5a2c6f6b4636013a051bf/details","https://viewer.us-3.sharpershape.services/viewer/issues/5ecf8c9834b60c00015ec285/details","high","W12153280N3953030 WYANDOTTE 1105","[Eucalyptus/BlueGum, DouglasFir, MontereyPine]","Eucalyptus/BlueGum"]
[1540,"NORTHERN","NORTH VALLEY","Tier 2-3","102911105 Tier 2-3",102911105,"WYANDOTTE 1105",25.9,39.527819999999899,-121.53256,null,58.5,"W12153256N3952782",12,-12.2,"YES","W12153270N3952789","W12153203N3952790","W12153203N3952790-W12153270N3952789",102911105,"WYANDOTTE 1105",null,"2019-11-20T17:46:46",null,null,"Not assessed","https://viewer.us-3.sharpershape.services/viewer/assets/5ca5a2c6f6b4631fcca0508c/details","https://viewer.us-3.sharpershape.services/viewer/issues/5ecf8c9934b60c00015ec2e6/details","high","W12153256N3952782 WYANDOTTE 1105","[Eucalyptus/BlueGum, DouglasFir, LiveOak]","Eucalyptus/BlueGum"]
[1541,"NORTHERN","NORTH VALLEY","Tier 0-1","102911105 Tier 0-1",102911105,"WYANDOTTE 1105",2,39.523109999999903,-121.511719999999,null,25.3,"W12151172N3952311",12,5.9,"NO","W12151196N3952324","W12151167N3952308","W12151167N3952308-W12151196N3952324",102911105,"WYANDOTTE 1105",null,"2019-11-20T17:46:46",null,null,"Not assessed","https://viewer.us-3.sharpershape.services/viewer/assets/5ca5a2c6f6b463c0a8a04fe8/details","https://viewer.us-3.sharpershape.services/viewer/issues/5ecf8c9434b60c00015ec052/details","high","W12151172N3952311 WYANDOTTE 1105","[DouglasFir, LiveOak, GrayPine]","DouglasFir"]
[1542,"NORTHERN","NORTH VALLEY","Tier 2-3","102911105 Tier 2-3",102911105,"WYANDOTTE 1105",2.9,39.5311799999999,-121.51860000000001,null,30.1999999999999,"W12151860N3953118",12,6.7,"NO","W12151868N3953111","W12151822N3953157","W12151822N3953157-W12151868N3953111",102911105,"WYANDOTTE 1105",null,"2019-11-20T17:46:46",null,null,"Not assessed","https://viewer.us-3.sharpershape.services/viewer/assets/5ca5a2c6f6b4630821a04f40/details","https://viewer.us-3.sharpershape.services/viewer/issues/5ecf8c9334b60c00015ec017/details","high","W12151860N3953118 WYANDOTTE 1105","[CoastalLiveOak, Other, DouglasFir]","CoastalLiveOak"]
[1543,"NORTHERN","NORTH VALLEY","Tier 2-3","102911105 Tier 2-3",102911105,"WYANDOTTE 1105",19,39.532469999999897,-121.531559999999,null,46.1,"W12153156N3953247",7.8,-11.5,"YES","W12153205N3953245","W12153117N3953239","W12153117N3953239-W12153205N3953245",102911105,"WYANDOTTE 1105",null,"2019-11-20T17:46:46",null,null,"Not assessed","https://viewer.us-3.sharpershape.services/viewer/assets/5ca5a2c6f6b4636b14a051ca/details","https://viewer.us-3.sharpershape.services/viewer/issues/5ecf8c9734b60c00015ec171/details","high","W12153156N3953247 WYANDOTTE 1105","[CoastalLiveOak, DouglasFir, Other]","CoastalLiveOak"]
[1544,"NORTHERN","NORTH VALLEY","Tier 2-3","102911105 Tier 2-3",102911105,"WYANDOTTE 1105",28.8,39.532350000000001,-121.53870000000001,null,39.5,"W12153870N3953235",7.8,-4,"YES","W12153905N3953243","W12153810N3953244","W12153810N3953244-W12153905N3953243",102911105,"WYANDOTTE 1105",null,"2019-11-20T17:46:46","OH",null,"Not assessed","https://viewer.us-3.sharpershape.services/viewer/assets/5ca5a2c6f6b46300cca04f1d/details","https://viewer.us-3.sharpershape.services/viewer/issues/5ecf8c93a03e6600013108a7/details","high","W12153870N3953235 WYANDOTTE 1105","[DouglasFir, LiveOak, CoastalLiveOak]","DouglasFir"]
[1545,"NORTHERN","NORTH VALLEY","Tier 2-3","102911105 Tier 2-3",102911105,"WYANDOTTE 1105",0,39.530429999999903,-121.526029999999,null,19.899999999999999,"W12152603N3953043",6.1,6.1,"NO","W12152603N3952974","W12152603N3953064","W12152603N3953064-W12152603N3952974",102911105,"WYANDOTTE 1105",null,"2019-11-20T17:46:46",null,null,"Not assessed","https://viewer.us-3.sharpershape.services/viewer/assets/5ca5a2c6f6b463cd78a04dbd/details","https://viewer.us-3.sharpershape.services/viewer/issues/5ecf8efa34b60c00015ecad0/details","high","W12152603N3953043 WYANDOTTE 1105","[Other, ValleyOak, GrayPine]","Other"]
[1546,"NORTHERN","NORTH VALLEY","Tier 2-3","102911105 Tier 2-3",102911105,"WYANDOTTE 1105",16.399999999999899,39.523980000000002,-121.5373,null,33.899999999999899,"W12153730N3952398",8.4,6,"NO","W12153751N3952386","W12153708N3952399","W12153708N3952399-W12153751N3952386",102911105,"WYANDOTTE 1105",null,"2019-11-20T17:46:46",null,null,"Not assessed","https://viewer.us-3.sharpershape.services/viewer/assets/5ca5a2c6f6b46361e1a04b3c/details","https://viewer.us-3.sharpershape.services/viewer/issues/5ecf8c9634b60c00015ec0f8/details","high","W12153730N3952398 WYANDOTTE 1105","[TanOak, DouglasFir, MontereyPine]","TanOak"]
[1547,"NORTHERN","NORTH VALLEY","Tier 2-3","102911105 Tier 2-3",102911105,"WYANDOTTE 1105",39.299999999999997,39.53266,-121.53919999999999,null,42.6,"W12153920N3953266",8.1999999999999904,20.1999999999999,"NO","W12153906N3953282","W12153905N3953243","W12153905N3953243-W12153906N3953282",102911105,"WYANDOTTE 1105",null,"2019-11-20T17:46:46",null,null,"Not assessed","https://viewer.us-3.sharpershape.services/viewer/assets/5ca5a2c6f6b463fdeba04bb5/details","https://viewer.us-3.sharpershape.services/viewer/issues/5ecf8ed634b60c00015ec9c2/details","high","W12153920N3953266 WYANDOTTE 1105","[DouglasFir, CoastalLiveOak, Other]","DouglasFir"]
[1548,"NORTHERN","NORTH VALLEY","Tier 0-1","102911105 Tier 0-1",102911105,"WYANDOTTE 1105",15.8,39.523440000000001,-121.511669999999,null,36.899999999999899,"W12151167N3952344",5.7,-0.8,"YES","W12151196N3952324","W12151119N3952361","W12151119N3952361-W12151196N3952324",102911105,"WYANDOTTE 1105",null,"2019-11-20T17:46:46",null,null,"Not assessed","https://viewer.us-3.sharpershape.services/viewer/assets/5ca5a2c6f6b4638f7da04e40/details","https://viewer.us-3.sharpershape.services/viewer/issues/5ecf8c9634b60c00015ec110/details","high","W12151167N3952344 WYANDOTTE 1105","[CoastalLiveOak, DouglasFir, Eucalyptus/BlueGum]","CoastalLiveOak"]
[1549,"NORTHERN","NORTH VALLEY","Tier 2-3","102911105 Tier 2-3",102911105,"WYANDOTTE 1105",12.8,39.533389999999898,-121.540909999999,null,86,"W12154091N3953339",12,-33.899999999999899,"YES","W12154087N3953327","W12154149N3953393","W12154149N3953393-W12154087N3953327",102911105,"WYANDOTTE 1105",null,"2019-11-20T17:46:46","OH",null,"Not assessed","https://viewer.us-3.sharpershape.services/viewer/assets/5ca5a2c6f6b4635000a04d2e/details","https://viewer.us-3.sharpershape.services/viewer/issues/5ecf8c9234b60c00015ec006/details","high","W12154091N3953339 WYANDOTTE 1105","[DouglasFir, GrayPine, CoastalLiveOak]","DouglasFir"]
[1550,"NORTHERN","NORTH VALLEY","Tier 2-3","102911105 Tier 2-3",102911105,"WYANDOTTE 1105",33.899999999999899,39.5316499999999,-121.53148,null,38.799999999999997,"W12153148N3953165",18.899999999999999,5.2,"NO","W12153206N3953153","W12153147N3953155","W12153147N3953155-W12153206N3953153",102911105,"WYANDOTTE 1105",null,"2019-11-20T17:46:46",null,null,"Not assessed","https://viewer.us-3.sharpershape.services/viewer/assets/5ca5a2c6f6b4635ba4a04c32/details","https://viewer.us-3.sharpershape.services/viewer/issues/5ecf8c96a03e660001310997/details","high","W12153148N3953165 WYANDOTTE 1105","[GrayPine, Other, ValleyOak]","GrayPine"]
[1551,"NORTHERN","NORTH VALLEY","Tier 2-3","102911105 Tier 2-3",102911105,"WYANDOTTE 1105",13.5,39.672840000000001,-121.496989999999,null,21.5,"W12149699N3967284",6.3,2.7,"NO","W12149658N3967347","W12149755N3967217","W12149755N3967217-W12149658N3967347",0,"WYANDOTTE 1105",null,"2019-11-20T17:46:46",null,null,"Not assessed","https://viewer.us-3.sharpershape.services/viewer/assets/5ca5a2c6f6b463d89ea04e5a/details","https://viewer.us-3.sharpershape.services/viewer/issues/5ecf8c9834b60c00015ec2dd/details","high","W12149699N3967284 WYANDOTTE 1105","[CoastalLiveOak, MontereyPine, Other]","CoastalLiveOak"]
[1552,"NORTHERN","NORTH VALLEY","Tier 2-3","102911105 Tier 2-3",102911105,"WYANDOTTE 1105",28.4,39.531569999999903,-121.53977999999999,null,67.599999999999895,"W12153978N3953157",7.8,-21.8,"YES","W12154021N3953134","W12153966N3953151","W12153966N3953151-W12154021N3953134",102911105,"WYANDOTTE 1105",null,"2019-11-20T17:46:46","OH",null,"Not assessed","https://viewer.us-3.sharpershape.services/viewer/assets/5ca5a2c6f6b4638850a050f0/details","https://viewer.us-3.sharpershape.services/viewer/issues/5ecf8c9234b60c00015ebffb/details","high","W12153978N3953157 WYANDOTTE 1105","[DouglasFir, GrayPine, LiveOak]","DouglasFir"]
[1553,"NORTHERN","NORTH VALLEY","Tier 2-3","102911105 Tier 2-3",102911105,"WYANDOTTE 1105",0.1,39.530719999999903,-121.51944,null,28.9,"W12151944N3953072",5.0999999999999996,5.0999999999999996,"NO","W12151923N3953089","W12152005N3953021","W12152005N3953021-W12151923N3953089",102911105,"WYANDOTTE 1105",null,"2019-11-20T17:46:46",null,null,"Not assessed","https://viewer.us-3.sharpershape.services/viewer/assets/5ca5a2c6f6b46307baa0515f/details","https://viewer.us-3.sharpershape.services/viewer/issues/5ecf8ee3a03e660001311290/details","high","W12151944N3953072 WYANDOTTE 1105","[GrayPine, ValleyOak, DouglasFir]","GrayPine"]
[1554,"NORTHERN","NORTH VALLEY","Tier 2-3","102911105 Tier 2-3",102911105,"WYANDOTTE 1105",76.7,39.531729999999897,-121.53879000000001,null,69.2,"W12153879N3953173",54.8,9.8000000000000007,"NO","W12153907N3953193","W12153907N3953151","W12153907N3953151-W12153907N3953193",102911105,"WYANDOTTE 1105",null,"2019-11-20T17:46:46",null,null,"Not assessed","https://viewer.us-3.sharpershape.services/viewer/assets/5ca5a2c6f6b463c991a04df7/details","https://viewer.us-3.sharpershape.services/viewer/issues/5ecf8c9834b60c00015ec23f/details","high","W12153879N3953173 WYANDOTTE 1105","[Other, LiveOak, DouglasFir]","Other"]
[1555,"NORTHERN","NORTH VALLEY","Tier 0-1","102911105 Tier 0-1",102911105,"WYANDOTTE 1105",1.3,39.524650000000001,-121.52132,null,22.6,"W12152132N3952465",10.8,12.1,"NO","W12152121N3952468","W12152223N3952454","W12152223N3952454-W12152121N3952468",102911105,"WYANDOTTE 1105",null,"2019-11-20T17:46:46",null,null,"Not assessed","https://viewer.us-3.sharpershape.services/viewer/assets/5ca5a2c6f6b4634c98a0504c/details","https://viewer.us-3.sharpershape.services/viewer/issues/5ecf8ef2a03e66000131130e/details","high","W12152132N3952465 WYANDOTTE 1105","[GrayPine, LiveOak, TanOak]","GrayPine"]
[1556,"NORTHERN","NORTH VALLEY","Tier 0-1","102911105 Tier 0-1",102911105,"WYANDOTTE 1105",1.2,39.525230000000001,-121.53288000000001,null,34,"W12153288N3952523",6.5,7.7,"NO","W12153312N3952549","W12153279N3952515","W12153279N3952515-W12153312N3952549",102911105,"WYANDOTTE 1105",null,"2019-11-20T17:46:46",null,null,"Not assessed","https://viewer.us-3.sharpershape.services/viewer/assets/5ca5a2c6f6b463ab92a051ae/details","https://viewer.us-3.sharpershape.services/viewer/issues/5ecf8edca03e66000131122a/details","high","W12153288N3952523 WYANDOTTE 1105","[DouglasFir, LiveOak, CoastalLiveOak]","DouglasFir"]
[1557,"NORTHERN","NORTH VALLEY","Tier 2-3","102911105 Tier 2-3",102911105,"WYANDOTTE 1105",13.6,39.532080000000001,-121.53201,null,24.5,"W12153201N3953208",7,6.5,"NO","W12153205N3953245","W12153206N3953192","W12153206N3953192-W12153205N3953245",102911105,"WYANDOTTE 1105",null,"2019-11-20T17:46:46",null,null,"Not assessed","https://viewer.us-3.sharpershape.services/viewer/assets/5ca5a2c6f6b463299fa04cf2/details","https://viewer.us-3.sharpershape.services/viewer/issues/5ecf8c9934b60c00015ec370/details","high","W12153201N3953208 WYANDOTTE 1105","[Eucalyptus/BlueGum, DouglasFir, CoastalLiveOak]","Eucalyptus/BlueGum"]
[1558,"NORTHERN","NORTH VALLEY","Tier 2-3","102911105 Tier 2-3",102911105,"WYANDOTTE 1105",57,39.537959999999899,-121.542289999999,null,69.799999999999898,"W12154229N3953796",35.5,-12,"YES","W12154252N3953857","W12154250N3953758","W12154250N3953758-W12154252N3953857",102911105,"WYANDOTTE 1105",null,"2019-11-20T17:46:46",null,null,"Not assessed","https://viewer.us-3.sharpershape.services/viewer/assets/5ca5a2c6f6b463b67da04e4c/details","https://viewer.us-3.sharpershape.services/viewer/issues/5ecf8c97a03e660001310a39/details","high","W12154229N3953796 WYANDOTTE 1105","[GrayPine, Eucalyptus/BlueGum, DouglasFir]","GrayPine"]
[1559,"NORTHERN","NORTH VALLEY","Tier 2-3","102911105 Tier 2-3",102911105,"WYANDOTTE 1105",26.6,39.526620000000001,-121.53197,null,66,"W12153197N3952662",8.5,-25,"YES","W12153152N3952699","W12153224N3952655","W12153224N3952655-W12153152N3952699",102911105,"WYANDOTTE 1105",null,"2019-11-20T17:46:46","OH",null,"Not assessed","https://viewer.us-3.sharpershape.services/viewer/assets/5ca5a2c6f6b46367dca04ab1/details","https://viewer.us-3.sharpershape.services/viewer/issues/5ecf8c9734b60c00015ec21d/details","high","W12153197N3952662 WYANDOTTE 1105","[Eucalyptus/BlueGum, GrayPine, Other]","Eucalyptus/BlueGum"]
[1560,"NORTHERN","NORTH VALLEY","Tier 2-3","102911105 Tier 2-3",102911105,"WYANDOTTE 1105",65.299999999999898,39.529309999999903,-121.532309999999,null,84.5,"W12153231N3952931",55.2,-7.9,"YES","W12153206N3952881","W12153206N3952972","W12153206N3952972-W12153206N3952881",102911105,"WYANDOTTE 1105",null,"2019-11-20T17:46:46",null,null,"Not assessed","https://viewer.us-3.sharpershape.services/viewer/assets/5ca5a2c6f6b463a605a04c77/details","https://viewer.us-3.sharpershape.services/viewer/issues/5ecf8c9834b60c00015ec29d/details","high","W12153231N3952931 WYANDOTTE 1105","[GrayPine, Eucalyptus/BlueGum, DouglasFir]","GrayPine"]
[1561,"NORTHERN","NORTH VALLEY","Tier 2-3","102911105 Tier 2-3",102911105,"WYANDOTTE 1105",37.899999999999899,39.532640000000001,-121.53891,null,52.899999999999899,"W12153891N3953264",22.6,-5.7,"YES","W12153906N3953282","W12153905N3953243","W12153905N3953243-W12153906N3953282",102911105,"WYANDOTTE 1105",null,"2019-11-20T17:46:46",null,null,"Not assessed","https://viewer.us-3.sharpershape.services/viewer/assets/5ca5a2c6f6b463fdeba04bb5/details","https://viewer.us-3.sharpershape.services/viewer/issues/5ecf8c9834b60c00015ec236/details","high","W12153891N3953264 WYANDOTTE 1105","[GrayPine, Other, LiveOak]","GrayPine"]
[1562,"NORTHERN","NORTH VALLEY","Tier 2-3","102911105 Tier 2-3",102911105,"WYANDOTTE 1105",42.899999999999899,39.527270000000001,-121.5142,null,72.900000000000006,"W12151420N3952727",6.4,-18.1999999999999,"YES","W12151433N3952690","W12151437N3952744","W12151437N3952744-W12151433N3952690",102911105,"WYANDOTTE 1105",null,"2019-11-20T17:46:46",null,null,"Not assessed","https://viewer.us-3.sharpershape.services/viewer/assets/5ca5a2c6f6b46309eba051c7/details","https://viewer.us-3.sharpershape.services/viewer/issues/5ecf8c98a03e660001310b26/details","high","W12151420N3952727 WYANDOTTE 1105","[GrayPine, DouglasFir, MontereyPine]","GrayPine"]
[1563,"NORTHERN","NORTH VALLEY","Tier 2-3","102911105 Tier 2-3",102911105,"WYANDOTTE 1105",19.1999999999999,39.52505,-121.53797,null,28.1999999999999,"W12153797N3952505",12,8.6999999999999993,"NO","W12153745N3952470","W12153809N3952504","W12153809N3952504-W12153745N3952470",102911105,"WYANDOTTE 1105",null,"2019-11-20T17:46:46",null,null,"Not assessed","https://viewer.us-3.sharpershape.services/viewer/assets/5ca5a2c6f6b4638d21a051a2/details","https://viewer.us-3.sharpershape.services/viewer/issues/5ecf8c95a03e660001310933/details","high","W12153797N3952505 WYANDOTTE 1105","[DouglasFir, GrayPine, CoastalLiveOak]","DouglasFir"]
[1564,"NORTHERN","NORTH VALLEY","Tier 2-3","102911105 Tier 2-3",102911105,"WYANDOTTE 1105",7,39.528529999999897,-121.527159999999,null,29.6999999999999,"W12152716N3952853",8.1999999999999904,7.1,"NO","W12152680N3952875","W12152750N3952825","W12152750N3952825-W12152680N3952875",102911105,"WYANDOTTE 1105",null,"2019-11-20T17:46:46",null,null,"Not assessed","https://viewer.us-3.sharpershape.services/viewer/assets/5ca5a2c6f6b46337c2a04be5/details","https://viewer.us-3.sharpershape.services/viewer/issues/5ecf8c9634b60c00015ec0f1/details","high","W12152716N3952853 WYANDOTTE 1105","[TanOak, GrayPine, DouglasFir]","TanOak"]
[1565,"NORTHERN","NORTH VALLEY","Tier 2-3","102911105 Tier 2-3",102911105,"WYANDOTTE 1105",29.8,39.535080000000001,-121.542149999999,null,33.1,"W12154215N3953508",7.6,4.2,"NO","W12154214N3953455","W12154230N3953520","W12154230N3953520-W12154214N3953455",102911105,"WYANDOTTE 1105",null,"2019-11-20T17:46:46",null,null,"Not assessed","https://viewer.us-3.sharpershape.services/viewer/assets/5ca5a2c6f6b4638e61a05162/details","https://viewer.us-3.sharpershape.services/viewer/issues/5ecf8c9534b60c00015ec0a9/details","high","W12154215N3953508 WYANDOTTE 1105","[Eucalyptus/BlueGum, DouglasFir, GrayPine]","Eucalyptus/BlueGum"]
[1566,"NORTHERN","NORTH VALLEY","Tier 2-3","102911105 Tier 2-3",102911105,"WYANDOTTE 1105",96.1,39.529269999999897,-121.524529999999,null,92.9,"W12152453N3952927",78.299999999999898,3.3,"NO","W12152414N3952959","W12152508N3952949","W12152508N3952949-W12152414N3952959",102911105,"WYANDOTTE 1105",null,"2019-11-20T17:46:46",null,null,"Not assessed","https://viewer.us-3.sharpershape.services/viewer/assets/5ca5a2c6f6b4633d64a04cf9/details","https://viewer.us-3.sharpershape.services/viewer/issues/5ee2b4c3a03e66000146e45d/details","high","W12152453N3952927 WYANDOTTE 1105","[CoastalLiveOak, Eucalyptus/BlueGum, LiveOak]","CoastalLiveOak"]
[1567,"NORTHERN","NORTH VALLEY","Tier 2-3","102911105 Tier 2-3",102911105,"WYANDOTTE 1105",22.1999999999999,39.52908,-121.52007,null,70.599999999999994,"W12152007N3952908",7.7,-30.3,"YES","W12152014N3952914","W12152053N3952877","W12152053N3952877-W12152014N3952914",102911105,"WYANDOTTE 1105",null,"2019-11-20T17:46:46",null,null,"Not assessed","https://viewer.us-3.sharpershape.services/viewer/assets/5ca5a2c6f6b463d0f3a04a55/details","https://viewer.us-3.sharpershape.services/viewer/issues/5ecf8c9734b60c00015ec20a/details","high","W12152007N3952908 WYANDOTTE 1105","[GrayPine, DouglasFir, ValleyOak]","GrayPine"]
[1568,"NORTHERN","NORTH VALLEY","Tier 0-1","102911105 Tier 0-1",102911105,"WYANDOTTE 1105",9.4,39.525729999999903,-121.533279999999,null,49.899999999999899,"W12153328N3952573",5.6,-11,"YES","W12153345N3952585","W12153312N3952549","W12153312N3952549-W12153345N3952585",102911105,"WYANDOTTE 1105",null,"2019-11-20T17:46:46",null,null,"Not assessed","https://viewer.us-3.sharpershape.services/viewer/assets/5ca5a2c6f6b4639894a04b2d/details","https://viewer.us-3.sharpershape.services/viewer/issues/5ecf8c94a03e6600013108f5/details","high","W12153328N3952573 WYANDOTTE 1105","[DouglasFir, Eucalyptus/BlueGum, GrayPine]","DouglasFir"]
[1569,"NORTHERN","NORTH VALLEY","Tier 2-3","102911105 Tier 2-3",102911105,"WYANDOTTE 1105",26.1999999999999,39.527470000000001,-121.535249999999,null,46.6,"W12153525N3952747",7.3,-9.8000000000000007,"YES","W12153535N3952774","W12153536N3952706","W12153536N3952706-W12153535N3952774",102911105,"WYANDOTTE 1105",null,"2019-11-20T17:46:46",null,null,"Not assessed","https://viewer.us-3.sharpershape.services/viewer/assets/5ca5a2c6f6b463ada9a04fb0/details","https://viewer.us-3.sharpershape.services/viewer/issues/5ecf8c97a03e660001310a80/details","high","W12153525N3952747 WYANDOTTE 1105","[GrayPine, DouglasFir, ValleyOak]","GrayPine"]
[1570,"NORTHERN","NORTH VALLEY","Tier 0-1","102911105 Tier 0-1",102911105,"WYANDOTTE 1105",47.2,39.523420000000002,-121.515749999999,null,66,"W12151575N3952342",36.399999999999899,-9.6999999999999993,"YES","W12151549N3952385","W12151562N3952310","W12151562N3952310-W12151549N3952385",102911105,"WYANDOTTE 1105",null,"2019-11-20T17:46:46",null,null,"Not assessed","https://viewer.us-3.sharpershape.services/viewer/assets/5ca5a2c6f6b4631737a04c04/details","https://viewer.us-3.sharpershape.services/viewer/issues/5ecf8c9534b60c00015ec08a/details","high","W12151575N3952342 WYANDOTTE 1105","[LiveOak, DouglasFir, Other]","LiveOak"]
[1571,"NORTHERN","NORTH VALLEY","Tier 2-3","102911105 Tier 2-3",102911105,"WYANDOTTE 1105",10.199999999999999,39.529849999999897,-121.52598,null,24.6,"W12152598N3952985",5.3,3.6,"NO","W12152603N3952974","W12152603N3953064","W12152603N3953064-W12152603N3952974",102911105,"WYANDOTTE 1105",null,"2019-11-20T17:46:46",null,null,"Not assessed","https://viewer.us-3.sharpershape.services/viewer/assets/5ca5a2c6f6b463cd78a04dbd/details","https://viewer.us-3.sharpershape.services/viewer/issues/5ecf8c98a03e660001310be5/details","high","W12152598N3952985 WYANDOTTE 1105","[GrayPine, TanOak, DouglasFir]","GrayPine"]
[1572,"NORTHERN","NORTH VALLEY","Tier 2-3","102911105 Tier 2-3",102911105,"WYANDOTTE 1105",33.1,39.534410000000001,-121.542159999999,null,44,"W12154216N3953441",22.4,6.1,"NO","W12154214N3953455","W12154179N3953424","W12154179N3953424-W12154214N3953455",102911105,"WYANDOTTE 1105",null,"2019-11-20T17:46:46",null,null,"Not assessed","https://viewer.us-3.sharpershape.services/viewer/assets/5ca5a2c6f6b4634756a04ae5/details","https://viewer.us-3.sharpershape.services/viewer/issues/5ecf8c9534b60c00015ec096/details","high","W12154216N3953441 WYANDOTTE 1105","[GrayPine, DouglasFir, CoastalLiveOak]","GrayPine"]
[1573,"NORTHERN","NORTH VALLEY","Tier 2-3","102911105 Tier 2-3",102911105,"WYANDOTTE 1105",49.1,39.52608,-121.532749999999,null,70.799999999999898,"W12153275N3952608",30.6999999999999,-16.1999999999999,"YES","W12153224N3952655","W12153295N3952615","W12153295N3952615-W12153224N3952655",102911105,"WYANDOTTE 1105",null,"2019-11-20T17:46:46",null,null,"Not assessed","https://viewer.us-3.sharpershape.services/viewer/assets/5ca5a2c6f6b4635390a04a71/details","https://viewer.us-3.sharpershape.services/viewer/issues/5ecf8c96a03e6600013109d5/details","high","W12153275N3952608 WYANDOTTE 1105","[Eucalyptus/BlueGum, DouglasFir, GrayPine]","Eucalyptus/BlueGum"]
[1574,"NORTHERN","NORTH VALLEY","Tier 2-3","102911105 Tier 2-3",102911105,"WYANDOTTE 1105",63.399999999999899,39.530339999999903,-121.520749999999,null,63.1,"W12152075N3953034",51.8,9.5,"NO","W12152091N3953014","W12152005N3953021","W12152005N3953021-W12152091N3953014",102911105,"WYANDOTTE 1105",null,"2019-11-20T17:46:46",null,null,"Not assessed","https://viewer.us-3.sharpershape.services/viewer/assets/5ca5a2c6f6b4637ff5a04e47/details","https://viewer.us-3.sharpershape.services/viewer/issues/5ecf8c9534b60c00015ec073/details","high","W12152075N3953034 WYANDOTTE 1105","[GrayPine, Other, DouglasFir]","GrayPine"]
[1575,"NORTHERN","NORTH VALLEY","Tier 2-3","102911105 Tier 2-3",102911105,"WYANDOTTE 1105",23.5,39.537309999999898,-121.54241,null,54.899999999999899,"W12154241N3953731",12,-29.6,"YES","W12154253N3953660","W12154250N3953758","W12154250N3953758-W12154253N3953660",102911105,"WYANDOTTE 1105",null,"2019-11-20T17:46:46","OH",null,"Not assessed","https://viewer.us-3.sharpershape.services/viewer/assets/5ca5a2c6f6b4637989a05102/details","https://viewer.us-3.sharpershape.services/viewer/issues/5ecf8c9734b60c00015ec1b8/details","high","W12154241N3953731 WYANDOTTE 1105","[Other, GrayPine, MontereyPine]","Other"]
[1576,"NORTHERN","NORTH VALLEY","Tier 2-3","102911105 Tier 2-3",102911105,"WYANDOTTE 1105",26.4,39.532240000000002,-121.525949999999,null,25.4,"W12152595N3953224",9.8000000000000007,21.8,"NO","W12152606N3953202","W12152605N3953235","W12152605N3953235-W12152606N3953202",102911105,"WYANDOTTE 1105",null,"2019-11-20T17:46:46",null,null,"Not assessed","https://viewer.us-3.sharpershape.services/viewer/assets/5ca5a2c6f6b4631991a04dcc/details","https://viewer.us-3.sharpershape.services/viewer/issues/5ecfe7b3a03e660001334092/details","high","W12152595N3953224 WYANDOTTE 1105","[TanOak, ValleyOak, DouglasFir]","TanOak"]
[1577,"NORTHERN","NORTH VALLEY","Tier 2-3","102911105 Tier 2-3",102911105,"WYANDOTTE 1105",7.7,39.526289999999896,-121.532759999999,null,29.1,"W12153276N3952629",9.6999999999999993,8.1999999999999904,"NO","W12153224N3952655","W12153295N3952615","W12153295N3952615-W12153224N3952655",102911105,"WYANDOTTE 1105",null,"2019-11-20T17:46:46",null,null,"Not assessed","https://viewer.us-3.sharpershape.services/viewer/assets/5ca5a2c6f6b4635390a04a71/details","https://viewer.us-3.sharpershape.services/viewer/issues/5ecf8c96a03e6600013109d0/details","high","W12153276N3952629 WYANDOTTE 1105","[GrayPine, DouglasFir, ValleyOak]","GrayPine"]
[1578,"NORTHERN","NORTH VALLEY","Tier 2-3","102911105 Tier 2-3",102911105,"WYANDOTTE 1105",63.6,39.529910000000001,-121.530169999999,null,84.7,"W12153017N3952991",47.8,-15,"YES","W12152988N3952972","W12153068N3952972","W12153068N3952972-W12152988N3952972",102911105,"WYANDOTTE 1105",null,"2019-11-20T17:46:46",null,null,"Not assessed","https://viewer.us-3.sharpershape.services/viewer/assets/5d89b6cc55dd6b81633f2eff/details","https://viewer.us-3.sharpershape.services/viewer/issues/5ecf8c9934b60c00015ec338/details","high","W12153017N3952991 WYANDOTTE 1105","[GrayPine, Eucalyptus/BlueGum, MontereyPine]","GrayPine"]
[1579,"NORTHERN","NORTH VALLEY","Tier 2-3","102911105 Tier 2-3",102911105,"WYANDOTTE 1105",19.600000000000001,39.527159999999903,-121.5314,null,36.1,"W12153140N3952716",10.8,3.1,"NO","W12153116N3952725","W12153152N3952699","W12153152N3952699-W12153116N3952725",102911105,"WYANDOTTE 1105",null,"2019-11-20T17:46:46",null,null,"Not assessed","https://viewer.us-3.sharpershape.services/viewer/assets/5ca5a2c6f6b46334dea04ee9/details","https://viewer.us-3.sharpershape.services/viewer/issues/5ecf8c9934b60c00015ec34e/details","high","W12153140N3952716 WYANDOTTE 1105","[GrayPine, Other, TanOak]","GrayPine"]
[1580,"NORTHERN","NORTH VALLEY","Tier 2-3","102911105 Tier 2-3",102911105,"WYANDOTTE 1105",23.1999999999999,39.532910000000001,-121.537129999999,null,40.899999999999899,"W12153713N3953291",3.9,2.1,"NO","W12153713N3953284","W12153655N3953283","W12153655N3953283-W12153713N3953284",102911105,"WYANDOTTE 1105",null,"2019-11-20T17:46:46",null,null,"Not assessed","https://viewer.us-3.sharpershape.services/viewer/assets/5ca5a2c6f6b46315baa04b02/details","https://viewer.us-3.sharpershape.services/viewer/issues/5ecf8c98a03e660001310bd6/details","high","W12153713N3953291 WYANDOTTE 1105","[CoastalLiveOak, DouglasFir, Other]","CoastalLiveOak"]
[1581,"NORTHERN","NORTH VALLEY","Tier 2-3","102911105 Tier 2-3",102911105,"WYANDOTTE 1105",35,39.532869999999903,-121.540869999999,null,72.599999999999994,"W12154087N3953287",7.5,-15.2,"YES","W12154073N3953285","W12154087N3953327","W12154087N3953327-W12154073N3953285",102911105,"WYANDOTTE 1105",null,"2019-11-20T17:46:46",null,null,"Not assessed","https://viewer.us-3.sharpershape.services/viewer/assets/5ca5a2c6f6b463f395a04ceb/details","https://viewer.us-3.sharpershape.services/viewer/issues/5ecf8c97a03e660001310abd/details","high","W12154087N3953287 WYANDOTTE 1105","[GrayPine, DouglasFir, TanOak]","GrayPine"]
[1582,"NORTHERN","NORTH VALLEY","Tier 0-1","102911105 Tier 0-1",102911105,"WYANDOTTE 1105",34.799999999999997,39.523139999999898,-121.515479999999,null,59.5,"W12151548N3952314",11.7,-5.6,"YES","W12151549N3952385","W12151562N3952310","W12151562N3952310-W12151549N3952385",102911105,"WYANDOTTE 1105",null,"2019-11-20T17:46:46",null,null,"Not assessed","https://viewer.us-3.sharpershape.services/viewer/assets/5ca5a2c6f6b4631737a04c04/details","https://viewer.us-3.sharpershape.services/viewer/issues/5ecf8c9534b60c00015ec086/details","high","W12151548N3952314 WYANDOTTE 1105","[Other, CoastalLiveOak, MontereyPine]","Other"]
[1583,"NORTHERN","NORTH VALLEY","Tier 2-3","102911105 Tier 2-3",102911105,"WYANDOTTE 1105",11.3,39.5328599999999,-121.539209999999,null,34.700000000000003,"W12153921N3953286",5.3,-1,"YES","W12153906N3953282","W12153944N3953282","W12153944N3953282-W12153906N3953282",102911105,"WYANDOTTE 1105",null,"2019-11-20T17:46:46",null,null,"Not assessed","https://viewer.us-3.sharpershape.services/viewer/assets/5ca5a2c6f6b463739ea04cfc/details","https://viewer.us-3.sharpershape.services/viewer/issues/5ecf8c9534b60c00015ec080/details","high","W12153921N3953286 WYANDOTTE 1105","[LiveOak, DouglasFir, CoastalLiveOak]","LiveOak"]
[1584,"NORTHERN","NORTH VALLEY","Tier 2-3","102911105 Tier 2-3",102911105,"WYANDOTTE 1105",24.6999999999999,39.532339999999898,-121.531509999999,null,72.799999999999898,"W12153151N3953234",10.199999999999999,-36,"YES","W12153205N3953245","W12153117N3953239","W12153117N3953239-W12153205N3953245",102911105,"WYANDOTTE 1105",null,"2019-11-20T17:46:46",null,null,"Not assessed","https://viewer.us-3.sharpershape.services/viewer/assets/5ca5a2c6f6b4636b14a051ca/details","https://viewer.us-3.sharpershape.services/viewer/issues/5ecf8c9734b60c00015ec174/details","high","W12153151N3953234 WYANDOTTE 1105","[Eucalyptus/BlueGum, DouglasFir, CoastalLiveOak]","Eucalyptus/BlueGum"]
[1585,"NORTHERN","NORTH VALLEY","Tier 2-3","102911105 Tier 2-3",102911105,"WYANDOTTE 1105",12.9,39.528770000000002,-121.535249999999,null,25.6,"W12153525N3952877",5.5,3.9,"NO","W12153422N3952882","W12153537N3952882","W12153537N3952882-W12153422N3952882",102911105,"WYANDOTTE 1105",null,"2019-11-20T17:46:46",null,null,"Not assessed","https://viewer.us-3.sharpershape.services/viewer/assets/5ca5a2c6f6b4638913a05099/details","https://viewer.us-3.sharpershape.services/viewer/issues/5ecf8c95a03e66000131095f/details","high","W12153525N3952877 WYANDOTTE 1105","[DouglasFir, LiveOak, Other]","DouglasFir"]
[1586,"NORTHERN","NORTH VALLEY","Tier 2-3","102911105 Tier 2-3",102911105,"WYANDOTTE 1105",32.5,39.531599999999997,-121.539729999999,null,68.400000000000006,"W12153973N3953160",17.399999999999999,-17.5,"YES","W12154021N3953134","W12153966N3953151","W12153966N3953151-W12154021N3953134",102911105,"WYANDOTTE 1105",null,"2019-11-20T17:46:46",null,null,"Not assessed","https://viewer.us-3.sharpershape.services/viewer/assets/5ca5a2c6f6b4638850a050f0/details","https://viewer.us-3.sharpershape.services/viewer/issues/5ecf8c9234b60c00015ebffc/details","high","W12153973N3953160 WYANDOTTE 1105","[DouglasFir, GrayPine, LiveOak]","DouglasFir"]
[1587,"NORTHERN","NORTH VALLEY","Tier 2-3","102911105 Tier 2-3",102911105,"WYANDOTTE 1105",19.3,39.526449999999897,-121.535429999999,null,31.8,"W12153543N3952645",6.2,7.4,"NO","W12153535N3952637","W12153536N3952706","W12153536N3952706-W12153535N3952637",102911105,"WYANDOTTE 1105",null,"2019-11-20T17:46:46",null,null,"Not assessed","https://viewer.us-3.sharpershape.services/viewer/assets/5e7a18565dcbeb387a17baf6/details","https://viewer.us-3.sharpershape.services/viewer/issues/5ecf8c9934b60c00015ec38e/details","high","W12153543N3952645 WYANDOTTE 1105","[CoastalLiveOak, Eucalyptus/BlueGum, DouglasFir]","CoastalLiveOak"]
[1588,"NORTHERN","NORTH VALLEY","Tier 2-3","102911105 Tier 2-3",102911105,"WYANDOTTE 1105",62.399999999999899,39.538719999999898,-121.54231,null,80.799999999999898,"W12154231N3953872",44.899999999999899,-16.399999999999899,"YES","W12154252N3953857","W12154263N3953924","W12154263N3953924-W12154252N3953857",102911105,"WYANDOTTE 1105",null,"2019-11-20T17:46:46",null,null,"Not assessed","https://viewer.us-3.sharpershape.services/viewer/assets/5ca5a2c6f6b463b563a04ed9/details","https://viewer.us-3.sharpershape.services/viewer/issues/5ecf8c9334b60c00015ec02e/details","high","W12154231N3953872 WYANDOTTE 1105","[DouglasFir, GrayPine, Other]","DouglasFir"]
[1589,"NORTHERN","NORTH VALLEY","Tier 2-3","102911105 Tier 2-3",102911105,"WYANDOTTE 1105",10.7,39.532539999999898,-121.540729999999,null,26.1,"W12154073N3953254",9.5,9.4,"NO","W12154073N3953285","W12154086N3953214","W12154086N3953214-W12154073N3953285",102911105,"WYANDOTTE 1105",null,"2019-11-20T17:46:46",null,null,"Not assessed","https://viewer.us-3.sharpershape.services/viewer/assets/5ca5a2c6f6b4635017a04ad1/details","https://viewer.us-3.sharpershape.services/viewer/issues/5ecf8c96a03e6600013109c7/details","high","W12154073N3953254 WYANDOTTE 1105","[DouglasFir, Other, CoastalLiveOak]","DouglasFir"]
[1590,"NORTHERN","NORTH VALLEY","Tier 2-3","102911105 Tier 2-3",102911105,"WYANDOTTE 1105",12.7,39.5289,-121.5266,null,29,"W12152660N3952890",7,4.9000000000000004,"NO","W12152596N3952916","W12152680N3952875","W12152680N3952875-W12152596N3952916",102911105,"WYANDOTTE 1105",null,"2019-11-20T17:46:46",null,null,"Not assessed","https://viewer.us-3.sharpershape.services/viewer/assets/5ca5a2c6f6b463c0bba05089/details","https://viewer.us-3.sharpershape.services/viewer/issues/5ecf8c96a03e660001310a0f/details","high","W12152660N3952890 WYANDOTTE 1105","[MontereyPine, LiveOak, DouglasFir]","MontereyPine"]
[1591,"NORTHERN","NORTH VALLEY","Tier 2-3","102911105 Tier 2-3",102911105,"WYANDOTTE 1105",40.200000000000003,39.530349999999899,-121.520089999999,null,48.3,"W12152009N3953035",28.4,5.2,"NO","W12151923N3953089","W12152005N3953021","W12152005N3953021-W12151923N3953089",102911105,"WYANDOTTE 1105",null,"2019-11-20T17:46:46",null,null,"Not assessed","https://viewer.us-3.sharpershape.services/viewer/assets/5ca5a2c6f6b46307baa0515f/details","https://viewer.us-3.sharpershape.services/viewer/issues/5ecf8c93a03e6600013108b9/details","high","W12152009N3953035 WYANDOTTE 1105","[GrayPine, Other, ValleyOak]","GrayPine"]
[1592,"NORTHERN","NORTH VALLEY","Tier 2-3","102911105 Tier 2-3",102911105,"WYANDOTTE 1105",4.5999999999999996,39.538309999999903,-121.542479999999,null,14.8,"W12154248N3953831",9.4,7.5,"NO","W12154252N3953857","W12154250N3953758","W12154250N3953758-W12154252N3953857",102911105,"WYANDOTTE 1105",null,"2019-11-20T17:46:46",null,null,"Not assessed","https://viewer.us-3.sharpershape.services/viewer/assets/5ca5a2c6f6b463b67da04e4c/details","https://viewer.us-3.sharpershape.services/viewer/issues/5ecf8c97a03e660001310a41/details","high","W12154248N3953831 WYANDOTTE 1105","[LiveOak, DouglasFir, MontereyPine]","LiveOak"]
[1593,"NORTHERN","NORTH VALLEY","Tier 2-3","102911105 Tier 2-3",102911105,"WYANDOTTE 1105",66,39.529229999999899,-121.53109000000001,null,65.299999999999898,"W12153109N3952923",43.6,8.1,"NO","W12153130N3952973","W12153133N3952927","W12153133N3952927-W12153130N3952973",102911105,"WYANDOTTE 1105",null,"2019-11-20T17:46:46",null,null,"Not assessed","https://viewer.us-3.sharpershape.services/viewer/assets/5ca5a2c6f6b463b19aa050cd/details","https://viewer.us-3.sharpershape.services/viewer/issues/5ecf8c97a03e660001310adc/details","high","W12153109N3952923 WYANDOTTE 1105","[GrayPine, DouglasFir, Other]","GrayPine"]
[1594,"NORTHERN","NORTH VALLEY","Tier 2-3","102911105 Tier 2-3",102911105,"WYANDOTTE 1105",1.6,39.5296799999999,-121.526039999999,null,21.6,"W12152604N3952968",7.9,8.5,"NO","W12152596N3952916","W12152603N3952974","W12152603N3952974-W12152596N3952916",102911105,"WYANDOTTE 1105",null,"2019-11-20T17:46:46",null,null,"Not assessed","https://viewer.us-3.sharpershape.services/viewer/assets/5ca5a2c6f6b463c9e0a0514e/details","https://viewer.us-3.sharpershape.services/viewer/issues/5ecf8c9734b60c00015ec18e/details","high","W12152604N3952968 WYANDOTTE 1105","[DouglasFir, Other, LiveOak]","DouglasFir"]
[1595,"NORTHERN","NORTH VALLEY","Tier 2-3","102911105 Tier 2-3",102911105,"WYANDOTTE 1105",8.1999999999999904,39.5399099999999,-121.542559999999,null,98.799999999999898,"W12154256N3953991",12,-69.299999999999898,"YES","W12154258N3954066","W12154261N3953987","W12154261N3953987-W12154258N3954066",102911105,"WYANDOTTE 1105",null,"2019-11-20T17:46:46","OH",null,"Not assessed","https://viewer.us-3.sharpershape.services/viewer/assets/5ca5a2c6f6b463dd95a04ecd/details","https://viewer.us-3.sharpershape.services/viewer/issues/5ecf8c97a03e660001310ac2/details","high","W12154256N3953991 WYANDOTTE 1105","[Other, GrayPine, CoastalLiveOak]","Other"]
[1596,"NORTHERN","NORTH VALLEY","Tier 2-3","102911105 Tier 2-3",102911105,"WYANDOTTE 1105",55.2,39.529339999999898,-121.519919999999,null,73.599999999999994,"W12151992N3952934",44.399999999999899,-6.9,"YES","W12151936N3952926","W12152014N3952914","W12152014N3952914-W12151936N3952926",102911105,"WYANDOTTE 1105",null,"2019-11-20T17:46:46",null,null,"Not assessed","https://viewer.us-3.sharpershape.services/viewer/assets/5ca5a2c6f6b4634b73a04f6f/details","https://viewer.us-3.sharpershape.services/viewer/issues/5ecf8c96a03e660001310a02/details","high","W12151992N3952934 WYANDOTTE 1105","[CoastalLiveOak, GrayPine, Other]","CoastalLiveOak"]
[1597,"NORTHERN","NORTH VALLEY","Tier 2-3","102911105 Tier 2-3",102911105,"WYANDOTTE 1105",21.1999999999999,39.527270000000001,-121.528859999999,null,40.799999999999997,"W12152886N3952727",6.1,-2.6,"YES","W12152800N3952774","W12152907N3952726","W12152907N3952726-W12152800N3952774",102911105,"WYANDOTTE 1105",null,"2019-11-20T17:46:46",null,null,"Not assessed","https://viewer.us-3.sharpershape.services/viewer/assets/5ca5a2c6f6b4634630a04e8d/details","https://viewer.us-3.sharpershape.services/viewer/issues/5ecf8c97a03e660001310af0/details","high","W12152886N3952727 WYANDOTTE 1105","[Other, DouglasFir, TanOak]","Other"]
[1598,"NORTHERN","NORTH VALLEY","Tier 2-3","102911105 Tier 2-3",102911105,"WYANDOTTE 1105",11.7,39.529979999999902,-121.520859999999,null,23.6,"W12152086N3952998",10,6.4,"NO","W12152091N3952965","W12152091N3953014","W12152091N3953014-W12152091N3952965",102911105,"WYANDOTTE 1105",null,"2019-11-20T17:46:46",null,null,"Not assessed","https://viewer.us-3.sharpershape.services/viewer/assets/5ca5a2c6f6b46337e8a04a3f/details","https://viewer.us-3.sharpershape.services/viewer/issues/5ecf8c9734b60c00015ec187/details","high","W12152086N3952998 WYANDOTTE 1105","[TanOak, Other, MontereyPine]","TanOak"]
[1599,"NORTHERN","NORTH VALLEY","Tier 2-3","102911105 Tier 2-3",102911105,"WYANDOTTE 1105",0.4,39.526319999999899,-121.535339999999,null,33.899999999999899,"W12153534N3952632",5.5,5.9,"NO","W12153535N3952637","W12153536N3952706","W12153536N3952706-W12153535N3952637",102911105,"WYANDOTTE 1105",null,"2019-11-20T17:46:46",null,null,"Not assessed","https://viewer.us-3.sharpershape.services/viewer/assets/5e7a18565dcbeb387a17baf6/details","https://viewer.us-3.sharpershape.services/viewer/issues/5ecf8eea34b60c00015eca54/details","high","W12153534N3952632 WYANDOTTE 1105","[Other, DouglasFir, CoastalLiveOak]","Other"]
[1600,"NORTHERN","NORTH VALLEY","Tier 2-3","102911105 Tier 2-3",102911105,"WYANDOTTE 1105",44.3,39.534590000000001,-121.54196,null,75.7,"W12154196N3953459",27.1,-24.8,"YES","W12154214N3953455","W12154179N3953424","W12154179N3953424-W12154214N3953455",102911105,"WYANDOTTE 1105",null,"2019-11-20T17:46:46",null,null,"Not assessed","https://viewer.us-3.sharpershape.services/viewer/assets/5ca5a2c6f6b4634756a04ae5/details","https://viewer.us-3.sharpershape.services/viewer/issues/5ecf8c9534b60c00015ec099/details","high","W12154196N3953459 WYANDOTTE 1105","[DouglasFir, Other, LiveOak]","DouglasFir"]
[1601,"NORTHERN","NORTH VALLEY","Tier 2-3","102911105 Tier 2-3",102911105,"WYANDOTTE 1105",31,39.5323899999999,-121.535969999999,null,28.8,"W12153597N3953239",18.399999999999999,9.5,"NO","W12153557N3953230","W12153644N3953230","W12153644N3953230-W12153557N3953230",102911105,"WYANDOTTE 1105",null,"2019-11-20T17:46:46",null,null,"Not assessed","https://viewer.us-3.sharpershape.services/viewer/assets/5ca5a2c6f6b4630717a04d92/details","https://viewer.us-3.sharpershape.services/viewer/issues/5ecf8c97a03e660001310ad6/details","high","W12153597N3953239 WYANDOTTE 1105","[Other, LiveOak, DouglasFir]","Other"]
[1602,"NORTHERN","NORTH VALLEY","Tier 2-3","102911105 Tier 2-3",102911105,"WYANDOTTE 1105",86.4,39.536209999999897,-121.54223,null,87.7,"W12154223N3953621",72.400000000000006,-0.8,"YES","W12154253N3953660","W12154256N3953592","W12154256N3953592-W12154253N3953660",102911105,"WYANDOTTE 1105",null,"2019-11-20T17:46:46",null,null,"Not assessed","https://viewer.us-3.sharpershape.services/viewer/assets/5ca5a2c6f6b4630e63a05050/details","https://viewer.us-3.sharpershape.services/viewer/issues/5ecf8c9834b60c00015ec24b/details","high","W12154223N3953621 WYANDOTTE 1105","[Other, DouglasFir, GrayPine]","Other"]
[1603,"NORTHERN","NORTH VALLEY","Tier 0-1","102911105 Tier 0-1",102911105,"WYANDOTTE 1105",9.8000000000000007,39.523879999999899,-121.515569999999,null,28.6,"W12151557N3952388",11.5,21.3,"NO","W12151594N3952384","W12151549N3952385","W12151549N3952385-W12151594N3952384",102911105,"WYANDOTTE 1105",null,"2019-11-20T17:46:46",null,null,"Not assessed","https://viewer.us-3.sharpershape.services/viewer/assets/5ca5a2c6f6b46350b6a05139/details","https://viewer.us-3.sharpershape.services/viewer/issues/5ecf8d94a03e660001310f1d/details","high","W12151557N3952388 WYANDOTTE 1105","[MontereyPine, Other, DouglasFir]","MontereyPine"]
[1604,"NORTHERN","NORTH VALLEY","Tier 2-3","102911105 Tier 2-3",102911105,"WYANDOTTE 1105",22.4,39.529779999999903,-121.52297,null,29.1999999999999,"W12152297N3952978",8.1,20.100000000000001,"NO","W12152284N3952992","W12152351N3952966","W12152351N3952966-W12152284N3952992",102911105,"WYANDOTTE 1105",null,"2019-11-20T17:46:46",null,null,"Not assessed","https://viewer.us-3.sharpershape.services/viewer/assets/5ca5a2c6f6b4635ce1a0510b/details","https://viewer.us-3.sharpershape.services/viewer/issues/5ee2b959a03e66000146e49e/details","high","W12152297N3952978 WYANDOTTE 1105","[GrayPine, TanOak, ValleyOak]","GrayPine"]
[1605,"NORTHERN","NORTH VALLEY","Tier 0-1","102911105 Tier 0-1",102911105,"WYANDOTTE 1105",22.4,39.523829999999897,-121.515219999999,null,44.7,"W12151522N3952383",12,-4.3,"YES","W12151549N3952385","W12151473N3952396","W12151473N3952396-W12151549N3952385",102911105,"WYANDOTTE 1105",null,"2019-11-20T17:46:46",null,null,"Not assessed","https://viewer.us-3.sharpershape.services/viewer/assets/5ca5a2c6f6b46317dfa04ac8/details","https://viewer.us-3.sharpershape.services/viewer/issues/5ecf8c90a03e6600013107f4/details","high","W12151522N3952383 WYANDOTTE 1105","[DouglasFir, LiveOak, Other]","DouglasFir"]
[1606,"NORTHERN","NORTH VALLEY","Tier 2-3","102911105 Tier 2-3",102911105,"WYANDOTTE 1105",40.899999999999899,39.528929999999903,-121.52016,null,45.8,"W12152016N3952893",8.8000000000000007,7.2,"NO","W12152014N3952914","W12152053N3952877","W12152053N3952877-W12152014N3952914",102911105,"WYANDOTTE 1105",null,"2019-11-20T17:46:46",null,null,"Not assessed","https://viewer.us-3.sharpershape.services/viewer/assets/5ca5a2c6f6b463d0f3a04a55/details","https://viewer.us-3.sharpershape.services/viewer/issues/5ecf8c9734b60c00015ec201/details","high","W12152016N3952893 WYANDOTTE 1105","[GrayPine, Other, BlackOak]","GrayPine"]
[1607,"NORTHERN","NORTH VALLEY","Tier 2-3","102911105 Tier 2-3",102911105,"WYANDOTTE 1105",0.6,39.5400899999999,-121.542619999999,null,21.3,"W12154262N3954009",11.6,12.2,"NO","W12154258N3954066","W12154261N3953987","W12154261N3953987-W12154258N3954066",102911105,"WYANDOTTE 1105",null,"2019-11-20T17:46:46",null,null,"Not assessed","https://viewer.us-3.sharpershape.services/viewer/assets/5ca5a2c6f6b463dd95a04ecd/details","https://viewer.us-3.sharpershape.services/viewer/issues/5ecf8e8434b60c00015ec7d1/details","high","W12154262N3954009 WYANDOTTE 1105"]
[1608,"NORTHERN","NORTH VALLEY","Tier 0-1","102911105 Tier 0-1",102911105,"WYANDOTTE 1105",27.9,39.52299,-121.51237999999999,null,34.899999999999899,"W12151238N3952299",5.4,1.8,"NO","W12151282N3952292","W12151196N3952324","W12151196N3952324-W12151282N3952292",102911105,"WYANDOTTE 1105",null,"2019-11-20T17:46:46",null,null,"Not assessed","https://viewer.us-3.sharpershape.services/viewer/assets/5ca5a2c6f6b463e9a0a04bb9/details","https://viewer.us-3.sharpershape.services/viewer/issues/5ecf8c98a03e660001310ba7/details","high","W12151238N3952299 WYANDOTTE 1105","[DouglasFir, Other, GrayPine]","DouglasFir"]
[1609,"NORTHERN","NORTH VALLEY","Tier 2-3","102911105 Tier 2-3",102911105,"WYANDOTTE 1105",6.3,39.529200000000003,-121.53202,null,27.5,"W12153202N3952920",12,9.5,"NO","W12153206N3952881","W12153206N3952972","W12153206N3952972-W12153206N3952881",102911105,"WYANDOTTE 1105",null,"2019-11-20T17:46:46",null,null,"Not assessed","https://viewer.us-3.sharpershape.services/viewer/assets/5ca5a2c6f6b463a605a04c77/details","https://viewer.us-3.sharpershape.services/viewer/issues/5ecf8c9834b60c00015ec298/details","high","W12153202N3952920 WYANDOTTE 1105","[CoastalLiveOak, MontereyPine, DouglasFir]","CoastalLiveOak"]
[1610,"NORTHERN","NORTH VALLEY","Tier 2-3","102911105 Tier 2-3",102911105,"WYANDOTTE 1105",17.8,39.527079999999899,-121.53154000000001,null,31.6,"W12153154N3952708",8.6999999999999993,5,"NO","W12153152N3952699","W12153200N3952739","W12153200N3952739-W12153152N3952699",102911105,"WYANDOTTE 1105",null,"2019-11-20T17:46:46",null,null,"Not assessed","https://viewer.us-3.sharpershape.services/viewer/assets/5ca5a2c6f6b46337eda04c68/details","https://viewer.us-3.sharpershape.services/viewer/issues/5ecf8c9034b60c00015ebfd7/details","high","W12153154N3952708 WYANDOTTE 1105","[GrayPine, ValleyOak, CoastalLiveOak]","GrayPine"]
[1611,"NORTHERN","NORTH VALLEY","Tier 2-3","102911105 Tier 2-3",102911105,"WYANDOTTE 1105",0.7,39.521999999999899,-121.53851,null,20.9,"W12153851N3952200",3.3,4,"NO","W12153812N3952205","W12153891N3952195","W12153891N3952195-W12153812N3952205",102911105,"WYANDOTTE 1105",null,"2019-11-20T17:46:46",null,null,"Not assessed","https://viewer.us-3.sharpershape.services/viewer/assets/5ca5a2c6f6b463d5b0a04bae/details","https://viewer.us-3.sharpershape.services/viewer/issues/5ecf9557a03e660001311f8e/details","high","W12153851N3952200 WYANDOTTE 1105","[GrayPine, DouglasFir, Other]","GrayPine"]
[1612,"NORTHERN","NORTH VALLEY","Tier 0-1","102911105 Tier 0-1",102911105,"WYANDOTTE 1105",0.6,39.52543,-121.535089999999,null,32.299999999999898,"W12153509N3952543",3.8,4.4000000000000004,"NO","W12153537N3952537","W12153462N3952554","W12153462N3952554-W12153537N3952537",102911105,"WYANDOTTE 1105",null,"2019-11-20T17:46:46",null,null,"Not assessed","https://viewer.us-3.sharpershape.services/viewer/assets/5ca5a2c6f6b463381fa049b8/details","https://viewer.us-3.sharpershape.services/viewer/issues/5ecf8f0a34b60c00015ecb1a/details","high","W12153509N3952543 WYANDOTTE 1105","[Other, DouglasFir, GrayPine]","Other"]
[1613,"NORTHERN","NORTH VALLEY","Tier 2-3","102911105 Tier 2-3",102911105,"WYANDOTTE 1105",40.399999999999899,39.53689,-121.54237000000001,null,79.7,"W12154237N3953689",24.6999999999999,-39.1,"YES","W12154253N3953660","W12154250N3953758","W12154250N3953758-W12154253N3953660",102911105,"WYANDOTTE 1105",null,"2019-11-20T17:46:46",null,null,"Not assessed","https://viewer.us-3.sharpershape.services/viewer/assets/5ca5a2c6f6b4637989a05102/details","https://viewer.us-3.sharpershape.services/viewer/issues/5ecf8c9734b60c00015ec1b3/details","high","W12154237N3953689 WYANDOTTE 1105","[Other, LiveOak, DouglasFir]","Other"]
[1614,"NORTHERN","NORTH VALLEY","Tier 2-3","102911105 Tier 2-3",102911105,"WYANDOTTE 1105",27.1,39.5279799999999,-121.532319999999,null,61.7,"W12153232N3952798",5.2,-27.1,"YES","W12153270N3952789","W12153203N3952790","W12153203N3952790-W12153270N3952789",102911105,"WYANDOTTE 1105",null,"2019-11-20T17:46:46","OH",null,"Not assessed","https://viewer.us-3.sharpershape.services/viewer/assets/5ca5a2c6f6b4631fcca0508c/details","https://viewer.us-3.sharpershape.services/viewer/issues/5ecf8c9934b60c00015ec2e7/details","high","W12153232N3952798 WYANDOTTE 1105","[GrayPine, Other, ValleyOak]","GrayPine"]
[1615,"NORTHERN","NORTH VALLEY","Tier 2-3","102911105 Tier 2-3",102911105,"WYANDOTTE 1105",18.1999999999999,39.658139999999896,-121.505489999999,null,28.8,"W12150549N3965814",12,4.0999999999999996,"NO","W12150545N3965863","W12150561N3965801","W12150561N3965801-W12150545N3965863",102911105,"WYANDOTTE 1105",null,"2019-11-20T17:46:46",null,null,"Not assessed","https://viewer.us-3.sharpershape.services/viewer/assets/5da559b2c545ca4e5107fbeb/details","https://viewer.us-3.sharpershape.services/viewer/issues/5ecf8c9aa03e660001310c62/details","high","W12150549N3965814 WYANDOTTE 1105","[TanOak, GrayPine, LiveOak]","TanOak"]
[1616,"NORTHERN","NORTH VALLEY","Tier 2-3","102911105 Tier 2-3",102911105,"WYANDOTTE 1105",62.399999999999899,39.527809999999903,-121.535579999999,null,68.5,"W12153558N3952781",49.7,0.9,"NO","W12153535N3952774","W12153534N3952830","W12153534N3952830-W12153535N3952774",102911105,"WYANDOTTE 1105",null,"2019-11-20T17:46:46",null,null,"Not assessed","https://viewer.us-3.sharpershape.services/viewer/assets/5ca5a2c6f6b463c1eea04ac0/details","https://viewer.us-3.sharpershape.services/viewer/issues/5ecf8c96a03e66000131098a/details","high","W12153558N3952781 WYANDOTTE 1105","[DouglasFir, Eucalyptus/BlueGum, GrayPine]","DouglasFir"]
[1617,"NORTHERN","NORTH VALLEY","Tier 2-3","102911105 Tier 2-3",102911105,"WYANDOTTE 1105",28.6,39.532289999999897,-121.525939999999,null,21.3,"W12152594N3953229",11.5,23.5,"NO","W12152606N3953202","W12152605N3953235","W12152605N3953235-W12152606N3953202",102911105,"WYANDOTTE 1105",null,"2019-11-20T17:46:46",null,null,"Not assessed","https://viewer.us-3.sharpershape.services/viewer/assets/5ca5a2c6f6b4631991a04dcc/details","https://viewer.us-3.sharpershape.services/viewer/issues/5ecfe7b3a03e660001334096/details","high","W12152594N3953229 WYANDOTTE 1105","[ValleyOak, GrayPine, MontereyPine]","ValleyOak"]
[1618,"NORTHERN","NORTH VALLEY","Tier 2-3","102911105 Tier 2-3",102911105,"WYANDOTTE 1105",15.3,39.52843,-121.514189999999,null,30.6999999999999,"W12151419N3952843",10.5,3.7,"NO","W12151441N3952799","W12151401N3952860","W12151401N3952860-W12151441N3952799",102911105,"WYANDOTTE 1105",null,"2019-11-20T17:46:46",null,null,"Not assessed","https://viewer.us-3.sharpershape.services/viewer/assets/5ca5a2c6f6b463bdf4a04f50/details","https://viewer.us-3.sharpershape.services/viewer/issues/5ecf8c9534b60c00015ec0dc/details","high","W12151419N3952843 WYANDOTTE 1105","[Eucalyptus/BlueGum, Other, DouglasFir]","Eucalyptus/BlueGum"]
[1619,"NORTHERN","NORTH VALLEY","Tier 2-3","102911105 Tier 2-3",102911105,"WYANDOTTE 1105",40.1,39.522100000000002,-121.538679999999,null,23.8,"W12153868N3952210",11.1,23.1,"NO","W12153812N3952205","W12153891N3952195","W12153891N3952195-W12153812N3952205",102911105,"WYANDOTTE 1105",null,"2019-11-20T17:46:46",null,null,"Not assessed","https://viewer.us-3.sharpershape.services/viewer/assets/5ca5a2c6f6b463d5b0a04bae/details","https://viewer.us-3.sharpershape.services/viewer/issues/5ecf9557a03e660001311fa8/details","high","W12153868N3952210 WYANDOTTE 1105","[Other, GrayPine, TanOak]","Other"]
[1620,"NORTHERN","NORTH VALLEY","Tier 2-3","102911105 Tier 2-3",102911105,"WYANDOTTE 1105",4.2,39.5326799999999,-121.540779999999,null,25.8,"W12154078N3953268",4.8,4.8,"NO","W12154073N3953285","W12154086N3953214","W12154086N3953214-W12154073N3953285",102911105,"WYANDOTTE 1105",null,"2019-11-20T17:46:46",null,null,"Not assessed","https://viewer.us-3.sharpershape.services/viewer/assets/5ca5a2c6f6b4635017a04ad1/details","https://viewer.us-3.sharpershape.services/viewer/issues/5ecf8c96a03e6600013109c0/details","high","W12154078N3953268 WYANDOTTE 1105","[MontereyPine, DouglasFir, CoastalLiveOak]","MontereyPine"]
[1621,"NORTHERN","NORTH VALLEY","Tier 2-3","102911105 Tier 2-3",102911105,"WYANDOTTE 1105",26.1,39.541049999999899,-121.54236,null,16.100000000000001,"W12154236N3954105",11.5,23.5,"NO","W12154206N3954186","W12154249N3954102","W12154249N3954102-W12154206N3954186",102911105,"WYANDOTTE 1105",null,"2019-11-20T17:46:46",null,null,"Not assessed","https://viewer.us-3.sharpershape.services/viewer/assets/5ca5a2c6f6b4631d52a04cea/details","https://viewer.us-3.sharpershape.services/viewer/issues/5ecf954134b60c00015ed714/details","high","W12154236N3954105 WYANDOTTE 1105","[Other, MontereyPine, LiveOak]","Other"]
[1622,"NORTHERN","NORTH VALLEY","Tier 2-3","102911105 Tier 2-3",102911105,"WYANDOTTE 1105",59.7,39.536670000000001,-121.54231,null,58.7,"W12154231N3953667",37.5,2.2000000000000002,"NO","W12154253N3953660","W12154250N3953758","W12154250N3953758-W12154253N3953660",102911105,"WYANDOTTE 1105",null,"2019-11-20T17:46:46",null,null,"Not assessed","https://viewer.us-3.sharpershape.services/viewer/assets/5ca5a2c6f6b4637989a05102/details","https://viewer.us-3.sharpershape.services/viewer/issues/5ecf8c9734b60c00015ec1be/details","high","W12154231N3953667 WYANDOTTE 1105","[GrayPine, DouglasFir, MontereyPine]","GrayPine"]
[1623,"NORTHERN","NORTH VALLEY","Tier 2-3","102911105 Tier 2-3",102911105,"WYANDOTTE 1105",15.2,39.530659999999898,-121.52597,null,45.899999999999899,"W12152597N3953066",5.3,-13.8,"YES","W12152603N3953064","W12152604N3953139","W12152604N3953139-W12152603N3953064",102911105,"WYANDOTTE 1105",null,"2019-11-20T17:46:46",null,null,"Not assessed","https://viewer.us-3.sharpershape.services/viewer/assets/5ca5a2c6f6b463f925a04ce0/details","https://viewer.us-3.sharpershape.services/viewer/issues/5ecf8c98a03e660001310bcc/details","high","W12152597N3953066 WYANDOTTE 1105","[Other, GrayPine, DouglasFir]","Other"]
[1624,"NORTHERN","NORTH VALLEY","Tier 2-3","102911105 Tier 2-3",102911105,"WYANDOTTE 1105",28.5,39.529640000000001,-121.5304,null,39.899999999999899,"W12153040N3952964",10.7,4.4000000000000004,"NO","W12152988N3952972","W12153068N3952972","W12153068N3952972-W12152988N3952972",102911105,"WYANDOTTE 1105",null,"2019-11-20T17:46:46",null,null,"Not assessed","https://viewer.us-3.sharpershape.services/viewer/assets/5d89b6cc55dd6b81633f2eff/details","https://viewer.us-3.sharpershape.services/viewer/issues/5ecf8c9934b60c00015ec343/details","high","W12153040N3952964 WYANDOTTE 1105","[MontereyPine, Other, CoastalLiveOak]","MontereyPine"]
[1625,"NORTHERN","NORTH VALLEY","Tier 2-3","102911105 Tier 2-3",102911105,"WYANDOTTE 1105",0.1,39.528399999999998,-121.532039999999,null,34,"W12153204N3952840",5.6,5.7,"NO","W12153205N3952846","W12153203N3952790","W12153203N3952790-W12153205N3952846",102911105,"WYANDOTTE 1105",null,"2019-11-20T17:46:46",null,null,"Not assessed","https://viewer.us-3.sharpershape.services/viewer/assets/5ca5a2c6f6b463f261a051d0/details","https://viewer.us-3.sharpershape.services/viewer/issues/5ecf8f21a03e66000131138a/details","high","W12153204N3952840 WYANDOTTE 1105","[DouglasFir, LiveOak, Other]","DouglasFir"]
[1626,"NORTHERN","NORTH VALLEY","Tier 2-3","102911105 Tier 2-3",102911105,"WYANDOTTE 1105",6.7,39.529429999999898,-121.51944,null,30,"W12151944N3952943",7.5,3.6,"NO","W12151936N3952926","W12152005N3953021","W12152005N3953021-W12151936N3952926",102911105,"WYANDOTTE 1105",null,"2019-11-20T17:46:46",null,null,"Not assessed","https://viewer.us-3.sharpershape.services/viewer/assets/5ca5a2c6f6b463d94da04bdf/details","https://viewer.us-3.sharpershape.services/viewer/issues/5ecf8c9834b60c00015ec2aa/details","high","W12151944N3952943 WYANDOTTE 1105","[GrayPine, TanOak, Other]","GrayPine"]
[1627,"NORTHERN","NORTH VALLEY","Tier 2-3","102911105 Tier 2-3",102911105,"WYANDOTTE 1105",0.2,39.532449999999898,-121.53838,null,16.1999999999999,"W12153838N3953245",12,7.9,"NO","W12153905N3953243","W12153810N3953244","W12153810N3953244-W12153905N3953243",102911105,"WYANDOTTE 1105",null,"2019-11-20T17:46:46",null,null,"Not assessed","https://viewer.us-3.sharpershape.services/viewer/assets/5ca5a2c6f6b46300cca04f1d/details","https://viewer.us-3.sharpershape.services/viewer/issues/5ecf8c93a03e6600013108b1/details","high","W12153838N3953245 WYANDOTTE 1105","[DouglasFir, GrayPine, TanOak]","DouglasFir"]
[1628,"NORTHERN","NORTH VALLEY","Tier 2-3","102911105 Tier 2-3",102911105,"WYANDOTTE 1105",37.1,39.534880000000001,-121.542079999999,null,37.1,"W12154208N3953488",15.1,5.7,"NO","W12154214N3953455","W12154230N3953520","W12154230N3953520-W12154214N3953455",102911105,"WYANDOTTE 1105",null,"2019-11-20T17:46:46",null,null,"Not assessed","https://viewer.us-3.sharpershape.services/viewer/assets/5ca5a2c6f6b4638e61a05162/details","https://viewer.us-3.sharpershape.services/viewer/issues/5ecf8c9534b60c00015ec0ab/details","high","W12154208N3953488 WYANDOTTE 1105","[DouglasFir, Other, LiveOak]","DouglasFir"]
[1629,"NORTHERN","NORTH VALLEY","Tier 2-3","102911105 Tier 2-3",102911105,"WYANDOTTE 1105",0.2,39.526849999999897,-121.531759999999,null,23.9,"W12153176N3952685",11.8,12,"NO","W12153152N3952699","W12153224N3952655","W12153224N3952655-W12153152N3952699",102911105,"WYANDOTTE 1105",null,"2019-11-20T17:46:46",null,null,"Not assessed","https://viewer.us-3.sharpershape.services/viewer/assets/5ca5a2c6f6b46367dca04ab1/details","https://viewer.us-3.sharpershape.services/viewer/issues/5ecf955934b60c00015ed7fa/details","high","W12153176N3952685 WYANDOTTE 1105","[GrayPine, TanOak, DouglasFir]","GrayPine"]
[1630,"NORTHERN","NORTH VALLEY","Tier 2-3","102911105 Tier 2-3",102911105,"WYANDOTTE 1105",0.2,39.531549999999903,-121.53154000000001,null,19.600000000000001,"W12153154N3953155",8.9,8.5,"NO","W12153206N3953153","W12153147N3953155","W12153147N3953155-W12153206N3953153",102911105,"WYANDOTTE 1105",null,"2019-11-20T17:46:46",null,null,"Not assessed","https://viewer.us-3.sharpershape.services/viewer/assets/5ca5a2c6f6b4635ba4a04c32/details","https://viewer.us-3.sharpershape.services/viewer/issues/5ecf8c96a03e660001310998/details","high","W12153154N3953155 WYANDOTTE 1105","[GrayPine, DouglasFir, ValleyOak]","GrayPine"]
[1631,"NORTHERN","NORTH VALLEY","Tier 2-3","102911105 Tier 2-3",102911105,"WYANDOTTE 1105",8.6999999999999993,39.53051,-121.5331,null,26.6,"W12153310N3953051",11.1,8.9,"NO","W12153323N3953048","W12153269N3953048","W12153269N3953048-W12153323N3953048",102911105,"WYANDOTTE 1105",null,"2019-11-20T17:46:46",null,null,"Not assessed","https://viewer.us-3.sharpershape.services/viewer/assets/5ca5a2c6f6b4636013a051bf/details","https://viewer.us-3.sharpershape.services/viewer/issues/5ecf8c9834b60c00015ec288/details","high","W12153310N3953051 WYANDOTTE 1105"]
[1632,"NORTHERN","NORTH VALLEY","Tier 0-1","102911105 Tier 0-1",102911105,"WYANDOTTE 1105",2.8,39.525390000000002,-121.53305,null,28.5,"W12153305N3952539",6.6,6.6,"NO","W12153312N3952549","W12153279N3952515","W12153279N3952515-W12153312N3952549",102911105,"WYANDOTTE 1105",null,"2019-11-20T17:46:46",null,null,"Not assessed","https://viewer.us-3.sharpershape.services/viewer/assets/5ca5a2c6f6b463ab92a051ae/details","https://viewer.us-3.sharpershape.services/viewer/issues/5ecf8c9534b60c00015ec0b5/details","high","W12153305N3952539 WYANDOTTE 1105","[DouglasFir, LiveOak, CoastalLiveOak]","DouglasFir"]
[1633,"NORTHERN","NORTH VALLEY","Tier 2-3","102911105 Tier 2-3",102911105,"WYANDOTTE 1105",21.5,39.531239999999897,-121.540869999999,null,44.399999999999899,"W12154087N3953124",11.2,-5.4,"YES","W12154086N3953214","W12154084N3953131","W12154084N3953131-W12154086N3953214",102911105,"WYANDOTTE 1105",null,"2019-11-20T17:46:46",null,null,"Not assessed","https://viewer.us-3.sharpershape.services/viewer/assets/5ca5a2c6f6b4630944a04ef1/details","https://viewer.us-3.sharpershape.services/viewer/issues/5ecf8c98a03e660001310b4a/details","high","W12154087N3953124 WYANDOTTE 1105","[GrayPine, Other, DouglasFir]","GrayPine"]
[1634,"NORTHERN","NORTH VALLEY","Tier 2-3","102911105 Tier 2-3",102911105,"WYANDOTTE 1105",43.1,39.530439999999899,-121.519549999999,null,52.399999999999899,"W12151955N3953044",21.1999999999999,-3.3,"YES","W12151923N3953089","W12152005N3953021","W12152005N3953021-W12151923N3953089",102911105,"WYANDOTTE 1105",null,"2019-11-20T17:46:46",null,null,"Not assessed","https://viewer.us-3.sharpershape.services/viewer/assets/5ca5a2c6f6b46307baa0515f/details","https://viewer.us-3.sharpershape.services/viewer/issues/5ecf8c93a03e6600013108c2/details","high","W12151955N3953044 WYANDOTTE 1105","[DouglasFir, CoastalLiveOak, Eucalyptus/BlueGum]","DouglasFir"]
[1635,"NORTHERN","NORTH VALLEY","Tier 2-3","102911105 Tier 2-3",102911105,"WYANDOTTE 1105",52.5,39.529899999999998,-121.520719999999,null,57.5,"W12152072N3952990",34.6,3.2,"NO","W12152091N3952965","W12152091N3953014","W12152091N3953014-W12152091N3952965",102911105,"WYANDOTTE 1105",null,"2019-11-20T17:46:46",null,null,"Not assessed","https://viewer.us-3.sharpershape.services/viewer/assets/5ca5a2c6f6b46337e8a04a3f/details","https://viewer.us-3.sharpershape.services/viewer/issues/5ecf8c9734b60c00015ec184/details","high","W12152072N3952990 WYANDOTTE 1105","[GrayPine, Other, DouglasFir]","GrayPine"]
[1636,"NORTHERN","NORTH VALLEY","Tier 0-1","102911105 Tier 0-1",102911105,"WYANDOTTE 1105",35.6,39.525329999999897,-121.53506,null,30.1,"W12153506N3952533",9.9,21.9,"NO","W12153537N3952537","W12153462N3952554","W12153462N3952554-W12153537N3952537",102911105,"WYANDOTTE 1105",null,"2019-11-20T17:46:46",null,null,"Not assessed","https://viewer.us-3.sharpershape.services/viewer/assets/5ca5a2c6f6b463381fa049b8/details","https://viewer.us-3.sharpershape.services/viewer/issues/5ecf8f0a34b60c00015ecb2c/details","high","W12153506N3952533 WYANDOTTE 1105","[TanOak, Other, GrayPine]","TanOak"]
[1637,"NORTHERN","NORTH VALLEY","Tier 2-3","102911105 Tier 2-3",102911105,"WYANDOTTE 1105",34.1,39.5400899999999,-121.542469999999,null,66.900000000000006,"W12154247N3954009",16.8,-32.299999999999898,"YES","W12154258N3954066","W12154261N3953987","W12154261N3953987-W12154258N3954066",102911105,"WYANDOTTE 1105",null,"2019-11-20T17:46:46",null,null,"Not assessed","https://viewer.us-3.sharpershape.services/viewer/assets/5ca5a2c6f6b463dd95a04ecd/details","https://viewer.us-3.sharpershape.services/viewer/issues/5ecf8c97a03e660001310ac4/details","high","W12154247N3954009 WYANDOTTE 1105","[DouglasFir, Eucalyptus/BlueGum, GrayPine]","DouglasFir"]
[1638,"NORTHERN","NORTH VALLEY","Tier 2-3","102911105 Tier 2-3",102911105,"WYANDOTTE 1105",26.3,39.530900000000003,-121.531959999999,null,67,"W12153196N3953090",10.5,-28.6999999999999,"YES","W12153206N3953048","W12153207N3953097","W12153207N3953097-W12153206N3953048",102911105,"WYANDOTTE 1105",null,"2019-11-20T17:46:46","OH",null,"Not assessed","https://viewer.us-3.sharpershape.services/viewer/assets/5ca5a2c6f6b46317dca04964/details","https://viewer.us-3.sharpershape.services/viewer/issues/5ecf8c95a03e66000131093d/details","high","W12153196N3953090 WYANDOTTE 1105","[GrayPine, DouglasFir, ValleyOak]","GrayPine"]
[1639,"NORTHERN","NORTH VALLEY","Tier 2-3","102911105 Tier 2-3",102911105,"WYANDOTTE 1105",53.3,39.532260000000001,-121.53148,null,72.799999999999898,"W12153148N3953226",35.799999999999997,-12.9,"YES","W12153205N3953245","W12153117N3953239","W12153117N3953239-W12153205N3953245",102911105,"WYANDOTTE 1105",null,"2019-11-20T17:46:46",null,null,"Not assessed","https://viewer.us-3.sharpershape.services/viewer/assets/5ca5a2c6f6b4636b14a051ca/details","https://viewer.us-3.sharpershape.services/viewer/issues/5ecf8c9734b60c00015ec17d/details","high","W12153148N3953226 WYANDOTTE 1105","[DouglasFir, Eucalyptus/BlueGum, GrayPine]","DouglasFir"]
[1640,"NORTHERN","NORTH VALLEY","Tier 2-3","102911105 Tier 2-3",102911105,"WYANDOTTE 1105",68.900000000000006,39.539549999999899,-121.54236,null,64.2,"W12154236N3953955",51,5.7,"NO","W12154261N3953987","W12154263N3953924","W12154263N3953924-W12154261N3953987",102911105,"WYANDOTTE 1105",null,"2019-11-20T17:46:46",null,null,"Not assessed","https://viewer.us-3.sharpershape.services/viewer/assets/5ca5a2c6f6b4637988a04a3e/details","https://viewer.us-3.sharpershape.services/viewer/issues/5ecf8c93a03e66000131087a/details","high","W12154236N3953955 WYANDOTTE 1105","[DouglasFir, Other, GrayPine]","DouglasFir"]
[1641,"NORTHERN","NORTH VALLEY","Tier 2-3","102911105 Tier 2-3",102911105,"WYANDOTTE 1105",15,39.529029999999899,-121.535429999999,null,48.1,"W12153543N3952903",7.4,0.8,"NO","W12153537N3952882","W12153538N3952985","W12153538N3952985-W12153537N3952882",102911105,"WYANDOTTE 1105",null,"2019-11-20T17:46:46",null,null,"Not assessed","https://viewer.us-3.sharpershape.services/viewer/assets/5ca5a2c6f6b463441aa04ac2/details","https://viewer.us-3.sharpershape.services/viewer/issues/5ecf8c95a03e660001310907/details","high","W12153543N3952903 WYANDOTTE 1105","[GrayPine, MontereyPine, Other]","GrayPine"]
[1642,"NORTHERN","NORTH VALLEY","Tier 2-3","102911105 Tier 2-3",102911105,"WYANDOTTE 1105",12.4,39.5307999999999,-121.519419999999,null,22.9,"W12151942N3953080",10.3,22.3,"NO","W12151923N3953089","W12152005N3953021","W12152005N3953021-W12151923N3953089",102911105,"WYANDOTTE 1105",null,"2019-11-20T17:46:46",null,null,"Not assessed","https://viewer.us-3.sharpershape.services/viewer/assets/5ca5a2c6f6b46307baa0515f/details","https://viewer.us-3.sharpershape.services/viewer/issues/5ecf8ee3a03e66000131129e/details","high","W12151942N3953080 WYANDOTTE 1105","[GrayPine, ValleyOak, DouglasFir]","GrayPine"]
[1643,"NORTHERN","NORTH VALLEY","Tier 2-3","102911105 Tier 2-3",102911105,"WYANDOTTE 1105",40.799999999999997,39.52899,-121.5205,null,61.2,"W12152050N3952899",32.6,-8.9,"YES","W12152014N3952914","W12152053N3952877","W12152053N3952877-W12152014N3952914",102911105,"WYANDOTTE 1105",null,"2019-11-20T17:46:46",null,null,"Not assessed","https://viewer.us-3.sharpershape.services/viewer/assets/5ca5a2c6f6b463d0f3a04a55/details","https://viewer.us-3.sharpershape.services/viewer/issues/5ecf8c9734b60c00015ec1fe/details","high","W12152050N3952899 WYANDOTTE 1105","[GrayPine, ValleyOak, Other]","GrayPine"]
[1644,"NORTHERN","NORTH VALLEY","Tier 2-3","102911105 Tier 2-3",102911105,"WYANDOTTE 1105",65.2,39.5306199999999,-121.519229999999,null,70.099999999999994,"W12151923N3953062",56,-1.4,"YES","W12151923N3953089","W12152005N3953021","W12152005N3953021-W12151923N3953089",102911105,"WYANDOTTE 1105",null,"2019-11-20T17:46:46",null,null,"Not assessed","https://viewer.us-3.sharpershape.services/viewer/assets/5ca5a2c6f6b46307baa0515f/details","https://viewer.us-3.sharpershape.services/viewer/issues/5ecf8c93a03e6600013108c0/details","high","W12151923N3953062 WYANDOTTE 1105","[Eucalyptus/BlueGum, GrayPine, DouglasFir]","Eucalyptus/BlueGum"]
[1645,"NORTHERN","NORTH VALLEY","Tier 2-3","102911105 Tier 2-3",102911105,"WYANDOTTE 1105",9.1999999999999993,39.52993,-121.52258,null,25.5,"W12152258N3952993",6.9,5.8,"NO","W12152284N3952992","W12152184N3953012","W12152184N3953012-W12152284N3952992",102911105,"WYANDOTTE 1105",null,"2019-11-20T17:46:46",null,null,"Not assessed","https://viewer.us-3.sharpershape.services/viewer/assets/5ca5a2c6f6b4639636a0497c/details","https://viewer.us-3.sharpershape.services/viewer/issues/5ee2b4c2a03e66000146e44a/details","high","W12152258N3952993 WYANDOTTE 1105","[GrayPine, Other, DouglasFir]","GrayPine"]
[1646,"NORTHERN","NORTH VALLEY","Tier 2-3","102911105 Tier 2-3",102911105,"WYANDOTTE 1105",3.5,39.524319999999904,-121.5373,null,21.6999999999999,"W12153730N3952432",7.7,8.3000000000000007,"NO","W12153716N3952455","W12153751N3952386","W12153751N3952386-W12153716N3952455",102911105,"WYANDOTTE 1105",null,"2019-11-20T17:46:46",null,null,"Not assessed","https://viewer.us-3.sharpershape.services/viewer/assets/5ca5a2c6f6b46351f2a04ede/details","https://viewer.us-3.sharpershape.services/viewer/issues/5ecf8c9634b60c00015ec16c/details","high","W12153730N3952432 WYANDOTTE 1105","[CoastalLiveOak, Other, Eucalyptus/BlueGum]","CoastalLiveOak"]
[1647,"NORTHERN","NORTH VALLEY","Tier 2-3","102911105 Tier 2-3",102911105,"WYANDOTTE 1105",27.6999999999999,39.532739999999897,-121.531219999999,null,32.6,"W12153122N3953274",10.5,6.2,"NO","W12153205N3953285","W12153118N3953282","W12153118N3953282-W12153205N3953285",102911105,"WYANDOTTE 1105",null,"2019-11-20T17:46:46",null,null,"Not assessed","https://viewer.us-3.sharpershape.services/viewer/assets/5ca5a2c6f6b463490aa04d2f/details","https://viewer.us-3.sharpershape.services/viewer/issues/5ecf8c9534b60c00015ec0c7/details","high","W12153122N3953274 WYANDOTTE 1105","[Other, LiveOak, DouglasFir]","Other"]
[1648,"NORTHERN","NORTH VALLEY","Tier 2-3","102911105 Tier 2-3",102911105,"WYANDOTTE 1105",23.9,39.532409999999899,-121.540909999999,null,47.399999999999899,"W12154091N3953241",6.8,2.9,"NO","W12154073N3953285","W12154086N3953214","W12154086N3953214-W12154073N3953285",102911105,"WYANDOTTE 1105",null,"2019-11-20T17:46:46",null,null,"Not assessed","https://viewer.us-3.sharpershape.services/viewer/assets/5ca5a2c6f6b4635017a04ad1/details","https://viewer.us-3.sharpershape.services/viewer/issues/5ecf8c96a03e6600013109c4/details","high","W12154091N3953241 WYANDOTTE 1105","[TanOak, DouglasFir, Other]","TanOak"]
[1649,"NORTHERN","NORTH VALLEY","Tier 2-3","102911105 Tier 2-3",102911105,"WYANDOTTE 1105",44.1,39.535109999999897,-121.542109999999,null,39.399999999999899,"W12154211N3953511",25.4,8.8000000000000007,"NO","W12154214N3953455","W12154230N3953520","W12154230N3953520-W12154214N3953455",102911105,"WYANDOTTE 1105",null,"2019-11-20T17:46:46",null,null,"Not assessed","https://viewer.us-3.sharpershape.services/viewer/assets/5ca5a2c6f6b4638e61a05162/details","https://viewer.us-3.sharpershape.services/viewer/issues/5ecf8c9534b60c00015ec0ac/details","high","W12154211N3953511 WYANDOTTE 1105","[Eucalyptus/BlueGum, DouglasFir, GrayPine]","Eucalyptus/BlueGum"]
[1650,"NORTHERN","NORTH VALLEY","Tier 0-1","102911105 Tier 0-1",102911105,"WYANDOTTE 1105",8.6,39.523339999999898,-121.511669999999,null,40.200000000000003,"W12151167N3952334",5.2,-11.6,"YES","W12151196N3952324","W12151119N3952361","W12151119N3952361-W12151196N3952324",102911105,"WYANDOTTE 1105",null,"2019-11-20T17:46:46",null,null,"Not assessed","https://viewer.us-3.sharpershape.services/viewer/assets/5ca5a2c6f6b4638f7da04e40/details","https://viewer.us-3.sharpershape.services/viewer/issues/5ecf8c9634b60c00015ec112/details","high","W12151167N3952334 WYANDOTTE 1105","[GrayPine, DouglasFir, ValleyOak]","GrayPine"]
[1651,"NORTHERN","NORTH VALLEY","Tier 0-1","102911105 Tier 0-1",102911105,"WYANDOTTE 1105",37.1,39.52552,-121.534019999999,null,39.399999999999899,"W12153402N3952552",19.899999999999999,8.9,"NO","W12153390N3952564","W12153462N3952554","W12153462N3952554-W12153390N3952564",102911105,"WYANDOTTE 1105",null,"2019-11-20T17:46:46",null,null,"Not assessed","https://viewer.us-3.sharpershape.services/viewer/assets/5ca5a2c6f6b463cfd6a04cce/details","https://viewer.us-3.sharpershape.services/viewer/issues/5ecf8c9834b60c00015ec275/details","high","W12153402N3952552 WYANDOTTE 1105","[CoastalLiveOak, Other, DouglasFir]","CoastalLiveOak"]
[1652,"NORTHERN","NORTH VALLEY","Tier 2-3","102911105 Tier 2-3",102911105,"WYANDOTTE 1105",13.9,39.5297699999999,-121.532569999999,null,39.299999999999997,"W12153257N3952977",6.2,-6.5,"YES","W12153206N3952972","W12153284N3952973","W12153284N3952973-W12153206N3952972",102911105,"WYANDOTTE 1105",null,"2019-11-20T17:46:46","OH",null,"Not assessed","https://viewer.us-3.sharpershape.services/viewer/assets/5ca5a2c6f6b4630785a04d19/details","https://viewer.us-3.sharpershape.services/viewer/issues/5ecf8c98a03e660001310b8b/details","high","W12153257N3952977 WYANDOTTE 1105","[CoastalLiveOak, Other, MontereyPine]","CoastalLiveOak"]
[1653,"NORTHERN","NORTH VALLEY","Tier 2-3","102911105 Tier 2-3",102911105,"WYANDOTTE 1105",63.7,39.530809999999903,-121.53557000000001,null,70.099999999999994,"W12153557N3953081",48.8,1.6,"NO","W12153538N3953063","W12153655N3953063","W12153655N3953063-W12153538N3953063",102911105,"WYANDOTTE 1105",null,"2019-11-20T17:46:46",null,null,"Not assessed","https://viewer.us-3.sharpershape.services/viewer/assets/5ca5a2c6f6b4638037a04ab3/details","https://viewer.us-3.sharpershape.services/viewer/issues/5ecf8c95a03e66000131092d/details","high","W12153557N3953081 WYANDOTTE 1105","[GrayPine, LiveOak, DouglasFir]","GrayPine"]
[1654,"NORTHERN","NORTH VALLEY","Tier 2-3","102911105 Tier 2-3",102911105,"WYANDOTTE 1105",25.8,39.672509999999903,-121.49742000000001,null,33.5,"W12149742N3967251",18.1999999999999,5.9,"NO","W12149658N3967347","W12149755N3967217","W12149755N3967217-W12149658N3967347",0,"WYANDOTTE 1105",null,"2019-11-20T17:46:46",null,null,"Not assessed","https://viewer.us-3.sharpershape.services/viewer/assets/5ca5a2c6f6b463d89ea04e5a/details","https://viewer.us-3.sharpershape.services/viewer/issues/5ecf8c9834b60c00015ec2cf/details","high","W12149742N3967251 WYANDOTTE 1105","[MontereyPine, CoastalLiveOak, Other]","MontereyPine"]
[1655,"NORTHERN","NORTH VALLEY","Tier 2-3","102911105 Tier 2-3",102911105,"WYANDOTTE 1105",25.8,39.657829999999898,-121.505549999999,null,29.6,"W12150555N3965783",12,9.9,"NO","W12150561N3965801","W12150604N3965661","W12150604N3965661-W12150561N3965801",102911105,"WYANDOTTE 1105",null,"2019-11-20T17:46:46",null,null,"Not assessed","https://viewer.us-3.sharpershape.services/viewer/assets/5d88be906476d7a8685dd21a/details","https://viewer.us-3.sharpershape.services/viewer/issues/5ecf8c9a34b60c00015ec3be/details","high","W12150555N3965783 WYANDOTTE 1105"]
[1656,"NORTHERN","NORTH VALLEY","Tier 0-1","102911105 Tier 0-1",102911105,"WYANDOTTE 1105",29,39.526150000000001,-121.53547,null,49.7,"W12153547N3952615",8,-4.7,"YES","W12153537N3952598","W12153535N3952637","W12153535N3952637-W12153537N3952598",102911105,"WYANDOTTE 1105",null,"2019-11-20T17:46:46",null,null,"Not assessed","https://viewer.us-3.sharpershape.services/viewer/assets/5ca5a2c6f6b4634b4fa04e4e/details","https://viewer.us-3.sharpershape.services/viewer/issues/5ecf8c92a03e660001310842/details","high","W12153547N3952615 WYANDOTTE 1105","[DouglasFir, LiveOak, CoastalLiveOak]","DouglasFir"]
[1657,"NORTHERN","NORTH VALLEY","Tier 2-3","102911105 Tier 2-3",102911105,"WYANDOTTE 1105",0,39.526890000000002,-121.531679999999,null,25.6999999999999,"W12153168N3952689",9.4,9.4,"NO","W12153152N3952699","W12153224N3952655","W12153224N3952655-W12153152N3952699",102911105,"WYANDOTTE 1105",null,"2019-11-20T17:46:46",null,null,"Not assessed","https://viewer.us-3.sharpershape.services/viewer/assets/5ca5a2c6f6b46367dca04ab1/details","https://viewer.us-3.sharpershape.services/viewer/issues/5ecf955934b60c00015ed7f6/details","high","W12153168N3952689 WYANDOTTE 1105","[DouglasFir, GrayPine, TanOak]","DouglasFir"]
[1658,"NORTHERN","NORTH VALLEY","Tier 0-1","102911105 Tier 0-1",102911105,"WYANDOTTE 1105",21.9,39.525799999999997,-121.53546,null,43.2,"W12153546N3952580",8.8000000000000007,-3.2,"YES","W12153537N3952537","W12153537N3952598","W12153537N3952598-W12153537N3952537",102911105,"WYANDOTTE 1105",null,"2019-11-20T17:46:46",null,null,"Not assessed","https://viewer.us-3.sharpershape.services/viewer/assets/5ca5a2c6f6b4634b85a04d18/details","https://viewer.us-3.sharpershape.services/viewer/issues/5ecf8c97a03e660001310b00/details","high","W12153546N3952580 WYANDOTTE 1105","[CoastalLiveOak, DouglasFir, Eucalyptus/BlueGum]","CoastalLiveOak"]
[1659,"NORTHERN","NORTH VALLEY","Tier 0-1","102911105 Tier 0-1",102911105,"WYANDOTTE 1105",46.399999999999899,39.52299,-121.511809999999,null,76.400000000000006,"W12151181N3952299",9,-24.5,"YES","W12151196N3952324","W12151167N3952308","W12151167N3952308-W12151196N3952324",102911105,"WYANDOTTE 1105",null,"2019-11-20T17:46:46",null,null,"Not assessed","https://viewer.us-3.sharpershape.services/viewer/assets/5ca5a2c6f6b463c0a8a04fe8/details","https://viewer.us-3.sharpershape.services/viewer/issues/5ecf8c9434b60c00015ec05a/details","high","W12151181N3952299 WYANDOTTE 1105","[GrayPine, DouglasFir, Other]","GrayPine"]
[1660,"NORTHERN","NORTH VALLEY","Tier 2-3","102911105 Tier 2-3",102911105,"WYANDOTTE 1105",14.3,39.529739999999897,-121.520849999999,null,33.6,"W12152085N3952974",8.1999999999999904,4.5999999999999996,"NO","W12152091N3952965","W12152091N3953014","W12152091N3953014-W12152091N3952965",102911105,"WYANDOTTE 1105",null,"2019-11-20T17:46:46",null,null,"Not assessed","https://viewer.us-3.sharpershape.services/viewer/assets/5ca5a2c6f6b46337e8a04a3f/details","https://viewer.us-3.sharpershape.services/viewer/issues/5ecf8c9734b60c00015ec186/details","high","W12152085N3952974 WYANDOTTE 1105","[GrayPine, ValleyOak, TanOak]","GrayPine"]
[1661,"NORTHERN","NORTH VALLEY","Tier 2-3","102911105 Tier 2-3",102911105,"WYANDOTTE 1105",16.600000000000001,39.527389999999897,-121.53059,null,24.9,"W12153059N3952739",12,9,"NO","W12153054N3952731","W12153052N3952749","W12153052N3952749-W12153054N3952731",102911105,"WYANDOTTE 1105",null,"2019-11-20T17:46:46",null,null,"Not assessed","https://viewer.us-3.sharpershape.services/viewer/assets/5ca5a2c6f6b4634158a050f2/details","https://viewer.us-3.sharpershape.services/viewer/issues/5ecf8c94a03e6600013108d4/details","high","W12153059N3952739 WYANDOTTE 1105","[TanOak, GrayPine, MontereyPine]","TanOak"]
[1662,"NORTHERN","NORTH VALLEY","Tier 2-3","102911105 Tier 2-3",102911105,"WYANDOTTE 1105",23.1,39.531410000000001,-121.54093,null,38.799999999999997,"W12154093N3953141",14.4,0.3,"NO","W12154086N3953214","W12154084N3953131","W12154084N3953131-W12154086N3953214",102911105,"WYANDOTTE 1105",null,"2019-11-20T17:46:46",null,null,"Not assessed","https://viewer.us-3.sharpershape.services/viewer/assets/5ca5a2c6f6b4630944a04ef1/details","https://viewer.us-3.sharpershape.services/viewer/issues/5ecf8c98a03e660001310b65/details","high","W12154093N3953141 WYANDOTTE 1105","[GrayPine, DouglasFir, CoastalLiveOak]","GrayPine"]
[1663,"NORTHERN","NORTH VALLEY","Tier 2-3","102911105 Tier 2-3",102911105,"WYANDOTTE 1105",41.8,39.529759999999897,-121.51954000000001,null,73.5,"W12151954N3952976",22.6,-24.3,"YES","W12151936N3952926","W12152005N3953021","W12152005N3953021-W12151936N3952926",102911105,"WYANDOTTE 1105",null,"2019-11-20T17:46:46",null,null,"Not assessed","https://viewer.us-3.sharpershape.services/viewer/assets/5ca5a2c6f6b463d94da04bdf/details","https://viewer.us-3.sharpershape.services/viewer/issues/5ecf8c9834b60c00015ec2c1/details","high","W12151954N3952976 WYANDOTTE 1105","[CoastalLiveOak, Other, GrayPine]","CoastalLiveOak"]
[1664,"NORTHERN","NORTH VALLEY","Tier 2-3","102911105 Tier 2-3",102911105,"WYANDOTTE 1105",8.4,39.529620000000001,-121.52356,null,28.6,"W12152356N3952962",12,5.5,"NO","W12152351N3952966","W12152414N3952959","W12152414N3952959-W12152351N3952966",102911105,"WYANDOTTE 1105",null,"2019-11-20T17:46:46",null,null,"Not assessed","https://viewer.us-3.sharpershape.services/viewer/assets/5ca5a2c6f6b463d8dea04db3/details","https://viewer.us-3.sharpershape.services/viewer/issues/5ee2b4c2a03e66000146e443/details","high","W12152356N3952962 WYANDOTTE 1105","[GrayPine, ValleyOak, DouglasFir]","GrayPine"]
[1665,"NORTHERN","NORTH VALLEY","Tier 2-3","102911105 Tier 2-3",102911105,"WYANDOTTE 1105",23.5,39.530339999999903,-121.53528,null,29.1,"W12153528N3953034",12,6.2,"NO","W12153538N3953063","W12153538N3952985","W12153538N3952985-W12153538N3953063",102911105,"WYANDOTTE 1105",null,"2019-11-20T17:46:46",null,null,"Not assessed","https://viewer.us-3.sharpershape.services/viewer/assets/5ca5a2c6f6b4636d60a0516d/details","https://viewer.us-3.sharpershape.services/viewer/issues/5ecf8c97a03e660001310a30/details","high","W12153528N3953034 WYANDOTTE 1105"]
[1666,"NORTHERN","NORTH VALLEY","Tier 2-3","102911105 Tier 2-3",102911105,"WYANDOTTE 1105",47.7,39.531419999999898,-121.54102,null,68.7,"W12154102N3953142",40,-4.2,"YES","W12154086N3953214","W12154084N3953131","W12154084N3953131-W12154086N3953214",102911105,"WYANDOTTE 1105",null,"2019-11-20T17:46:46",null,null,"Not assessed","https://viewer.us-3.sharpershape.services/viewer/assets/5ca5a2c6f6b4630944a04ef1/details","https://viewer.us-3.sharpershape.services/viewer/issues/5ecf8c98a03e660001310b57/details","high","W12154102N3953142 WYANDOTTE 1105","[GrayPine, DouglasFir, LiveOak]","GrayPine"]
[1667,"NORTHERN","NORTH VALLEY","Tier 2-3","102911105 Tier 2-3",102911105,"WYANDOTTE 1105",8.6999999999999993,39.532419999999902,-121.534149999999,null,28.3,"W12153415N3953242",6.9,6.6,"NO","W12153419N3953235","W12153421N3953300","W12153421N3953300-W12153419N3953235",102911105,"WYANDOTTE 1105",null,"2019-11-20T17:46:46",null,null,"Not assessed","https://viewer.us-3.sharpershape.services/viewer/assets/5ca5a2c6f6b4635c05a05132/details","https://viewer.us-3.sharpershape.services/viewer/issues/5ee2b42f34b60c0001746b62/details","high","W12153415N3953242 WYANDOTTE 1105","[DouglasFir, TanOak, CoastalLiveOak]","DouglasFir"]
[1668,"NORTHERN","NORTH VALLEY","Tier 2-3","102911105 Tier 2-3",102911105,"WYANDOTTE 1105",8,39.529759999999897,-121.523139999999,null,27.1999999999999,"W12152314N3952976",6.8,5.3,"NO","W12152284N3952992","W12152351N3952966","W12152351N3952966-W12152284N3952992",102911105,"WYANDOTTE 1105",null,"2019-11-20T17:46:46",null,null,"Not assessed","https://viewer.us-3.sharpershape.services/viewer/assets/5ca5a2c6f6b4635ce1a0510b/details","https://viewer.us-3.sharpershape.services/viewer/issues/5ee2b4c134b60c0001746b75/details","high","W12152314N3952976 WYANDOTTE 1105","[GrayPine, TanOak, ValleyOak]","GrayPine"]
[1669,"NORTHERN","NORTH VALLEY","Tier 0-1","102911105 Tier 0-1",102911105,"WYANDOTTE 1105",44.2,39.523959999999903,-121.5164,null,47.1,"W12151640N3952396",28.4,7.8,"NO","W12151682N3952381","W12151594N3952384","W12151594N3952384-W12151682N3952381",102911105,"WYANDOTTE 1105",null,"2019-11-20T17:46:46",null,null,"Not assessed","https://viewer.us-3.sharpershape.services/viewer/assets/5ca5a2c6f6b463b446a04a3d/details","https://viewer.us-3.sharpershape.services/viewer/issues/5ecf8c95a03e660001310946/details","high","W12151640N3952396 WYANDOTTE 1105","[DouglasFir, GrayPine, Eucalyptus/BlueGum]","DouglasFir"]
[1670,"NORTHERN","NORTH VALLEY","Tier 2-3","102911105 Tier 2-3",102911105,"WYANDOTTE 1105",14,39.532400000000003,-121.53211,null,28,"W12153211N3953240",6.8,6.5,"NO","W12153205N3953245","W12153206N3953192","W12153206N3953192-W12153205N3953245",102911105,"WYANDOTTE 1105",null,"2019-11-20T17:46:46",null,null,"Not assessed","https://viewer.us-3.sharpershape.services/viewer/assets/5ca5a2c6f6b463299fa04cf2/details","https://viewer.us-3.sharpershape.services/viewer/issues/5ecf8c9934b60c00015ec37c/details","high","W12153211N3953240 WYANDOTTE 1105","[DouglasFir, Other, CoastalLiveOak]","DouglasFir"]
[1671,"NORTHERN","NORTH VALLEY","Tier 2-3","102911105 Tier 2-3",102911105,"WYANDOTTE 1105",33.200000000000003,39.522109999999898,-121.53842,null,49.6,"W12153842N3952211",19.899999999999999,-12.9,"YES","W12153812N3952205","W12153891N3952195","W12153891N3952195-W12153812N3952205",102911105,"WYANDOTTE 1105",null,"2019-11-20T17:46:46",null,null,"Not assessed","https://viewer.us-3.sharpershape.services/viewer/assets/5ca5a2c6f6b463d5b0a04bae/details","https://viewer.us-3.sharpershape.services/viewer/issues/5ecf8c98a03e660001310b15/details","high","W12153842N3952211 WYANDOTTE 1105","[GrayPine, DouglasFir, Other]","GrayPine"]
[1672,"NORTHERN","NORTH VALLEY","Tier 2-3","102911105 Tier 2-3",102911105,"WYANDOTTE 1105",18.399999999999999,39.53248,-121.53923,null,39.399999999999899,"W12153923N3953248",8.4,-2.2999999999999998,"YES","W12153905N3953243","W12153963N3953242","W12153963N3953242-W12153905N3953243",102911105,"WYANDOTTE 1105",null,"2019-11-20T17:46:46",null,null,"Not assessed","https://viewer.us-3.sharpershape.services/viewer/assets/5ca5a2c6f6b4637e06a05104/details","https://viewer.us-3.sharpershape.services/viewer/issues/5ecf8c9634b60c00015ec15f/details","high","W12153923N3953248 WYANDOTTE 1105","[DouglasFir, Eucalyptus/BlueGum, CoastalLiveOak]","DouglasFir"]
[1673,"NORTHERN","NORTH VALLEY","Tier 2-3","102911105 Tier 2-3",102911105,"WYANDOTTE 1105",33.299999999999898,39.532440000000001,-121.53107,null,38.1,"W12153107N3953244",11.9,23.9,"NO","W12153205N3953245","W12153117N3953239","W12153117N3953239-W12153205N3953245",102911105,"WYANDOTTE 1105",null,"2019-11-20T17:46:46",null,null,"Not assessed","https://viewer.us-3.sharpershape.services/viewer/assets/5ca5a2c6f6b4636b14a051ca/details","https://viewer.us-3.sharpershape.services/viewer/issues/5ecf8f03a03e660001311354/details","high","W12153107N3953244 WYANDOTTE 1105","[DouglasFir, LiveOak, Other]","DouglasFir"]
[1674,"NORTHERN","NORTH VALLEY","Tier 2-3","102911105 Tier 2-3",102911105,"WYANDOTTE 1105",16.399999999999899,39.52946,-121.532129999999,null,42.2,"W12153213N3952946",6.6,-1.2,"YES","W12153206N3952881","W12153206N3952972","W12153206N3952972-W12153206N3952881",102911105,"WYANDOTTE 1105",null,"2019-11-20T17:46:46",null,null,"Not assessed","https://viewer.us-3.sharpershape.services/viewer/assets/5ca5a2c6f6b463a605a04c77/details","https://viewer.us-3.sharpershape.services/viewer/issues/5ecf8c9834b60c00015ec29e/details","high","W12153213N3952946 WYANDOTTE 1105","[DouglasFir, Other, LiveOak]","DouglasFir"]
[1675,"NORTHERN","NORTH VALLEY","Tier 2-3","102911105 Tier 2-3",102911105,"WYANDOTTE 1105",9,39.526629999999898,-121.532039999999,null,65.799999999999898,"W12153204N3952663",8,-29.9,"YES","W12153152N3952699","W12153224N3952655","W12153224N3952655-W12153152N3952699",102911105,"WYANDOTTE 1105",null,"2019-11-20T17:46:46","OH",null,"Not assessed","https://viewer.us-3.sharpershape.services/viewer/assets/5ca5a2c6f6b46367dca04ab1/details","https://viewer.us-3.sharpershape.services/viewer/issues/5ecf8c9734b60c00015ec220/details","high","W12153204N3952663 WYANDOTTE 1105","[Eucalyptus/BlueGum, GrayPine, Other]","Eucalyptus/BlueGum"]
[1676,"NORTHERN","NORTH VALLEY","Tier 2-3","102911105 Tier 2-3",102911105,"WYANDOTTE 1105",47.7,39.530769999999897,-121.53879999999999,null,44.5,"W12153880N3953077",35.6,6,"NO","W12153908N3953063","W12153843N3953063","W12153843N3953063-W12153908N3953063",102911105,"WYANDOTTE 1105",null,"2019-11-20T17:46:46",null,null,"Not assessed","https://viewer.us-3.sharpershape.services/viewer/assets/5ca5a2c6f6b46390f3a04fa9/details","https://viewer.us-3.sharpershape.services/viewer/issues/5ecf8c9134b60c00015ebfea/details","high","W12153880N3953077 WYANDOTTE 1105","[GrayPine, DouglasFir, Other]","GrayPine"]
[1677,"NORTHERN","NORTH VALLEY","Tier 2-3","102911105 Tier 2-3",102911105,"WYANDOTTE 1105",5.2,39.530459999999898,-121.532,null,25.3,"W12153200N3953046",6.7,6.3,"NO","W12153206N3953048","W12153157N3953048","W12153157N3953048-W12153206N3953048",102911105,"WYANDOTTE 1105",null,"2019-11-20T17:46:46",null,null,"Not assessed","https://viewer.us-3.sharpershape.services/viewer/assets/5ca5a2c6f6b4633db9a04a98/details","https://viewer.us-3.sharpershape.services/viewer/issues/5ecf8c9634b60c00015ec13a/details","high","W12153200N3953046 WYANDOTTE 1105","[LiveOak, DouglasFir, Other]","LiveOak"]
[1678,"NORTHERN","NORTH VALLEY","Tier 2-3","102911105 Tier 2-3",102911105,"WYANDOTTE 1105",9.3000000000000007,39.52196,-121.538619999999,null,16,"W12153862N3952196",10.7,8,"NO","W12153812N3952205","W12153891N3952195","W12153891N3952195-W12153812N3952205",102911105,"WYANDOTTE 1105",null,"2019-11-20T17:46:46",null,null,"Not assessed","https://viewer.us-3.sharpershape.services/viewer/assets/5ca5a2c6f6b463d5b0a04bae/details","https://viewer.us-3.sharpershape.services/viewer/issues/5ecf8c98a03e660001310b1c/details","high","W12153862N3952196 WYANDOTTE 1105","[GrayPine, LiveOak, TanOak]","GrayPine"]
[1679,"NORTHERN","NORTH VALLEY","Tier 2-3","102911105 Tier 2-3",102911105,"WYANDOTTE 1105",0.2,39.521969999999897,-121.53879000000001,null,26.1999999999999,"W12153879N3952197",2.6,2.8,"NO","W12153812N3952205","W12153891N3952195","W12153891N3952195-W12153812N3952205",102911105,"WYANDOTTE 1105",null,"2019-11-20T17:46:46",null,null,"Not assessed","https://viewer.us-3.sharpershape.services/viewer/assets/5ca5a2c6f6b463d5b0a04bae/details","https://viewer.us-3.sharpershape.services/viewer/issues/5ecf9557a03e660001311f8c/details","high","W12153879N3952197 WYANDOTTE 1105","[Other, DouglasFir, LiveOak]","Other"]
[1680,"NORTHERN","NORTH VALLEY","Tier 2-3","102911105 Tier 2-3",102911105,"WYANDOTTE 1105",5.3,39.52975,-121.53107,null,23,"W12153107N3952975",5.8,6.8,"NO","W12153068N3952972","W12153130N3952973","W12153130N3952973-W12153068N3952972",102911105,"WYANDOTTE 1105",null,"2019-11-20T17:46:46",null,null,"Not assessed","https://viewer.us-3.sharpershape.services/viewer/assets/5ca5a2c6f6b46312f8a05163/details","https://viewer.us-3.sharpershape.services/viewer/issues/5ecf8c99a03e660001310c21/details","high","W12153107N3952975 WYANDOTTE 1105","[Eucalyptus/BlueGum, Other, CoastalLiveOak]","Eucalyptus/BlueGum"]
[1681,"NORTHERN","NORTH VALLEY","Tier 2-3","102911105 Tier 2-3",102911105,"WYANDOTTE 1105",41.6,39.53058,-121.53351000000001,null,42.3,"W12153351N3953058",25.6,6.9,"NO","W12153355N3953046","W12153323N3953048","W12153323N3953048-W12153355N3953046",102911105,"WYANDOTTE 1105",null,"2019-11-20T17:46:46",null,null,"Not assessed","https://viewer.us-3.sharpershape.services/viewer/assets/5ca5a2c6f6b463e131a04ef3/details","https://viewer.us-3.sharpershape.services/viewer/issues/5ecf8c9834b60c00015ec23c/details","high","W12153351N3953058 WYANDOTTE 1105","[LiveOak, GrayPine, DouglasFir]","LiveOak"]
[1682,"NORTHERN","NORTH VALLEY","Tier 2-3","102911105 Tier 2-3",102911105,"WYANDOTTE 1105",17.899999999999999,39.530679999999897,-121.535519999999,null,31.1999999999999,"W12153552N3953068",9.4,2.4,"NO","W12153538N3953063","W12153655N3953063","W12153655N3953063-W12153538N3953063",102911105,"WYANDOTTE 1105",null,"2019-11-20T17:46:46",null,null,"Not assessed","https://viewer.us-3.sharpershape.services/viewer/assets/5ca5a2c6f6b4638037a04ab3/details","https://viewer.us-3.sharpershape.services/viewer/issues/5ecf8c95a03e66000131092c/details","high","W12153552N3953068 WYANDOTTE 1105","[CoastalLiveOak, DouglasFir, Other]","CoastalLiveOak"]
[1683,"NORTHERN","NORTH VALLEY","Tier 2-3","102911105 Tier 2-3",102911105,"WYANDOTTE 1105",6.7,39.53246,-121.531829999999,null,25.8,"W12153183N3953246",5.9,-0.3,"YES","W12153205N3953245","W12153117N3953239","W12153117N3953239-W12153205N3953245",102911105,"WYANDOTTE 1105",null,"2019-11-20T17:46:46","OH",null,"Not assessed","https://viewer.us-3.sharpershape.services/viewer/assets/5ca5a2c6f6b4636b14a051ca/details","https://viewer.us-3.sharpershape.services/viewer/issues/5ecf8c9734b60c00015ec179/details","high","W12153183N3953246 WYANDOTTE 1105","[CoastalLiveOak, DouglasFir, MontereyPine]","CoastalLiveOak"]
[1684,"NORTHERN","NORTH VALLEY","Tier 2-3","102911105 Tier 2-3",102911105,"WYANDOTTE 1105",12.5,39.530749999999898,-121.532119999999,null,41.6,"W12153212N3953075",5.6,-7.6,"YES","W12153206N3953048","W12153207N3953097","W12153207N3953097-W12153206N3953048",102911105,"WYANDOTTE 1105",null,"2019-11-20T17:46:46",null,null,"Not assessed","https://viewer.us-3.sharpershape.services/viewer/assets/5ca5a2c6f6b46317dca04964/details","https://viewer.us-3.sharpershape.services/viewer/issues/5ecf8c95a03e66000131093f/details","high","W12153212N3953075 WYANDOTTE 1105","[LiveOak, DouglasFir, TanOak]","LiveOak"]
[1685,"NORTHERN","NORTH VALLEY","Tier 2-3","102911105 Tier 2-3",102911105,"WYANDOTTE 1105",31.4,39.53078,-121.53895,null,33.299999999999898,"W12153895N3953078",12,6.3,"NO","W12153907N3953103","W12153908N3953063","W12153908N3953063-W12153907N3953103",102911105,"WYANDOTTE 1105",null,"2019-11-20T17:46:46",null,null,"Not assessed","https://viewer.us-3.sharpershape.services/viewer/assets/5ca5a2c6f6b463538ea050f7/details","https://viewer.us-3.sharpershape.services/viewer/issues/5ecf8c9734b60c00015ec1d0/details","high","W12153895N3953078 WYANDOTTE 1105","[DouglasFir, LiveOak, CoastalLiveOak]","DouglasFir"]
[1686,"NORTHERN","NORTH VALLEY","Tier 2-3","102911105 Tier 2-3",102911105,"WYANDOTTE 1105",21.1,39.528469999999899,-121.51849,null,44,"W12151849N3952847",9.9,2.4,"NO","W12151873N3952887","W12151852N3952834","W12151852N3952834-W12151873N3952887",102911105,"WYANDOTTE 1105",null,"2019-11-20T17:46:46",null,null,"Not assessed","https://viewer.us-3.sharpershape.services/viewer/assets/5ca5a2c6f6b4631966a05106/details","https://viewer.us-3.sharpershape.services/viewer/issues/5ecf8c99a03e660001310c05/details","high","W12151849N3952847 WYANDOTTE 1105","[Other, CoastalLiveOak, DouglasFir]","Other"]
[1687,"NORTHERN","NORTH VALLEY","Tier 2-3","102911105 Tier 2-3",102911105,"WYANDOTTE 1105",16.899999999999899,39.527000000000001,-121.514409999999,null,33.799999999999898,"W12151441N3952700",7.2,7.3,"NO","W12151433N3952690","W12151437N3952744","W12151437N3952744-W12151433N3952690",102911105,"WYANDOTTE 1105",null,"2019-11-20T17:46:46",null,null,"Not assessed","https://viewer.us-3.sharpershape.services/viewer/assets/5ca5a2c6f6b46309eba051c7/details","https://viewer.us-3.sharpershape.services/viewer/issues/5ecf8c98a03e660001310b22/details","high","W12151441N3952700 WYANDOTTE 1105","[DouglasFir, LiveOak, GrayPine]","DouglasFir"]
[1688,"NORTHERN","NORTH VALLEY","Tier 2-3","102911105 Tier 2-3",102911105,"WYANDOTTE 1105",27.8,39.530110000000001,-121.52025999999999,null,80.900000000000006,"W12152026N3953011",13,-37.299999999999997,"YES","W12152091N3953014","W12152005N3953021","W12152005N3953021-W12152091N3953014",102911105,"WYANDOTTE 1105",null,"2019-11-20T17:46:46","OH",null,"Not assessed","https://viewer.us-3.sharpershape.services/viewer/assets/5ca5a2c6f6b4637ff5a04e47/details","https://viewer.us-3.sharpershape.services/viewer/issues/5ecf8c9534b60c00015ec06a/details","high","W12152026N3953011 WYANDOTTE 1105","[GrayPine, Other, DouglasFir]","GrayPine"]
[1689,"NORTHERN","NORTH VALLEY","Tier 2-3","102911105 Tier 2-3",102911105,"WYANDOTTE 1105",45.3,39.541939999999897,-121.54192999999999,null,49.6,"W12154193N3954194",33.899999999999899,2.1,"NO","W12154206N3954186","W12154249N3954102","W12154249N3954102-W12154206N3954186",102911105,"WYANDOTTE 1105",null,"2019-11-20T17:46:46",null,null,"Not assessed","https://viewer.us-3.sharpershape.services/viewer/assets/5ca5a2c6f6b4631d52a04cea/details","https://viewer.us-3.sharpershape.services/viewer/issues/5ecf8c98a03e660001310bf3/details","high","W12154193N3954194 WYANDOTTE 1105","[DouglasFir, GrayPine, TanOak]","DouglasFir"]
[1690,"NORTHERN","NORTH VALLEY","Tier 2-3","102911105 Tier 2-3",102911105,"WYANDOTTE 1105",5.2,39.529000000000003,-121.532029999999,null,27,"W12153203N3952900",6.8,5.4,"NO","W12153206N3952881","W12153206N3952972","W12153206N3952972-W12153206N3952881",102911105,"WYANDOTTE 1105",null,"2019-11-20T17:46:46",null,null,"Not assessed","https://viewer.us-3.sharpershape.services/viewer/assets/5ca5a2c6f6b463a605a04c77/details","https://viewer.us-3.sharpershape.services/viewer/issues/5ecf8c9834b60c00015ec2a2/details","high","W12153203N3952900 WYANDOTTE 1105","[GrayPine, MontereyPine, LiveOak]","GrayPine"]
[1691,"NORTHERN","NORTH VALLEY","Tier 2-3","102911105 Tier 2-3",102911105,"WYANDOTTE 1105",11.5,39.532400000000003,-121.538579999999,null,65.2,"W12153858N3953240",7.3,-39,"YES","W12153905N3953243","W12153810N3953244","W12153810N3953244-W12153905N3953243",102911105,"WYANDOTTE 1105",null,"2019-11-20T17:46:46","OH",null,"Not assessed","https://viewer.us-3.sharpershape.services/viewer/assets/5ca5a2c6f6b46300cca04f1d/details","https://viewer.us-3.sharpershape.services/viewer/issues/5ecf8c93a03e6600013108a9/details","high","W12153858N3953240 WYANDOTTE 1105","[GrayPine, DouglasFir, TanOak]","GrayPine"]
[1692,"NORTHERN","NORTH VALLEY","Tier 2-3","102911105 Tier 2-3",102911105,"WYANDOTTE 1105",8.4,39.529820000000001,-121.523179999999,null,28.9,"W12152318N3952982",9,6.5,"NO","W12152284N3952992","W12152351N3952966","W12152351N3952966-W12152284N3952992",102911105,"WYANDOTTE 1105",null,"2019-11-20T17:46:46",null,null,"Not assessed","https://viewer.us-3.sharpershape.services/viewer/assets/5ca5a2c6f6b4635ce1a0510b/details","https://viewer.us-3.sharpershape.services/viewer/issues/5ee2b4c134b60c0001746b72/details","high","W12152318N3952982 WYANDOTTE 1105","[GrayPine, MontereyPine, DouglasFir]","GrayPine"]
[1693,"NORTHERN","NORTH VALLEY","Tier 2-3","102911105 Tier 2-3",102911105,"WYANDOTTE 1105",17,39.528569999999903,-121.53198,null,29.4,"W12153198N3952857",7.8,19.8,"NO","W12153206N3952881","W12153205N3952846","W12153205N3952846-W12153206N3952881",102911105,"WYANDOTTE 1105",null,"2019-11-20T17:46:46",null,null,"Not assessed","https://viewer.us-3.sharpershape.services/viewer/assets/5ca5a2c6f6b4635559a050c2/details","https://viewer.us-3.sharpershape.services/viewer/issues/5ecf8ee6a03e6600013112b0/details","high","W12153198N3952857 WYANDOTTE 1105","[Other, DouglasFir, CoastalLiveOak]","Other"]
[1694,"NORTHERN","NORTH VALLEY","Tier 2-3","102911105 Tier 2-3",102911105,"WYANDOTTE 1105",31.6,39.529600000000002,-121.53143,null,45.7,"W12153143N3952960",17.5,-1,"YES","W12153130N3952973","W12153133N3952927","W12153133N3952927-W12153130N3952973",102911105,"WYANDOTTE 1105",null,"2019-11-20T17:46:46",null,null,"Not assessed","https://viewer.us-3.sharpershape.services/viewer/assets/5ca5a2c6f6b463b19aa050cd/details","https://viewer.us-3.sharpershape.services/viewer/issues/5ecf8c97a03e660001310ae1/details","high","W12153143N3952960 WYANDOTTE 1105","[CoastalLiveOak, Eucalyptus/BlueGum, MontereyPine]","CoastalLiveOak"]
[1695,"NORTHERN","NORTH VALLEY","Tier 0-1","102911105 Tier 0-1",102911105,"WYANDOTTE 1105",26.3,39.523919999999897,-121.516069999999,null,39.1,"W12151607N3952392",23.1,5,"NO","W12151682N3952381","W12151594N3952384","W12151594N3952384-W12151682N3952381",102911105,"WYANDOTTE 1105",null,"2019-11-20T17:46:46",null,null,"Not assessed","https://viewer.us-3.sharpershape.services/viewer/assets/5ca5a2c6f6b463b446a04a3d/details","https://viewer.us-3.sharpershape.services/viewer/issues/5ecf8c95a03e660001310948/details","high","W12151607N3952392 WYANDOTTE 1105"]
[1696,"NORTHERN","NORTH VALLEY","Tier 2-3","102911105 Tier 2-3",102911105,"WYANDOTTE 1105",12.6,39.672600000000003,-121.497169999999,null,23.8,"W12149717N3967260",7.6,-5.0999999999999996,"YES","W12149658N3967347","W12149755N3967217","W12149755N3967217-W12149658N3967347",0,"WYANDOTTE 1105",null,"2019-11-20T17:46:46",null,null,"Not assessed","https://viewer.us-3.sharpershape.services/viewer/assets/5ca5a2c6f6b463d89ea04e5a/details","https://viewer.us-3.sharpershape.services/viewer/issues/5ecf8c9834b60c00015ec2d5/details","high","W12149717N3967260 WYANDOTTE 1105"]
[1697,"NORTHERN","NORTH VALLEY","Tier 2-3","102911105 Tier 2-3",102911105,"WYANDOTTE 1105",44.1,39.5304,-121.5196,null,95.9,"W12151960N3953040",23.4,-45.5,"YES","W12151923N3953089","W12152005N3953021","W12152005N3953021-W12151923N3953089",102911105,"WYANDOTTE 1105",null,"2019-11-20T17:46:46",null,null,"Not assessed","https://viewer.us-3.sharpershape.services/viewer/assets/5ca5a2c6f6b46307baa0515f/details","https://viewer.us-3.sharpershape.services/viewer/issues/5ecf8c93a03e6600013108bb/details","high","W12151960N3953040 WYANDOTTE 1105","[Other, GrayPine, DouglasFir]","Other"]
[1698,"NORTHERN","NORTH VALLEY","Tier 2-3","102911105 Tier 2-3",102911105,"WYANDOTTE 1105",14.8,39.53134,-121.540769999999,null,28.1,"W12154077N3953134",10.3,5.0999999999999996,"NO","W12154086N3953214","W12154084N3953131","W12154084N3953131-W12154086N3953214",102911105,"WYANDOTTE 1105",null,"2019-11-20T17:46:46",null,null,"Not assessed","https://viewer.us-3.sharpershape.services/viewer/assets/5ca5a2c6f6b4630944a04ef1/details","https://viewer.us-3.sharpershape.services/viewer/issues/5ecf8c98a03e660001310b4c/details","high","W12154077N3953134 WYANDOTTE 1105","[DouglasFir, LiveOak, Eucalyptus/BlueGum]","DouglasFir"]
[1699,"NORTHERN","NORTH VALLEY","Tier 2-3","102911105 Tier 2-3",102911105,"WYANDOTTE 1105",4.5,39.530049999999903,-121.52208,null,30.6,"W12152208N3953005",5.6,4,"NO","W12152284N3952992","W12152184N3953012","W12152184N3953012-W12152284N3952992",102911105,"WYANDOTTE 1105",null,"2019-11-20T17:46:46",null,null,"Not assessed","https://viewer.us-3.sharpershape.services/viewer/assets/5ca5a2c6f6b4639636a0497c/details","https://viewer.us-3.sharpershape.services/viewer/issues/5ee2b4c2a03e66000146e454/details","high","W12152208N3953005 WYANDOTTE 1105","[Other, GrayPine, MontereyPine]","Other"]
[1700,"NORTHERN","NORTH VALLEY","Tier 2-3","102911105 Tier 2-3",102911105,"WYANDOTTE 1105",62.3,39.538539999999898,-121.54228000000001,null,94.799999999999898,"W12154228N3953854",43.3,-31.6,"YES","W12154252N3953857","W12154250N3953758","W12154250N3953758-W12154252N3953857",102911105,"WYANDOTTE 1105",null,"2019-11-20T17:46:46",null,null,"Not assessed","https://viewer.us-3.sharpershape.services/viewer/assets/5ca5a2c6f6b463b67da04e4c/details","https://viewer.us-3.sharpershape.services/viewer/issues/5ecf8c97a03e660001310a40/details","high","W12154228N3953854 WYANDOTTE 1105","[Eucalyptus/BlueGum, GrayPine, MontereyPine]","Eucalyptus/BlueGum"]
[1701,"NORTHERN","NORTH VALLEY","Tier 2-3","102911105 Tier 2-3",102911105,"WYANDOTTE 1105",42.2,39.527200000000001,-121.528859999999,null,47.7,"W12152886N3952720",9.6999999999999993,2.6,"NO","W12152800N3952774","W12152907N3952726","W12152907N3952726-W12152800N3952774",102911105,"WYANDOTTE 1105",null,"2019-11-20T17:46:46",null,null,"Not assessed","https://viewer.us-3.sharpershape.services/viewer/assets/5ca5a2c6f6b4634630a04e8d/details","https://viewer.us-3.sharpershape.services/viewer/issues/5ecf8c97a03e660001310aed/details","high","W12152886N3952720 WYANDOTTE 1105","[CoastalLiveOak, Other, DouglasFir]","CoastalLiveOak"]
[1702,"NORTHERN","NORTH VALLEY","Tier 2-3","102911105 Tier 2-3",102911105,"WYANDOTTE 1105",35.299999999999997,39.531289999999899,-121.54097,null,73.099999999999994,"W12154097N3953129",22,-25.1999999999999,"YES","W12154086N3953214","W12154084N3953131","W12154084N3953131-W12154086N3953214",102911105,"WYANDOTTE 1105",null,"2019-11-20T17:46:46",null,null,"Not assessed","https://viewer.us-3.sharpershape.services/viewer/assets/5ca5a2c6f6b4630944a04ef1/details","https://viewer.us-3.sharpershape.services/viewer/issues/5ecf8c98a03e660001310b68/details","high","W12154097N3953129 WYANDOTTE 1105","[GrayPine, DouglasFir, CoastalLiveOak]","GrayPine"]
[1703,"NORTHERN","NORTH VALLEY","Tier 2-3","102911105 Tier 2-3",102911105,"WYANDOTTE 1105",28.9,39.532849999999897,-121.53108,null,49.899999999999899,"W12153108N3953285",12,-11.4,"YES","W12153205N3953285","W12153118N3953282","W12153118N3953282-W12153205N3953285",102911105,"WYANDOTTE 1105",null,"2019-11-20T17:46:46",null,null,"Not assessed","https://viewer.us-3.sharpershape.services/viewer/assets/5ca5a2c6f6b463490aa04d2f/details","https://viewer.us-3.sharpershape.services/viewer/issues/5ecf8c9534b60c00015ec0cd/details","high","W12153108N3953285 WYANDOTTE 1105","[DouglasFir, GrayPine, LiveOak]","DouglasFir"]
[1704,"NORTHERN","NORTH VALLEY","Tier 2-3","102911105 Tier 2-3",102911105,"WYANDOTTE 1105",0.5,39.673839999999899,-121.496209999999,null,33.799999999999898,"W12149621N3967384",9.1999999999999993,9.6999999999999993,"NO","W12149658N3967347","W12149590N3967413","W12149590N3967413-W12149658N3967347",0,"WYANDOTTE 1105",null,"2019-11-20T17:46:46",null,null,"Not assessed","https://viewer.us-3.sharpershape.services/viewer/assets/5ca5a2c6f6b463ad06a0497a/details","https://viewer.us-3.sharpershape.services/viewer/issues/5ecf8ea5a03e6600013110c4/details","high","W12149621N3967384 WYANDOTTE 1105","[MontereyPine, CoastalLiveOak, Other]","MontereyPine"]
[1705,"NORTHERN","NORTH VALLEY","Tier 2-3","102911105 Tier 2-3",102911105,"WYANDOTTE 1105",16.6999999999999,39.528009999999902,-121.527649999999,null,33.5,"W12152765N3952801",7.4,-3.6,"YES","W12152750N3952825","W12152800N3952774","W12152800N3952774-W12152750N3952825",102911105,"WYANDOTTE 1105",null,"2019-11-20T17:46:46",null,null,"Not assessed","https://viewer.us-3.sharpershape.services/viewer/assets/5ca5a2c6f6b4634ff7a05112/details","https://viewer.us-3.sharpershape.services/viewer/issues/5ecf8c9434b60c00015ec044/details","high","W12152765N3952801 WYANDOTTE 1105","[GrayPine, Other, DouglasFir]","GrayPine"]
[1706,"NORTHERN","NORTH VALLEY","Tier 0-1","102911105 Tier 0-1",102911105,"WYANDOTTE 1105",14.9,39.522889999999897,-121.537779999999,null,24.9,"W12153778N3952289",10.1,22.1,"NO","W12153761N3952311","W12153775N3952283","W12153775N3952283-W12153761N3952311",102911105,"WYANDOTTE 1105",null,"2019-11-20T17:46:46",null,null,"Not assessed","https://viewer.us-3.sharpershape.services/viewer/assets/5ca5a2c6f6b463b271a05203/details","https://viewer.us-3.sharpershape.services/viewer/issues/5ecf8ed034b60c00015ec9b6/details","high","W12153778N3952289 WYANDOTTE 1105","[DouglasFir, Other, CoastalLiveOak]","DouglasFir"]
[1707,"NORTHERN","NORTH VALLEY","Tier 2-3","102911105 Tier 2-3",102911105,"WYANDOTTE 1105",37,39.532739999999897,-121.53837,null,74.599999999999994,"W12153837N3953274",25.1,-29.6999999999999,"YES","W12153906N3953282","W12153848N3953281","W12153848N3953281-W12153906N3953282",102911105,"WYANDOTTE 1105",null,"2019-11-20T17:46:46",null,null,"Not assessed","https://viewer.us-3.sharpershape.services/viewer/assets/5ca5a2c6f6b46324baa04ba9/details","https://viewer.us-3.sharpershape.services/viewer/issues/5ecf8c9934b60c00015ec321/details","high","W12153837N3953274 WYANDOTTE 1105","[DouglasFir, GrayPine, MontereyPine]","DouglasFir"]
[1708,"NORTHERN","NORTH VALLEY","Tier 2-3","102911105 Tier 2-3",102911105,"WYANDOTTE 1105",0.6,39.528239999999897,-121.51425999999999,null,20.5,"W12151426N3952824",7.7,8.3000000000000007,"NO","W12151441N3952799","W12151401N3952860","W12151401N3952860-W12151441N3952799",102911105,"WYANDOTTE 1105",null,"2019-11-20T17:46:46",null,null,"Not assessed","https://viewer.us-3.sharpershape.services/viewer/assets/5ca5a2c6f6b463bdf4a04f50/details","https://viewer.us-3.sharpershape.services/viewer/issues/5ecf8ea134b60c00015ec895/details","high","W12151426N3952824 WYANDOTTE 1105","[Other, MontereyPine, ValleyOak]","Other"]
[1709,"NORTHERN","NORTH VALLEY","Tier 0-1","102911105 Tier 0-1",102911105,"WYANDOTTE 1105",21.8,39.525030000000001,-121.536349999999,null,42.8,"W12153635N3952503",8.5,-4.8,"YES","W12153636N3952510","W12153682N3952487","W12153682N3952487-W12153636N3952510",102911105,"WYANDOTTE 1105",null,"2019-11-20T17:46:46",null,null,"Not assessed","https://viewer.us-3.sharpershape.services/viewer/assets/5ca5a2c6f6b463f969a04978/details","https://viewer.us-3.sharpershape.services/viewer/issues/5ecf8c9934b60c00015ec2ee/details","high","W12153635N3952503 WYANDOTTE 1105","[Other, DouglasFir, CoastalLiveOak]","Other"]
[1710,"NORTHERN","NORTH VALLEY","Tier 0-1","102911105 Tier 0-1",102911105,"WYANDOTTE 1105",36.799999999999997,39.52617,-121.53521000000001,null,56.399999999999899,"W12153521N3952617",16.100000000000001,-7.2,"YES","W12153537N3952598","W12153535N3952637","W12153535N3952637-W12153537N3952598",102911105,"WYANDOTTE 1105",null,"2019-11-20T17:46:46",null,null,"Not assessed","https://viewer.us-3.sharpershape.services/viewer/assets/5ca5a2c6f6b4634b4fa04e4e/details","https://viewer.us-3.sharpershape.services/viewer/issues/5ecf8c92a03e660001310841/details","high","W12153521N3952617 WYANDOTTE 1105","[Other, GrayPine, DouglasFir]","Other"]
[1711,"NORTHERN","NORTH VALLEY","Tier 2-3","102911105 Tier 2-3",102911105,"WYANDOTTE 1105",44.1,39.541640000000001,-121.541989999999,null,46.8,"W12154199N3954164",24.6,-2.6,"YES","W12154206N3954186","W12154249N3954102","W12154249N3954102-W12154206N3954186",102911105,"WYANDOTTE 1105",null,"2019-11-20T17:46:46",null,null,"Not assessed","https://viewer.us-3.sharpershape.services/viewer/assets/5ca5a2c6f6b4631d52a04cea/details","https://viewer.us-3.sharpershape.services/viewer/issues/5ecf8c98a03e660001310bf0/details","high","W12154199N3954164 WYANDOTTE 1105","[DouglasFir, LiveOak, TanOak]","DouglasFir"]
[1712,"NORTHERN","NORTH VALLEY","Tier 2-3","102911105 Tier 2-3",102911105,"WYANDOTTE 1105",15.5,39.529269999999897,-121.532129999999,null,33.700000000000003,"W12153213N3952927",10,7.9,"NO","W12153206N3952881","W12153206N3952972","W12153206N3952972-W12153206N3952881",102911105,"WYANDOTTE 1105",null,"2019-11-20T17:46:46",null,null,"Not assessed","https://viewer.us-3.sharpershape.services/viewer/assets/5ca5a2c6f6b463a605a04c77/details","https://viewer.us-3.sharpershape.services/viewer/issues/5ecf8c9834b60c00015ec2a5/details","high","W12153213N3952927 WYANDOTTE 1105","[DouglasFir, LiveOak, GrayPine]","DouglasFir"]
[1713,"NORTHERN","NORTH VALLEY","Tier 0-1","102911105 Tier 0-1",102911105,"WYANDOTTE 1105",88.799999999999898,39.52364,-121.51174,null,105,"W12151174N3952364",74.7,-5.6,"YES","W12151196N3952324","W12151119N3952361","W12151119N3952361-W12151196N3952324",102911105,"WYANDOTTE 1105",null,"2019-11-20T17:46:46",null,null,"Not assessed","https://viewer.us-3.sharpershape.services/viewer/assets/5ca5a2c6f6b4638f7da04e40/details","https://viewer.us-3.sharpershape.services/viewer/issues/5ecf8c9634b60c00015ec122/details","high","W12151174N3952364 WYANDOTTE 1105","[GrayPine, Other, DouglasFir]","GrayPine"]
[1714,"NORTHERN","NORTH VALLEY","Tier 2-3","102911105 Tier 2-3",102911105,"WYANDOTTE 1105",27,39.52657,-121.532039999999,null,45.399999999999899,"W12153204N3952657",12,-3.4,"YES","W12153152N3952699","W12153224N3952655","W12153224N3952655-W12153152N3952699",102911105,"WYANDOTTE 1105",null,"2019-11-20T17:46:46","OH",null,"Not assessed","https://viewer.us-3.sharpershape.services/viewer/assets/5ca5a2c6f6b46367dca04ab1/details","https://viewer.us-3.sharpershape.services/viewer/issues/5ecf8c9734b60c00015ec21b/details","high","W12153204N3952657 WYANDOTTE 1105","[Eucalyptus/BlueGum, Other, GrayPine]","Eucalyptus/BlueGum"]
[1715,"NORTHERN","NORTH VALLEY","Tier 2-3","102911105 Tier 2-3",102911105,"WYANDOTTE 1105",25.6999999999999,39.528779999999898,-121.53547,null,36.5,"W12153547N3952878",6.3,7.4,"NO","W12153534N3952830","W12153534N3952830","W12153534N3952830-W12153534N3952830",102911105,"WYANDOTTE 1105",null,"2019-11-20T17:46:46",null,null,"Not assessed","https://viewer.us-3.sharpershape.services/viewer/assets/5ca5a2c6f6b4631e4ba04b95/details","https://viewer.us-3.sharpershape.services/viewer/issues/5ecf8c96a03e6600013109d8/details","high","W12153547N3952878 WYANDOTTE 1105","[DouglasFir, Other, TanOak]","DouglasFir"]
[1716,"NORTHERN","NORTH VALLEY","Tier 2-3","102911105 Tier 2-3",102911105,"WYANDOTTE 1105",30.1,39.526440000000001,-121.53886,null,33.299999999999898,"W12153886N3952644",11.3,23.3,"NO","W12153848N3952653","W12153928N3952652","W12153928N3952652-W12153848N3952653",102911105,"WYANDOTTE 1105",null,"2019-11-20T17:46:46",null,null,"Not assessed","https://viewer.us-3.sharpershape.services/viewer/assets/5ca5a2c6f6b463083da04d94/details","https://viewer.us-3.sharpershape.services/viewer/issues/5ecf8eab34b60c00015ec8c4/details","high","W12153886N3952644 WYANDOTTE 1105","[Eucalyptus/BlueGum, Other, MontereyPine]","Eucalyptus/BlueGum"]
[1717,"NORTHERN","NORTH VALLEY","Tier 2-3","102911105 Tier 2-3",102911105,"WYANDOTTE 1105",46.8,39.530339999999903,-121.53251,null,81.799999999999898,"W12153251N3953034",30.3,-29.3,"YES","W12153206N3953048","W12153269N3953048","W12153269N3953048-W12153206N3953048",102911105,"WYANDOTTE 1105",null,"2019-11-20T17:46:46",null,null,"Not assessed","https://viewer.us-3.sharpershape.services/viewer/assets/5ca5a2c6f6b46331cba04b4a/details","https://viewer.us-3.sharpershape.services/viewer/issues/5ecf8c92a03e660001310869/details","high","W12153251N3953034 WYANDOTTE 1105","[Eucalyptus/BlueGum, CoastalLiveOak, DouglasFir]","Eucalyptus/BlueGum"]
[1718,"NORTHERN","NORTH VALLEY","Tier 2-3","102911105 Tier 2-3",102911105,"WYANDOTTE 1105",35.6,39.658449999999903,-121.50534,null,48,"W12150534N3965845",17.1999999999999,-8.8000000000000007,"YES","W12150545N3965863","W12150561N3965801","W12150561N3965801-W12150545N3965863",102911105,"WYANDOTTE 1105",null,"2019-11-20T17:46:46",null,null,"Not assessed","https://viewer.us-3.sharpershape.services/viewer/assets/5da559b2c545ca4e5107fbeb/details","https://viewer.us-3.sharpershape.services/viewer/issues/5ecf8c9aa03e660001310c5d/details","high","W12150534N3965845 WYANDOTTE 1105"]
[1719,"NORTHERN","NORTH VALLEY","Tier 2-3","102911105 Tier 2-3",102911105,"WYANDOTTE 1105",41.6,39.52628,-121.532449999999,null,63.2,"W12153245N3952628",24.5,-14.9,"YES","W12153224N3952655","W12153295N3952615","W12153295N3952615-W12153224N3952655",102911105,"WYANDOTTE 1105",null,"2019-11-20T17:46:46",null,null,"Not assessed","https://viewer.us-3.sharpershape.services/viewer/assets/5ca5a2c6f6b4635390a04a71/details","https://viewer.us-3.sharpershape.services/viewer/issues/5ecf8c96a03e6600013109c8/details","high","W12153245N3952628 WYANDOTTE 1105","[GrayPine, MontereyPine, TanOak]","GrayPine"]
[1720,"NORTHERN","NORTH VALLEY","Tier 2-3","102911105 Tier 2-3",102911105,"WYANDOTTE 1105",28,39.525189999999903,-121.53725,null,41.8,"W12153725N3952519",6.9,1.1000000000000001,"NO","W12153742N3952569","W12153709N3952512","W12153709N3952512-W12153742N3952569",102911105,"WYANDOTTE 1105",null,"2019-11-20T17:46:46",null,null,"Not assessed","https://viewer.us-3.sharpershape.services/viewer/assets/5ca5a2c6f6b4633f70a04d23/details","https://viewer.us-3.sharpershape.services/viewer/issues/5ecf8c9234b60c00015ebff1/details","high","W12153725N3952519 WYANDOTTE 1105","[GrayPine, DouglasFir, Other]","GrayPine"]
[1721,"NORTHERN","NORTH VALLEY","Tier 2-3","102911105 Tier 2-3",102911105,"WYANDOTTE 1105",26.1999999999999,39.657699999999899,-121.505589999999,null,30.5,"W12150559N3965770",12,9.4,"NO","W12150561N3965801","W12150604N3965661","W12150604N3965661-W12150561N3965801",102911105,"WYANDOTTE 1105",null,"2019-11-20T17:46:46",null,null,"Not assessed","https://viewer.us-3.sharpershape.services/viewer/assets/5d88be906476d7a8685dd21a/details","https://viewer.us-3.sharpershape.services/viewer/issues/5ecf8c9a34b60c00015ec3bc/details","high","W12150559N3965770 WYANDOTTE 1105","[CoastalLiveOak, DouglasFir, MontereyPine]","CoastalLiveOak"]
[1722,"NORTHERN","NORTH VALLEY","Tier 2-3","102911105 Tier 2-3",102911105,"WYANDOTTE 1105",18.3,39.532080000000001,-121.538989999999,null,30.9,"W12153899N3953208",10.7,1.9,"NO","W12153905N3953243","W12153907N3953193","W12153907N3953193-W12153905N3953243",102911105,"WYANDOTTE 1105",null,"2019-11-20T17:46:46",null,null,"Not assessed","https://viewer.us-3.sharpershape.services/viewer/assets/5ca5a2c6f6b46326f9a04de3/details","https://viewer.us-3.sharpershape.services/viewer/issues/5ecf8c9934b60c00015ec361/details","high","W12153899N3953208 WYANDOTTE 1105","[CoastalLiveOak, DouglasFir, Eucalyptus/BlueGum]","CoastalLiveOak"]
[1723,"NORTHERN","NORTH VALLEY","Tier 2-3","102911105 Tier 2-3",102911105,"WYANDOTTE 1105",0.4,39.674329999999898,-121.495699999999,null,48.5,"W12149570N3967433",9.9,10.3,"NO","W12149590N3967413","W12149366N3967635","W12149366N3967635-W12149590N3967413",102911105,"WYANDOTTE 1105",null,"2019-11-20T17:46:46",null,null,"Not assessed","https://viewer.us-3.sharpershape.services/viewer/assets/5ca5a2c6f6b46310cea04dc9/details","https://viewer.us-3.sharpershape.services/viewer/issues/5ecf953734b60c00015ed6ac/details","high","W12149570N3967433 WYANDOTTE 1105","[MontereyPine, CoastalLiveOak, DouglasFir]","MontereyPine"]
[1724,"NORTHERN","NORTH VALLEY","Tier 2-3","102911105 Tier 2-3",102911105,"WYANDOTTE 1105",16.600000000000001,39.531529999999897,-121.5398,null,55.2,"W12153980N3953153",6.2,-18.1999999999999,"YES","W12154021N3953134","W12153966N3953151","W12153966N3953151-W12154021N3953134",102911105,"WYANDOTTE 1105",null,"2019-11-20T17:46:46","OH",null,"Not assessed","https://viewer.us-3.sharpershape.services/viewer/assets/5ca5a2c6f6b4638850a050f0/details","https://viewer.us-3.sharpershape.services/viewer/issues/5ecf8c9234b60c00015ebffd/details","high","W12153980N3953153 WYANDOTTE 1105","[DouglasFir, MontereyPine, CoastalLiveOak]","DouglasFir"]
[1725,"NORTHERN","NORTH VALLEY","Tier 2-3","102911105 Tier 2-3",102911105,"WYANDOTTE 1105",51.7,39.530989999999903,-121.518569999999,null,64.099999999999895,"W12151857N3953099",39.5,-8,"YES","W12151868N3953111","W12151822N3953157","W12151822N3953157-W12151868N3953111",102911105,"WYANDOTTE 1105",null,"2019-11-20T17:46:46",null,null,"Not assessed","https://viewer.us-3.sharpershape.services/viewer/assets/5ca5a2c6f6b4630821a04f40/details","https://viewer.us-3.sharpershape.services/viewer/issues/5ecf8c9334b60c00015ec01d/details","high","W12151857N3953099 WYANDOTTE 1105","[Other, DouglasFir, CoastalLiveOak]","Other"]
[1726,"NORTHERN","NORTH VALLEY","Tier 2-3","102911105 Tier 2-3",102911105,"WYANDOTTE 1105",27.3,39.53134,-121.51859,null,42,"W12151859N3953134",11.9,1.9,"NO","W12151868N3953111","W12151822N3953157","W12151822N3953157-W12151868N3953111",102911105,"WYANDOTTE 1105",null,"2019-11-20T17:46:46",null,null,"Not assessed","https://viewer.us-3.sharpershape.services/viewer/assets/5ca5a2c6f6b4630821a04f40/details","https://viewer.us-3.sharpershape.services/viewer/issues/5ecf8c9334b60c00015ec021/details","high","W12151859N3953134 WYANDOTTE 1105","[GrayPine, MontereyPine, ValleyOak]","GrayPine"]
[1727,"NORTHERN","NORTH VALLEY","Tier 0-1","102911105 Tier 0-1",102911105,"WYANDOTTE 1105",9.6,39.523689999999903,-121.515559999999,null,28.3,"W12151556N3952369",8.6999999999999993,7.2,"NO","W12151549N3952385","W12151562N3952310","W12151562N3952310-W12151549N3952385",102911105,"WYANDOTTE 1105",null,"2019-11-20T17:46:46",null,null,"Not assessed","https://viewer.us-3.sharpershape.services/viewer/assets/5ca5a2c6f6b4631737a04c04/details","https://viewer.us-3.sharpershape.services/viewer/issues/5ecf8c9534b60c00015ec085/details","high","W12151556N3952369 WYANDOTTE 1105","[Other, GrayPine, LiveOak]","Other"]
[1728,"NORTHERN","NORTH VALLEY","Tier 2-3","102911105 Tier 2-3",102911105,"WYANDOTTE 1105",39.399999999999899,39.52713,-121.53551,null,65.599999999999895,"W12153551N3952713",8.8000000000000007,-16.399999999999899,"YES","W12153535N3952774","W12153536N3952706","W12153536N3952706-W12153535N3952774",102911105,"WYANDOTTE 1105",null,"2019-11-20T17:46:46",null,null,"Not assessed","https://viewer.us-3.sharpershape.services/viewer/assets/5ca5a2c6f6b463ada9a04fb0/details","https://viewer.us-3.sharpershape.services/viewer/issues/5ecf8c97a03e660001310a78/details","high","W12153551N3952713 WYANDOTTE 1105","[GrayPine, Other, DouglasFir]","GrayPine"]
[1729,"NORTHERN","NORTH VALLEY","Tier 2-3","102911105 Tier 2-3",102911105,"WYANDOTTE 1105",15.7,39.528289999999899,-121.53198,null,34.399999999999899,"W12153198N3952829",12,0.5,"NO","W12153205N3952846","W12153203N3952790","W12153203N3952790-W12153205N3952846",102911105,"WYANDOTTE 1105",null,"2019-11-20T17:46:46",null,null,"Not assessed","https://viewer.us-3.sharpershape.services/viewer/assets/5ca5a2c6f6b463f261a051d0/details","https://viewer.us-3.sharpershape.services/viewer/issues/5ecf8c98a03e660001310b90/details","high","W12153198N3952829 WYANDOTTE 1105","[DouglasFir, Other, CoastalLiveOak]","DouglasFir"]
[1730,"NORTHERN","NORTH VALLEY","Tier 2-3","102911105 Tier 2-3",102911105,"WYANDOTTE 1105",33.5,39.530380000000001,-121.5331,null,38.899999999999899,"W12153310N3953038",20.6,9.4,"NO","W12153323N3953048","W12153269N3953048","W12153269N3953048-W12153323N3953048",102911105,"WYANDOTTE 1105",null,"2019-11-20T17:46:46",null,null,"Not assessed","https://viewer.us-3.sharpershape.services/viewer/assets/5ca5a2c6f6b4636013a051bf/details","https://viewer.us-3.sharpershape.services/viewer/issues/5ecf8c9834b60c00015ec286/details","high","W12153310N3953038 WYANDOTTE 1105","[ValleyOak, Other, LiveOak]","ValleyOak"]
[1731,"NORTHERN","NORTH VALLEY","Tier 2-3","102911105 Tier 2-3",102911105,"WYANDOTTE 1105",27.6,39.532359999999898,-121.53846,null,40.899999999999899,"W12153846N3953236",6.9,-8.4,"YES","W12153905N3953243","W12153810N3953244","W12153810N3953244-W12153905N3953243",102911105,"WYANDOTTE 1105",null,"2019-11-20T17:46:46","OH",null,"Not assessed","https://viewer.us-3.sharpershape.services/viewer/assets/5ca5a2c6f6b46300cca04f1d/details","https://viewer.us-3.sharpershape.services/viewer/issues/5ecf8c93a03e66000131089b/details","high","W12153846N3953236 WYANDOTTE 1105","[DouglasFir, TanOak, GrayPine]","DouglasFir"]
[1732,"NORTHERN","NORTH VALLEY","Tier 2-3","102911105 Tier 2-3",102911105,"WYANDOTTE 1105",19.600000000000001,39.5411,-121.54236,null,17.399999999999999,"W12154236N3954110",9.6,4.5,"NO","W12154206N3954186","W12154249N3954102","W12154249N3954102-W12154206N3954186",102911105,"WYANDOTTE 1105",null,"2019-11-20T17:46:46",null,null,"Not assessed","https://viewer.us-3.sharpershape.services/viewer/assets/5ca5a2c6f6b4631d52a04cea/details","https://viewer.us-3.sharpershape.services/viewer/issues/5ecf8c98a03e660001310bec/details","high","W12154236N3954110 WYANDOTTE 1105"]
[1733,"NORTHERN","NORTH VALLEY","Tier 0-1","102911105 Tier 0-1",102911105,"WYANDOTTE 1105",20.6999999999999,39.522570000000002,-121.51318000000001,null,48.3,"W12151318N3952257",7.2,-5.6,"YES","W12151282N3952292","W12151335N3952254","W12151335N3952254-W12151282N3952292",102911105,"WYANDOTTE 1105",null,"2019-11-20T17:46:46",null,null,"Not assessed","https://viewer.us-3.sharpershape.services/viewer/assets/5ca5a2c6f6b463b00ba04e18/details","https://viewer.us-3.sharpershape.services/viewer/issues/5ecf8c93a03e66000131088e/details","high","W12151318N3952257 WYANDOTTE 1105","[GrayPine, Other, DouglasFir]","GrayPine"]
[1734,"NORTHERN","NORTH VALLEY","Tier 2-3","102911105 Tier 2-3",102911105,"WYANDOTTE 1105",25.4,39.529400000000003,-121.51957,null,66.7,"W12151957N3952940",10,-20.1999999999999,"YES","W12151936N3952926","W12152005N3953021","W12152005N3953021-W12151936N3952926",102911105,"WYANDOTTE 1105",null,"2019-11-20T17:46:46",null,null,"Not assessed","https://viewer.us-3.sharpershape.services/viewer/assets/5ca5a2c6f6b463d94da04bdf/details","https://viewer.us-3.sharpershape.services/viewer/issues/5ecf8c9834b60c00015ec2a8/details","high","W12151957N3952940 WYANDOTTE 1105","[DouglasFir, MontereyPine, GrayPine]","DouglasFir"]
[1735,"NORTHERN","NORTH VALLEY","Tier 2-3","102911105 Tier 2-3",102911105,"WYANDOTTE 1105",71.799999999999898,39.530789999999897,-121.518889999999,null,68.7,"W12151889N3953079",50.8,5.3,"NO","W12151868N3953111","W12151923N3953089","W12151923N3953089-W12151868N3953111",102911105,"WYANDOTTE 1105",null,"2019-11-20T17:46:46",null,null,"Not assessed","https://viewer.us-3.sharpershape.services/viewer/assets/5ca5a2c6f6b4636ea8a04d47/details","https://viewer.us-3.sharpershape.services/viewer/issues/5ecf8c97a03e660001310aa8/details","high","W12151889N3953079 WYANDOTTE 1105","[GrayPine, Other, DouglasFir]","GrayPine"]
[1736,"NORTHERN","NORTH VALLEY","Tier 2-3","102911105 Tier 2-3",102911105,"WYANDOTTE 1105",49.1,39.527069999999902,-121.529349999999,null,104.5,"W12152935N3952707",30.9,-48.8,"YES","W12152907N3952726","W12152971N3952716","W12152971N3952716-W12152907N3952726",102911105,"WYANDOTTE 1105",null,"2019-11-20T17:46:46",null,null,"Not assessed","https://viewer.us-3.sharpershape.services/viewer/assets/5ca5a2c6f6b4635805a04cab/details","https://viewer.us-3.sharpershape.services/viewer/issues/5ecf8c9734b60c00015ec1e5/details","high","W12152935N3952707 WYANDOTTE 1105","[CoastalLiveOak, DouglasFir, Eucalyptus/BlueGum]","CoastalLiveOak"]
[1737,"NORTHERN","NORTH VALLEY","Tier 2-3","102911105 Tier 2-3",102911105,"WYANDOTTE 1105",42.899999999999899,39.675170000000001,-121.49463,null,106.1,"W12149463N3967517",25.3,-8.8000000000000007,"YES","W12149590N3967413","W12149366N3967635","W12149366N3967635-W12149590N3967413",102911105,"WYANDOTTE 1105",null,"2019-11-20T17:46:46",null,null,"Not assessed","https://viewer.us-3.sharpershape.services/viewer/assets/5ca5a2c6f6b46310cea04dc9/details","https://viewer.us-3.sharpershape.services/viewer/issues/5ecf8c92a03e660001310853/details","high","W12149463N3967517 WYANDOTTE 1105","[GrayPine, DouglasFir, Other]","GrayPine"]
[1738,"NORTHERN","NORTH VALLEY","Tier 2-3","102911105 Tier 2-3",102911105,"WYANDOTTE 1105",22.3,39.526409999999899,-121.514709999999,null,45.399999999999899,"W12151471N3952641",6.7,1,"NO","W12151463N3952642","W12151461N3952559","W12151461N3952559-W12151463N3952642",102911105,"WYANDOTTE 1105",null,"2019-11-20T17:46:46",null,null,"Not assessed","https://viewer.us-3.sharpershape.services/viewer/assets/5d8b1e4455dd6b5e853f3023/details","https://viewer.us-3.sharpershape.services/viewer/issues/5ecf8c99a03e660001310c3e/details","high","W12151471N3952641 WYANDOTTE 1105","[GrayPine, DouglasFir, Other]","GrayPine"]
[1739,"NORTHERN","NORTH VALLEY","Tier 2-3","102911105 Tier 2-3",102911105,"WYANDOTTE 1105",18.100000000000001,39.526679999999899,-121.51455,null,33.899999999999899,"W12151455N3952668",8,5.4,"NO","W12151463N3952642","W12151433N3952690","W12151433N3952690-W12151463N3952642",102911105,"WYANDOTTE 1105",null,"2019-11-20T17:46:46",null,null,"Not assessed","https://viewer.us-3.sharpershape.services/viewer/assets/5ca5a2c6f6b46359cca05184/details","https://viewer.us-3.sharpershape.services/viewer/issues/5ecf8c96a03e66000131098b/details","high","W12151455N3952668 WYANDOTTE 1105","[GrayPine, DouglasFir, Other]","GrayPine"]
[1740,"NORTHERN","NORTH VALLEY","Tier 2-3","102911105 Tier 2-3",102911105,"WYANDOTTE 1105",39.6,39.533769999999897,-121.541529999999,null,72.400000000000006,"W12154153N3953377",24.9,-13.2,"YES","W12154087N3953327","W12154149N3953393","W12154149N3953393-W12154087N3953327",102911105,"WYANDOTTE 1105",null,"2019-11-20T17:46:46",null,null,"Not assessed","https://viewer.us-3.sharpershape.services/viewer/assets/5ca5a2c6f6b4635000a04d2e/details","https://viewer.us-3.sharpershape.services/viewer/issues/5ecf8c9234b60c00015ec005/details","high","W12154153N3953377 WYANDOTTE 1105","[GrayPine, Eucalyptus/BlueGum, DouglasFir]","GrayPine"]
[1741,"NORTHERN","NORTH VALLEY","Tier 2-3","102911105 Tier 2-3",102911105,"WYANDOTTE 1105",20.6999999999999,39.529260000000001,-121.52549999999999,null,39.700000000000003,"W12152550N3952926",12,-2.1,"YES","W12152508N3952949","W12152596N3952916","W12152596N3952916-W12152508N3952949",102911105,"WYANDOTTE 1105",null,"2019-11-20T17:46:46",null,null,"Not assessed","https://viewer.us-3.sharpershape.services/viewer/assets/5ca5a2c6f6b4634e80a04ae4/details","https://viewer.us-3.sharpershape.services/viewer/issues/5ecf8c9734b60c00015ec1df/details","high","W12152550N3952926 WYANDOTTE 1105","[Other, GrayPine, MontereyPine]","Other"]
[1742,"NORTHERN","NORTH VALLEY","Tier 2-3","102911105 Tier 2-3",102911105,"WYANDOTTE 1105",7.3,39.527159999999903,-121.53539000000001,null,25.1999999999999,"W12153539N3952716",5.4,3.5,"NO","W12153535N3952774","W12153536N3952706","W12153536N3952706-W12153535N3952774",102911105,"WYANDOTTE 1105",null,"2019-11-20T17:46:46",null,null,"Not assessed","https://viewer.us-3.sharpershape.services/viewer/assets/5ca5a2c6f6b463ada9a04fb0/details","https://viewer.us-3.sharpershape.services/viewer/issues/5ecf8c97a03e660001310a87/details","high","W12153539N3952716 WYANDOTTE 1105"]
[1743,"NORTHERN","NORTH VALLEY","Tier 2-3","102911105 Tier 2-3",102911105,"WYANDOTTE 1105",21.6999999999999,39.53257,-121.525959999999,null,29.6999999999999,"W12152596N3953257",7,2.5,"NO","W12152605N3953285","W12152605N3953235","W12152605N3953235-W12152605N3953285",102911105,"WYANDOTTE 1105",null,"2019-11-20T17:46:46",null,null,"Not assessed","https://viewer.us-3.sharpershape.services/viewer/assets/5e1c22f1942b994ca37b032f/details","https://viewer.us-3.sharpershape.services/viewer/issues/5ecfe7bc34b60c000160de45/details","high","W12152596N3953257 WYANDOTTE 1105","[Other, DouglasFir, TanOak]","Other"]
[1744,"NORTHERN","NORTH VALLEY","Tier 2-3","102911105 Tier 2-3",102911105,"WYANDOTTE 1105",49.3,39.535339999999898,-121.54214,null,70.5,"W12154214N3953534",28.6,-18.3,"YES","W12154242N3953570","W12154230N3953520","W12154230N3953520-W12154242N3953570",102911105,"WYANDOTTE 1105",null,"2019-11-20T17:46:46",null,null,"Not assessed","https://viewer.us-3.sharpershape.services/viewer/assets/5ca5a2c6f6b463392ea051c1/details","https://viewer.us-3.sharpershape.services/viewer/issues/5ecf8c9734b60c00015ec1c9/details","high","W12154214N3953534 WYANDOTTE 1105","[Other, LiveOak, CoastalLiveOak]","Other"]
[1745,"NORTHERN","NORTH VALLEY","Tier 0-1","102911105 Tier 0-1",102911105,"WYANDOTTE 1105",28.5,39.523449999999897,-121.51174,null,38.399999999999899,"W12151174N3952345",18,7,"NO","W12151196N3952324","W12151119N3952361","W12151119N3952361-W12151196N3952324",102911105,"WYANDOTTE 1105",null,"2019-11-20T17:46:46",null,null,"Not assessed","https://viewer.us-3.sharpershape.services/viewer/assets/5ca5a2c6f6b4638f7da04e40/details","https://viewer.us-3.sharpershape.services/viewer/issues/5ecf8c9634b60c00015ec11e/details","high","W12151174N3952345 WYANDOTTE 1105","[DouglasFir, LiveOak, CoastalLiveOak]","DouglasFir"]
[1746,"NORTHERN","NORTH VALLEY","Tier 2-3","102911105 Tier 2-3",102911105,"WYANDOTTE 1105",0.6,39.529939999999897,-121.522739999999,null,29.1999999999999,"W12152274N3952994",7,7.5,"NO","W12152284N3952992","W12152184N3953012","W12152184N3953012-W12152284N3952992",102911105,"WYANDOTTE 1105",null,"2019-11-20T17:46:46",null,null,"Not assessed","https://viewer.us-3.sharpershape.services/viewer/assets/5ca5a2c6f6b4639636a0497c/details","https://viewer.us-3.sharpershape.services/viewer/issues/5ee2b979a03e66000146e4bc/details","high","W12152274N3952994 WYANDOTTE 1105","[GrayPine, Other, MontereyPine]","GrayPine"]
[1747,"NORTHERN","NORTH VALLEY","Tier 0-1","102911105 Tier 0-1",102911105,"WYANDOTTE 1105",6.9,39.524569999999898,-121.522509999999,null,44.2,"W12152251N3952457",6.9,-13.2,"YES","W12152293N3952453","W12152223N3952454","W12152223N3952454-W12152293N3952453",102911105,"WYANDOTTE 1105",null,"2019-11-20T17:46:46","OH",null,"Not assessed","https://viewer.us-3.sharpershape.services/viewer/assets/5ca5a2c6f6b4634c38a04c9a/details","https://viewer.us-3.sharpershape.services/viewer/issues/5ecf8c9634b60c00015ec10a/details","high","W12152251N3952457 WYANDOTTE 1105","[DouglasFir, GrayPine, Other]","DouglasFir"]
[1748,"NORTHERN","NORTH VALLEY","Tier 2-3","102911105 Tier 2-3",102911105,"WYANDOTTE 1105",4.2,39.530650000000001,-121.535439999999,null,20.100000000000001,"W12153544N3953065",12,9.3000000000000007,"NO","W12153538N3953063","W12153655N3953063","W12153655N3953063-W12153538N3953063",102911105,"WYANDOTTE 1105",null,"2019-11-20T17:46:46",null,null,"Not assessed","https://viewer.us-3.sharpershape.services/viewer/assets/5ca5a2c6f6b4638037a04ab3/details","https://viewer.us-3.sharpershape.services/viewer/issues/5ecf8c95a03e66000131091d/details","high","W12153544N3953065 WYANDOTTE 1105","[GrayPine, DouglasFir, TanOak]","GrayPine"]
[1749,"NORTHERN","NORTH VALLEY","Tier 2-3","102911105 Tier 2-3",102911105,"WYANDOTTE 1105",51.2,39.533349999999899,-121.5407,null,67.900000000000006,"W12154070N3953335",30.4,-6.9,"YES","W12154073N3953285","W12154087N3953327","W12154087N3953327-W12154073N3953285",102911105,"WYANDOTTE 1105",null,"2019-11-20T17:46:46",null,null,"Not assessed","https://viewer.us-3.sharpershape.services/viewer/assets/5ca5a2c6f6b463f395a04ceb/details","https://viewer.us-3.sharpershape.services/viewer/issues/5ecf8c97a03e660001310abc/details","high","W12154070N3953335 WYANDOTTE 1105","[Other, DouglasFir, GrayPine]","Other"]
[1750,"NORTHERN","NORTH VALLEY","Tier 2-3","102911105 Tier 2-3",102911105,"WYANDOTTE 1105",13,39.527479999999898,-121.51443,null,34.5,"W12151443N3952748",7.2,4.3,"NO","W12151437N3952744","W12151441N3952799","W12151441N3952799-W12151437N3952744",102911105,"WYANDOTTE 1105",null,"2019-11-20T17:46:46",null,null,"Not assessed","https://viewer.us-3.sharpershape.services/viewer/assets/5ca5a2c6f6b463015da04b5c/details","https://viewer.us-3.sharpershape.services/viewer/issues/5ecf8c98a03e660001310b2e/details","high","W12151443N3952748 WYANDOTTE 1105","[Eucalyptus/BlueGum, CoastalLiveOak, DouglasFir]","Eucalyptus/BlueGum"]
[1751,"NORTHERN","NORTH VALLEY","Tier 2-3","102911105 Tier 2-3",102911105,"WYANDOTTE 1105",40.399999999999899,39.535519999999899,-121.54222,null,35.200000000000003,"W12154222N3953552",23.1999999999999,8.4,"NO","W12154242N3953570","W12154230N3953520","W12154230N3953520-W12154242N3953570",102911105,"WYANDOTTE 1105",null,"2019-11-20T17:46:46",null,null,"Not assessed","https://viewer.us-3.sharpershape.services/viewer/assets/5ca5a2c6f6b463392ea051c1/details","https://viewer.us-3.sharpershape.services/viewer/issues/5ecf8c9734b60c00015ec1c2/details","high","W12154222N3953552 WYANDOTTE 1105","[Other, LiveOak, DouglasFir]","Other"]
[1752,"NORTHERN","NORTH VALLEY","Tier 2-3","102911105 Tier 2-3",102911105,"WYANDOTTE 1105",36.299999999999997,39.529649999999897,-121.52460000000001,null,53.6,"W12152460N3952965",10.5,2.5,"NO","W12152414N3952959","W12152508N3952949","W12152508N3952949-W12152414N3952959",102911105,"WYANDOTTE 1105",null,"2019-11-20T17:46:46",null,null,"Not assessed","https://viewer.us-3.sharpershape.services/viewer/assets/5ca5a2c6f6b4633d64a04cf9/details","https://viewer.us-3.sharpershape.services/viewer/issues/5ee2b4c3a03e66000146e458/details","high","W12152460N3952965 WYANDOTTE 1105","[GrayPine, TanOak, DouglasFir]","GrayPine"]
[1753,"NORTHERN","NORTH VALLEY","Tier 2-3","102911105 Tier 2-3",102911105,"WYANDOTTE 1105",3.4,39.525970000000001,-121.521259999999,null,17.600000000000001,"W12152126N3952597",12,9.1,"NO","W12152123N3952539","W12152124N3952614","W12152124N3952614-W12152123N3952539",102911105,"WYANDOTTE 1105",null,"2019-11-20T17:46:46",null,null,"Not assessed","https://viewer.us-3.sharpershape.services/viewer/assets/5ca5a2c6f6b46335f7a04ffc/details","https://viewer.us-3.sharpershape.services/viewer/issues/5ecf8c95a03e660001310916/details","high","W12152126N3952597 WYANDOTTE 1105","[GrayPine, DouglasFir, ValleyOak]","GrayPine"]
[1754,"NORTHERN","NORTH VALLEY","Tier 2-3","102911105 Tier 2-3",102911105,"WYANDOTTE 1105",22.9,39.53143,-121.525949999999,null,30.3,"W12152595N3953143",5.6,7.8,"NO","W12152604N3953139","W12152606N3953202","W12152606N3953202-W12152604N3953139",102911105,"WYANDOTTE 1105",null,"2019-11-20T17:46:46",null,null,"Not assessed","https://viewer.us-3.sharpershape.services/viewer/assets/5ca5a2c6f6b463cbbca04b3b/details","https://viewer.us-3.sharpershape.services/viewer/issues/5ecf8c98a03e660001310b83/details","high","W12152595N3953143 WYANDOTTE 1105","[CoastalLiveOak, Other, DouglasFir]","CoastalLiveOak"]
[1755,"NORTHERN","NORTH VALLEY","Tier 2-3","102911105 Tier 2-3",102911105,"WYANDOTTE 1105",25.8,39.527949999999898,-121.535449999999,null,31.6,"W12153545N3952795",13.9,7.8,"NO","W12153535N3952774","W12153534N3952830","W12153534N3952830-W12153535N3952774",102911105,"WYANDOTTE 1105",null,"2019-11-20T17:46:46",null,null,"Not assessed","https://viewer.us-3.sharpershape.services/viewer/assets/5ca5a2c6f6b463c1eea04ac0/details","https://viewer.us-3.sharpershape.services/viewer/issues/5ecf8c96a03e660001310986/details","high","W12153545N3952795 WYANDOTTE 1105","[DouglasFir, TanOak, LiveOak]","DouglasFir"]
[1756,"NORTHERN","NORTH VALLEY","Tier 2-3","102911105 Tier 2-3",102911105,"WYANDOTTE 1105",22.9,39.531619999999897,-121.53216,null,61.8,"W12153216N3953162",5.0999999999999996,-23.9,"YES","W12153206N3953153","W12153206N3953192","W12153206N3953192-W12153206N3953153",102911105,"WYANDOTTE 1105",null,"2019-11-20T17:46:46",null,null,"Not assessed","https://viewer.us-3.sharpershape.services/viewer/assets/5ca5a2c6f6b46375f6a04bc0/details","https://viewer.us-3.sharpershape.services/viewer/issues/5ecf8c9834b60c00015ec22b/details","high","W12153216N3953162 WYANDOTTE 1105","[GrayPine, ValleyOak, MontereyPine]","GrayPine"]
[1757,"NORTHERN","NORTH VALLEY","Tier 2-3","102911105 Tier 2-3",102911105,"WYANDOTTE 1105",0.3,39.530639999999899,-121.53807999999999,null,23.6999999999999,"W12153808N3953064",7.9,8.1999999999999904,"NO","W12153771N3953063","W12153843N3953063","W12153843N3953063-W12153771N3953063",102911105,"WYANDOTTE 1105",null,"2019-11-20T17:46:46",null,null,"Not assessed","https://viewer.us-3.sharpershape.services/viewer/assets/5ca5a2c6f6b4638d7aa04e91/details","https://viewer.us-3.sharpershape.services/viewer/issues/5ecf8ee434b60c00015eca2e/details","high","W12153808N3953064 WYANDOTTE 1105","[DouglasFir, LiveOak, TanOak]","DouglasFir"]
[1758,"NORTHERN","NORTH VALLEY","Tier 2-3","102911105 Tier 2-3",102911105,"WYANDOTTE 1105",16.899999999999899,39.529779999999903,-121.530829999999,null,35.399999999999899,"W12153083N3952978",6.5,0.2,"NO","W12153068N3952972","W12153130N3952973","W12153130N3952973-W12153068N3952972",102911105,"WYANDOTTE 1105",null,"2019-11-20T17:46:46",null,null,"Not assessed","https://viewer.us-3.sharpershape.services/viewer/assets/5ca5a2c6f6b46312f8a05163/details","https://viewer.us-3.sharpershape.services/viewer/issues/5ecf8c99a03e660001310c22/details","high","W12153083N3952978 WYANDOTTE 1105","[Other, LiveOak, DouglasFir]","Other"]
[1759,"NORTHERN","NORTH VALLEY","Tier 2-3","102911105 Tier 2-3",102911105,"WYANDOTTE 1105",51.6,39.530949999999898,-121.52584,null,57.5,"W12152584N3953095",33.5,2.8,"NO","W12152603N3953064","W12152604N3953139","W12152604N3953139-W12152603N3953064",102911105,"WYANDOTTE 1105",null,"2019-11-20T17:46:46",null,null,"Not assessed","https://viewer.us-3.sharpershape.services/viewer/assets/5ca5a2c6f6b463f925a04ce0/details","https://viewer.us-3.sharpershape.services/viewer/issues/5ecf8c98a03e660001310bcb/details","high","W12152584N3953095 WYANDOTTE 1105","[GrayPine, ValleyOak, Other]","GrayPine"]
[1760,"NORTHERN","NORTH VALLEY","Tier 2-3","102911105 Tier 2-3",102911105,"WYANDOTTE 1105",18.5,39.529829999999897,-121.52289,null,36.5,"W12152289N3952983",6.4,2.9,"NO","W12152284N3952992","W12152351N3952966","W12152351N3952966-W12152284N3952992",102911105,"WYANDOTTE 1105",null,"2019-11-20T17:46:46",null,null,"Not assessed","https://viewer.us-3.sharpershape.services/viewer/assets/5ca5a2c6f6b4635ce1a0510b/details","https://viewer.us-3.sharpershape.services/viewer/issues/5ee2b4c134b60c0001746b6e/details","high","W12152289N3952983 WYANDOTTE 1105","[GrayPine, DouglasFir, MontereyPine]","GrayPine"]
[1761,"NORTHERN","NORTH VALLEY","Tier 2-3","102911105 Tier 2-3",102911105,"WYANDOTTE 1105",11.6,39.528779999999898,-121.53404999999999,null,33.6,"W12153405N3952878",8.1999999999999904,3.3,"NO","W12153422N3952882","W12153363N3952882","W12153363N3952882-W12153422N3952882",102911105,"WYANDOTTE 1105",null,"2019-11-20T17:46:46",null,null,"Not assessed","https://viewer.us-3.sharpershape.services/viewer/assets/5ca5a2c6f6b46376c8a04f8b/details","https://viewer.us-3.sharpershape.services/viewer/issues/5ecf8c9534b60c00015ec0d6/details","high","W12153405N3952878 WYANDOTTE 1105","[CoastalLiveOak, Eucalyptus/BlueGum, DouglasFir]","CoastalLiveOak"]
[1762,"NORTHERN","NORTH VALLEY","Tier 2-3","102911105 Tier 2-3",102911105,"WYANDOTTE 1105",38.299999999999997,39.530519999999903,-121.5364,null,37.799999999999997,"W12153640N3953052",22.3,8.3000000000000007,"NO","W12153538N3953063","W12153655N3953063","W12153655N3953063-W12153538N3953063",102911105,"WYANDOTTE 1105",null,"2019-11-20T17:46:46",null,null,"Not assessed","https://viewer.us-3.sharpershape.services/viewer/assets/5ca5a2c6f6b4638037a04ab3/details","https://viewer.us-3.sharpershape.services/viewer/issues/5ecf8c95a03e660001310923/details","high","W12153640N3953052 WYANDOTTE 1105","[GrayPine, DouglasFir, LiveOak]","GrayPine"]
[1763,"NORTHERN","NORTH VALLEY","Tier 2-3","102911105 Tier 2-3",102911105,"WYANDOTTE 1105",20.100000000000001,39.537439999999897,-121.542419999999,null,36.899999999999899,"W12154242N3953744",12,-13.7,"YES","W12154253N3953660","W12154250N3953758","W12154250N3953758-W12154253N3953660",102911105,"WYANDOTTE 1105",null,"2019-11-20T17:46:46","OH",null,"Not assessed","https://viewer.us-3.sharpershape.services/viewer/assets/5ca5a2c6f6b4637989a05102/details","https://viewer.us-3.sharpershape.services/viewer/issues/5ecf8c9734b60c00015ec1ad/details","high","W12154242N3953744 WYANDOTTE 1105","[DouglasFir, GrayPine, TanOak]","DouglasFir"]
[1764,"NORTHERN","NORTH VALLEY","Tier 2-3","102911105 Tier 2-3",102911105,"WYANDOTTE 1105",56,39.528659999999903,-121.52661000000001,null,50,"W12152661N3952866",39.200000000000003,10,"NO","W12152596N3952916","W12152680N3952875","W12152680N3952875-W12152596N3952916",102911105,"WYANDOTTE 1105",null,"2019-11-20T17:46:46",null,null,"Not assessed","https://viewer.us-3.sharpershape.services/viewer/assets/5ca5a2c6f6b463c0bba05089/details","https://viewer.us-3.sharpershape.services/viewer/issues/5ecf8c96a03e660001310a1a/details","high","W12152661N3952866 WYANDOTTE 1105","[Eucalyptus/BlueGum, DouglasFir, Other]","Eucalyptus/BlueGum"]
[1765,"NORTHERN","NORTH VALLEY","Tier 2-3","102911105 Tier 2-3",102911105,"WYANDOTTE 1105",4,39.538269999999898,-121.542479999999,null,12,"W12154248N3953827",12,9.9,"NO","W12154252N3953857","W12154250N3953758","W12154250N3953758-W12154252N3953857",102911105,"WYANDOTTE 1105",null,"2019-11-20T17:46:46",null,null,"Not assessed","https://viewer.us-3.sharpershape.services/viewer/assets/5ca5a2c6f6b463b67da04e4c/details","https://viewer.us-3.sharpershape.services/viewer/issues/5ecf8c97a03e660001310a48/details","high","W12154248N3953827 WYANDOTTE 1105","[Other, CoastalLiveOak, DouglasFir]","Other"]
[1766,"NORTHERN","NORTH VALLEY","Tier 2-3","102911105 Tier 2-3",102911105,"WYANDOTTE 1105",49.6,39.532979999999903,-121.531669999999,null,49.1,"W12153167N3953298",34.799999999999997,6,"NO","W12153205N3953285","W12153118N3953282","W12153118N3953282-W12153205N3953285",102911105,"WYANDOTTE 1105",null,"2019-11-20T17:46:46",null,null,"Not assessed","https://viewer.us-3.sharpershape.services/viewer/assets/5ca5a2c6f6b463490aa04d2f/details","https://viewer.us-3.sharpershape.services/viewer/issues/5ecf8c9534b60c00015ec0c9/details","high","W12153167N3953298 WYANDOTTE 1105","[TanOak, DouglasFir, LiveOak]","TanOak"]
[1767,"NORTHERN","NORTH VALLEY","Tier 2-3","102911105 Tier 2-3",102911105,"WYANDOTTE 1105",12.3,39.532879999999899,-121.537009999999,null,54.399999999999899,"W12153701N3953288",4.4000000000000004,-18.399999999999999,"YES","W12153713N3953284","W12153655N3953283","W12153655N3953283-W12153713N3953284",102911105,"WYANDOTTE 1105",null,"2019-11-20T17:46:46","OH",null,"Not assessed","https://viewer.us-3.sharpershape.services/viewer/assets/5ca5a2c6f6b46315baa04b02/details","https://viewer.us-3.sharpershape.services/viewer/issues/5ecf8c98a03e660001310bd4/details","high","W12153701N3953288 WYANDOTTE 1105","[TanOak, DouglasFir, CoastalLiveOak]","TanOak"]
[1768,"NORTHERN","NORTH VALLEY","Tier 2-3","102911105 Tier 2-3",102911105,"WYANDOTTE 1105",0.4,39.531799999999997,-121.53207,null,23,"W12153207N3953180",7.8,8.1999999999999904,"NO","W12153206N3953153","W12153206N3953192","W12153206N3953192-W12153206N3953153",102911105,"WYANDOTTE 1105",null,"2019-11-20T17:46:46",null,null,"Not assessed","https://viewer.us-3.sharpershape.services/viewer/assets/5ca5a2c6f6b46375f6a04bc0/details","https://viewer.us-3.sharpershape.services/viewer/issues/5ecf955a34b60c00015ed814/details","high","W12153207N3953180 WYANDOTTE 1105","[GrayPine, DouglasFir, CoastalLiveOak]","GrayPine"]
[1769,"NORTHERN","NORTH VALLEY","Tier 2-3","102911105 Tier 2-3",102911105,"WYANDOTTE 1105",0.3,39.53004,-121.52217,null,31.3,"W12152217N3953004",3.3,3.5,"NO","W12152284N3952992","W12152184N3953012","W12152184N3953012-W12152284N3952992",102911105,"WYANDOTTE 1105",null,"2019-11-20T17:46:46",null,null,"Not assessed","https://viewer.us-3.sharpershape.services/viewer/assets/5ca5a2c6f6b4639636a0497c/details","https://viewer.us-3.sharpershape.services/viewer/issues/5ee2b979a03e66000146e4a6/details","high","W12152217N3953004 WYANDOTTE 1105","[GrayPine, Other, TanOak]","GrayPine"]
[1770,"NORTHERN","NORTH VALLEY","Tier 0-1","102911105 Tier 0-1",102911105,"WYANDOTTE 1105",35.799999999999997,39.523820000000001,-121.53726,null,36.399999999999899,"W12153726N3952382",17,5.2,"NO","W12153751N3952386","W12153708N3952399","W12153708N3952399-W12153751N3952386",102911105,"WYANDOTTE 1105",null,"2019-11-20T17:46:46",null,null,"Not assessed","https://viewer.us-3.sharpershape.services/viewer/assets/5ca5a2c6f6b46361e1a04b3c/details","https://viewer.us-3.sharpershape.services/viewer/issues/5ecf8c9634b60c00015ec0fe/details","high","W12153726N3952382 WYANDOTTE 1105","[DouglasFir, TanOak, LiveOak]","DouglasFir"]
[1771,"NORTHERN","NORTH VALLEY","Tier 2-3","102911105 Tier 2-3",102911105,"WYANDOTTE 1105",13.6,39.524729999999899,-121.53740000000001,null,56.6,"W12153740N3952473",10.1,-19.1999999999999,"YES","W12153745N3952470","W12153809N3952504","W12153809N3952504-W12153745N3952470",102911105,"WYANDOTTE 1105",null,"2019-11-20T17:46:46",null,null,"Not assessed","https://viewer.us-3.sharpershape.services/viewer/assets/5ca5a2c6f6b4638d21a051a2/details","https://viewer.us-3.sharpershape.services/viewer/issues/5ecf8c95a03e660001310936/details","high","W12153740N3952473 WYANDOTTE 1105","[GrayPine, DouglasFir, CoastalLiveOak]","GrayPine"]
[1772,"NORTHERN","NORTH VALLEY","Tier 2-3","102911105 Tier 2-3",102911105,"WYANDOTTE 1105",62.399999999999899,39.527270000000001,-121.514129999999,null,81.7,"W12151413N3952727",46.8,-10.9,"YES","W12151433N3952690","W12151437N3952744","W12151437N3952744-W12151433N3952690",102911105,"WYANDOTTE 1105",null,"2019-11-20T17:46:46",null,null,"Not assessed","https://viewer.us-3.sharpershape.services/viewer/assets/5ca5a2c6f6b46309eba051c7/details","https://viewer.us-3.sharpershape.services/viewer/issues/5ecf8c98a03e660001310b24/details","high","W12151413N3952727 WYANDOTTE 1105","[GrayPine, DouglasFir, CoastalLiveOak]","GrayPine"]
[1773,"NORTHERN","NORTH VALLEY","Tier 0-1","102911105 Tier 0-1",102911105,"WYANDOTTE 1105",46.5,39.525149999999897,-121.53565,null,59.6,"W12153565N3952515",38.6,-5.5,"YES","W12153537N3952537","W12153590N3952523","W12153590N3952523-W12153537N3952537",102911105,"WYANDOTTE 1105",null,"2019-11-20T17:46:46",null,null,"Not assessed","https://viewer.us-3.sharpershape.services/viewer/assets/5ca5a2c6f6b4631c28a0517f/details","https://viewer.us-3.sharpershape.services/viewer/issues/5ecf8c90a03e6600013107fa/details","high","W12153565N3952515 WYANDOTTE 1105","[CoastalLiveOak, Other, MontereyPine]","CoastalLiveOak"]
[1774,"NORTHERN","NORTH VALLEY","Tier 2-3","102911105 Tier 2-3",102911105,"WYANDOTTE 1105",12.5,39.532219999999903,-121.53211,null,23.6999999999999,"W12153211N3953222",10.199999999999999,5.5,"NO","W12153205N3953245","W12153206N3953192","W12153206N3953192-W12153205N3953245",102911105,"WYANDOTTE 1105",null,"2019-11-20T17:46:46",null,null,"Not assessed","https://viewer.us-3.sharpershape.services/viewer/assets/5ca5a2c6f6b463299fa04cf2/details","https://viewer.us-3.sharpershape.services/viewer/issues/5ecf8c9934b60c00015ec377/details","high","W12153211N3953222 WYANDOTTE 1105","[DouglasFir, CoastalLiveOak, Eucalyptus/BlueGum]","DouglasFir"]
[1775,"NORTHERN","NORTH VALLEY","Tier 2-3","102911105 Tier 2-3",102911105,"WYANDOTTE 1105",20.6999999999999,39.528880000000001,-121.535219999999,null,33.5,"W12153522N3952888",6.6,2.9,"NO","W12153422N3952882","W12153537N3952882","W12153537N3952882-W12153422N3952882",102911105,"WYANDOTTE 1105",null,"2019-11-20T17:46:46",null,null,"Not assessed","https://viewer.us-3.sharpershape.services/viewer/assets/5ca5a2c6f6b4638913a05099/details","https://viewer.us-3.sharpershape.services/viewer/issues/5ecf8c95a03e660001310957/details","high","W12153522N3952888 WYANDOTTE 1105","[CoastalLiveOak, DouglasFir, Other]","CoastalLiveOak"]
[1776,"NORTHERN","NORTH VALLEY","Tier 2-3","102911105 Tier 2-3",102911105,"WYANDOTTE 1105",43.3,39.535869999999903,-121.542349999999,null,37.200000000000003,"W12154235N3953587",23.1999999999999,9.6999999999999993,"NO","W12154256N3953592","W12154242N3953570","W12154242N3953570-W12154256N3953592",102911105,"WYANDOTTE 1105",null,"2019-11-20T17:46:46",null,null,"Not assessed","https://viewer.us-3.sharpershape.services/viewer/assets/5ca5a2c6f6b4638a06a050ea/details","https://viewer.us-3.sharpershape.services/viewer/issues/5ecf8c95a03e660001310968/details","high","W12154235N3953587 WYANDOTTE 1105","[Eucalyptus/BlueGum, GrayPine, DouglasFir]","Eucalyptus/BlueGum"]
[1777,"NORTHERN","NORTH VALLEY","Tier 2-3","102911105 Tier 2-3",102911105,"WYANDOTTE 1105",17.3,39.53295,-121.53413999999999,null,37,"W12153414N3953295",6.4,2.5,"NO","W12153419N3953235","W12153421N3953300","W12153421N3953300-W12153419N3953235",102911105,"WYANDOTTE 1105",null,"2019-11-20T17:46:46",null,null,"Not assessed","https://viewer.us-3.sharpershape.services/viewer/assets/5ca5a2c6f6b4635c05a05132/details","https://viewer.us-3.sharpershape.services/viewer/issues/5ee2b42f34b60c0001746b6a/details","high","W12153414N3953295 WYANDOTTE 1105","[DouglasFir, GrayPine, LiveOak]","DouglasFir"]
[1778,"NORTHERN","NORTH VALLEY","Tier 2-3","102911105 Tier 2-3",102911105,"WYANDOTTE 1105",38.799999999999997,39.532330000000002,-121.538209999999,null,27,"W12153821N3953233",5.3,17.3,"NO","W12153905N3953243","W12153810N3953244","W12153810N3953244-W12153905N3953243",102911105,"WYANDOTTE 1105",null,"2019-11-20T17:46:46",null,null,"Not assessed","https://viewer.us-3.sharpershape.services/viewer/assets/5ca5a2c6f6b46300cca04f1d/details","https://viewer.us-3.sharpershape.services/viewer/issues/5ecf9591a03e6600013120c2/details","high","W12153821N3953233 WYANDOTTE 1105","[DouglasFir, LiveOak, GrayPine]","DouglasFir"]
[1779,"NORTHERN","NORTH VALLEY","Tier 2-3","102911105 Tier 2-3",102911105,"WYANDOTTE 1105",19.3,39.531599999999997,-121.53189,null,50.5,"W12153189N3953160",6.2,-19.5,"YES","W12153206N3953153","W12153147N3953155","W12153147N3953155-W12153206N3953153",102911105,"WYANDOTTE 1105",null,"2019-11-20T17:46:46",null,null,"Not assessed","https://viewer.us-3.sharpershape.services/viewer/assets/5ca5a2c6f6b4635ba4a04c32/details","https://viewer.us-3.sharpershape.services/viewer/issues/5ecf8c96a03e66000131099a/details","high","W12153189N3953160 WYANDOTTE 1105","[GrayPine, Other, DouglasFir]","GrayPine"]
[1780,"NORTHERN","NORTH VALLEY","Tier 2-3","102911105 Tier 2-3",102911105,"WYANDOTTE 1105",60.2,39.52861,-121.5206,null,77.599999999999994,"W12152060N3952861",44.7,-7.9,"YES","W12152014N3952914","W12152053N3952877","W12152053N3952877-W12152014N3952914",102911105,"WYANDOTTE 1105",null,"2019-11-20T17:46:46",null,null,"Not assessed","https://viewer.us-3.sharpershape.services/viewer/assets/5ca5a2c6f6b463d0f3a04a55/details","https://viewer.us-3.sharpershape.services/viewer/issues/5ecf8c9734b60c00015ec20f/details","high","W12152060N3952861 WYANDOTTE 1105","[Other, LiveOak, MontereyPine]","Other"]
[1781,"NORTHERN","NORTH VALLEY","Tier 0-1","102911105 Tier 0-1",102911105,"WYANDOTTE 1105",52.7,39.524719999999903,-121.52204999999999,null,78.5,"W12152205N3952472",41.8,-11.6,"YES","W12152121N3952468","W12152223N3952454","W12152223N3952454-W12152121N3952468",102911105,"WYANDOTTE 1105",null,"2019-11-20T17:46:46",null,null,"Not assessed","https://viewer.us-3.sharpershape.services/viewer/assets/5ca5a2c6f6b4634c98a0504c/details","https://viewer.us-3.sharpershape.services/viewer/issues/5ecf8c9634b60c00015ec146/details","high","W12152205N3952472 WYANDOTTE 1105","[GrayPine, Other, CoastalLiveOak]","GrayPine"]
[1782,"NORTHERN","NORTH VALLEY","Tier 2-3","102911105 Tier 2-3",102911105,"WYANDOTTE 1105",78.900000000000006,39.529499999999899,-121.530389999999,null,86.2,"W12153039N3952950",61.2,1,"NO","W12152988N3952972","W12153068N3952972","W12153068N3952972-W12152988N3952972",102911105,"WYANDOTTE 1105",null,"2019-11-20T17:46:46",null,null,"Not assessed","https://viewer.us-3.sharpershape.services/viewer/assets/5d89b6cc55dd6b81633f2eff/details","https://viewer.us-3.sharpershape.services/viewer/issues/5ecf8c9934b60c00015ec345/details","high","W12153039N3952950 WYANDOTTE 1105","[Other, DouglasFir, Eucalyptus/BlueGum]","Other"]
[1783,"NORTHERN","NORTH VALLEY","Tier 2-3","102911105 Tier 2-3",102911105,"WYANDOTTE 1105",36.799999999999997,39.530369999999898,-121.531779999999,null,39.5,"W12153178N3953037",20.1999999999999,8.6,"NO","W12153206N3953048","W12153157N3953048","W12153157N3953048-W12153206N3953048",102911105,"WYANDOTTE 1105",null,"2019-11-20T17:46:46",null,null,"Not assessed","https://viewer.us-3.sharpershape.services/viewer/assets/5ca5a2c6f6b4633db9a04a98/details","https://viewer.us-3.sharpershape.services/viewer/issues/5ecf8c9634b60c00015ec13d/details","high","W12153178N3953037 WYANDOTTE 1105","[DouglasFir, LiveOak, MontereyPine]","DouglasFir"]
[1784,"NORTHERN","NORTH VALLEY","Tier 0-1","102911105 Tier 0-1",102911105,"WYANDOTTE 1105",26,39.525469999999899,-121.534549999999,null,46.2,"W12153455N3952547",17.899999999999999,-6.2,"YES","W12153390N3952564","W12153462N3952554","W12153462N3952554-W12153390N3952564",102911105,"WYANDOTTE 1105",null,"2019-11-20T17:46:46",null,null,"Not assessed","https://viewer.us-3.sharpershape.services/viewer/assets/5ca5a2c6f6b463cfd6a04cce/details","https://viewer.us-3.sharpershape.services/viewer/issues/5ecf8c9834b60c00015ec278/details","high","W12153455N3952547 WYANDOTTE 1105","[GrayPine, DouglasFir, CoastalLiveOak]","GrayPine"]
[1785,"NORTHERN","NORTH VALLEY","Tier 2-3","102911105 Tier 2-3",102911105,"WYANDOTTE 1105",53.8,39.527069999999902,-121.529269999999,null,99.299999999999898,"W12152927N3952707",41.2,-39.700000000000003,"YES","W12152907N3952726","W12152971N3952716","W12152971N3952716-W12152907N3952726",102911105,"WYANDOTTE 1105",null,"2019-11-20T17:46:46",null,null,"Not assessed","https://viewer.us-3.sharpershape.services/viewer/assets/5ca5a2c6f6b4635805a04cab/details","https://viewer.us-3.sharpershape.services/viewer/issues/5ecf8c9734b60c00015ec1f0/details","high","W12152927N3952707 WYANDOTTE 1105","[GrayPine, Eucalyptus/BlueGum, DouglasFir]","GrayPine"]
[1786,"NORTHERN","NORTH VALLEY","Tier 2-3","102911105 Tier 2-3",102911105,"WYANDOTTE 1105",7,39.5414999999999,-121.54219999999999,null,22.6999999999999,"W12154220N3954150",6.8,5.6,"NO","W12154206N3954186","W12154249N3954102","W12154249N3954102-W12154206N3954186",102911105,"WYANDOTTE 1105",null,"2019-11-20T17:46:46",null,null,"Not assessed","https://viewer.us-3.sharpershape.services/viewer/assets/5ca5a2c6f6b4631d52a04cea/details","https://viewer.us-3.sharpershape.services/viewer/issues/5ecf8c98a03e660001310bef/details","high","W12154220N3954150 WYANDOTTE 1105","[CoastalLiveOak, DouglasFir, Other]","CoastalLiveOak"]
[1787,"NORTHERN","NORTH VALLEY","Tier 2-3","102911105 Tier 2-3",102911105,"WYANDOTTE 1105",11.9,39.531549999999903,-121.539289999999,null,40.899999999999899,"W12153929N3953155",4.5,-7.9,"YES","W12153907N3953151","W12153966N3953151","W12153966N3953151-W12153907N3953151",102911105,"WYANDOTTE 1105",null,"2019-11-20T17:46:46",null,null,"Not assessed","https://viewer.us-3.sharpershape.services/viewer/assets/5ca5a2c6f6b463a79da04e35/details","https://viewer.us-3.sharpershape.services/viewer/issues/5ecf8c9234b60c00015ebfec/details","high","W12153929N3953155 WYANDOTTE 1105","[LiveOak, DouglasFir, Other]","LiveOak"]
[1788,"NORTHERN","NORTH VALLEY","Tier 2-3","102911105 Tier 2-3",102911105,"WYANDOTTE 1105",19.100000000000001,39.532550000000001,-121.540859999999,null,45,"W12154086N3953255",7.4,2.4,"NO","W12154073N3953285","W12154086N3953214","W12154086N3953214-W12154073N3953285",102911105,"WYANDOTTE 1105",null,"2019-11-20T17:46:46",null,null,"Not assessed","https://viewer.us-3.sharpershape.services/viewer/assets/5ca5a2c6f6b4635017a04ad1/details","https://viewer.us-3.sharpershape.services/viewer/issues/5ecf8c96a03e6600013109ba/details","high","W12154086N3953255 WYANDOTTE 1105","[DouglasFir, Eucalyptus/BlueGum, MontereyPine]","DouglasFir"]
[1789,"NORTHERN","NORTH VALLEY","Tier 2-3","102911105 Tier 2-3",102911105,"WYANDOTTE 1105",41.8,39.522199999999998,-121.538209999999,null,48.3,"W12153821N3952220",32.6,1.8,"NO","W12153791N3952249","W12153812N3952205","W12153812N3952205-W12153791N3952249",102911105,"WYANDOTTE 1105",null,"2019-11-20T17:46:46",null,null,"Not assessed","https://viewer.us-3.sharpershape.services/viewer/assets/5ca5a2c6f6b46356cda04a7c/details","https://viewer.us-3.sharpershape.services/viewer/issues/5ecf8c93a03e660001310895/details","high","W12153821N3952220 WYANDOTTE 1105","[GrayPine, Other, DouglasFir]","GrayPine"]
[1790,"NORTHERN","NORTH VALLEY","Tier 2-3","102911105 Tier 2-3",102911105,"WYANDOTTE 1105",21.9,39.5218899999999,-121.53887,null,33.700000000000003,"W12153887N3952189",7.2,6,"NO","W12153812N3952205","W12153891N3952195","W12153891N3952195-W12153812N3952205",102911105,"WYANDOTTE 1105",null,"2019-11-20T17:46:46",null,null,"Not assessed","https://viewer.us-3.sharpershape.services/viewer/assets/5ca5a2c6f6b463d5b0a04bae/details","https://viewer.us-3.sharpershape.services/viewer/issues/5ecf8c98a03e660001310b16/details","high","W12153887N3952189 WYANDOTTE 1105","[GrayPine, Other, MontereyPine]","GrayPine"]
[1791,"NORTHERN","NORTH VALLEY","Tier 2-3","102911105 Tier 2-3",102911105,"WYANDOTTE 1105",19.600000000000001,39.528949999999902,-121.52624,null,42.899999999999899,"W12152624N3952895",5.5,-7.4,"YES","W12152596N3952916","W12152680N3952875","W12152680N3952875-W12152596N3952916",102911105,"WYANDOTTE 1105",null,"2019-11-20T17:46:46",null,null,"Not assessed","https://viewer.us-3.sharpershape.services/viewer/assets/5ca5a2c6f6b463c0bba05089/details","https://viewer.us-3.sharpershape.services/viewer/issues/5ecf8c96a03e660001310a16/details","high","W12152624N3952895 WYANDOTTE 1105","[DouglasFir, Other, CoastalLiveOak]","DouglasFir"]
[1792,"NORTHERN","NORTH VALLEY","Tier 2-3","102911105 Tier 2-3",102911105,"WYANDOTTE 1105",30.1999999999999,39.531669999999899,-121.54097,null,48.399999999999899,"W12154097N3953167",23.8,-5.6,"YES","W12154086N3953214","W12154084N3953131","W12154084N3953131-W12154086N3953214",102911105,"WYANDOTTE 1105",null,"2019-11-20T17:46:46",null,null,"Not assessed","https://viewer.us-3.sharpershape.services/viewer/assets/5ca5a2c6f6b4630944a04ef1/details","https://viewer.us-3.sharpershape.services/viewer/issues/5ecf8c98a03e660001310b67/details","high","W12154097N3953167 WYANDOTTE 1105","[GrayPine, Other, DouglasFir]","GrayPine"]
[1793,"NORTHERN","NORTH VALLEY","Tier 2-3","102911105 Tier 2-3",102911105,"WYANDOTTE 1105",15,39.5282699999999,-121.53386999999999,null,35.5,"W12153387N3952827",6.2,-0.2,"YES","W12153427N3952831","W12153379N3952832","W12153379N3952832-W12153427N3952831",102911105,"WYANDOTTE 1105",null,"2019-11-20T17:46:46",null,null,"Not assessed","https://viewer.us-3.sharpershape.services/viewer/assets/5ca5a2c6f6b463cb9ba04f05/details","https://viewer.us-3.sharpershape.services/viewer/issues/5ecf8c9734b60c00015ec192/details","high","W12153387N3952827 WYANDOTTE 1105","[CoastalLiveOak, Other, ValleyOak]","CoastalLiveOak"]
[1794,"NORTHERN","NORTH VALLEY","Tier 2-3","102911105 Tier 2-3",102911105,"WYANDOTTE 1105",39.799999999999997,39.530059999999899,-121.52011,null,72.799999999999898,"W12152011N3953006",27.1,-17.6999999999999,"YES","W12151936N3952926","W12152005N3953021","W12152005N3953021-W12151936N3952926",102911105,"WYANDOTTE 1105",null,"2019-11-20T17:46:46",null,null,"Not assessed","https://viewer.us-3.sharpershape.services/viewer/assets/5ca5a2c6f6b463d94da04bdf/details","https://viewer.us-3.sharpershape.services/viewer/issues/5ecf8c9834b60c00015ec2c9/details","high","W12152011N3953006 WYANDOTTE 1105","[Other, CoastalLiveOak, MontereyPine]","Other"]
[1795,"NORTHERN","NORTH VALLEY","Tier 2-3","102911105 Tier 2-3",102911105,"WYANDOTTE 1105",56.1,39.532640000000001,-121.531849999999,null,51.899999999999899,"W12153185N3953264",36.200000000000003,9.1999999999999993,"NO","W12153205N3953285","W12153205N3953245","W12153205N3953245-W12153205N3953285",102911105,"WYANDOTTE 1105",null,"2019-11-20T17:46:46",null,null,"Not assessed","https://viewer.us-3.sharpershape.services/viewer/assets/5ca5a2c6f6b46321caa04c4b/details","https://viewer.us-3.sharpershape.services/viewer/issues/5ecf8c9934b60c00015ec355/details","high","W12153185N3953264 WYANDOTTE 1105","[TanOak, LiveOak, Other]","TanOak"]
[1796,"NORTHERN","NORTH VALLEY","Tier 2-3","102911105 Tier 2-3",102911105,"WYANDOTTE 1105",3.6,39.52628,-121.53533,null,24.9,"W12153533N3952628",7.6,8.6999999999999993,"NO","W12153537N3952598","W12153535N3952637","W12153535N3952637-W12153537N3952598",102911105,"WYANDOTTE 1105",null,"2019-11-20T17:46:46",null,null,"Not assessed","https://viewer.us-3.sharpershape.services/viewer/assets/5ca5a2c6f6b4634b4fa04e4e/details","https://viewer.us-3.sharpershape.services/viewer/issues/5ecf8c92a03e66000131083f/details","high","W12153533N3952628 WYANDOTTE 1105","[Other, CoastalLiveOak, MontereyPine]","Other"]
[1797,"NORTHERN","NORTH VALLEY","Tier 2-3","102911105 Tier 2-3",102911105,"WYANDOTTE 1105",22,39.530560000000001,-121.53663,null,36.799999999999997,"W12153663N3953056",11,1,"NO","W12153771N3953063","W12153655N3953063","W12153655N3953063-W12153771N3953063",102911105,"WYANDOTTE 1105",null,"2019-11-20T17:46:46",null,null,"Not assessed","https://viewer.us-3.sharpershape.services/viewer/assets/5ca5a2c6f6b4639bcca05130/details","https://viewer.us-3.sharpershape.services/viewer/issues/5ecf8c91a03e660001310818/details","high","W12153663N3953056 WYANDOTTE 1105","[DouglasFir, LiveOak, GrayPine]","DouglasFir"]
[1798,"NORTHERN","NORTH VALLEY","Tier 2-3","102911105 Tier 2-3",102911105,"WYANDOTTE 1105",0.2,39.5322999999999,-121.53636,null,18.399999999999999,"W12153636N3953230",10.5,10.8,"NO","W12153557N3953230","W12153644N3953230","W12153644N3953230-W12153557N3953230",102911105,"WYANDOTTE 1105",null,"2019-11-20T17:46:46",null,null,"Not assessed","https://viewer.us-3.sharpershape.services/viewer/assets/5ca5a2c6f6b4630717a04d92/details","https://viewer.us-3.sharpershape.services/viewer/issues/5ecf8f0434b60c00015ecafe/details","high","W12153636N3953230 WYANDOTTE 1105","[TanOak, DouglasFir, LiveOak]","TanOak"]
[1799,"NORTHERN","NORTH VALLEY","Tier 2-3","102911105 Tier 2-3",102911105,"WYANDOTTE 1105",43.1,39.52778,-121.527749999999,null,28.5,"W12152775N3952778",7.2,19.1999999999999,"NO","W12152750N3952825","W12152800N3952774","W12152800N3952774-W12152750N3952825",102911105,"WYANDOTTE 1105",null,"2019-11-20T17:46:46",null,null,"Not assessed","https://viewer.us-3.sharpershape.services/viewer/assets/5ca5a2c6f6b4634ff7a05112/details","https://viewer.us-3.sharpershape.services/viewer/issues/5ecf8eb434b60c00015ec900/details","high","W12152775N3952778 WYANDOTTE 1105","[MontereyPine, GrayPine, DouglasFir]","MontereyPine"]
[1800,"NORTHERN","NORTH VALLEY","Tier 2-3","102911105 Tier 2-3",102911105,"WYANDOTTE 1105",25.8,39.526600000000002,-121.538619999999,null,35,"W12153862N3952660",11.7,23.6999999999999,"NO","W12153848N3952653","W12153928N3952652","W12153928N3952652-W12153848N3952653",102911105,"WYANDOTTE 1105",null,"2019-11-20T17:46:46",null,null,"Not assessed","https://viewer.us-3.sharpershape.services/viewer/assets/5ca5a2c6f6b463083da04d94/details","https://viewer.us-3.sharpershape.services/viewer/issues/5ecf8eab34b60c00015ec8ca/details","high","W12153862N3952660 WYANDOTTE 1105","[CoastalLiveOak, DouglasFir, LiveOak]","CoastalLiveOak"]
[1801,"NORTHERN","NORTH VALLEY","Tier 2-3","102911105 Tier 2-3",102911105,"WYANDOTTE 1105",22.8,39.528680000000001,-121.52678,null,34.399999999999899,"W12152678N3952868",9.9,6.1,"NO","W12152680N3952875","W12152750N3952825","W12152750N3952825-W12152680N3952875",102911105,"WYANDOTTE 1105",null,"2019-11-20T17:46:46",null,null,"Not assessed","https://viewer.us-3.sharpershape.services/viewer/assets/5ca5a2c6f6b46337c2a04be5/details","https://viewer.us-3.sharpershape.services/viewer/issues/5ecf8c9634b60c00015ec0ed/details","high","W12152678N3952868 WYANDOTTE 1105"]
[1802,"NORTHERN","NORTH VALLEY","Tier 2-3","102911105 Tier 2-3",102911105,"WYANDOTTE 1105",13.3,39.524429999999903,-121.51451,null,31.1999999999999,"W12151451N3952443",12,8.4,"NO","W12151459N3952471","W12151456N3952437","W12151456N3952437-W12151459N3952471",102911105,"WYANDOTTE 1105",null,"2019-11-20T17:46:46",null,null,"Not assessed","https://viewer.us-3.sharpershape.services/viewer/assets/5ca5a2c6f6b46347dfa04b7e/details","https://viewer.us-3.sharpershape.services/viewer/issues/5ecf8c95a03e660001310951/details","high","W12151451N3952443 WYANDOTTE 1105","[GrayPine, LiveOak, ValleyOak]","GrayPine"]
[1803,"NORTHERN","NORTH VALLEY","Tier 0-1","102911105 Tier 0-1",102911105,"WYANDOTTE 1105",61.1,39.5228299999999,-121.51254,null,58.899999999999899,"W12151254N3952283",47,9,"NO","W12151282N3952292","W12151196N3952324","W12151196N3952324-W12151282N3952292",102911105,"WYANDOTTE 1105",null,"2019-11-20T17:46:46",null,null,"Not assessed","https://viewer.us-3.sharpershape.services/viewer/assets/5ca5a2c6f6b463e9a0a04bb9/details","https://viewer.us-3.sharpershape.services/viewer/issues/5ecf8c98a03e660001310b96/details","high","W12151254N3952283 WYANDOTTE 1105","[DouglasFir, LiveOak, ValleyOak]","DouglasFir"]
[1804,"NORTHERN","NORTH VALLEY","Tier 2-3","102911105 Tier 2-3",102911105,"WYANDOTTE 1105",4.9000000000000004,39.5293899999999,-121.5313,null,20.3,"W12153130N3952939",11.3,9.8000000000000007,"NO","W12153130N3952973","W12153133N3952927","W12153133N3952927-W12153130N3952973",102911105,"WYANDOTTE 1105",null,"2019-11-20T17:46:46",null,null,"Not assessed","https://viewer.us-3.sharpershape.services/viewer/assets/5ca5a2c6f6b463b19aa050cd/details","https://viewer.us-3.sharpershape.services/viewer/issues/5ecf8c97a03e660001310add/details","high","W12153130N3952939 WYANDOTTE 1105","[TanOak, GrayPine, DouglasFir]","TanOak"]
[1805,"NORTHERN","NORTH VALLEY","Tier 2-3","102911105 Tier 2-3",102911105,"WYANDOTTE 1105",0.6,39.531549999999903,-121.526039999999,null,23.6,"W12152604N3953155",7,7.8,"NO","W12152604N3953139","W12152606N3953202","W12152606N3953202-W12152604N3953139",102911105,"WYANDOTTE 1105",null,"2019-11-20T17:46:46",null,null,"Not assessed","https://viewer.us-3.sharpershape.services/viewer/assets/5ca5a2c6f6b463cbbca04b3b/details","https://viewer.us-3.sharpershape.services/viewer/issues/5ecf8c98a03e660001310b88/details","high","W12152604N3953155 WYANDOTTE 1105","[GrayPine, DouglasFir, ValleyOak]","GrayPine"]
[1806,"NORTHERN","NORTH VALLEY","Tier 2-3","102911105 Tier 2-3",102911105,"WYANDOTTE 1105",18.8,39.52993,-121.51993,null,60.6,"W12151993N3952993",9.6999999999999993,-18.8,"YES","W12151936N3952926","W12152005N3953021","W12152005N3953021-W12151936N3952926",102911105,"WYANDOTTE 1105",null,"2019-11-20T17:46:46",null,null,"Not assessed","https://viewer.us-3.sharpershape.services/viewer/assets/5ca5a2c6f6b463d94da04bdf/details","https://viewer.us-3.sharpershape.services/viewer/issues/5ecf8c9834b60c00015ec2b8/details","high","W12151993N3952993 WYANDOTTE 1105","[Other, DouglasFir, GrayPine]","Other"]
[1807,"NORTHERN","NORTH VALLEY","Tier 2-3","102911105 Tier 2-3",102911105,"WYANDOTTE 1105",22.4,39.670749999999899,-121.497309999999,null,41.6,"W12149731N3967075",17.6999999999999,-15.9,"YES","W12149700N3966999","W12149727N3967099","W12149727N3967099-W12149700N3966999",0,"WYANDOTTE 1105",null,"2019-11-20T17:46:46",null,null,"Not assessed","https://viewer.us-3.sharpershape.services/viewer/assets/5ca5a2c6f6b4636b1ca05155/details","https://viewer.us-3.sharpershape.services/viewer/issues/5ecf8c9834b60c00015ec27a/details","high","W12149731N3967075 WYANDOTTE 1105","[ValleyOak, Other, CoastalLiveOak]","ValleyOak"]
[1808,"NORTHERN","NORTH VALLEY","Tier 2-3","102911105 Tier 2-3",102911105,"WYANDOTTE 1105",58,39.528849999999899,-121.5262,null,70.299999999999898,"W12152620N3952885",46.2,-10.9,"YES","W12152596N3952916","W12152680N3952875","W12152680N3952875-W12152596N3952916",102911105,"WYANDOTTE 1105",null,"2019-11-20T17:46:46",null,null,"Not assessed","https://viewer.us-3.sharpershape.services/viewer/assets/5ca5a2c6f6b463c0bba05089/details","https://viewer.us-3.sharpershape.services/viewer/issues/5ecf8c96a03e660001310a13/details","high","W12152620N3952885 WYANDOTTE 1105","[DouglasFir, MontereyPine, Other]","DouglasFir"]
[1809,"NORTHERN","NORTH VALLEY","Tier 2-3","102911105 Tier 2-3",102911105,"WYANDOTTE 1105",1.4,39.532219999999903,-121.53654,null,23.8,"W12153654N3953222",9.4,10.7,"NO","W12153655N3953211","W12153655N3953245","W12153655N3953245-W12153655N3953211",102911105,"WYANDOTTE 1105",null,"2019-11-20T17:46:46",null,null,"Not assessed","https://viewer.us-3.sharpershape.services/viewer/assets/5e1b0dc19b151b3f7bee8158/details","https://viewer.us-3.sharpershape.services/viewer/issues/5ecf8ec4a03e6600013111a4/details","high","W12153654N3953222 WYANDOTTE 1105","[Other, CoastalLiveOak, LiveOak]","Other"]
[1810,"NORTHERN","NORTH VALLEY","Tier 2-3","102911105 Tier 2-3",102911105,"WYANDOTTE 1105",16.8,39.527369999999898,-121.53542,null,79.099999999999994,"W12153542N3952737",7.5,-48.399999999999899,"YES","W12153535N3952774","W12153536N3952706","W12153536N3952706-W12153535N3952774",102911105,"WYANDOTTE 1105",null,"2019-11-20T17:46:46","OH",null,"Not assessed","https://viewer.us-3.sharpershape.services/viewer/assets/5ca5a2c6f6b463ada9a04fb0/details","https://viewer.us-3.sharpershape.services/viewer/issues/5ecf8c97a03e660001310a85/details","high","W12153542N3952737 WYANDOTTE 1105","[GrayPine, Other, DouglasFir]","GrayPine"]
[1811,"NORTHERN","NORTH VALLEY","Tier 0-1","102911105 Tier 0-1",102911105,"WYANDOTTE 1105",12.1,39.524679999999897,-121.521519999999,null,27.5,"W12152152N3952468",12,8.6,"NO","W12152121N3952468","W12152223N3952454","W12152223N3952454-W12152121N3952468",102911105,"WYANDOTTE 1105",null,"2019-11-20T17:46:46",null,null,"Not assessed","https://viewer.us-3.sharpershape.services/viewer/assets/5ca5a2c6f6b4634c98a0504c/details","https://viewer.us-3.sharpershape.services/viewer/issues/5ecf8c9634b60c00015ec144/details","high","W12152152N3952468 WYANDOTTE 1105","[GrayPine, TanOak, ValleyOak]","GrayPine"]
[1812,"NORTHERN","NORTH VALLEY","Tier 2-3","102911105 Tier 2-3",102911105,"WYANDOTTE 1105",6.4,39.672529999999902,-121.497249999999,null,16.899999999999899,"W12149725N3967253",5.2,0.3,"NO","W12149658N3967347","W12149755N3967217","W12149755N3967217-W12149658N3967347",0,"WYANDOTTE 1105",null,"2019-11-20T17:46:46",null,null,"Not assessed","https://viewer.us-3.sharpershape.services/viewer/assets/5ca5a2c6f6b463d89ea04e5a/details","https://viewer.us-3.sharpershape.services/viewer/issues/5ecf8c9834b60c00015ec2d8/details","high","W12149725N3967253 WYANDOTTE 1105"]
[1813,"NORTHERN","NORTH VALLEY","Tier 2-3","102911105 Tier 2-3",102911105,"WYANDOTTE 1105",0.1,39.538219999999903,-121.542519999999,null,22.1,"W12154252N3953822",7.8,7.9,"NO","W12154252N3953857","W12154250N3953758","W12154250N3953758-W12154252N3953857",102911105,"WYANDOTTE 1105",null,"2019-11-20T17:46:46",null,null,"Not assessed","https://viewer.us-3.sharpershape.services/viewer/assets/5ca5a2c6f6b463b67da04e4c/details","https://viewer.us-3.sharpershape.services/viewer/issues/5ecf8e94a03e660001311018/details","high","W12154252N3953822 WYANDOTTE 1105","[TanOak, ValleyOak, LiveOak]","TanOak"]
[1814,"NORTHERN","NORTH VALLEY","Tier 2-3","102911105 Tier 2-3",102911105,"WYANDOTTE 1105",32.399999999999899,39.532719999999898,-121.53879000000001,null,67.7,"W12153879N3953272",7.8,-27.1999999999999,"YES","W12153906N3953282","W12153848N3953281","W12153848N3953281-W12153906N3953282",102911105,"WYANDOTTE 1105",null,"2019-11-20T17:46:46",null,null,"Not assessed","https://viewer.us-3.sharpershape.services/viewer/assets/5ca5a2c6f6b46324baa04ba9/details","https://viewer.us-3.sharpershape.services/viewer/issues/5ecf8c9934b60c00015ec32d/details","high","W12153879N3953272 WYANDOTTE 1105","[Other, DouglasFir, Eucalyptus/BlueGum]","Other"]
[1815,"NORTHERN","NORTH VALLEY","Tier 2-3","102911105 Tier 2-3",102911105,"WYANDOTTE 1105",14.1,39.658359999999902,-121.505439999999,null,18.600000000000001,"W12150544N3965836",12,7,"NO","W12150545N3965863","W12150561N3965801","W12150561N3965801-W12150545N3965863",102911105,"WYANDOTTE 1105",null,"2019-11-20T17:46:46",null,null,"Not assessed","https://viewer.us-3.sharpershape.services/viewer/assets/5da559b2c545ca4e5107fbeb/details","https://viewer.us-3.sharpershape.services/viewer/issues/5ecf8c9aa03e660001310c61/details","high","W12150544N3965836 WYANDOTTE 1105"]
[1816,"NORTHERN","NORTH VALLEY","Tier 2-3","102911105 Tier 2-3",102911105,"WYANDOTTE 1105",77.400000000000006,39.530249999999903,-121.533349999999,null,76.099999999999994,"W12153335N3953025",63.7,8.1999999999999904,"NO","W12153355N3953046","W12153323N3953048","W12153323N3953048-W12153355N3953046",102911105,"WYANDOTTE 1105",null,"2019-11-20T17:46:46",null,null,"Not assessed","https://viewer.us-3.sharpershape.services/viewer/assets/5ca5a2c6f6b463e131a04ef3/details","https://viewer.us-3.sharpershape.services/viewer/issues/5ecf8c9834b60c00015ec23e/details","high","W12153335N3953025 WYANDOTTE 1105","[GrayPine, DouglasFir, Other]","GrayPine"]
[1817,"NORTHERN","NORTH VALLEY","Tier 2-3","102911105 Tier 2-3",102911105,"WYANDOTTE 1105",29.6999999999999,39.532249999999898,-121.53434,null,70.900000000000006,"W12153434N3953225",5.4,-21,"YES","W12153557N3953230","W12153419N3953235","W12153419N3953235-W12153557N3953230",102911105,"WYANDOTTE 1105",null,"2019-11-20T17:46:46",null,null,"Not assessed","https://viewer.us-3.sharpershape.services/viewer/assets/5ca5a2c6f6b463191ca04d93/details","https://viewer.us-3.sharpershape.services/viewer/issues/5ee2b430a03e66000146e42b/details","high","W12153434N3953225 WYANDOTTE 1105","[DouglasFir, GrayPine, Other]","DouglasFir"]
[1818,"NORTHERN","NORTH VALLEY","Tier 0-1","102911105 Tier 0-1",102911105,"WYANDOTTE 1105",67.900000000000006,39.525120000000001,-121.53556,null,68.099999999999895,"W12153556N3952512",48.6,3.1,"NO","W12153537N3952537","W12153590N3952523","W12153590N3952523-W12153537N3952537",102911105,"WYANDOTTE 1105",null,"2019-11-20T17:46:46",null,null,"Not assessed","https://viewer.us-3.sharpershape.services/viewer/assets/5ca5a2c6f6b4631c28a0517f/details","https://viewer.us-3.sharpershape.services/viewer/issues/5ecf8c90a03e660001310801/details","high","W12153556N3952512 WYANDOTTE 1105","[Other, CoastalLiveOak, MontereyPine]","Other"]
[1819,"NORTHERN","NORTH VALLEY","Tier 2-3","102911105 Tier 2-3",102911105,"WYANDOTTE 1105",37.399999999999899,39.526249999999898,-121.52119,null,44.6,"W12152119N3952625",24.6999999999999,6.6,"NO","W12152064N3952615","W12152124N3952614","W12152124N3952614-W12152064N3952615",102911105,"WYANDOTTE 1105",null,"2019-11-20T17:46:46",null,null,"Not assessed","https://viewer.us-3.sharpershape.services/viewer/assets/5ca5a2c6f6b463c7cfa0501b/details","https://viewer.us-3.sharpershape.services/viewer/issues/5ecf8c9634b60c00015ec12e/details","high","W12152119N3952625 WYANDOTTE 1105","[MontereyPine, CoastalLiveOak, DouglasFir]","MontereyPine"]
[1820,"NORTHERN","NORTH VALLEY","Tier 2-3","102911105 Tier 2-3",102911105,"WYANDOTTE 1105",17.899999999999999,39.531590000000001,-121.53604,null,47.5,"W12153604N3953159",5.0999999999999996,-12.5,"YES","W12153585N3953154","W12153654N3953154","W12153654N3953154-W12153585N3953154",102911105,"WYANDOTTE 1105",null,"2019-11-20T17:46:46",null,null,"Not assessed","https://viewer.us-3.sharpershape.services/viewer/assets/5ca5a2c6f6b46360cfa049fb/details","https://viewer.us-3.sharpershape.services/viewer/issues/5ecf8c9734b60c00015ec217/details","high","W12153604N3953159 WYANDOTTE 1105","[DouglasFir, Other, LiveOak]","DouglasFir"]
[1821,"NORTHERN","NORTH VALLEY","Tier 2-3","102911105 Tier 2-3",102911105,"WYANDOTTE 1105",15.8,39.5322999999999,-121.526119999999,null,42.7,"W12152612N3953230",7.4,1.2,"NO","W12152606N3953202","W12152605N3953235","W12152605N3953235-W12152606N3953202",102911105,"WYANDOTTE 1105",null,"2019-11-20T17:46:46",null,null,"Not assessed","https://viewer.us-3.sharpershape.services/viewer/assets/5ca5a2c6f6b4631991a04dcc/details","https://viewer.us-3.sharpershape.services/viewer/issues/5ecfe7bca03e660001334097/details","high","W12152612N3953230 WYANDOTTE 1105","[DouglasFir, GrayPine, Other]","DouglasFir"]
[1822,"NORTHERN","NORTH VALLEY","Tier 2-3","102911105 Tier 2-3",102911105,"WYANDOTTE 1105",21.3,39.53069,-121.535589999999,null,29.3,"W12153559N3953069",4.5,3.9,"NO","W12153538N3953063","W12153655N3953063","W12153655N3953063-W12153538N3953063",102911105,"WYANDOTTE 1105",null,"2019-11-20T17:46:46",null,null,"Not assessed","https://viewer.us-3.sharpershape.services/viewer/assets/5ca5a2c6f6b4638037a04ab3/details","https://viewer.us-3.sharpershape.services/viewer/issues/5ecf8c95a03e66000131092e/details","high","W12153559N3953069 WYANDOTTE 1105","[DouglasFir, CoastalLiveOak, Eucalyptus/BlueGum]","DouglasFir"]
[1823,"NORTHERN","NORTH VALLEY","Tier 2-3","102911105 Tier 2-3",102911105,"WYANDOTTE 1105",40.399999999999899,39.530859999999898,-121.531909999999,null,65.400000000000006,"W12153191N3953086",7.1,-16.1999999999999,"YES","W12153206N3953048","W12153207N3953097","W12153207N3953097-W12153206N3953048",102911105,"WYANDOTTE 1105",null,"2019-11-20T17:46:46",null,null,"Not assessed","https://viewer.us-3.sharpershape.services/viewer/assets/5ca5a2c6f6b46317dca04964/details","https://viewer.us-3.sharpershape.services/viewer/issues/5ecf8c95a03e660001310942/details","high","W12153191N3953086 WYANDOTTE 1105","[DouglasFir, LiveOak, GrayPine]","DouglasFir"]
[1824,"NORTHERN","NORTH VALLEY","Tier 2-3","102911105 Tier 2-3",102911105,"WYANDOTTE 1105",24.4,39.674160000000001,-121.496,null,36.1,"W12149600N3967416",12,9,"NO","W12149658N3967347","W12149590N3967413","W12149590N3967413-W12149658N3967347",0,"WYANDOTTE 1105",null,"2019-11-20T17:46:46",null,null,"Not assessed","https://viewer.us-3.sharpershape.services/viewer/assets/5ca5a2c6f6b463ad06a0497a/details","https://viewer.us-3.sharpershape.services/viewer/issues/5ecf8c9234b60c00015ec014/details","high","W12149600N3967416 WYANDOTTE 1105","[CoastalLiveOak, MontereyPine, DouglasFir]","CoastalLiveOak"]
[1825,"NORTHERN","NORTH VALLEY","Tier 2-3","102911105 Tier 2-3",102911105,"WYANDOTTE 1105",29.5,39.524629999999902,-121.53694,null,46.6,"W12153694N3952463",12,-3.1,"YES","W12153682N3952487","W12153716N3952455","W12153716N3952455-W12153682N3952487",102911105,"WYANDOTTE 1105",null,"2019-11-20T17:46:46",null,null,"Not assessed","https://viewer.us-3.sharpershape.services/viewer/assets/5ca5a2c6f6b4630bb0a049ec/details","https://viewer.us-3.sharpershape.services/viewer/issues/5ecf8c9834b60c00015ec25c/details","high","W12153694N3952463 WYANDOTTE 1105","[Other, DouglasFir, TanOak]","Other"]
[1826,"NORTHERN","NORTH VALLEY","Tier 0-1","102911105 Tier 0-1",102911105,"WYANDOTTE 1105",6.7,39.522559999999899,-121.513509999999,null,25.5,"W12151351N3952256",10.5,17.100000000000001,"NO","W12151335N3952254","W12151389N3952251","W12151389N3952251-W12151335N3952254",102911105,"WYANDOTTE 1105",null,"2019-11-20T17:46:46",null,null,"Not assessed","https://viewer.us-3.sharpershape.services/viewer/assets/5d8b1edb55dd6b072e3f3024/details","https://viewer.us-3.sharpershape.services/viewer/issues/5ecf8e8ba03e660001310fe2/details","high","W12151351N3952256 WYANDOTTE 1105","[Other, DouglasFir, LiveOak]","Other"]
[1827,"NORTHERN","NORTH VALLEY","Tier 2-3","102911105 Tier 2-3",102911105,"WYANDOTTE 1105",10.9,39.5321199999999,-121.53211,null,23.1,"W12153211N3953212",7.1,6.7,"NO","W12153205N3953245","W12153206N3953192","W12153206N3953192-W12153205N3953245",102911105,"WYANDOTTE 1105",null,"2019-11-20T17:46:46",null,null,"Not assessed","https://viewer.us-3.sharpershape.services/viewer/assets/5ca5a2c6f6b463299fa04cf2/details","https://viewer.us-3.sharpershape.services/viewer/issues/5ecf8c9934b60c00015ec37d/details","high","W12153211N3953212 WYANDOTTE 1105","[CoastalLiveOak, DouglasFir, Eucalyptus/BlueGum]","CoastalLiveOak"]
[1828,"NORTHERN","NORTH VALLEY","Tier 2-3","102911105 Tier 2-3",102911105,"WYANDOTTE 1105",4.8,39.530139999999903,-121.526,null,19.600000000000001,"W12152600N3953014",12,4.8,"NO","W12152603N3952974","W12152603N3953064","W12152603N3953064-W12152603N3952974",102911105,"WYANDOTTE 1105",null,"2019-11-20T17:46:46",null,null,"Not assessed","https://viewer.us-3.sharpershape.services/viewer/assets/5ca5a2c6f6b463cd78a04dbd/details","https://viewer.us-3.sharpershape.services/viewer/issues/5ecf8c98a03e660001310bdd/details","high","W12152600N3953014 WYANDOTTE 1105","[GrayPine, ValleyOak, DouglasFir]","GrayPine"]
[1829,"NORTHERN","NORTH VALLEY","Tier 2-3","102911105 Tier 2-3",102911105,"WYANDOTTE 1105",40.5,39.5319,-121.536389999999,null,45.399999999999899,"W12153639N3953190",25.1,2.7,"NO","W12153654N3953154","W12153655N3953211","W12153655N3953211-W12153654N3953154",102911105,"WYANDOTTE 1105",null,"2019-11-20T17:46:46",null,null,"Not assessed","https://viewer.us-3.sharpershape.services/viewer/assets/5ca5a2c6f6b463875ba04bda/details","https://viewer.us-3.sharpershape.services/viewer/issues/5ecf8c9534b60c00015ec094/details","high","W12153639N3953190 WYANDOTTE 1105","[Other, ValleyOak, DouglasFir]","Other"]
[1830,"NORTHERN","NORTH VALLEY","Tier 2-3","102911105 Tier 2-3",102911105,"WYANDOTTE 1105",23.9,39.531689999999898,-121.5177,null,43.3,"W12151770N3953169",12,9,"NO","W12151822N3953157","W12151765N3953162","W12151765N3953162-W12151822N3953157",102911105,"WYANDOTTE 1105",null,"2019-11-20T17:46:46",null,null,"Not assessed","https://viewer.us-3.sharpershape.services/viewer/assets/5ca5a2c6f6b463f67aa051de/details","https://viewer.us-3.sharpershape.services/viewer/issues/5ecf8c9734b60c00015ec19a/details","high","W12151770N3953169 WYANDOTTE 1105","[DouglasFir, Other, CoastalLiveOak]","DouglasFir"]
[1831,"NORTHERN","NORTH VALLEY","Tier 2-3","102911105 Tier 2-3",102911105,"WYANDOTTE 1105",81,39.537199999999899,-121.542209999999,null,87.299999999999898,"W12154221N3953720",62.7,-3.2,"YES","W12154253N3953660","W12154250N3953758","W12154250N3953758-W12154253N3953660",102911105,"WYANDOTTE 1105",null,"2019-11-20T17:46:46",null,null,"Not assessed","https://viewer.us-3.sharpershape.services/viewer/assets/5ca5a2c6f6b4637989a05102/details","https://viewer.us-3.sharpershape.services/viewer/issues/5ecf8c9734b60c00015ec1b6/details","high","W12154221N3953720 WYANDOTTE 1105","[DouglasFir, Eucalyptus/BlueGum, BlackOak]","DouglasFir"]
[1832,"NORTHERN","NORTH VALLEY","Tier 2-3","102911105 Tier 2-3",102911105,"WYANDOTTE 1105",22.6,39.525100000000002,-121.53811,null,42,"W12153811N3952510",7.4,-0.7,"YES","W12153745N3952470","W12153809N3952504","W12153809N3952504-W12153745N3952470",102911105,"WYANDOTTE 1105",null,"2019-11-20T17:46:46",null,null,"Not assessed","https://viewer.us-3.sharpershape.services/viewer/assets/5ca5a2c6f6b4638d21a051a2/details","https://viewer.us-3.sharpershape.services/viewer/issues/5ecf8c95a03e66000131093a/details","high","W12153811N3952510 WYANDOTTE 1105","[DouglasFir, GrayPine, Other]","DouglasFir"]
[1833,"NORTHERN","NORTH VALLEY","Tier 2-3","102911105 Tier 2-3",102911105,"WYANDOTTE 1105",40.399999999999899,39.532550000000001,-121.53404,null,45.8,"W12153404N3953255",8.1999999999999904,4.8,"NO","W12153419N3953235","W12153421N3953300","W12153421N3953300-W12153419N3953235",102911105,"WYANDOTTE 1105",null,"2019-11-20T17:46:46",null,null,"Not assessed","https://viewer.us-3.sharpershape.services/viewer/assets/5ca5a2c6f6b4635c05a05132/details","https://viewer.us-3.sharpershape.services/viewer/issues/5ee2b42f34b60c0001746b67/details","high","W12153404N3953255 WYANDOTTE 1105","[GrayPine, BlackOak, Other]","GrayPine"]
[1834,"NORTHERN","NORTH VALLEY","Tier 2-3","102911105 Tier 2-3",102911105,"WYANDOTTE 1105",25.1999999999999,39.527830000000002,-121.53386,null,37.1,"W12153386N3952783",8.6,20.6,"NO","W12153270N3952789","W12153385N3952791","W12153385N3952791-W12153270N3952789",102911105,"WYANDOTTE 1105",null,"2019-11-20T17:46:46",null,null,"Not assessed","https://viewer.us-3.sharpershape.services/viewer/assets/5ca5a2c6f6b463466ba049bf/details","https://viewer.us-3.sharpershape.services/viewer/issues/5ecf8ed934b60c00015ec9f8/details","high","W12153386N3952783 WYANDOTTE 1105","[CoastalLiveOak, Other, GrayPine]","CoastalLiveOak"]
[1835,"NORTHERN","NORTH VALLEY","Tier 2-3","102911105 Tier 2-3",102911105,"WYANDOTTE 1105",38.5,39.532069999999898,-121.53404999999999,null,48.3,"W12153405N3953207",16.6999999999999,-1.4,"YES","W12153419N3953172","W12153419N3953235","W12153419N3953235-W12153419N3953172",102911105,"WYANDOTTE 1105",null,"2019-11-20T17:46:46",null,null,"Not assessed","https://viewer.us-3.sharpershape.services/viewer/assets/5ca5a2c6f6b463ef61a04c9e/details","https://viewer.us-3.sharpershape.services/viewer/issues/5ee2b42e34b60c0001746b4c/details","high","W12153405N3953207 WYANDOTTE 1105","[LiveOak, Other, TanOak]","LiveOak"]
[1836,"NORTHERN","NORTH VALLEY","Tier 2-3","102911105 Tier 2-3",102911105,"WYANDOTTE 1105",0.1,39.529979999999902,-121.526029999999,null,22,"W12152603N3952998",5.0999999999999996,5.2,"NO","W12152603N3952974","W12152603N3953064","W12152603N3953064-W12152603N3952974",102911105,"WYANDOTTE 1105",null,"2019-11-20T17:46:46",null,null,"Not assessed","https://viewer.us-3.sharpershape.services/viewer/assets/5ca5a2c6f6b463cd78a04dbd/details","https://viewer.us-3.sharpershape.services/viewer/issues/5ecf8efa34b60c00015ecac6/details","high","W12152603N3952998 WYANDOTTE 1105","[DouglasFir, GrayPine, ValleyOak]","DouglasFir"]
[1837,"NORTHERN","NORTH VALLEY","Tier 0-1","102911105 Tier 0-1",102911105,"WYANDOTTE 1105",0.7,39.52543,-121.53305,null,26.5,"W12153305N3952543",12,8.5,"NO","W12153312N3952549","W12153279N3952515","W12153279N3952515-W12153312N3952549",102911105,"WYANDOTTE 1105",null,"2019-11-20T17:46:46",null,null,"Not assessed","https://viewer.us-3.sharpershape.services/viewer/assets/5ca5a2c6f6b463ab92a051ae/details","https://viewer.us-3.sharpershape.services/viewer/issues/5ecf8c9534b60c00015ec0bb/details","high","W12153305N3952543 WYANDOTTE 1105","[TanOak, DouglasFir, LiveOak]","TanOak"]
[1838,"NORTHERN","NORTH VALLEY","Tier 2-3","102911105 Tier 2-3",102911105,"WYANDOTTE 1105",30.6999999999999,39.529179999999897,-121.52025,null,81.099999999999994,"W12152025N3952918",10,-31,"YES","W12152014N3952914","W12152053N3952877","W12152053N3952877-W12152014N3952914",102911105,"WYANDOTTE 1105",null,"2019-11-20T17:46:46","OH",null,"Not assessed","https://viewer.us-3.sharpershape.services/viewer/assets/5ca5a2c6f6b463d0f3a04a55/details","https://viewer.us-3.sharpershape.services/viewer/issues/5ecf8c9734b60c00015ec20c/details","high","W12152025N3952918 WYANDOTTE 1105","[GrayPine, Other, DouglasFir]","GrayPine"]
[1839,"NORTHERN","NORTH VALLEY","Tier 2-3","102911105 Tier 2-3",102911105,"WYANDOTTE 1105",16.100000000000001,39.530180000000001,-121.52158,null,29.6,"W12152158N3953018",8,9.3000000000000007,"NO","W12152184N3953012","W12152091N3953014","W12152091N3953014-W12152184N3953012",102911105,"WYANDOTTE 1105",null,"2019-11-20T17:46:46",null,null,"Not assessed","https://viewer.us-3.sharpershape.services/viewer/assets/5ca5a2c6f6b463611da04cf7/details","https://viewer.us-3.sharpershape.services/viewer/issues/5ecf8c97a03e660001310a94/details","high","W12152158N3953018 WYANDOTTE 1105","[GrayPine, Other, CoastalLiveOak]","GrayPine"]
[1840,"NORTHERN","NORTH VALLEY","Tier 2-3","102911105 Tier 2-3",102911105,"WYANDOTTE 1105",16.899999999999899,39.67268,-121.49709,null,16.6999999999999,"W12149709N3967268",7,5.3,"NO","W12149658N3967347","W12149755N3967217","W12149755N3967217-W12149658N3967347",0,"WYANDOTTE 1105",null,"2019-11-20T17:46:46",null,null,"Not assessed","https://viewer.us-3.sharpershape.services/viewer/assets/5ca5a2c6f6b463d89ea04e5a/details","https://viewer.us-3.sharpershape.services/viewer/issues/5ecf8c9834b60c00015ec2de/details","high","W12149709N3967268 WYANDOTTE 1105"]
[1841,"NORTHERN","NORTH VALLEY","Tier 2-3","102911105 Tier 2-3",102911105,"WYANDOTTE 1105",36.899999999999899,39.539760000000001,-121.542469999999,null,80.7,"W12154247N3953976",14.9,-43.399999999999899,"YES","W12154261N3953987","W12154263N3953924","W12154263N3953924-W12154261N3953987",102911105,"WYANDOTTE 1105",null,"2019-11-20T17:46:46",null,null,"Not assessed","https://viewer.us-3.sharpershape.services/viewer/assets/5ca5a2c6f6b4637988a04a3e/details","https://viewer.us-3.sharpershape.services/viewer/issues/5ecf8c93a03e66000131087b/details","high","W12154247N3953976 WYANDOTTE 1105","[GrayPine, DouglasFir, Eucalyptus/BlueGum]","GrayPine"]
[1842,"NORTHERN","NORTH VALLEY","Tier 2-3","102911105 Tier 2-3",102911105,"WYANDOTTE 1105",8.6999999999999993,39.530090000000001,-121.52598999999999,null,22.6999999999999,"W12152599N3953009",4.9000000000000004,2.2999999999999998,"NO","W12152603N3952974","W12152603N3953064","W12152603N3953064-W12152603N3952974",102911105,"WYANDOTTE 1105",null,"2019-11-20T17:46:46",null,null,"Not assessed","https://viewer.us-3.sharpershape.services/viewer/assets/5ca5a2c6f6b463cd78a04dbd/details","https://viewer.us-3.sharpershape.services/viewer/issues/5ecf8c98a03e660001310bda/details","high","W12152599N3953009 WYANDOTTE 1105","[GrayPine, ValleyOak, DouglasFir]","GrayPine"]
[1843,"NORTHERN","NORTH VALLEY","Tier 2-3","102911105 Tier 2-3",102911105,"WYANDOTTE 1105",21.5,39.532759999999897,-121.539159999999,null,25.9,"W12153916N3953276",12.7,9.4,"NO","W12153906N3953282","W12153944N3953282","W12153944N3953282-W12153906N3953282",102911105,"WYANDOTTE 1105",null,"2019-11-20T17:46:46",null,null,"Not assessed","https://viewer.us-3.sharpershape.services/viewer/assets/5ca5a2c6f6b463739ea04cfc/details","https://viewer.us-3.sharpershape.services/viewer/issues/5ecf8c9534b60c00015ec07d/details","high","W12153916N3953276 WYANDOTTE 1105","[DouglasFir, CoastalLiveOak, Other]","DouglasFir"]
[1844,"NORTHERN","NORTH VALLEY","Tier 2-3","102911105 Tier 2-3",102911105,"WYANDOTTE 1105",28.8,39.67436,-121.49581000000001,null,54.899999999999899,"W12149581N3967436",22.3,4.2,"NO","W12149590N3967413","W12149366N3967635","W12149366N3967635-W12149590N3967413",102911105,"WYANDOTTE 1105",null,"2019-11-20T17:46:46",null,null,"Not assessed","https://viewer.us-3.sharpershape.services/viewer/assets/5ca5a2c6f6b46310cea04dc9/details","https://viewer.us-3.sharpershape.services/viewer/issues/5ecf8c92a03e66000131084e/details","high","W12149581N3967436 WYANDOTTE 1105","[MontereyPine, DouglasFir, Eucalyptus/BlueGum]","MontereyPine"]
[1845,"NORTHERN","NORTH VALLEY","Tier 2-3","102911105 Tier 2-3",102911105,"WYANDOTTE 1105",26.6999999999999,39.524909999999899,-121.5147,null,26.1999999999999,"W12151470N3952491",9.5,21.5,"NO","W12151459N3952471","W12151461N3952559","W12151461N3952559-W12151459N3952471",102911105,"WYANDOTTE 1105",null,"2019-11-20T17:46:46",null,null,"Not assessed","https://viewer.us-3.sharpershape.services/viewer/assets/5d8b1e506476d7eadd5dd3a0/details","https://viewer.us-3.sharpershape.services/viewer/issues/5ecf957ea03e66000131209c/details","high","W12151470N3952491 WYANDOTTE 1105"]
[1846,"NORTHERN","NORTH VALLEY","Tier 2-3","102911105 Tier 2-3",102911105,"WYANDOTTE 1105",20.399999999999999,39.530989999999903,-121.539159999999,null,22.5,"W12153916N3953099",8.1999999999999904,20.1999999999999,"NO","W12153907N3953103","W12153908N3953063","W12153908N3953063-W12153907N3953103",102911105,"WYANDOTTE 1105",null,"2019-11-20T17:46:46",null,null,"Not assessed","https://viewer.us-3.sharpershape.services/viewer/assets/5ca5a2c6f6b463538ea050f7/details","https://viewer.us-3.sharpershape.services/viewer/issues/5ecf954fa03e660001311f46/details","high","W12153916N3953099 WYANDOTTE 1105","[GrayPine, Other, DouglasFir]","GrayPine"]
[1847,"NORTHERN","NORTH VALLEY","Tier 2-3","102911105 Tier 2-3",102911105,"WYANDOTTE 1105",25.3,39.52675,-121.53546,null,46.7,"W12153546N3952675",9.3000000000000007,-5.2,"YES","W12153535N3952637","W12153536N3952706","W12153536N3952706-W12153535N3952637",102911105,"WYANDOTTE 1105",null,"2019-11-20T17:46:46",null,null,"Not assessed","https://viewer.us-3.sharpershape.services/viewer/assets/5e7a18565dcbeb387a17baf6/details","https://viewer.us-3.sharpershape.services/viewer/issues/5ecf8c9934b60c00015ec399/details","high","W12153546N3952675 WYANDOTTE 1105","[DouglasFir, CoastalLiveOak, Eucalyptus/BlueGum]","DouglasFir"]
[1848,"NORTHERN","NORTH VALLEY","Tier 2-3","102911105 Tier 2-3",102911105,"WYANDOTTE 1105",0.9,39.53002,-121.522279999999,null,28.4,"W12152228N3953002",4.9000000000000004,5.8,"NO","W12152284N3952992","W12152184N3953012","W12152184N3953012-W12152284N3952992",102911105,"WYANDOTTE 1105",null,"2019-11-20T17:46:46",null,null,"Not assessed","https://viewer.us-3.sharpershape.services/viewer/assets/5ca5a2c6f6b4639636a0497c/details","https://viewer.us-3.sharpershape.services/viewer/issues/5ee2b979a03e66000146e4a8/details","high","W12152228N3953002 WYANDOTTE 1105","[GrayPine, MontereyPine, Other]","GrayPine"]
[1849,"NORTHERN","NORTH VALLEY","Tier 2-3","102911105 Tier 2-3",102911105,"WYANDOTTE 1105",12,39.530929999999898,-121.52598,null,37.6,"W12152598N3953093",7.7,-2.4,"YES","W12152603N3953064","W12152604N3953139","W12152604N3953139-W12152603N3953064",102911105,"WYANDOTTE 1105",null,"2019-11-20T17:46:46",null,null,"Not assessed","https://viewer.us-3.sharpershape.services/viewer/assets/5ca5a2c6f6b463f925a04ce0/details","https://viewer.us-3.sharpershape.services/viewer/issues/5ecf8c98a03e660001310bca/details","high","W12152598N3953093 WYANDOTTE 1105","[GrayPine, Other, TanOak]","GrayPine"]
[1850,"NORTHERN","NORTH VALLEY","Tier 2-3","102911105 Tier 2-3",102911105,"WYANDOTTE 1105",9.1999999999999993,39.655900000000003,-121.506209999999,null,22.1,"W12150621N3965590",8.1,6.3,"NO","W12150604N3965661","W12150643N3965533","W12150643N3965533-W12150604N3965661",102911105,"WYANDOTTE 1105",null,"2019-11-20T17:46:46",null,null,"Not assessed","https://viewer.us-3.sharpershape.services/viewer/assets/5d88bfa56476d74edd5dd21d/details","https://viewer.us-3.sharpershape.services/viewer/issues/5ecf8c9a34b60c00015ec3b3/details","high","W12150621N3965590 WYANDOTTE 1105","[DouglasFir, Eucalyptus/BlueGum, CoastalLiveOak]","DouglasFir"]
[1851,"NORTHERN","NORTH VALLEY","Tier 2-3","102911105 Tier 2-3",102911105,"WYANDOTTE 1105",20.1999999999999,39.532499999999899,-121.538809999999,null,38.6,"W12153881N3953250",7.7,-2,"YES","W12153905N3953243","W12153810N3953244","W12153810N3953244-W12153905N3953243",102911105,"WYANDOTTE 1105",null,"2019-11-20T17:46:46",null,null,"Not assessed","https://viewer.us-3.sharpershape.services/viewer/assets/5ca5a2c6f6b46300cca04f1d/details","https://viewer.us-3.sharpershape.services/viewer/issues/5ecf8c93a03e6600013108b2/details","high","W12153881N3953250 WYANDOTTE 1105","[Eucalyptus/BlueGum, Other, CoastalLiveOak]","Eucalyptus/BlueGum"]
[1852,"NORTHERN","NORTH VALLEY","Tier 0-1","102911105 Tier 0-1",102911105,"WYANDOTTE 1105",0.5,39.5226299999999,-121.537849999999,null,34.700000000000003,"W12153785N3952263",10.1,10.6,"NO","W12153791N3952249","W12153775N3952283","W12153775N3952283-W12153791N3952249",102911105,"WYANDOTTE 1105",null,"2019-11-20T17:46:46",null,null,"Not assessed","https://viewer.us-3.sharpershape.services/viewer/assets/5ca5a2c6f6b463313aa04cb9/details","https://viewer.us-3.sharpershape.services/viewer/issues/5ecf954fa03e660001311f38/details","high","W12153785N3952263 WYANDOTTE 1105","[GrayPine, DouglasFir, Other]","GrayPine"]
[1853,"NORTHERN","NORTH VALLEY","Tier 0-1","102911105 Tier 0-1",102911105,"WYANDOTTE 1105",16.899999999999899,39.52581,-121.53530000000001,null,49.7,"W12153530N3952581",8.8000000000000007,-13.8,"YES","W12153537N3952537","W12153537N3952598","W12153537N3952598-W12153537N3952537",102911105,"WYANDOTTE 1105",null,"2019-11-20T17:46:46",null,null,"Not assessed","https://viewer.us-3.sharpershape.services/viewer/assets/5ca5a2c6f6b4634b85a04d18/details","https://viewer.us-3.sharpershape.services/viewer/issues/5ecf8c97a03e660001310afc/details","high","W12153530N3952581 WYANDOTTE 1105","[Eucalyptus/BlueGum, DouglasFir, Other]","Eucalyptus/BlueGum"]
[1854,"NORTHERN","NORTH VALLEY","Tier 2-3","102911105 Tier 2-3",102911105,"WYANDOTTE 1105",11.7,39.53302,-121.54084,null,42.6,"W12154084N3953302",12,-9.6,"YES","W12154073N3953285","W12154087N3953327","W12154087N3953327-W12154073N3953285",102911105,"WYANDOTTE 1105",null,"2019-11-20T17:46:46","OH",null,"Not assessed","https://viewer.us-3.sharpershape.services/viewer/assets/5ca5a2c6f6b463f395a04ceb/details","https://viewer.us-3.sharpershape.services/viewer/issues/5ecf8c97a03e660001310aab/details","high","W12154084N3953302 WYANDOTTE 1105","[GrayPine, DouglasFir, LiveOak]","GrayPine"]
[1855,"NORTHERN","NORTH VALLEY","Tier 0-1","102911105 Tier 0-1",102911105,"WYANDOTTE 1105",9.1,39.524189999999898,-121.53631,null,37.5,"W12153631N3952419",5.7,-1.2,"YES","W12153581N3952442","W12153639N3952420","W12153639N3952420-W12153581N3952442",102911105,"WYANDOTTE 1105",null,"2019-11-20T17:46:46",null,null,"Not assessed","https://viewer.us-3.sharpershape.services/viewer/assets/5ca5a2c6f6b46386b0a04cc4/details","https://viewer.us-3.sharpershape.services/viewer/issues/5ecf8c9534b60c00015ec09e/details","high","W12153631N3952419 WYANDOTTE 1105","[Other, Eucalyptus/BlueGum, CoastalLiveOak]","Other"]
[1856,"NORTHERN","NORTH VALLEY","Tier 2-3","102911105 Tier 2-3",102911105,"WYANDOTTE 1105",30.8,39.5273299999999,-121.535229999999,null,29.6,"W12153523N3952733",9.1999999999999993,9.4,"NO","W12153535N3952774","W12153536N3952706","W12153536N3952706-W12153535N3952774",102911105,"WYANDOTTE 1105",null,"2019-11-20T17:46:46",null,null,"Not assessed","https://viewer.us-3.sharpershape.services/viewer/assets/5ca5a2c6f6b463ada9a04fb0/details","https://viewer.us-3.sharpershape.services/viewer/issues/5ecf8c97a03e660001310a7c/details","high","W12153523N3952733 WYANDOTTE 1105","[DouglasFir, LiveOak, CoastalLiveOak]","DouglasFir"]
[1857,"NORTHERN","NORTH VALLEY","Tier 2-3","102911105 Tier 2-3",102911105,"WYANDOTTE 1105",12,39.531509999999898,-121.526089999999,null,26.6999999999999,"W12152609N3953151",12,8.6999999999999993,"NO","W12152604N3953139","W12152606N3953202","W12152606N3953202-W12152604N3953139",102911105,"WYANDOTTE 1105",null,"2019-11-20T17:46:46",null,null,"Not assessed","https://viewer.us-3.sharpershape.services/viewer/assets/5ca5a2c6f6b463cbbca04b3b/details","https://viewer.us-3.sharpershape.services/viewer/issues/5ecf8c98a03e660001310b82/details","high","W12152609N3953151 WYANDOTTE 1105","[Other, CoastalLiveOak, ValleyOak]","Other"]
[1858,"NORTHERN","NORTH VALLEY","Tier 2-3","102911105 Tier 2-3",102911105,"WYANDOTTE 1105",32.899999999999899,39.529779999999903,-121.5196,null,59.399999999999899,"W12151960N3952978",10.5,-16.8,"YES","W12151936N3952926","W12152005N3953021","W12152005N3953021-W12151936N3952926",102911105,"WYANDOTTE 1105",null,"2019-11-20T17:46:46","OH",null,"Not assessed","https://viewer.us-3.sharpershape.services/viewer/assets/5ca5a2c6f6b463d94da04bdf/details","https://viewer.us-3.sharpershape.services/viewer/issues/5ecf8c9834b60c00015ec2c7/details","high","W12151960N3952978 WYANDOTTE 1105","[GrayPine, MontereyPine, ValleyOak]","GrayPine"]
[1859,"NORTHERN","NORTH VALLEY","Tier 2-3","102911105 Tier 2-3",102911105,"WYANDOTTE 1105",31.1999999999999,39.532139999999899,-121.536419999999,null,29.6999999999999,"W12153642N3953214",7.2,19.1999999999999,"NO","W12153655N3953211","W12153655N3953245","W12153655N3953245-W12153655N3953211",102911105,"WYANDOTTE 1105",null,"2019-11-20T17:46:46",null,null,"Not assessed","https://viewer.us-3.sharpershape.services/viewer/assets/5e1b0dc19b151b3f7bee8158/details","https://viewer.us-3.sharpershape.services/viewer/issues/5ecf8ec4a03e66000131119e/details","high","W12153642N3953214 WYANDOTTE 1105","[Other, DouglasFir, CoastalLiveOak]","Other"]
[1860,"NORTHERN","NORTH VALLEY","Tier 2-3","102911105 Tier 2-3",102911105,"WYANDOTTE 1105",12.7,39.526559999999897,-121.53887,null,37.1,"W12153887N3952656",7,1.4,"NO","W12153848N3952653","W12153928N3952652","W12153928N3952652-W12153848N3952653",102911105,"WYANDOTTE 1105",null,"2019-11-20T17:46:46",null,null,"Not assessed","https://viewer.us-3.sharpershape.services/viewer/assets/5ca5a2c6f6b463083da04d94/details","https://viewer.us-3.sharpershape.services/viewer/issues/5ecf8c98a03e660001310bc8/details","high","W12153887N3952656 WYANDOTTE 1105","[GrayPine, Other, DouglasFir]","GrayPine"]
[1861,"NORTHERN","NORTH VALLEY","Tier 2-3","102911105 Tier 2-3",102911105,"WYANDOTTE 1105",11,39.538329999999902,-121.54246000000001,null,12.5,"W12154246N3953833",12,7,"NO","W12154252N3953857","W12154250N3953758","W12154250N3953758-W12154252N3953857",102911105,"WYANDOTTE 1105",null,"2019-11-20T17:46:46",null,null,"Not assessed","https://viewer.us-3.sharpershape.services/viewer/assets/5ca5a2c6f6b463b67da04e4c/details","https://viewer.us-3.sharpershape.services/viewer/issues/5ecf8c97a03e660001310a4c/details","high","W12154246N3953833 WYANDOTTE 1105","[Eucalyptus/BlueGum, LiveOak, DouglasFir]","Eucalyptus/BlueGum"]
[1862,"NORTHERN","NORTH VALLEY","Tier 2-3","102911105 Tier 2-3",102911105,"WYANDOTTE 1105",23.1999999999999,39.531039999999898,-121.519109999999,null,35.1,"W12151911N3953104",9.9,5.8,"NO","W12151923N3953089","W12151909N3953154","W12151909N3953154-W12151923N3953089",102911105,"WYANDOTTE 1105",null,"2019-11-20T17:46:46",null,null,"Not assessed","https://viewer.us-3.sharpershape.services/viewer/assets/5ca5a2c6f6b46317a8a0499a/details","https://viewer.us-3.sharpershape.services/viewer/issues/5ecf8c9034b60c00015ebfde/details","high","W12151911N3953104 WYANDOTTE 1105","[ValleyOak, GrayPine, TanOak]","ValleyOak"]
[1863,"NORTHERN","NORTH VALLEY","Tier 2-3","102911105 Tier 2-3",102911105,"WYANDOTTE 1105",40.5,39.524249999999903,-121.53716,null,35.6,"W12153716N3952425",17.8,8.6,"NO","W12153716N3952455","W12153751N3952386","W12153751N3952386-W12153716N3952455",102911105,"WYANDOTTE 1105",null,"2019-11-20T17:46:46",null,null,"Not assessed","https://viewer.us-3.sharpershape.services/viewer/assets/5ca5a2c6f6b46351f2a04ede/details","https://viewer.us-3.sharpershape.services/viewer/issues/5ecf8c9634b60c00015ec16a/details","high","W12153716N3952425 WYANDOTTE 1105","[Other, MontereyPine, DouglasFir]","Other"]
[1864,"NORTHERN","NORTH VALLEY","Tier 2-3","102911105 Tier 2-3",102911105,"WYANDOTTE 1105",40,39.531479999999902,-121.540689999999,null,54.7,"W12154069N3953148",19.1999999999999,-12.7,"YES","W12154086N3953214","W12154084N3953131","W12154084N3953131-W12154086N3953214",102911105,"WYANDOTTE 1105",null,"2019-11-20T17:46:46",null,null,"Not assessed","https://viewer.us-3.sharpershape.services/viewer/assets/5ca5a2c6f6b4630944a04ef1/details","https://viewer.us-3.sharpershape.services/viewer/issues/5ecf8c98a03e660001310b6b/details","high","W12154069N3953148 WYANDOTTE 1105","[DouglasFir, LiveOak, Eucalyptus/BlueGum]","DouglasFir"]
[1865,"NORTHERN","NORTH VALLEY","Tier 2-3","102911105 Tier 2-3",102911105,"WYANDOTTE 1105",19.100000000000001,39.532649999999897,-121.532129999999,null,31.3,"W12153213N3953265",14.2,8.1,"NO","W12153205N3953285","W12153205N3953245","W12153205N3953245-W12153205N3953285",102911105,"WYANDOTTE 1105",null,"2019-11-20T17:46:46",null,null,"Not assessed","https://viewer.us-3.sharpershape.services/viewer/assets/5ca5a2c6f6b46321caa04c4b/details","https://viewer.us-3.sharpershape.services/viewer/issues/5ecf8c9934b60c00015ec358/details","high","W12153213N3953265 WYANDOTTE 1105","[GrayPine, MontereyPine, DouglasFir]","GrayPine"]
[1866,"NORTHERN","NORTH VALLEY","Tier 2-3","102911105 Tier 2-3",102911105,"WYANDOTTE 1105",15.1,39.535759999999897,-121.542379999999,null,52.2,"W12154238N3953576",6.7,-19.3,"YES","W12154256N3953592","W12154242N3953570","W12154242N3953570-W12154256N3953592",102911105,"WYANDOTTE 1105",null,"2019-11-20T17:46:46","OH",null,"Not assessed","https://viewer.us-3.sharpershape.services/viewer/assets/5ca5a2c6f6b4638a06a050ea/details","https://viewer.us-3.sharpershape.services/viewer/issues/5ecf8c95a03e660001310967/details","high","W12154238N3953576 WYANDOTTE 1105","[DouglasFir, GrayPine, Other]","DouglasFir"]
[1867,"NORTHERN","NORTH VALLEY","Tier 2-3","102911105 Tier 2-3",102911105,"WYANDOTTE 1105",23.5,39.527989999999903,-121.532119999999,null,53.5,"W12153212N3952799",6.1,-13.6,"YES","W12153270N3952789","W12153203N3952790","W12153203N3952790-W12153270N3952789",102911105,"WYANDOTTE 1105",null,"2019-11-20T17:46:46","OH",null,"Not assessed","https://viewer.us-3.sharpershape.services/viewer/assets/5ca5a2c6f6b4631fcca0508c/details","https://viewer.us-3.sharpershape.services/viewer/issues/5ecf8c9934b60c00015ec2e0/details","high","W12153212N3952799 WYANDOTTE 1105","[GrayPine, DouglasFir, Other]","GrayPine"]
[1868,"NORTHERN","NORTH VALLEY","Tier 2-3","102911105 Tier 2-3",102911105,"WYANDOTTE 1105",54.5,39.529359999999897,-121.524789999999,null,47.8,"W12152479N3952936",36.899999999999899,9.4,"NO","W12152414N3952959","W12152508N3952949","W12152508N3952949-W12152414N3952959",102911105,"WYANDOTTE 1105",null,"2019-11-20T17:46:46",null,null,"Not assessed","https://viewer.us-3.sharpershape.services/viewer/assets/5ca5a2c6f6b4633d64a04cf9/details","https://viewer.us-3.sharpershape.services/viewer/issues/5ee2b4c3a03e66000146e45b/details","high","W12152479N3952936 WYANDOTTE 1105","[DouglasFir, Eucalyptus/BlueGum, CoastalLiveOak]","DouglasFir"]
[1869,"NORTHERN","NORTH VALLEY","Tier 2-3","102911105 Tier 2-3",102911105,"WYANDOTTE 1105",10.3,39.529989999999898,-121.52598,null,29.1999999999999,"W12152598N3952999",6.6,-2.1,"YES","W12152603N3952974","W12152603N3953064","W12152603N3953064-W12152603N3952974",102911105,"WYANDOTTE 1105",null,"2019-11-20T17:46:46",null,null,"Not assessed","https://viewer.us-3.sharpershape.services/viewer/assets/5ca5a2c6f6b463cd78a04dbd/details","https://viewer.us-3.sharpershape.services/viewer/issues/5ecf8c98a03e660001310bd7/details","high","W12152598N3952999 WYANDOTTE 1105","[GrayPine, DouglasFir, ValleyOak]","GrayPine"]
[1870,"NORTHERN","NORTH VALLEY","Tier 0-1","102911105 Tier 0-1",102911105,"WYANDOTTE 1105",45.1,39.524429999999903,-121.52200000000001,null,43.1,"W12152200N3952443",26.6,9.3000000000000007,"NO","W12152121N3952468","W12152223N3952454","W12152223N3952454-W12152121N3952468",102911105,"WYANDOTTE 1105",null,"2019-11-20T17:46:46",null,null,"Not assessed","https://viewer.us-3.sharpershape.services/viewer/assets/5ca5a2c6f6b4634c98a0504c/details","https://viewer.us-3.sharpershape.services/viewer/issues/5ecf8c9634b60c00015ec148/details","high","W12152200N3952443 WYANDOTTE 1105","[Eucalyptus/BlueGum, DouglasFir, CoastalLiveOak]","Eucalyptus/BlueGum"]
[1871,"NORTHERN","NORTH VALLEY","Tier 0-1","102911105 Tier 0-1",102911105,"WYANDOTTE 1105",14.6,39.517609999999898,-121.54061,null,36.5,"W12154061N3951761",4.2,7,"NO","W12154034N3951798","W12154067N3951764","W12154067N3951764-W12154034N3951798",102911105,"WYANDOTTE 1105",null,"2019-11-20T17:46:46",null,null,"Not assessed","https://viewer.us-3.sharpershape.services/viewer/assets/5ca5a2c6f6b4636236a05070/details","https://viewer.us-3.sharpershape.services/viewer/issues/5ecf8c95a03e660001310902/details","high","W12154061N3951761 WYANDOTTE 1105","[Other, DouglasFir, GrayPine]","Other"]
[1872,"NORTHERN","NORTH VALLEY","Tier 2-3","102911105 Tier 2-3",102911105,"WYANDOTTE 1105",15.5,39.529969999999899,-121.5198,null,35.399999999999899,"W12151980N3952997",8.3000000000000007,1,"NO","W12151936N3952926","W12152005N3953021","W12152005N3953021-W12151936N3952926",102911105,"WYANDOTTE 1105",null,"2019-11-20T17:46:46",null,null,"Not assessed","https://viewer.us-3.sharpershape.services/viewer/assets/5ca5a2c6f6b463d94da04bdf/details","https://viewer.us-3.sharpershape.services/viewer/issues/5ecf8c9834b60c00015ec2cb/details","high","W12151980N3952997 WYANDOTTE 1105","[DouglasFir, CoastalLiveOak, Eucalyptus/BlueGum]","DouglasFir"]
[1873,"NORTHERN","NORTH VALLEY","Tier 2-3","102911105 Tier 2-3",102911105,"WYANDOTTE 1105",5.0999999999999996,39.526849999999897,-121.53539000000001,null,62.6,"W12153539N3952685",8.1999999999999904,-31.9,"YES","W12153535N3952637","W12153536N3952706","W12153536N3952706-W12153535N3952637",102911105,"WYANDOTTE 1105",null,"2019-11-20T17:46:46","OH",null,"Not assessed","https://viewer.us-3.sharpershape.services/viewer/assets/5e7a18565dcbeb387a17baf6/details","https://viewer.us-3.sharpershape.services/viewer/issues/5ecf8c9934b60c00015ec38f/details","high","W12153539N3952685 WYANDOTTE 1105","[DouglasFir, CoastalLiveOak, LiveOak]","DouglasFir"]
[1874,"NORTHERN","NORTH VALLEY","Tier 2-3","102911105 Tier 2-3",102911105,"WYANDOTTE 1105",40.700000000000003,39.53,-121.5217,null,21.9,"W12152170N3953000",11.5,23.5,"NO","W12152184N3953012","W12152091N3953014","W12152091N3953014-W12152184N3953012",102911105,"WYANDOTTE 1105",null,"2019-11-20T17:46:46",null,null,"Not assessed","https://viewer.us-3.sharpershape.services/viewer/assets/5ca5a2c6f6b463611da04cf7/details","https://viewer.us-3.sharpershape.services/viewer/issues/5ecf8f3134b60c00015ecb9c/details","high","W12152170N3953000 WYANDOTTE 1105","[CoastalLiveOak, Other, DouglasFir]","CoastalLiveOak"]
[1875,"NORTHERN","NORTH VALLEY","Tier 2-3","102911105 Tier 2-3",102911105,"WYANDOTTE 1105",12.8,39.53219,-121.53649,null,34.1,"W12153649N3953219",7.2,-0.3,"YES","W12153655N3953211","W12153655N3953245","W12153655N3953245-W12153655N3953211",102911105,"WYANDOTTE 1105",null,"2019-11-20T17:46:46",null,null,"Not assessed","https://viewer.us-3.sharpershape.services/viewer/assets/5e1b0dc19b151b3f7bee8158/details","https://viewer.us-3.sharpershape.services/viewer/issues/5ecf8c9a34b60c00015ec3b7/details","high","W12153649N3953219 WYANDOTTE 1105","[Other, CoastalLiveOak, DouglasFir]","Other"]
[1876,"NORTHERN","NORTH VALLEY","Tier 2-3","102911105 Tier 2-3",102911105,"WYANDOTTE 1105",13.9,39.527639999999899,-121.528089999999,null,43.2,"W12152809N3952764",7.1,-5.2,"YES","W12152800N3952774","W12152907N3952726","W12152907N3952726-W12152800N3952774",102911105,"WYANDOTTE 1105",null,"2019-11-20T17:46:46",null,null,"Not assessed","https://viewer.us-3.sharpershape.services/viewer/assets/5ca5a2c6f6b4634630a04e8d/details","https://viewer.us-3.sharpershape.services/viewer/issues/5ecf8c97a03e660001310ae8/details","high","W12152809N3952764 WYANDOTTE 1105","[GrayPine, ValleyOak, DouglasFir]","GrayPine"]
[1877,"NORTHERN","NORTH VALLEY","Tier 2-3","102911105 Tier 2-3",102911105,"WYANDOTTE 1105",25.4,39.526789999999899,-121.531689999999,null,45.6,"W12153169N3952679",8.9,-4.7,"YES","W12153152N3952699","W12153224N3952655","W12153224N3952655-W12153152N3952699",102911105,"WYANDOTTE 1105",null,"2019-11-20T17:46:46",null,null,"Not assessed","https://viewer.us-3.sharpershape.services/viewer/assets/5ca5a2c6f6b46367dca04ab1/details","https://viewer.us-3.sharpershape.services/viewer/issues/5ecf8c9734b60c00015ec218/details","high","W12153169N3952679 WYANDOTTE 1105","[ValleyOak, GrayPine, Other]","ValleyOak"]
[1878,"NORTHERN","NORTH VALLEY","Tier 2-3","102911105 Tier 2-3",102911105,"WYANDOTTE 1105",10.8,39.655839999999898,-121.506219999999,null,19.399999999999999,"W12150622N3965584",12,8.9,"NO","W12150604N3965661","W12150643N3965533","W12150643N3965533-W12150604N3965661",102911105,"WYANDOTTE 1105",null,"2019-11-20T17:46:46",null,null,"Not assessed","https://viewer.us-3.sharpershape.services/viewer/assets/5d88bfa56476d74edd5dd21d/details","https://viewer.us-3.sharpershape.services/viewer/issues/5ecf8c9a34b60c00015ec3b2/details","high","W12150622N3965584 WYANDOTTE 1105"]
[1879,"NORTHERN","NORTH VALLEY","Tier 2-3","102911105 Tier 2-3",102911105,"WYANDOTTE 1105",11.9,39.524239999999899,-121.51456,null,61.399999999999899,"W12151456N3952424",12,-23.9,"YES","W12151473N3952396","W12151456N3952437","W12151456N3952437-W12151473N3952396",102911105,"WYANDOTTE 1105",null,"2019-11-20T17:46:46","OH",null,"Not assessed","https://viewer.us-3.sharpershape.services/viewer/assets/5ca5a2c6f6b4637591a050b5/details","https://viewer.us-3.sharpershape.services/viewer/issues/5ecf8c96a03e660001310982/details","high","W12151456N3952424 WYANDOTTE 1105","[Other, CoastalLiveOak, ValleyOak]","Other"]
[1880,"NORTHERN","NORTH VALLEY","Tier 0-1","102911105 Tier 0-1",102911105,"WYANDOTTE 1105",37.299999999999997,39.522619999999897,-121.514089999999,null,45.399999999999899,"W12151409N3952262",21.4,7.5,"NO","W12151444N3952251","W12151389N3952251","W12151389N3952251-W12151444N3952251",102911105,"WYANDOTTE 1105",null,"2019-11-20T17:46:46",null,null,"Not assessed","https://viewer.us-3.sharpershape.services/viewer/assets/5d88b99a6476d7d75c5dd20a/details","https://viewer.us-3.sharpershape.services/viewer/issues/5ecf8c99a03e660001310c10/details","high","W12151409N3952262 WYANDOTTE 1105","[DouglasFir, Other, Eucalyptus/BlueGum]","DouglasFir"]
[1881,"NORTHERN","NORTH VALLEY","Tier 2-3","102911105 Tier 2-3",102911105,"WYANDOTTE 1105",0,39.541719999999899,-121.542119999999,null,28.1999999999999,"W12154212N3954172",11.8,11.8,"NO","W12154206N3954186","W12154249N3954102","W12154249N3954102-W12154206N3954186",102911105,"WYANDOTTE 1105",null,"2019-11-20T17:46:46",null,null,"Not assessed","https://viewer.us-3.sharpershape.services/viewer/assets/5ca5a2c6f6b4631d52a04cea/details","https://viewer.us-3.sharpershape.services/viewer/issues/5ecf954134b60c00015ed716/details","high","W12154212N3954172 WYANDOTTE 1105","[DouglasFir, LiveOak, CoastalLiveOak]","DouglasFir"]
[1882,"NORTHERN","NORTH VALLEY","Tier 2-3","102911105 Tier 2-3",102911105,"WYANDOTTE 1105",29,39.529809999999898,-121.530379999999,null,41.899999999999899,"W12153038N3952981",5.9,0.6,"NO","W12152988N3952972","W12153068N3952972","W12153068N3952972-W12152988N3952972",102911105,"WYANDOTTE 1105",null,"2019-11-20T17:46:46",null,null,"Not assessed","https://viewer.us-3.sharpershape.services/viewer/assets/5d89b6cc55dd6b81633f2eff/details","https://viewer.us-3.sharpershape.services/viewer/issues/5ecf8c9934b60c00015ec33f/details","high","W12153038N3952981 WYANDOTTE 1105","[CoastalLiveOak, ValleyOak, MontereyPine]","CoastalLiveOak"]
[1883,"NORTHERN","NORTH VALLEY","Tier 2-3","102911105 Tier 2-3",102911105,"WYANDOTTE 1105",6.7,39.526589999999899,-121.51456,null,26.1,"W12151456N3952659",12,8.3000000000000007,"NO","W12151463N3952642","W12151433N3952690","W12151433N3952690-W12151463N3952642",102911105,"WYANDOTTE 1105",null,"2019-11-20T17:46:46",null,null,"Not assessed","https://viewer.us-3.sharpershape.services/viewer/assets/5ca5a2c6f6b46359cca05184/details","https://viewer.us-3.sharpershape.services/viewer/issues/5ecf8c96a03e66000131098e/details","high","W12151456N3952659 WYANDOTTE 1105","[Other, DouglasFir, GrayPine]","Other"]
[1884,"NORTHERN","NORTH VALLEY","Tier 2-3","102911105 Tier 2-3",102911105,"WYANDOTTE 1105",41.899999999999899,39.538559999999897,-121.54236,null,90.4,"W12154236N3953856",27.8,-48.6,"YES","W12154252N3953857","W12154250N3953758","W12154250N3953758-W12154252N3953857",102911105,"WYANDOTTE 1105",null,"2019-11-20T17:46:46",null,null,"Not assessed","https://viewer.us-3.sharpershape.services/viewer/assets/5ca5a2c6f6b463b67da04e4c/details","https://viewer.us-3.sharpershape.services/viewer/issues/5ecf8c97a03e660001310a4b/details","high","W12154236N3953856 WYANDOTTE 1105","[GrayPine, DouglasFir, Eucalyptus/BlueGum]","GrayPine"]
[1885,"NORTHERN","NORTH VALLEY","Tier 0-1","102911105 Tier 0-1",102911105,"WYANDOTTE 1105",1.5,39.523150000000001,-121.51219,null,71.099999999999994,"W12151219N3952315",4.8,-44.5,"YES","W12151282N3952292","W12151196N3952324","W12151196N3952324-W12151282N3952292",102911105,"WYANDOTTE 1105",null,"2019-11-20T17:46:46","OH",null,"Not assessed","https://viewer.us-3.sharpershape.services/viewer/assets/5ca5a2c6f6b463e9a0a04bb9/details","https://viewer.us-3.sharpershape.services/viewer/issues/5ecf8c98a03e660001310b9d/details","high","W12151219N3952315 WYANDOTTE 1105","[Other, DouglasFir, LiveOak]","Other"]
[1886,"NORTHERN","NORTH VALLEY","Tier 2-3","102911105 Tier 2-3",102911105,"WYANDOTTE 1105",15.2,39.527349999999899,-121.532049999999,null,53.1,"W12153205N3952735",8.5,-14.6,"YES","W12153152N3952699","W12153200N3952739","W12153200N3952739-W12153152N3952699",102911105,"WYANDOTTE 1105",null,"2019-11-20T17:46:46","OH",null,"Not assessed","https://viewer.us-3.sharpershape.services/viewer/assets/5ca5a2c6f6b46337eda04c68/details","https://viewer.us-3.sharpershape.services/viewer/issues/5ecf8c9034b60c00015ebfd4/details","high","W12153205N3952735 WYANDOTTE 1105","[Eucalyptus/BlueGum, Other, DouglasFir]","Eucalyptus/BlueGum"]
[1887,"NORTHERN","NORTH VALLEY","Tier 0-1","102911105 Tier 0-1",102911105,"WYANDOTTE 1105",20.399999999999999,39.525480000000002,-121.535159999999,null,31.4,"W12153516N3952548",7.1,8.3000000000000007,"NO","W12153537N3952537","W12153462N3952554","W12153462N3952554-W12153537N3952537",102911105,"WYANDOTTE 1105",null,"2019-11-20T17:46:46",null,null,"Not assessed","https://viewer.us-3.sharpershape.services/viewer/assets/5ca5a2c6f6b463381fa049b8/details","https://viewer.us-3.sharpershape.services/viewer/issues/5ecf8c96a03e6600013109e4/details","high","W12153516N3952548 WYANDOTTE 1105","[Eucalyptus/BlueGum, Other, DouglasFir]","Eucalyptus/BlueGum"]
[1888,"NORTHERN","NORTH VALLEY","Tier 2-3","102911105 Tier 2-3",102911105,"WYANDOTTE 1105",0.9,39.5301499999999,-121.520009999999,null,38.899999999999899,"W12152001N3953015",3.8,4.7,"NO","W12151936N3952926","W12152005N3953021","W12152005N3953021-W12151936N3952926",102911105,"WYANDOTTE 1105",null,"2019-11-20T17:46:46",null,null,"Not assessed","https://viewer.us-3.sharpershape.services/viewer/assets/5ca5a2c6f6b463d94da04bdf/details","https://viewer.us-3.sharpershape.services/viewer/issues/5ecf8f2434b60c00015ecb58/details","high","W12152001N3953015 WYANDOTTE 1105","[DouglasFir, CoastalLiveOak, MontereyPine]","DouglasFir"]
[1889,"NORTHERN","NORTH VALLEY","Tier 2-3","102911105 Tier 2-3",102911105,"WYANDOTTE 1105",46.5,39.527180000000001,-121.535529999999,null,64.7,"W12153553N3952718",34.6,-10.199999999999999,"YES","W12153535N3952774","W12153536N3952706","W12153536N3952706-W12153535N3952774",102911105,"WYANDOTTE 1105",null,"2019-11-20T17:46:46",null,null,"Not assessed","https://viewer.us-3.sharpershape.services/viewer/assets/5ca5a2c6f6b463ada9a04fb0/details","https://viewer.us-3.sharpershape.services/viewer/issues/5ecf8c97a03e660001310a71/details","high","W12153553N3952718 WYANDOTTE 1105","[GrayPine, Other, MontereyPine]","GrayPine"]
[1890,"NORTHERN","NORTH VALLEY","Tier 2-3","102911105 Tier 2-3",102911105,"WYANDOTTE 1105",16.600000000000001,39.528149999999897,-121.52768,null,27.9,"W12152768N3952815",11.7,23.6999999999999,"NO","W12152750N3952825","W12152800N3952774","W12152800N3952774-W12152750N3952825",102911105,"WYANDOTTE 1105",null,"2019-11-20T17:46:46",null,null,"Not assessed","https://viewer.us-3.sharpershape.services/viewer/assets/5ca5a2c6f6b4634ff7a05112/details","https://viewer.us-3.sharpershape.services/viewer/issues/5ecf8eb434b60c00015ec908/details","high","W12152768N3952815 WYANDOTTE 1105","[GrayPine, DouglasFir, TanOak]","GrayPine"]
[1891,"NORTHERN","NORTH VALLEY","Tier 2-3","102911105 Tier 2-3",102911105,"WYANDOTTE 1105",0.3,39.5354999999999,-121.542389999999,null,30,"W12154239N3953550",4.0999999999999996,4.3,"NO","W12154242N3953570","W12154230N3953520","W12154230N3953520-W12154242N3953570",102911105,"WYANDOTTE 1105",null,"2019-11-20T17:46:46",null,null,"Not assessed","https://viewer.us-3.sharpershape.services/viewer/assets/5ca5a2c6f6b463392ea051c1/details","https://viewer.us-3.sharpershape.services/viewer/issues/5ecf8d7ca03e660001310e9f/details","high","W12154239N3953550 WYANDOTTE 1105","[TanOak, DouglasFir, CoastalLiveOak]","TanOak"]
[1892,"NORTHERN","NORTH VALLEY","Tier 2-3","102911105 Tier 2-3",102911105,"WYANDOTTE 1105",22.1999999999999,39.532820000000001,-121.532139999999,null,39.799999999999997,"W12153214N3953282",9,4.8,"NO","W12153205N3953285","W12153205N3953245","W12153205N3953245-W12153205N3953285",102911105,"WYANDOTTE 1105",null,"2019-11-20T17:46:46",null,null,"Not assessed","https://viewer.us-3.sharpershape.services/viewer/assets/5ca5a2c6f6b46321caa04c4b/details","https://viewer.us-3.sharpershape.services/viewer/issues/5ecf8c9934b60c00015ec354/details","high","W12153214N3953282 WYANDOTTE 1105","[GrayPine, ValleyOak, Other]","GrayPine"]
[1893,"NORTHERN","NORTH VALLEY","Tier 2-3","102911105 Tier 2-3",102911105,"WYANDOTTE 1105",72.400000000000006,39.537430000000001,-121.54223,null,68.599999999999994,"W12154223N3953743",52.5,6.4,"NO","W12154253N3953660","W12154250N3953758","W12154250N3953758-W12154253N3953660",102911105,"WYANDOTTE 1105",null,"2019-11-20T17:46:46",null,null,"Not assessed","https://viewer.us-3.sharpershape.services/viewer/assets/5ca5a2c6f6b4637989a05102/details","https://viewer.us-3.sharpershape.services/viewer/issues/5ecf8c9734b60c00015ec1bc/details","high","W12154223N3953743 WYANDOTTE 1105"]
[1894,"NORTHERN","NORTH VALLEY","Tier 2-3","102911105 Tier 2-3",102911105,"WYANDOTTE 1105",0.5,39.526139999999899,-121.520769999999,null,32.700000000000003,"W12152077N3952614",5.7,6.2,"NO","W12152064N3952615","W12152124N3952614","W12152124N3952614-W12152064N3952615",102911105,"WYANDOTTE 1105",null,"2019-11-20T17:46:46",null,null,"Not assessed","https://viewer.us-3.sharpershape.services/viewer/assets/5ca5a2c6f6b463c7cfa0501b/details","https://viewer.us-3.sharpershape.services/viewer/issues/5ecf8ed734b60c00015ec9ca/details","high","W12152077N3952614 WYANDOTTE 1105","[GrayPine, DouglasFir, ValleyOak]","GrayPine"]
[1895,"NORTHERN","NORTH VALLEY","Tier 2-3","102911105 Tier 2-3",102911105,"WYANDOTTE 1105",31.1,39.532229999999899,-121.534779999999,null,55.6,"W12153478N3953223",22.5,-13.8,"YES","W12153557N3953230","W12153419N3953235","W12153419N3953235-W12153557N3953230",102911105,"WYANDOTTE 1105",null,"2019-11-20T17:46:46",null,null,"Not assessed","https://viewer.us-3.sharpershape.services/viewer/assets/5ca5a2c6f6b463191ca04d93/details","https://viewer.us-3.sharpershape.services/viewer/issues/5ee2b430a03e66000146e43a/details","high","W12153478N3953223 WYANDOTTE 1105","[GrayPine, DouglasFir, TanOak]","GrayPine"]
[1896,"NORTHERN","NORTH VALLEY","Tier 2-3","102911105 Tier 2-3",102911105,"WYANDOTTE 1105",30,39.528749999999903,-121.530649999999,null,25.1,"W12153065N3952875",10.199999999999999,22.1999999999999,"NO","W12153053N3952876","W12153054N3952815","W12153054N3952815-W12153053N3952876",102911105,"WYANDOTTE 1105",null,"2019-11-20T17:46:46",null,null,"Not assessed","https://viewer.us-3.sharpershape.services/viewer/assets/5ca5a2c6f6b463a3b1a04e34/details","https://viewer.us-3.sharpershape.services/viewer/issues/5ecf8ec334b60c00015ec95e/details","high","W12153065N3952875 WYANDOTTE 1105","[Other, DouglasFir, GrayPine]","Other"]
[1897,"NORTHERN","NORTH VALLEY","Tier 2-3","102911105 Tier 2-3",102911105,"WYANDOTTE 1105",16.1999999999999,39.536429999999903,-121.542469999999,null,23.1,"W12154247N3953643",12,1.2,"NO","W12154253N3953660","W12154256N3953592","W12154256N3953592-W12154253N3953660",102911105,"WYANDOTTE 1105",null,"2019-11-20T17:46:46",null,null,"Not assessed","https://viewer.us-3.sharpershape.services/viewer/assets/5ca5a2c6f6b4630e63a05050/details","https://viewer.us-3.sharpershape.services/viewer/issues/5ecf8c9834b60c00015ec252/details","high","W12154247N3953643 WYANDOTTE 1105"]
[1898,"NORTHERN","NORTH VALLEY","Tier 2-3","102911105 Tier 2-3",102911105,"WYANDOTTE 1105",30.4,39.532080000000001,-121.53431,null,93.7,"W12153431N3953208",22.4,-48.399999999999899,"YES","W12153419N3953172","W12153419N3953235","W12153419N3953235-W12153419N3953172",102911105,"WYANDOTTE 1105",null,"2019-11-20T17:46:46","OH",null,"Not assessed","https://viewer.us-3.sharpershape.services/viewer/assets/5ca5a2c6f6b463ef61a04c9e/details","https://viewer.us-3.sharpershape.services/viewer/issues/5ee2b42e34b60c0001746b4e/details","high","W12153431N3953208 WYANDOTTE 1105","[DouglasFir, TanOak, GrayPine]","DouglasFir"]
[1899,"NORTHERN","NORTH VALLEY","Tier 2-3","102911105 Tier 2-3",102911105,"WYANDOTTE 1105",20.1999999999999,39.5342699999999,-121.54192999999999,null,65.400000000000006,"W12154193N3953427",10.7,-25.9,"YES","W12154214N3953455","W12154179N3953424","W12154179N3953424-W12154214N3953455",102911105,"WYANDOTTE 1105",null,"2019-11-20T17:46:46","OH",null,"Not assessed","https://viewer.us-3.sharpershape.services/viewer/assets/5ca5a2c6f6b4634756a04ae5/details","https://viewer.us-3.sharpershape.services/viewer/issues/5ecf8c9534b60c00015ec097/details","high","W12154193N3953427 WYANDOTTE 1105","[DouglasFir, GrayPine, TanOak]","DouglasFir"]
[1900,"NORTHERN","NORTH VALLEY","Tier 2-3","102911105 Tier 2-3",102911105,"WYANDOTTE 1105",16,39.53154,-121.540769999999,null,38.1,"W12154077N3953154",8,-10.3,"YES","W12154086N3953214","W12154084N3953131","W12154084N3953131-W12154086N3953214",102911105,"WYANDOTTE 1105",null,"2019-11-20T17:46:46","OH",null,"Not assessed","https://viewer.us-3.sharpershape.services/viewer/assets/5ca5a2c6f6b4630944a04ef1/details","https://viewer.us-3.sharpershape.services/viewer/issues/5ecf8c98a03e660001310b48/details","high","W12154077N3953154 WYANDOTTE 1105","[Other, GrayPine, DouglasFir]","Other"]
[1901,"NORTHERN","NORTH VALLEY","Tier 2-3","102911105 Tier 2-3",102911105,"WYANDOTTE 1105",19.100000000000001,39.528289999999899,-121.514139999999,null,35.799999999999997,"W12151414N3952829",11.7,-2.2999999999999998,"YES","W12151441N3952799","W12151401N3952860","W12151401N3952860-W12151441N3952799",102911105,"WYANDOTTE 1105",null,"2019-11-20T17:46:46",null,null,"Not assessed","https://viewer.us-3.sharpershape.services/viewer/assets/5ca5a2c6f6b463bdf4a04f50/details","https://viewer.us-3.sharpershape.services/viewer/issues/5ecf8c9534b60c00015ec0e0/details","high","W12151414N3952829 WYANDOTTE 1105"]
[1902,"NORTHERN","NORTH VALLEY","Tier 2-3","102911105 Tier 2-3",102911105,"WYANDOTTE 1105",47,39.528030000000001,-121.532349999999,null,54.6,"W12153235N3952803",5.6,-3,"YES","W12153270N3952789","W12153203N3952790","W12153203N3952790-W12153270N3952789",102911105,"WYANDOTTE 1105",null,"2019-11-20T17:46:46",null,null,"Not assessed","https://viewer.us-3.sharpershape.services/viewer/assets/5ca5a2c6f6b4631fcca0508c/details","https://viewer.us-3.sharpershape.services/viewer/issues/5ecf8c9934b60c00015ec2e4/details","high","W12153235N3952803 WYANDOTTE 1105","[DouglasFir, Other, CoastalLiveOak]","DouglasFir"]
[1903,"NORTHERN","NORTH VALLEY","Tier 2-3","102911105 Tier 2-3",102911105,"WYANDOTTE 1105",6.4,39.525459999999903,-121.537319999999,null,21.9,"W12153732N3952546",12,8.4,"NO","W12153742N3952569","W12153709N3952512","W12153709N3952512-W12153742N3952569",102911105,"WYANDOTTE 1105",null,"2019-11-20T17:46:46",null,null,"Not assessed","https://viewer.us-3.sharpershape.services/viewer/assets/5ca5a2c6f6b4633f70a04d23/details","https://viewer.us-3.sharpershape.services/viewer/issues/5ecf8c9234b60c00015ebffa/details","high","W12153732N3952546 WYANDOTTE 1105","[GrayPine, DouglasFir, Other]","GrayPine"]
[1904,"NORTHERN","NORTH VALLEY","Tier 2-3","102911105 Tier 2-3",102911105,"WYANDOTTE 1105",11.3,39.532620000000001,-121.526,null,48.6,"W12152600N3953262",6.2,-17.6999999999999,"YES","W12152605N3953285","W12152605N3953235","W12152605N3953235-W12152605N3953285",102911105,"WYANDOTTE 1105",null,"2019-11-20T17:46:46","OH",null,"Not assessed","https://viewer.us-3.sharpershape.services/viewer/assets/5e1c22f1942b994ca37b032f/details","https://viewer.us-3.sharpershape.services/viewer/issues/5ecfe7bc34b60c000160de46/details","high","W12152600N3953262 WYANDOTTE 1105","[DouglasFir, Other, CoastalLiveOak]","DouglasFir"]
[1905,"NORTHERN","NORTH VALLEY","Tier 2-3","102911105 Tier 2-3",102911105,"WYANDOTTE 1105",22,39.529200000000003,-121.520179999999,null,62.2,"W12152018N3952920",8.3000000000000007,-16.1999999999999,"YES","W12152014N3952914","W12152053N3952877","W12152053N3952877-W12152014N3952914",102911105,"WYANDOTTE 1105",null,"2019-11-20T17:46:46","OH",null,"Not assessed","https://viewer.us-3.sharpershape.services/viewer/assets/5ca5a2c6f6b463d0f3a04a55/details","https://viewer.us-3.sharpershape.services/viewer/issues/5ecf8c9734b60c00015ec208/details","high","W12152018N3952920 WYANDOTTE 1105","[Other, CoastalLiveOak, DouglasFir]","Other"]
[1906,"NORTHERN","NORTH VALLEY","Tier 2-3","102911105 Tier 2-3",102911105,"WYANDOTTE 1105",17,39.528259999999896,-121.5343,null,29.8,"W12153430N3952826",10.5,8,"NO","W12153496N3952831","W12153427N3952831","W12153427N3952831-W12153496N3952831",102911105,"WYANDOTTE 1105",null,"2019-11-20T17:46:46",null,null,"Not assessed","https://viewer.us-3.sharpershape.services/viewer/assets/5ca5a2c6f6b46346a1a04e09/details","https://viewer.us-3.sharpershape.services/viewer/issues/5ecf8c9834b60c00015ec22f/details","high","W12153430N3952826 WYANDOTTE 1105","[CoastalLiveOak, ValleyOak, Eucalyptus/BlueGum]","CoastalLiveOak"]
[1907,"NORTHERN","NORTH VALLEY","Tier 2-3","102911105 Tier 2-3",102911105,"WYANDOTTE 1105",0.4,39.532330000000002,-121.534459999999,null,30.3,"W12153446N3953233",4.2,4.5999999999999996,"NO","W12153557N3953230","W12153419N3953235","W12153419N3953235-W12153557N3953230",102911105,"WYANDOTTE 1105",null,"2019-11-20T17:46:46",null,null,"Not assessed","https://viewer.us-3.sharpershape.services/viewer/assets/5ca5a2c6f6b463191ca04d93/details","https://viewer.us-3.sharpershape.services/viewer/issues/5ee2b99c34b60c0001746b92/details","high","W12153446N3953233 WYANDOTTE 1105","[CoastalLiveOak, DouglasFir, TanOak]","CoastalLiveOak"]
[1908,"NORTHERN","NORTH VALLEY","Tier 2-3","102911105 Tier 2-3",102911105,"WYANDOTTE 1105",7.6,39.540889999999898,-121.542479999999,null,16.5,"W12154248N3954089",6.8,3.1,"NO","W12154249N3954102","W12154258N3954066","W12154258N3954066-W12154249N3954102",102911105,"WYANDOTTE 1105",null,"2019-11-20T17:46:46",null,null,"Not assessed","https://viewer.us-3.sharpershape.services/viewer/assets/5ca5a2c6f6b4638a8aa050a6/details","https://viewer.us-3.sharpershape.services/viewer/issues/5ecf8c96a03e66000131097d/details","high","W12154248N3954089 WYANDOTTE 1105","[Other, LiveOak, DouglasFir]","Other"]
[1909,"NORTHERN","NORTH VALLEY","Tier 2-3","102911105 Tier 2-3",102911105,"WYANDOTTE 1105",22,39.527290000000001,-121.53201,null,67.400000000000006,"W12153201N3952729",5.7,-28.1999999999999,"YES","W12153152N3952699","W12153200N3952739","W12153200N3952739-W12153152N3952699",102911105,"WYANDOTTE 1105",null,"2019-11-20T17:46:46","OH",null,"Not assessed","https://viewer.us-3.sharpershape.services/viewer/assets/5ca5a2c6f6b46337eda04c68/details","https://viewer.us-3.sharpershape.services/viewer/issues/5ecf8c9034b60c00015ebfdc/details","high","W12153201N3952729 WYANDOTTE 1105","[Eucalyptus/BlueGum, Other, DouglasFir]","Eucalyptus/BlueGum"]
[1910,"NORTHERN","NORTH VALLEY","Tier 2-3","102911105 Tier 2-3",102911105,"WYANDOTTE 1105",15,39.527929999999898,-121.527729999999,null,42.3,"W12152773N3952793",4.5,-13,"YES","W12152750N3952825","W12152800N3952774","W12152800N3952774-W12152750N3952825",102911105,"WYANDOTTE 1105",null,"2019-11-20T17:46:46",null,null,"Not assessed","https://viewer.us-3.sharpershape.services/viewer/assets/5ca5a2c6f6b4634ff7a05112/details","https://viewer.us-3.sharpershape.services/viewer/issues/5ecf8c9434b60c00015ec048/details","high","W12152773N3952793 WYANDOTTE 1105","[Other, DouglasFir, GrayPine]","Other"]
[1911,"NORTHERN","NORTH VALLEY","Tier 2-3","102911105 Tier 2-3",102911105,"WYANDOTTE 1105",16.3,39.531439999999897,-121.540769999999,null,23.1999999999999,"W12154077N3953144",11.3,6.8,"NO","W12154086N3953214","W12154084N3953131","W12154084N3953131-W12154086N3953214",102911105,"WYANDOTTE 1105",null,"2019-11-20T17:46:46",null,null,"Not assessed","https://viewer.us-3.sharpershape.services/viewer/assets/5ca5a2c6f6b4630944a04ef1/details","https://viewer.us-3.sharpershape.services/viewer/issues/5ecf8c98a03e660001310b4f/details","high","W12154077N3953144 WYANDOTTE 1105","[DouglasFir, LiveOak, CoastalLiveOak]","DouglasFir"]
[1912,"NORTHERN","NORTH VALLEY","Tier 2-3","102911105 Tier 2-3",102911105,"WYANDOTTE 1105",7,39.528849999999899,-121.5346,null,28.6,"W12153460N3952885",5.8,4.9000000000000004,"NO","W12153422N3952882","W12153537N3952882","W12153537N3952882-W12153422N3952882",102911105,"WYANDOTTE 1105",null,"2019-11-20T17:46:46",null,null,"Not assessed","https://viewer.us-3.sharpershape.services/viewer/assets/5ca5a2c6f6b4638913a05099/details","https://viewer.us-3.sharpershape.services/viewer/issues/5ecf8c95a03e66000131095b/details","high","W12153460N3952885 WYANDOTTE 1105","[DouglasFir, LiveOak, GrayPine]","DouglasFir"]
[1913,"NORTHERN","NORTH VALLEY","Tier 2-3","102911105 Tier 2-3",102911105,"WYANDOTTE 1105",51.399999999999899,39.531129999999898,-121.532259999999,null,85.2,"W12153226N3953113",40,-25.9,"YES","W12153206N3953153","W12153207N3953097","W12153207N3953097-W12153206N3953153",102911105,"WYANDOTTE 1105",null,"2019-11-20T17:46:46",null,null,"Not assessed","https://viewer.us-3.sharpershape.services/viewer/assets/5ca5a2c6f6b463f9cfa04c7e/details","https://viewer.us-3.sharpershape.services/viewer/issues/5ecf8c98a03e660001310b34/details","high","W12153226N3953113 WYANDOTTE 1105","[GrayPine, Other, CoastalLiveOak]","GrayPine"]
[1914,"NORTHERN","NORTH VALLEY","Tier 2-3","102911105 Tier 2-3",102911105,"WYANDOTTE 1105",0.1,39.526060000000001,-121.514629999999,null,29.3,"W12151463N3952606",4.7,4.7,"NO","W12151463N3952642","W12151461N3952559","W12151461N3952559-W12151463N3952642",102911105,"WYANDOTTE 1105",null,"2019-11-20T17:46:46",null,null,"Not assessed","https://viewer.us-3.sharpershape.services/viewer/assets/5d8b1e4455dd6b5e853f3023/details","https://viewer.us-3.sharpershape.services/viewer/issues/5ecf8eb234b60c00015ec8e0/details","high","W12151463N3952606 WYANDOTTE 1105","[CoastalLiveOak, Other, Eucalyptus/BlueGum]","CoastalLiveOak"]
[1915,"NORTHERN","NORTH VALLEY","Tier 0-1","102911105 Tier 0-1",102911105,"WYANDOTTE 1105",0.4,39.525509999999898,-121.53476000000001,null,32.200000000000003,"W12153476N3952551",4,4.4000000000000004,"NO","W12153537N3952537","W12153462N3952554","W12153462N3952554-W12153537N3952537",102911105,"WYANDOTTE 1105",null,"2019-11-20T17:46:46",null,null,"Not assessed","https://viewer.us-3.sharpershape.services/viewer/assets/5ca5a2c6f6b463381fa049b8/details","https://viewer.us-3.sharpershape.services/viewer/issues/5ecf8f0a34b60c00015ecb1c/details","high","W12153476N3952551 WYANDOTTE 1105","[DouglasFir, CoastalLiveOak, Other]","DouglasFir"]
[1916,"NORTHERN","NORTH VALLEY","Tier 2-3","102911105 Tier 2-3",102911105,"WYANDOTTE 1105",16.1999999999999,39.52693,-121.51439999999999,null,39,"W12151440N3952693",7.5,1.9,"NO","W12151433N3952690","W12151437N3952744","W12151437N3952744-W12151433N3952690",102911105,"WYANDOTTE 1105",null,"2019-11-20T17:46:46",null,null,"Not assessed","https://viewer.us-3.sharpershape.services/viewer/assets/5ca5a2c6f6b46309eba051c7/details","https://viewer.us-3.sharpershape.services/viewer/issues/5ecf8c98a03e660001310b21/details","high","W12151440N3952693 WYANDOTTE 1105","[DouglasFir, GrayPine, Other]","DouglasFir"]
[1917,"NORTHERN","NORTH VALLEY","Tier 2-3","102911105 Tier 2-3",102911105,"WYANDOTTE 1105",13.1,39.530439999999899,-121.532759999999,null,43.6,"W12153276N3953044",7.2,-8.8000000000000007,"YES","W12153323N3953048","W12153269N3953048","W12153269N3953048-W12153323N3953048",102911105,"WYANDOTTE 1105",null,"2019-11-20T17:46:46","OH",null,"Not assessed","https://viewer.us-3.sharpershape.services/viewer/assets/5ca5a2c6f6b4636013a051bf/details","https://viewer.us-3.sharpershape.services/viewer/issues/5ecf8c9834b60c00015ec287/details","high","W12153276N3953044 WYANDOTTE 1105","[DouglasFir, CoastalLiveOak, GrayPine]","DouglasFir"]
[1918,"NORTHERN","NORTH VALLEY","Tier 2-3","102911105 Tier 2-3",102911105,"WYANDOTTE 1105",50.6,39.532289999999897,-121.531859999999,null,69.5,"W12153186N3953229",32.299999999999898,-14.6,"YES","W12153205N3953245","W12153117N3953239","W12153117N3953239-W12153205N3953245",102911105,"WYANDOTTE 1105",null,"2019-11-20T17:46:46",null,null,"Not assessed","https://viewer.us-3.sharpershape.services/viewer/assets/5ca5a2c6f6b4636b14a051ca/details","https://viewer.us-3.sharpershape.services/viewer/issues/5ecf8c9734b60c00015ec175/details","high","W12153186N3953229 WYANDOTTE 1105","[Eucalyptus/BlueGum, GrayPine, DouglasFir]","Eucalyptus/BlueGum"]
[1919,"NORTHERN","NORTH VALLEY","Tier 2-3","102911105 Tier 2-3",102911105,"WYANDOTTE 1105",12.4,39.528399999999998,-121.535409999999,null,37,"W12153541N3952840",6.7,-4.3,"YES","W12153534N3952830","W12153534N3952830","W12153534N3952830-W12153534N3952830",102911105,"WYANDOTTE 1105",null,"2019-11-20T17:46:46",null,null,"Not assessed","https://viewer.us-3.sharpershape.services/viewer/assets/5ca5a2c6f6b4631e4ba04b95/details","https://viewer.us-3.sharpershape.services/viewer/issues/5ecf8c96a03e6600013109de/details","high","W12153541N3952840 WYANDOTTE 1105","[CoastalLiveOak, DouglasFir, Other]","CoastalLiveOak"]
[1920,"NORTHERN","NORTH VALLEY","Tier 2-3","102911105 Tier 2-3",102911105,"WYANDOTTE 1105",0.7,39.522010000000002,-121.53843000000001,null,21.9,"W12153843N3952201",7.9,8.5,"NO","W12153812N3952205","W12153891N3952195","W12153891N3952195-W12153812N3952205",102911105,"WYANDOTTE 1105",null,"2019-11-20T17:46:46",null,null,"Not assessed","https://viewer.us-3.sharpershape.services/viewer/assets/5ca5a2c6f6b463d5b0a04bae/details","https://viewer.us-3.sharpershape.services/viewer/issues/5ecf9557a03e660001311f9c/details","high","W12153843N3952201 WYANDOTTE 1105"]
[1921,"NORTHERN","NORTH VALLEY","Tier 2-3","102911105 Tier 2-3",102911105,"WYANDOTTE 1105",11.9,39.527740000000001,-121.527929999999,null,33.299999999999898,"W12152793N3952774",6.8,2.9,"NO","W12152750N3952825","W12152800N3952774","W12152800N3952774-W12152750N3952825",102911105,"WYANDOTTE 1105",null,"2019-11-20T17:46:46",null,null,"Not assessed","https://viewer.us-3.sharpershape.services/viewer/assets/5ca5a2c6f6b4634ff7a05112/details","https://viewer.us-3.sharpershape.services/viewer/issues/5ecf8c9434b60c00015ec04c/details","high","W12152793N3952774 WYANDOTTE 1105","[CoastalLiveOak, MontereyPine, Other]","CoastalLiveOak"]
[1922,"NORTHERN","NORTH VALLEY","Tier 2-3","102911105 Tier 2-3",102911105,"WYANDOTTE 1105",36.6,39.528659999999903,-121.518799999999,null,59.8,"W12151880N3952866",7.7,-13.6,"YES","W12151873N3952887","W12151852N3952834","W12151852N3952834-W12151873N3952887",102911105,"WYANDOTTE 1105",null,"2019-11-20T17:46:46",null,null,"Not assessed","https://viewer.us-3.sharpershape.services/viewer/assets/5ca5a2c6f6b4631966a05106/details","https://viewer.us-3.sharpershape.services/viewer/issues/5ecf8c99a03e660001310c00/details","high","W12151880N3952866 WYANDOTTE 1105","[Other, LiveOak, CoastalLiveOak]","Other"]
[1923,"NORTHERN","NORTH VALLEY","Tier 0-1","102911105 Tier 0-1",102911105,"WYANDOTTE 1105",43.3,39.525199999999998,-121.535499999999,null,78.099999999999994,"W12153550N3952520",23.1,-26,"YES","W12153537N3952537","W12153590N3952523","W12153590N3952523-W12153537N3952537",102911105,"WYANDOTTE 1105",null,"2019-11-20T17:46:46",null,null,"Not assessed","https://viewer.us-3.sharpershape.services/viewer/assets/5ca5a2c6f6b4631c28a0517f/details","https://viewer.us-3.sharpershape.services/viewer/issues/5ecf8c90a03e660001310800/details","high","W12153550N3952520 WYANDOTTE 1105","[GrayPine, MontereyPine, Eucalyptus/BlueGum]","GrayPine"]
[1924,"NORTHERN","NORTH VALLEY","Tier 2-3","102911105 Tier 2-3",102911105,"WYANDOTTE 1105",36.299999999999997,39.530650000000001,-121.519329999999,null,25.1999999999999,"W12151933N3953065",9.4,21.4,"NO","W12151923N3953089","W12152005N3953021","W12152005N3953021-W12151923N3953089",102911105,"WYANDOTTE 1105",null,"2019-11-20T17:46:46",null,null,"Not assessed","https://viewer.us-3.sharpershape.services/viewer/assets/5ca5a2c6f6b46307baa0515f/details","https://viewer.us-3.sharpershape.services/viewer/issues/5ecf8ee3a03e660001311298/details","high","W12151933N3953065 WYANDOTTE 1105","[Other, DouglasFir, MontereyPine]","Other"]
[1925,"NORTHERN","NORTH VALLEY","Tier 2-3","102911105 Tier 2-3",102911105,"WYANDOTTE 1105",17.5,39.527389999999897,-121.51430000000001,null,31.9,"W12151430N3952739",12,7.5,"NO","W12151433N3952690","W12151437N3952744","W12151437N3952744-W12151433N3952690",102911105,"WYANDOTTE 1105",null,"2019-11-20T17:46:46",null,null,"Not assessed","https://viewer.us-3.sharpershape.services/viewer/assets/5ca5a2c6f6b46309eba051c7/details","https://viewer.us-3.sharpershape.services/viewer/issues/5ecf8c98a03e660001310b23/details","high","W12151430N3952739 WYANDOTTE 1105","[GrayPine, ValleyOak, Other]","GrayPine"]
[1926,"NORTHERN","NORTH VALLEY","Tier 2-3","102911105 Tier 2-3",102911105,"WYANDOTTE 1105",25.1999999999999,39.530549999999899,-121.53579999999999,null,36.700000000000003,"W12153580N3953055",8.1999999999999904,-4.9000000000000004,"YES","W12153538N3953063","W12153655N3953063","W12153655N3953063-W12153538N3953063",102911105,"WYANDOTTE 1105",null,"2019-11-20T17:46:46",null,null,"Not assessed","https://viewer.us-3.sharpershape.services/viewer/assets/5ca5a2c6f6b4638037a04ab3/details","https://viewer.us-3.sharpershape.services/viewer/issues/5ecf8c95a03e66000131091f/details","high","W12153580N3953055 WYANDOTTE 1105","[DouglasFir, Other, CoastalLiveOak]","DouglasFir"]
[1927,"NORTHERN","NORTH VALLEY","Tier 2-3","102911105 Tier 2-3",102911105,"WYANDOTTE 1105",8.1,39.5312699999999,-121.526,null,36.899999999999899,"W12152600N3953127",5.4,-1.7,"YES","W12152603N3953064","W12152604N3953139","W12152604N3953139-W12152603N3953064",102911105,"WYANDOTTE 1105",null,"2019-11-20T17:46:46",null,null,"Not assessed","https://viewer.us-3.sharpershape.services/viewer/assets/5ca5a2c6f6b463f925a04ce0/details","https://viewer.us-3.sharpershape.services/viewer/issues/5ecf8c98a03e660001310bcd/details","high","W12152600N3953127 WYANDOTTE 1105","[CoastalLiveOak, MontereyPine, DouglasFir]","CoastalLiveOak"]
[1928,"NORTHERN","NORTH VALLEY","Tier 2-3","102911105 Tier 2-3",102911105,"WYANDOTTE 1105",24.1,39.529609999999899,-121.52342,null,37.399999999999899,"W12152342N3952961",5.3,2.2999999999999998,"NO","W12152284N3952992","W12152351N3952966","W12152351N3952966-W12152284N3952992",102911105,"WYANDOTTE 1105",null,"2019-11-20T17:46:46",null,null,"Not assessed","https://viewer.us-3.sharpershape.services/viewer/assets/5ca5a2c6f6b4635ce1a0510b/details","https://viewer.us-3.sharpershape.services/viewer/issues/5ee2b4c134b60c0001746b76/details","high","W12152342N3952961 WYANDOTTE 1105","[LiveOak, TanOak, GrayPine]","LiveOak"]
[1929,"NORTHERN","NORTH VALLEY","Tier 2-3","102911105 Tier 2-3",102911105,"WYANDOTTE 1105",22.8,39.530549999999899,-121.531959999999,null,38.200000000000003,"W12153196N3953055",8.1,1.7,"NO","W12153206N3953048","W12153157N3953048","W12153157N3953048-W12153206N3953048",102911105,"WYANDOTTE 1105",null,"2019-11-20T17:46:46",null,null,"Not assessed","https://viewer.us-3.sharpershape.services/viewer/assets/5ca5a2c6f6b4633db9a04a98/details","https://viewer.us-3.sharpershape.services/viewer/issues/5ecf8c9634b60c00015ec13b/details","high","W12153196N3953055 WYANDOTTE 1105","[CoastalLiveOak, DouglasFir, Other]","CoastalLiveOak"]
[1930,"NORTHERN","NORTH VALLEY","Tier 0-1","102911105 Tier 0-1",102911105,"WYANDOTTE 1105",2.4,39.518769999999897,-121.540239999999,null,27.4,"W12154024N3951877",11.4,13.8,"NO","W12154022N3951889","W12154022N3951835","W12154022N3951835-W12154022N3951889",102911105,"WYANDOTTE 1105",null,"2019-11-20T17:46:46",null,null,"Not assessed","https://viewer.us-3.sharpershape.services/viewer/assets/5ca5a2c6f6b4636fcba04c5d/details","https://viewer.us-3.sharpershape.services/viewer/issues/5ecf8e9334b60c00015ec829/details","high","W12154024N3951877 WYANDOTTE 1105","[GrayPine, Eucalyptus/BlueGum, MontereyPine]","GrayPine"]
[1931,"NORTHERN","NORTH VALLEY","Tier 2-3","102911105 Tier 2-3",102911105,"WYANDOTTE 1105",24.4,39.530360000000002,-121.53216,null,31.9,"W12153216N3953036",16.1999999999999,8.9,"NO","W12153206N3953048","W12153206N3953018","W12153206N3953018-W12153206N3953048",102911105,"WYANDOTTE 1105",null,"2019-11-20T17:46:46",null,null,"Not assessed","https://viewer.us-3.sharpershape.services/viewer/assets/5ca5a2c6f6b463534ca04e23/details","https://viewer.us-3.sharpershape.services/viewer/issues/5ecf8c94a03e6600013108d6/details","high","W12153216N3953036 WYANDOTTE 1105","[CoastalLiveOak, DouglasFir, Other]","CoastalLiveOak"]
[1932,"NORTHERN","NORTH VALLEY","Tier 0-1","102911105 Tier 0-1",102911105,"WYANDOTTE 1105",13.7,39.524450000000002,-121.535519999999,null,42.3,"W12153552N3952445",5.8,-7.6,"YES","W12153530N3952456","W12153581N3952442","W12153581N3952442-W12153530N3952456",102911105,"WYANDOTTE 1105",null,"2019-11-20T17:46:46","OH",null,"Not assessed","https://viewer.us-3.sharpershape.services/viewer/assets/5ca5a2c6f6b463115ca04a27/details","https://viewer.us-3.sharpershape.services/viewer/issues/5ecf8c98a03e660001310bab/details","high","W12153552N3952445 WYANDOTTE 1105","[Other, CoastalLiveOak, MontereyPine]","Other"]
[1933,"NORTHERN","NORTH VALLEY","Tier 2-3","102911105 Tier 2-3",102911105,"WYANDOTTE 1105",7.4,39.529969999999899,-121.522419999999,null,22.1999999999999,"W12152242N3952997",6.2,6.8,"NO","W12152284N3952992","W12152184N3953012","W12152184N3953012-W12152284N3952992",102911105,"WYANDOTTE 1105",null,"2019-11-20T17:46:46",null,null,"Not assessed","https://viewer.us-3.sharpershape.services/viewer/assets/5ca5a2c6f6b4639636a0497c/details","https://viewer.us-3.sharpershape.services/viewer/issues/5ee2b4c2a03e66000146e44c/details","high","W12152242N3952997 WYANDOTTE 1105","[GrayPine, MontereyPine, Other]","GrayPine"]
[1934,"NORTHERN","NORTH VALLEY","Tier 2-3","102911105 Tier 2-3",102911105,"WYANDOTTE 1105",0.2,39.526689999999903,-121.53202,null,24,"W12153202N3952669",11.4,11.6,"NO","W12153152N3952699","W12153224N3952655","W12153224N3952655-W12153152N3952699",102911105,"WYANDOTTE 1105",null,"2019-11-20T17:46:46",null,null,"Not assessed","https://viewer.us-3.sharpershape.services/viewer/assets/5ca5a2c6f6b46367dca04ab1/details","https://viewer.us-3.sharpershape.services/viewer/issues/5ecf955934b60c00015ed7f8/details","high","W12153202N3952669 WYANDOTTE 1105","[GrayPine, Eucalyptus/BlueGum, MontereyPine]","GrayPine"]
[1935,"NORTHERN","NORTH VALLEY","Tier 0-1","102911105 Tier 0-1",102911105,"WYANDOTTE 1105",15.8,39.522939999999899,-121.51536,null,62.8,"W12151536N3952294",5.7,-25.6999999999999,"YES","W12151515N3952268","W12151562N3952310","W12151562N3952310-W12151515N3952268",102911105,"WYANDOTTE 1105",null,"2019-11-20T17:46:46","OH",null,"Not assessed","https://viewer.us-3.sharpershape.services/viewer/assets/5d88b93a55dd6b15c73f2e90/details","https://viewer.us-3.sharpershape.services/viewer/issues/5ecf8c99a03e660001310c41/details","high","W12151536N3952294 WYANDOTTE 1105","[GrayPine, Other, CoastalLiveOak]","GrayPine"]
[1936,"NORTHERN","NORTH VALLEY","Tier 2-3","102911105 Tier 2-3",102911105,"WYANDOTTE 1105",16.3,39.5316499999999,-121.517849999999,null,46.8,"W12151785N3953165",8.3000000000000007,-4.0999999999999996,"YES","W12151822N3953157","W12151765N3953162","W12151765N3953162-W12151822N3953157",102911105,"WYANDOTTE 1105",null,"2019-11-20T17:46:46",null,null,"Not assessed","https://viewer.us-3.sharpershape.services/viewer/assets/5ca5a2c6f6b463f67aa051de/details","https://viewer.us-3.sharpershape.services/viewer/issues/5ecf8c9734b60c00015ec199/details","high","W12151785N3953165 WYANDOTTE 1105","[DouglasFir, MontereyPine, Other]","DouglasFir"]
[1937,"NORTHERN","NORTH VALLEY","Tier 2-3","102911105 Tier 2-3",102911105,"WYANDOTTE 1105",0.4,39.529089999999897,-121.52611,null,35.399999999999899,"W12152611N3952909",9.1999999999999993,9.6,"NO","W12152596N3952916","W12152680N3952875","W12152680N3952875-W12152596N3952916",102911105,"WYANDOTTE 1105",null,"2019-11-20T17:46:46",null,null,"Not assessed","https://viewer.us-3.sharpershape.services/viewer/assets/5ca5a2c6f6b463c0bba05089/details","https://viewer.us-3.sharpershape.services/viewer/issues/5ecf8edb34b60c00015eca08/details","high","W12152611N3952909 WYANDOTTE 1105","[Other, DouglasFir, TanOak]","Other"]
[1938,"NORTHERN","NORTH VALLEY","Tier 2-3","102911105 Tier 2-3",102911105,"WYANDOTTE 1105",44.2,39.530609999999903,-121.532349999999,null,59.1,"W12153235N3953061",28.3,-5.9,"YES","W12153206N3953048","W12153269N3953048","W12153269N3953048-W12153206N3953048",102911105,"WYANDOTTE 1105",null,"2019-11-20T17:46:46",null,null,"Not assessed","https://viewer.us-3.sharpershape.services/viewer/assets/5ca5a2c6f6b46331cba04b4a/details","https://viewer.us-3.sharpershape.services/viewer/issues/5ecf8c92a03e66000131085a/details","high","W12153235N3953061 WYANDOTTE 1105","[GrayPine, DouglasFir, Other]","GrayPine"]
[1939,"NORTHERN","NORTH VALLEY","Tier 2-3","102911105 Tier 2-3",102911105,"WYANDOTTE 1105",42,39.532319999999899,-121.538589999999,null,73.799999999999898,"W12153859N3953232",8.3000000000000007,-28.6,"YES","W12153905N3953243","W12153810N3953244","W12153810N3953244-W12153905N3953243",102911105,"WYANDOTTE 1105",null,"2019-11-20T17:46:46",null,null,"Not assessed","https://viewer.us-3.sharpershape.services/viewer/assets/5ca5a2c6f6b46300cca04f1d/details","https://viewer.us-3.sharpershape.services/viewer/issues/5ecf8c93a03e6600013108ae/details","high","W12153859N3953232 WYANDOTTE 1105","[DouglasFir, LiveOak, GrayPine]","DouglasFir"]
[1940,"NORTHERN","NORTH VALLEY","Tier 0-1","102911105 Tier 0-1",102911105,"WYANDOTTE 1105",13,39.523289999999903,-121.51174,null,57.5,"W12151174N3952329",5.4,-25.6999999999999,"YES","W12151196N3952324","W12151119N3952361","W12151119N3952361-W12151196N3952324",102911105,"WYANDOTTE 1105",null,"2019-11-20T17:46:46","OH",null,"Not assessed","https://viewer.us-3.sharpershape.services/viewer/assets/5ca5a2c6f6b4638f7da04e40/details","https://viewer.us-3.sharpershape.services/viewer/issues/5ecf8c9634b60c00015ec125/details","high","W12151174N3952329 WYANDOTTE 1105","[GrayPine, DouglasFir, ValleyOak]","GrayPine"]
[1941,"NORTHERN","NORTH VALLEY","Tier 2-3","102911105 Tier 2-3",102911105,"WYANDOTTE 1105",23,39.531619999999897,-121.53144,null,41.6,"W12153144N3953162",7.6,-5.2,"YES","W12153206N3953153","W12153147N3953155","W12153147N3953155-W12153206N3953153",102911105,"WYANDOTTE 1105",null,"2019-11-20T17:46:46",null,null,"Not assessed","https://viewer.us-3.sharpershape.services/viewer/assets/5ca5a2c6f6b4635ba4a04c32/details","https://viewer.us-3.sharpershape.services/viewer/issues/5ecf8c96a03e66000131099f/details","high","W12153144N3953162 WYANDOTTE 1105","[Eucalyptus/BlueGum, DouglasFir, GrayPine]","Eucalyptus/BlueGum"]
[1942,"NORTHERN","NORTH VALLEY","Tier 2-3","102911105 Tier 2-3",102911105,"WYANDOTTE 1105",27.3,39.532219999999903,-121.53591,null,25.4,"W12153591N3953222",10.4,22.4,"NO","W12153557N3953230","W12153644N3953230","W12153644N3953230-W12153557N3953230",102911105,"WYANDOTTE 1105",null,"2019-11-20T17:46:46",null,null,"Not assessed","https://viewer.us-3.sharpershape.services/viewer/assets/5ca5a2c6f6b4630717a04d92/details","https://viewer.us-3.sharpershape.services/viewer/issues/5ecf8f0434b60c00015ecafc/details","high","W12153591N3953222 WYANDOTTE 1105","[LiveOak, DouglasFir, ValleyOak]","LiveOak"]
[1943,"NORTHERN","NORTH VALLEY","Tier 2-3","102911105 Tier 2-3",102911105,"WYANDOTTE 1105",19.399999999999999,39.531469999999899,-121.518419999999,null,38.1,"W12151842N3953147",12,4.9000000000000004,"NO","W12151868N3953111","W12151822N3953157","W12151822N3953157-W12151868N3953111",102911105,"WYANDOTTE 1105",null,"2019-11-20T17:46:46",null,null,"Not assessed","https://viewer.us-3.sharpershape.services/viewer/assets/5ca5a2c6f6b4630821a04f40/details","https://viewer.us-3.sharpershape.services/viewer/issues/5ecf8c9334b60c00015ec020/details","high","W12151842N3953147 WYANDOTTE 1105","[GrayPine, ValleyOak, MontereyPine]","GrayPine"]
[1944,"NORTHERN","NORTH VALLEY","Tier 2-3","102911105 Tier 2-3",102911105,"WYANDOTTE 1105",31.4,39.540990000000001,-121.54237000000001,null,52.2,"W12154237N3954099",12.1,-20.100000000000001,"YES","W12154249N3954102","W12154258N3954066","W12154258N3954066-W12154249N3954102",102911105,"WYANDOTTE 1105",null,"2019-11-20T17:46:46",null,null,"Not assessed","https://viewer.us-3.sharpershape.services/viewer/assets/5ca5a2c6f6b4638a8aa050a6/details","https://viewer.us-3.sharpershape.services/viewer/issues/5ecf8c96a03e660001310975/details","high","W12154237N3954099 WYANDOTTE 1105","[DouglasFir, CoastalLiveOak, MontereyPine]","DouglasFir"]
[1945,"NORTHERN","NORTH VALLEY","Tier 0-1","102911105 Tier 0-1",102911105,"WYANDOTTE 1105",15.7,39.522759999999899,-121.53771,null,61.2,"W12153771N3952276",8.6999999999999993,-18,"YES","W12153791N3952249","W12153775N3952283","W12153775N3952283-W12153791N3952249",102911105,"WYANDOTTE 1105",null,"2019-11-20T17:46:46","OH",null,"Not assessed","https://viewer.us-3.sharpershape.services/viewer/assets/5ca5a2c6f6b463313aa04cb9/details","https://viewer.us-3.sharpershape.services/viewer/issues/5ecf8c99a03e660001310c26/details","high","W12153771N3952276 WYANDOTTE 1105","[GrayPine, DouglasFir, Eucalyptus/BlueGum]","GrayPine"]
[1946,"NORTHERN","NORTH VALLEY","Tier 2-3","102911105 Tier 2-3",102911105,"WYANDOTTE 1105",57.8,39.529559999999897,-121.530709999999,null,62.7,"W12153071N3952956",42.1,6.3,"NO","W12153068N3952972","W12153130N3952973","W12153130N3952973-W12153068N3952972",102911105,"WYANDOTTE 1105",null,"2019-11-20T17:46:46",null,null,"Not assessed","https://viewer.us-3.sharpershape.services/viewer/assets/5ca5a2c6f6b46312f8a05163/details","https://viewer.us-3.sharpershape.services/viewer/issues/5ecf8c99a03e660001310c1f/details","high","W12153071N3952956 WYANDOTTE 1105","[GrayPine, ValleyOak, Other]","GrayPine"]
[1947,"NORTHERN","NORTH VALLEY","Tier 2-3","102911105 Tier 2-3",102911105,"WYANDOTTE 1105",67.900000000000006,39.5326799999999,-121.53830000000001,null,82.299999999999898,"W12153830N3953268",47.3,-12.4,"YES","W12153906N3953282","W12153848N3953281","W12153848N3953281-W12153906N3953282",102911105,"WYANDOTTE 1105",null,"2019-11-20T17:46:46",null,null,"Not assessed","https://viewer.us-3.sharpershape.services/viewer/assets/5ca5a2c6f6b46324baa04ba9/details","https://viewer.us-3.sharpershape.services/viewer/issues/5ecf8c9934b60c00015ec326/details","high","W12153830N3953268 WYANDOTTE 1105","[DouglasFir, GrayPine, Other]","DouglasFir"]
[1948,"NORTHERN","NORTH VALLEY","Tier 2-3","102911105 Tier 2-3",102911105,"WYANDOTTE 1105",13.8,39.531489999999899,-121.536389999999,null,31.1999999999999,"W12153639N3953149",9.3000000000000007,1.3,"NO","W12153585N3953154","W12153654N3953154","W12153654N3953154-W12153585N3953154",102911105,"WYANDOTTE 1105",null,"2019-11-20T17:46:46",null,null,"Not assessed","https://viewer.us-3.sharpershape.services/viewer/assets/5ca5a2c6f6b46360cfa049fb/details","https://viewer.us-3.sharpershape.services/viewer/issues/5ecf8c9734b60c00015ec216/details","high","W12153639N3953149 WYANDOTTE 1105","[Other, DouglasFir, CoastalLiveOak]","Other"]
[1949,"NORTHERN","NORTH VALLEY","Tier 2-3","102911105 Tier 2-3",102911105,"WYANDOTTE 1105",7.1,39.528479999999902,-121.52723,null,29.4,"W12152723N3952848",8.4,7.6,"NO","W12152680N3952875","W12152750N3952825","W12152750N3952825-W12152680N3952875",102911105,"WYANDOTTE 1105",null,"2019-11-20T17:46:46",null,null,"Not assessed","https://viewer.us-3.sharpershape.services/viewer/assets/5ca5a2c6f6b46337c2a04be5/details","https://viewer.us-3.sharpershape.services/viewer/issues/5ecf8c9634b60c00015ec0f5/details","high","W12152723N3952848 WYANDOTTE 1105","[GrayPine, TanOak, DouglasFir]","GrayPine"]
[1950,"NORTHERN","NORTH VALLEY","Tier 2-3","102911105 Tier 2-3",102911105,"WYANDOTTE 1105",10.7,39.528860000000002,-121.53449000000001,null,42.5,"W12153449N3952886",6.2,-6.2,"YES","W12153422N3952882","W12153537N3952882","W12153537N3952882-W12153422N3952882",102911105,"WYANDOTTE 1105",null,"2019-11-20T17:46:46",null,null,"Not assessed","https://viewer.us-3.sharpershape.services/viewer/assets/5ca5a2c6f6b4638913a05099/details","https://viewer.us-3.sharpershape.services/viewer/issues/5ecf8c95a03e660001310963/details","high","W12153449N3952886 WYANDOTTE 1105","[LiveOak, Other, DouglasFir]","LiveOak"]
[1951,"NORTHERN","NORTH VALLEY","Tier 2-3","102911105 Tier 2-3",102911105,"WYANDOTTE 1105",50.3,39.53152,-121.54103000000001,null,67.299999999999898,"W12154103N3953152",37.899999999999899,-1.3,"YES","W12154086N3953214","W12154084N3953131","W12154084N3953131-W12154086N3953214",102911105,"WYANDOTTE 1105",null,"2019-11-20T17:46:46",null,null,"Not assessed","https://viewer.us-3.sharpershape.services/viewer/assets/5ca5a2c6f6b4630944a04ef1/details","https://viewer.us-3.sharpershape.services/viewer/issues/5ecf8c98a03e660001310b52/details","high","W12154103N3953152 WYANDOTTE 1105","[DouglasFir, GrayPine, TanOak]","DouglasFir"]
[1952,"NORTHERN","NORTH VALLEY","Tier 2-3","102911105 Tier 2-3",102911105,"WYANDOTTE 1105",15.8,39.532019999999903,-121.53413,null,38.799999999999997,"W12153413N3953202",12,-6.2,"YES","W12153419N3953172","W12153419N3953235","W12153419N3953235-W12153419N3953172",102911105,"WYANDOTTE 1105",null,"2019-11-20T17:46:46","OH",null,"Not assessed","https://viewer.us-3.sharpershape.services/viewer/assets/5ca5a2c6f6b463ef61a04c9e/details","https://viewer.us-3.sharpershape.services/viewer/issues/5ee2b42e34b60c0001746b54/details","high","W12153413N3953202 WYANDOTTE 1105","[Other, LiveOak, TanOak]","Other"]
[1953,"NORTHERN","NORTH VALLEY","Tier 2-3","102911105 Tier 2-3",102911105,"WYANDOTTE 1105",76.599999999999994,39.52984,-121.519459999999,null,75.5,"W12151946N3952984",58,4.4000000000000004,"NO","W12151936N3952926","W12152005N3953021","W12152005N3953021-W12151936N3952926",102911105,"WYANDOTTE 1105",null,"2019-11-20T17:46:46",null,null,"Not assessed","https://viewer.us-3.sharpershape.services/viewer/assets/5ca5a2c6f6b463d94da04bdf/details","https://viewer.us-3.sharpershape.services/viewer/issues/5ecf8c9834b60c00015ec2b2/details","high","W12151946N3952984 WYANDOTTE 1105","[Other, CoastalLiveOak, GrayPine]","Other"]
[1954,"NORTHERN","NORTH VALLEY","Tier 2-3","102911105 Tier 2-3",102911105,"WYANDOTTE 1105",8.6,39.528849999999899,-121.53413999999999,null,31,"W12153414N3952885",9,6.6,"NO","W12153422N3952882","W12153363N3952882","W12153363N3952882-W12153422N3952882",102911105,"WYANDOTTE 1105",null,"2019-11-20T17:46:46",null,null,"Not assessed","https://viewer.us-3.sharpershape.services/viewer/assets/5ca5a2c6f6b46376c8a04f8b/details","https://viewer.us-3.sharpershape.services/viewer/issues/5ecf8c9534b60c00015ec0da/details","high","W12153414N3952885 WYANDOTTE 1105","[CoastalLiveOak, MontereyPine, Other]","CoastalLiveOak"]
[1955,"NORTHERN","NORTH VALLEY","Tier 2-3","102911105 Tier 2-3",102911105,"WYANDOTTE 1105",71.400000000000006,39.532640000000001,-121.53815,null,75.5,"W12153815N3953264",56.1,6.9,"NO","W12153905N3953243","W12153810N3953244","W12153810N3953244-W12153905N3953243",102911105,"WYANDOTTE 1105",null,"2019-11-20T17:46:46",null,null,"Not assessed","https://viewer.us-3.sharpershape.services/viewer/assets/5ca5a2c6f6b46300cca04f1d/details","https://viewer.us-3.sharpershape.services/viewer/issues/5ecf8c93a03e66000131089e/details","high","W12153815N3953264 WYANDOTTE 1105","[GrayPine, MontereyPine, DouglasFir]","GrayPine"]
[1956,"NORTHERN","NORTH VALLEY","Tier 2-3","102911105 Tier 2-3",102911105,"WYANDOTTE 1105",7.4,39.5292099999999,-121.5321,null,27.5,"W12153210N3952921",8.6999999999999993,16.100000000000001,"NO","W12153206N3952881","W12153206N3952972","W12153206N3952972-W12153206N3952881",102911105,"WYANDOTTE 1105",null,"2019-11-20T17:46:46",null,null,"Not assessed","https://viewer.us-3.sharpershape.services/viewer/assets/5ca5a2c6f6b463a605a04c77/details","https://viewer.us-3.sharpershape.services/viewer/issues/5ecf8f14a03e660001311380/details","high","W12153210N3952921 WYANDOTTE 1105","[MontereyPine, DouglasFir, CoastalLiveOak]","MontereyPine"]
[1957,"NORTHERN","NORTH VALLEY","Tier 2-3","102911105 Tier 2-3",102911105,"WYANDOTTE 1105",12.7,39.532260000000001,-121.536329999999,null,38.200000000000003,"W12153633N3953226",7.6,-6.4,"YES","W12153557N3953230","W12153644N3953230","W12153644N3953230-W12153557N3953230",102911105,"WYANDOTTE 1105",null,"2019-11-20T17:46:46",null,null,"Not assessed","https://viewer.us-3.sharpershape.services/viewer/assets/5ca5a2c6f6b4630717a04d92/details","https://viewer.us-3.sharpershape.services/viewer/issues/5ecf8c97a03e660001310ad9/details","high","W12153633N3953226 WYANDOTTE 1105","[DouglasFir, TanOak, Other]","DouglasFir"]